{"text_format":"1","workbook":"xlsx","n_sheets":10,"sheets":["Collectivités","Cdisation","CDI-Cas de recrutement","Présentation","Annexe 1-liste filières-grades","eligibilité","Eligibilité ultérieure","Edition","Paramètre","Rapport sur la compatibilité"],"not_rendered":{"charts":9,"images":0,"macros":1,"external_links":0,"defined_names":24,"comments":4,"pivot_tables":0},"unopened":[],"bounds":{"document_bytes":16777216,"sheet_cells":100000,"rows_first":2000,"rows_last":500,"rows_between":2000,"halvings":0,"cell_chars":16384,"cell_head_chars":4096},"cells_cut":0,"cells_raw":0,"read":"whole","date_system":"1900"}

{"sheet":"Collectivités","index":0,"n_rows":57,"n_cols":10,"rows_kept":57,"cut":false,"hidden":true,"merged":[]}
["Collectivité (L)","Arrondissement de rattachement (L)","Collectivité (C)","Type de collectivité","Type CTP","CDG","CTP","TYPE","GRADE (onglet titularisation)","Filières"]
[null,null,null,null,null,null,null,"Commune"]
[null,null,null,null,null,null,null,"Caisse des écoles","ATTACHE","Administrative"]
[null,null,null,null,null,null,null,"C.C.A.S.","REDACTEUR PPAL DE 2ème CL","Technique"]
[null,null,null,null,null,null,null,"Autre établissement public départemental","REDACTEUR","Animation"]
[null,null,null,null,null,null,null,"Syndicat mixte","ADJOINT ADMINISTRATIF DE 1ère CL","Culturelle"]
[null,null,null,null,null,null,null,"Communauté d'agglomération","ADJOINT ADMINISTRATIF DE 2ème CL","Sportive"]
[null,null,null,null,null,null,null,"Communauté de communes","INGENIEUR","Sociale"]
[null,null,null,null,null,null,null,"Office de l'habitat","TECHNICIEN PRINCIPAL DE 2ème CL","Médico-sociale"]
[null,null,null,null,null,null,null,"Caisse de crédit municipal","TECHNICIEN","Médico-technique"]
[null,null,null,null,null,null,null,"Autre établissement public communal","AGENT DE MAÎTRISE","Sapeurs-pompiers"]
[null,null,null,null,null,null,null,"O.P.H.L.M.","ADJOINT TECHNIQUE DE 1ère CL"]
[null,null,null,null,null,null,null,"Syndicat de communes à vocation multiple","ADJOINT TECHNIQUE DE 2ème CL"]
[null,null,null,null,null,null,null,"Syndicat de communes à vocation unique","ANIMATEUR PPAL DE 2ème CL"]
[null,null,null,null,null,null,null,null,"ANIMATEUR"]
[null,null,null,null,null,null,null,"Comité Technique Paritaire Intercommunal (CDG)","ADJOINT D'ANIMATION DE 1ère CL"]
[null,null,null,null,null,null,null,"Comité Technique Paritaire Commun","ADJOINT D'ANIMATION DE 2ème CL"]
[null,null,null,null,null,null,null,"Comité Technique Paritaire Propre","SAGE-FEMME DE CLASSE NORMALE"]
[null,null,null,null,null,null,null,null,"CADRE TERRITORIAL DE SANTE"]
[null,null,null,null,null,null,null,null,"PUERICULTRICE CADRE DE SANTE"]
[null,null,null,null,null,null,null,null,"PSYCHOLOGUE DE CLASSE NORMALE"]
[null,null,null,null,null,null,null,null,"PUERICULTRICE DE CLASSE NORMALE"]
[null,null,null,null,null,null,null,null,"INFIRMIER DE CLASSE NORMALE"]
[null,null,null,null,null,null,null,null,"REEDUCATEUR DE CLASSE NORMALE"]
[null,null,null,null,null,null,null,null,"AUXILIAIRE DE PUERICULTURE DE 1ère CLASSE"]
[null,null,null,null,null,null,null,null,"AUXILIAIRE DE SOINS DE 1ère CL "]
[null,null,null,null,null,null,null,null,"ASSISTANT MEDICO-TECHNIQUE DE CLASSE NORMALE"]
[null,null,null,null,null,null,null,null,"CONSEILLER SOCIO-EDUCATIF"]
[null,null,null,null,null,null,null,null,"MONITEUR-EDUCATEUR"]
[null,null,null,null,null,null,null,null,"EDUCATEUR DE JEUNES ENFANTS"]
[null,null,null,null,null,null,null,null,"ASSISTANT SOCIO-EDUCATIF"]
[null,null,null,null,null,null,null,null,"ATSEM DE 1ère CL"]
[null,null,null,null,null,null,null,null,"AGENT SOCIAL DE 1ère CL"]
[null,null,null,null,null,null,null,null,"AGENT SOCIAL DE 2ème CL"]
[null,null,null,null,null,null,null,null,"CONSEILLER APS"]
[null,null,null,null,null,null,null,null,"EDUCATEUR APS PPAL DE 2ème CL"]
[null,null,null,null,null,null,null,null,"EDUCATEUR APS"]
[null,null,null,null,null,null,null,null,"OPERATEUR DES APS"]
[null,null,null,null,null,null,null,null,"ADJOINT TECHNIQUE DE 1ère CL DES ETS D'ENSEIGNEMENT"]
[null,null,null,null,null,null,null,null,"ADJOINT TECHNIQUE DE 2ème CL DES ETS D'ENSEIGNEMENT"]
[null,null,null,null,null,null,null,null,"PROFESSEUR D'ENSEIGNEMENT ARTISTIQUE"]
[null,null,null,null,null,null,null,null,"ATTACHE DE CONSERVATION DU PATRIMOINE"]
[null,null,null,null,null,null,null,null,"BIBLIOTHECAIRE"]
[null,null,null,null,null,null,null,null,"ASSISTANT DE CONSERV. DU PAT ET DES BIB."]
[null,null,null,null,null,null,null,null,"ASSISTANT DE CONSERV. DU PAT ET DES BIB. PPAL DE 2ème CL"]
[null,null,null,null,null,null,null,null,"ASS. D'ENSEIGNEMENT ARTISTIQUE PPAL DE 2ème CL"]
[null,null,null,null,null,null,null,null,"ASSISTANT D'ENSEIGNEMENT ARTISTIQUE"]
[null,null,null,null,null,null,null,null,"ADJOINT DU PATRIMOINE DE 1ère CL"]
[null,null,null,null,null,null,null,null,"ADJOINT DU PATRIMOINE DE 2ème CL"]
[null,null,null,null,null,null,null,null,"SAPEUR DE 1ERE CLASSE"]
[null,null,null,null,null,null,null,null,"SERGENT"]
[null,null,null,null,null,null,null,null,"INFIRMIER SAPEUR POMPIER"]
[null,null,null,null,null,null,null,null,"LIEUTENANT DE 2ème CL"]
[null,null,null,null,null,null,null,null,"LIEUTENANT DE 1ère CL"]
[null,null,null,null,null,null,null,null,"INFIRMIER D'ENCADREMENT"]
[null,null,null,null,null,null,null,null,"CAPITAINE"]
[null,null,null,null,null,null,null,null,"AUTRE"]

{"sheet":"Cdisation","index":1,"n_rows":515,"n_cols":37,"rows_kept":515,"cut":false,"hidden":true,"merged":[[5,0,13,0],[0,0,0,14],[2,0,2,14],[4,0,4,10],[4,14,11,14],[13,12,13,13],[5,3,13,3],[5,7,13,7],[5,5,13,5],[5,4,13,4],[4,11,14,11],[5,8,13,8],[5,2,13,2],[12,12,12,13],[5,1,13,1],[4,20,14,20],[5,6,13,6],[4,21,14,21],[4,17,14,17],[4,18,14,18],[4,19,14,19],[5,10,13,10],[5,9,13,9],[4,15,14,15],[4,16,14,16],[14,12,14,13]]}
["Transformation de plein droit du C.D.D. en cours en C.D.I.",null,null,null,null,null,null,null,null,null,null,null,null,null,null,null,null,null,null,null,null,null,null,null,null,null,null,null,null,null,null,null,null,"Catégorie",null,"Civilité","Code recrutement"]
[]
["La durée des services s'apprécie de date à date et non en équivalent temps plein",null,null,null,null,null,null,null,null,null,null,null,null,null,null,null,null,null,null,null,null,null,null,null,null,null,null,null,null,null,null,null,null,"Cat. A",null,"Madame",1]
[null,null,null,null,null,null,null,null,null,null,null,null,null,null,null,null,null,null,null,null,null,null,null,null,null,null,null,null,null,null,null,null,null,"Cat. B",null,"Monsieur",2]
["Informations personnelles",null,null,null,null,null,null,null,null,null,null,"Cas de recrutement Pour choisir le code, veuillez vous référer à la feuille explicative \nen cliquant ICI","Pour les moins de 55 ans","Pour les plus de 55 ans","Eligible au dispositif","Test âge moins de 55 ans","Durée de service dans la collectivité pour les moins de 55 ans","Test âge 55 ans et plus","Durée de service dans la collectivité pour les 55 ans et plus","Elligible au dispositif test moins de 55 ans","Elligible au dispositif test 55 ans et plus","Eligible au dispositif",null,null,null,null,null,null,null,null,null,null,null,"Cat. C",null,null,3]
["N°","Civilité","Nom d'usage","Nom de famille","Prénom","Grade ","Filière","Catégorie hiérarchique","Date de naissance","Sexe","Age de l'agent à la date de publication de la loi         jj/mm/aaaa",null,"Durée des services","Durée des services",null,null,null,null,null,null,null,null,null,null,null,null,null,null,null,null,null,null,null,null,null,null,4]
[null,null,null,null,null,null,null,null,null,null,null,null,"EN MOIS","EN MOIS",null,null,null,null,null,null,null,null,null,null,null,null,null,null,null,null,null,null,null,null,null,null,5]
[null,null,null,null,null,null,null,null,null,null,null,null,"entre le","entre le",null,null,null,null,null,null,null,null,null,null,null,null,null,null,null,null,null,null,null,null,null,null,6]
[null,null,null,null,null,null,null,null,null,null,null,null,"2004-03-13","2008-03-13",null,null,null,null,null,null,null,null,null,null,null,null,null,null,null,null,null,null,null,null,null,null,7]
[null,null,null,null,null,null,null,null,null,null,null,null,"et le","et le",null,null,null,null,null,null,null,null,null,null,null,null,null,null,null,null,null,null,null,null,null,null,8]
[null,null,null,null,null,null,null,null,null,null,null,null,"2012-03-12","2012-03-12",null,null,null,null,null,null,null,null,null,null,null,null,null,null,null,null,null,null,null,null,null,null,9]
[null,null,null,null,null,null,null,null,null,null,null,null,"(au minimum 72 mois)","(au minimum 36 mois)",null,null,null,null,null,null,null,null,null,null,null,null,null,null,null,null,null,null,null,null,null,null,10]
[null,null,null,null,null,null,null,null,null,null,null,null,"Total de dossiers",null,{"$f":"$O$14+$O$15","v":0},null,null,null,null,null,null,null,null,null,null,null,null,null,null,null,null,null,null,null,null,null,11]
[null,null,null,null,null,null,null,null,null,null,null,null,"Dossiers eligibles",null,{"$f":"COUNTIF($O$16:$O$215,\"Eligible\")","v":0},null,null,null,null,null,null,null,null,null,null,null,null,null,null,null,null,null,null,null,null,null,12]
[null,null,null,null,null,null,null,null,null,null,null,null,"Dossiers non eligibles",null,{"$f":"COUNTIF($O$16:$O$215,\"Non éligible\")","v":0}]
[{"$f":"IF(B16=\"\",\"\",A15+1)","v":""},null,null,null,null,null,null,null,null,{"$f":"IF(B16=\"\",\"\",IF(B16=\"Madame\",\"F\",\"H\"))","v":""},{"$f":"IF(I16=\"\",\"\",ROUNDDOWN((DATE(2012,3,16)-I16-3)/365.25,0))","v":""},null,null,null,{"$f":"IF(K16=\"\",\"\",IF(L16=\"\",\"\",IF(L16>=1,IF(L16<14,V16,\"Non éligible\"))))","v":""},{"$f":"IF(I16=\"\",\"\",AND(IF(I16>=DATE(1957,3,14),IF(L16>=1,IF(L16<14,TRUE,FALSE)))))","v":""},{"$f":"IF(M16=\"\",\"\",IF(P16=TRUE,M16/12,\"\"))","v":""},{"$f":"IF(I16=\"\",\"\",AND(IF(I16<DATE(1957,3,14),IF(L16>=1,IF(L16<14,TRUE,FALSE)))))","v":""},{"$f":"IF(N16=\"\",\"\",IF(R16=TRUE,N16/12,\"\"))","v":""},{"$f":"IF(Q16=\"\",\"\",IF(Q16<6,\"Non éligible\",\"Eligible\"))","v":""},{"$f":"IF(S16=\"\",\"\",IF(S16<3,\"Non éligible\",\"Eligible\"))","v":""},{"$f":"IF(K16=\"\",\"\",IF(L16=\"\",\"\",IF(L16>=1,IF(L16<14,CONCATENATE(T16,U16),\"Non éligible\"))))","v":""}]
[{"$f":"IF(B17=\"\",\"\",A16+1)","v":""},null,null,null,null,null,null,null,null,{"$f":"IF(B17=\"\",\"\",IF(B17=\"Madame\",\"F\",\"H\"))","v":""},{"$f":"IF(I17=\"\",\"\",ROUNDDOWN((DATE(2012,3,16)-I17-3)/365.25,0))","v":""},null,null,null,"",{"$f":"IF(I17=\"\",\"\",AND(IF(I17>=DATE(1957,3,14),IF(L17>=1,IF(L17<14,TRUE,FALSE)))))","v":""},{"$f":"IF(M17=\"\",\"\",IF(P17=TRUE,M17/12,\"\"))","v":""},{"$f":"IF(I17=\"\",\"\",AND(IF(I17<DATE(1957,3,14),IF(L17>=1,IF(L17<14,TRUE,FALSE)))))","v":""},{"$f":"IF(N17=\"\",\"\",IF(R17=TRUE,N17/12,\"\"))","v":""},{"$f":"IF(Q17=\"\",\"\",IF(Q17<6,\"Non éligible\",\"Eligible\"))","v":""},{"$f":"IF(S17=\"\",\"\",IF(S17<3,\"Non éligible\",\"Eligible\"))","v":""},""]
["",null,null,null,null,null,null,null,null,"","",null,null,null,"","","","","","","",""]
["",null,null,null,null,null,null,null,null,"","",null,null,null,"","","","","","","",""]
["",null,null,null,null,null,null,null,null,"","",null,null,null,"","","","","","","",""]
["",null,null,null,null,null,null,null,null,"","",null,null,null,"","","","","","","",""]
["",null,null,null,null,null,null,null,null,"","",null,null,null,"","","","","","","",""]
["",null,null,null,null,null,null,null,null,"","",null,null,null,"","","","","",{"$f":"IF(Q23=\"\",\"\",IF(Q23<6,\"Non éligible\",\"Eligible\"))","v":""},{"$f":"IF(S23=\"\",\"\",IF(S23<3,\"Non éligible\",\"Eligible\"))","v":""},""]
["",null,null,null,null,null,null,null,null,"","",null,null,null,"","","","","","","",""]
["",null,null,null,null,null,null,null,null,"","",null,null,null,"",{"$f":"IF(I25=\"\",\"\",AND(IF(K25<55,IF(L25>=1,IF(L25<14,TRUE,FALSE)))))","v":""},{"$f":"IF(M25=\"\",\"\",IF(P25=TRUE,M25/12,\"\"))","v":""},{"$f":"IF(I25=\"\",\"\",AND(IF(K25>=55,IF(L25>=1,IF(L25<14,TRUE,FALSE)))))","v":""},{"$f":"IF(N25=\"\",\"\",IF(R25=TRUE,N25/12,\"\"))","v":""},"","",""]
["",null,null,null,null,null,null,null,null,"","",null,null,null,"","","","","","","",""]
["",null,null,null,null,null,null,null,null,"","",null,null,null,"","","","","","","",""]
["",null,null,null,null,null,null,null,null,"","",null,null,null,"","","","","","","",""]
["",null,null,null,null,null,null,null,null,"","",null,null,null,"","","","","","","",""]
["",null,null,null,null,null,null,null,null,"","",null,null,null,"","","","","","","",""]
["",null,null,null,null,null,null,null,null,"","",null,null,null,"","","","","","","",""]
["",null,null,null,null,null,null,null,null,"","",null,null,null,"","","","","","","",""]
["",null,null,null,null,null,null,null,null,"","",null,null,null,"","","","","","","",""]
["",null,null,null,null,null,null,null,null,"","",null,null,null,"","","","","","","",""]
["",null,null,null,null,null,null,null,null,"","",null,null,null,"","","","","","","",""]
["",null,null,null,null,null,null,null,null,"","",null,null,null,"","","","","","","",""]
["",null,null,null,null,null,null,null,null,"","",null,null,null,"","","","","","","",""]
["",null,null,null,null,null,null,null,null,"","",null,null,null,"","","","","","","",""]
["",null,null,null,null,null,null,null,null,"","",null,null,null,"","","","","","","",""]
["",null,null,null,null,null,null,null,null,"","",null,null,null,"","","","","","","",""]
["",null,null,null,null,null,null,null,null,"","",null,null,null,"","","","","","","",""]
["",null,null,null,null,null,null,null,null,"","",null,null,null,"","","","","","","",""]
["",null,null,null,null,null,null,null,null,"","",null,null,null,"","","","","","","",""]
["",null,null,null,null,null,null,null,null,"","",null,null,null,"","","","","","","",""]
["",null,null,null,null,null,null,null,null,"","",null,null,null,"","","","","","","",""]
["",null,null,null,null,null,null,null,null,"","",null,null,null,"","","","","","","",""]
["",null,null,null,null,null,null,null,null,"","",null,null,null,"","","","","","","",""]
["",null,null,null,null,null,null,null,null,"","",null,null,null,"","","","","","","",""]
["",null,null,null,null,null,null,null,null,"","",null,null,null,"","","","","","","",""]
["",null,null,null,null,null,null,null,null,"","",null,null,null,"","","","","","","",""]
["",null,null,null,null,null,null,null,null,"","",null,null,null,"","","","","","","",""]
["",null,null,null,null,null,null,null,null,"","",null,null,null,"","","","","","","",""]
["",null,null,null,null,null,null,null,null,"","",null,null,null,"","","","","","","",""]
["",null,null,null,null,null,null,null,null,"","",null,null,null,"","","","","","","",""]
["",null,null,null,null,null,null,null,null,"","",null,null,null,"","","","","","","",""]
["",null,null,null,null,null,null,null,null,"","",null,null,null,"","","","","","","",""]
["",null,null,null,null,null,null,null,null,"","",null,null,null,"","","","","","","",""]
["",null,null,null,null,null,null,null,null,{"$f":"IF(B58=\"\",\"\",IF(B58=\"Madame\",\"F\",\"H\"))","v":""},{"$f":"IF(I58=\"\",\"\",ROUNDDOWN((DATE(2012,3,16)-I58-3)/365.25,0))","v":""},null,null,null,{"$f":"IF(K58=\"\",\"\",IF(L58=\"\",\"\",IF(L58>=1,IF(L58<14,V58,\"Non éligible\"))))","v":""},{"$f":"IF(I58=\"\",\"\",AND(IF(K58<55,IF(L58>=1,IF(L58<14,TRUE,FALSE)))))","v":""},{"$f":"IF(M58=\"\",\"\",IF(P58=TRUE,M58/12,\"\"))","v":""},{"$f":"IF(I58=\"\",\"\",AND(IF(K58>=55,IF(L58>=1,IF(L58<14,TRUE,FALSE)))))","v":""},{"$f":"IF(N58=\"\",\"\",IF(R58=TRUE,N58/12,\"\"))","v":""},{"$f":"IF(Q58=\"\",\"\",IF(Q58<6,\"Non éligible\",\"Eligible\"))","v":""},{"$f":"IF(S58=\"\",\"\",IF(S58<3,\"Non éligible\",\"Eligible\"))","v":""},{"$f":"IF(K58=\"\",\"\",IF(L58=\"\",\"\",IF(L58>=1,IF(L58<14,CONCATENATE(T58,U58),\"Non éligible\"))))","v":""}]
["",null,null,null,null,null,null,null,null,"","",null,null,null,"","","","","","","",""]
["",null,null,null,null,null,null,null,null,"","",null,null,null,"","","","","","","",""]
["",null,null,null,null,null,null,null,null,"","",null,null,null,"","","","","","","",""]
["",null,null,null,null,null,null,null,null,"","",null,null,null,"","","","","","","",""]
["",null,null,null,null,null,null,null,null,"","",null,null,null,"","","","","","","",""]
["",null,null,null,null,null,null,null,null,"","",null,null,null,"","","","","","","",""]
["",null,null,null,null,null,null,null,null,"","",null,null,null,"","","","","","","",""]
["",null,null,null,null,null,null,null,null,"","",null,null,null,"","","","","","","",""]
["",null,null,null,null,null,null,null,null,"","",null,null,null,"","","","","","","",""]
["",null,null,null,null,null,null,null,null,"","",null,null,null,"","","","","","","",""]
["",null,null,null,null,null,null,null,null,"","",null,null,null,"","","","","","","",""]
["",null,null,null,null,null,null,null,null,"","",null,null,null,"","","","","","","",""]
["",null,null,null,null,null,null,null,null,"","",null,null,null,"","","","","","","",""]
["",null,null,null,null,null,null,null,null,"","",null,null,null,"","","","","","","",""]
["",null,null,null,null,null,null,null,null,"","",null,null,null,"","","","","","","",""]
["",null,null,null,null,null,null,null,null,"","",null,null,null,"","","","","","","",""]
["",null,null,null,null,null,null,null,null,"","",null,null,null,"","","","","","","",""]
["",null,null,null,null,null,null,null,null,"","",null,null,null,"","","","","","","",""]
["",null,null,null,null,null,null,null,null,"","",null,null,null,"","","","","","","",""]
["",null,null,null,null,null,null,null,null,"","",null,null,null,"","","","","","","",""]
["",null,null,null,null,null,null,null,null,"","",null,null,null,"","","","","","","",""]
["",null,null,null,null,null,null,null,null,"","",null,null,null,"","","","","","","",""]
[{"$f":"IF(B81=\"\",\"\",A80+1)","v":""},null,null,null,null,null,null,null,null,"","",null,null,null,"","","","","","","",""]
["",null,null,null,null,null,null,null,null,"","",null,null,null,"","","","","","","",""]
["",null,null,null,null,null,null,null,null,"","",null,null,null,"","","","","","","",""]
["",null,null,null,null,null,null,null,null,"","",null,null,null,"","","","","","","",""]
["",null,null,null,null,null,null,null,null,"","",null,null,null,"","","","","","","",""]
["",null,null,null,null,null,null,null,null,"","",null,null,null,"","","","","","","",""]
["",null,null,null,null,null,null,null,null,"","",null,null,null,"","","","","","","",""]
["",null,null,null,null,null,null,null,null,"","",null,null,null,"","","","","","","",""]
["",null,null,null,null,null,null,null,null,{"$f":"IF(B89=\"\",\"\",IF(B89=\"Madame\",\"F\",\"H\"))","v":""},{"$f":"IF(I89=\"\",\"\",ROUNDDOWN((DATE(2012,3,16)-I89-3)/365.25,0))","v":""},null,null,null,{"$f":"IF(K89=\"\",\"\",IF(L89=\"\",\"\",IF(L89>=1,IF(L89<14,V89,\"Non éligible\"))))","v":""},{"$f":"IF(I89=\"\",\"\",AND(IF(K89<55,IF(L89>=1,IF(L89<14,TRUE,FALSE)))))","v":""},{"$f":"IF(M89=\"\",\"\",IF(P89=TRUE,M89/12,\"\"))","v":""},{"$f":"IF(I89=\"\",\"\",AND(IF(K89>=55,IF(L89>=1,IF(L89<14,TRUE,FALSE)))))","v":""},{"$f":"IF(N89=\"\",\"\",IF(R89=TRUE,N89/12,\"\"))","v":""},{"$f":"IF(Q89=\"\",\"\",IF(Q89<6,\"Non éligible\",\"Eligible\"))","v":""},{"$f":"IF(S89=\"\",\"\",IF(S89<3,\"Non éligible\",\"Eligible\"))","v":""},{"$f":"IF(K89=\"\",\"\",IF(L89=\"\",\"\",IF(L89>=1,IF(L89<14,CONCATENATE(T89,U89),\"Non éligible\"))))","v":""}]
["",null,null,null,null,null,null,null,null,"","",null,null,null,"","","","","","","",""]
["",null,null,null,null,null,null,null,null,"","",null,null,null,"","","","","","","",""]
["",null,null,null,null,null,null,null,null,"","",null,null,null,"","","","","","","",""]
["",null,null,null,null,null,null,null,null,"","",null,null,null,"","","","","","","",""]
["",null,null,null,null,null,null,null,null,"","",null,null,null,"","","","","","","",""]
["",null,null,null,null,null,null,null,null,"","",null,null,null,"","","","","","","",""]
["",null,null,null,null,null,null,null,null,"","",null,null,null,"","","","","","","",""]
["",null,null,null,null,null,null,null,null,"","",null,null,null,"","","","","","","",""]
["",null,null,null,null,null,null,null,null,"","",null,null,null,"","","","","","","",""]
["",null,null,null,null,null,null,null,null,"","",null,null,null,"","","","","","","",""]
["",null,null,null,null,null,null,null,null,"","",null,null,null,"","","","","","","",""]
["",null,null,null,null,null,null,null,null,"","",null,null,null,"","","","","","","",""]
["",null,null,null,null,null,null,null,null,"","",null,null,null,"","","","","","","",""]
["",null,null,null,null,null,null,null,null,"","",null,null,null,"","","","","","","",""]
["",null,null,null,null,null,null,null,null,"","",null,null,null,"","","","","","","",""]
["",null,null,null,null,null,null,null,null,"","",null,null,null,"","","","","","","",""]
["",null,null,null,null,null,null,null,null,"","",null,null,null,"","","","","","","",""]
["",null,null,null,null,null,null,null,null,"","",null,null,null,"","","","","","","",""]
["",null,null,null,null,null,null,null,null,"","",null,null,null,"","","","","","","",""]
["",null,null,null,null,null,null,null,null,"","",null,null,null,"","","","","","","",""]
["",null,null,null,null,null,null,null,null,"","",null,null,null,"","","","","","","",""]
["",null,null,null,null,null,null,null,null,"","",null,null,null,"","","","","","","",""]
["",null,null,null,null,null,null,null,null,"","",null,null,null,"","","","","","","",""]
["",null,null,null,null,null,null,null,null,"","",null,null,null,"","","","","","","",""]
["",null,null,null,null,null,null,null,null,"","",null,null,null,"","","","","","","",""]
["",null,null,null,null,null,null,null,null,"","",null,null,null,"","","","","","","",""]
["",null,null,null,null,null,null,null,null,"","",null,null,null,"","","","","","","",""]
["",null,null,null,null,null,null,null,null,"","",null,null,null,"","","","","","","",""]
["",null,null,null,null,null,null,null,null,"","",null,null,null,"","","","","","","",""]
["",null,null,null,null,null,null,null,null,"","",null,null,null,"","","","","","","",""]
["",null,null,null,null,null,null,null,null,"","",null,null,null,"","","","","","","",""]
["",null,null,null,null,null,null,null,null,"","",null,null,null,"","","","","","","",""]
["",null,null,null,null,null,null,null,null,"","",null,null,null,"","","","","","","",""]
["",null,null,null,null,null,null,null,null,"","",null,null,null,"","","","","","","",""]
["",null,null,null,null,null,null,null,null,"","",null,null,null,"","","","","","","",""]
["",null,null,null,null,null,null,null,null,"","",null,null,null,"","","","","","","",""]
["",null,null,null,null,null,null,null,null,"","",null,null,null,"","","","","","","",""]
["",null,null,null,null,null,null,null,null,"","",null,null,null,"","","","","","","",""]
["",null,null,null,null,null,null,null,null,"","",null,null,null,"","","","","","","",""]
["",null,null,null,null,null,null,null,null,"","",null,null,null,"","","","","","","",""]
["",null,null,null,null,null,null,null,null,"","",null,null,null,"","","","","","","",""]
["",null,null,null,null,null,null,null,null,"","",null,null,null,"","","","","","","",""]
["",null,null,null,null,null,null,null,null,"","",null,null,null,"","","","","","","",""]
["",null,null,null,null,null,null,null,null,"","",null,null,null,"","","","","","","",""]
["",null,null,null,null,null,null,null,null,"","",null,null,null,"","","","","","","",""]
["",null,null,null,null,null,null,null,null,"","",null,null,null,"","","","","","","",""]
["",null,null,null,null,null,null,null,null,"","",null,null,null,"","","","","","","",""]
["",null,null,null,null,null,null,null,null,"","",null,null,null,"","","","","","","",""]
["",null,null,null,null,null,null,null,null,"","",null,null,null,"","","","","","","",""]
["",null,null,null,null,null,null,null,null,"","",null,null,null,"","","","","","","",""]
["",null,null,null,null,null,null,null,null,"","",null,null,null,"","","","","","","",""]
["",null,null,null,null,null,null,null,null,"","",null,null,null,"","","","","","","",""]
["",null,null,null,null,null,null,null,null,"","",null,null,null,"","","","","","","",""]
["",null,null,null,null,null,null,null,null,"","",null,null,null,"","","","","","","",""]
["",null,null,null,null,null,null,null,null,"","",null,null,null,"","","","","","","",""]
[{"$f":"IF(B145=\"\",\"\",A144+1)","v":""},null,null,null,null,null,null,null,null,"","",null,null,null,"","","","","","","",""]
["",null,null,null,null,null,null,null,null,"","",null,null,null,"","","","","","","",""]
["",null,null,null,null,null,null,null,null,"","",null,null,null,"","","","","","","",""]
["",null,null,null,null,null,null,null,null,"","",null,null,null,"","","","","","","",""]
["",null,null,null,null,null,null,null,null,"","",null,null,null,"","","","","","","",""]
["",null,null,null,null,null,null,null,null,"","",null,null,null,"","","","","","","",""]
["",null,null,null,null,null,null,null,null,"","",null,null,null,"","","","","","","",""]
["",null,null,null,null,null,null,null,null,"","",null,null,null,"","","","","","","",""]
["",null,null,null,null,null,null,null,null,{"$f":"IF(B153=\"\",\"\",IF(B153=\"Madame\",\"F\",\"H\"))","v":""},{"$f":"IF(I153=\"\",\"\",ROUNDDOWN((DATE(2012,3,16)-I153-3)/365.25,0))","v":""},null,null,null,{"$f":"IF(K153=\"\",\"\",IF(L153=\"\",\"\",IF(L153>=1,IF(L153<14,V153,\"Non éligible\"))))","v":""},{"$f":"IF(I153=\"\",\"\",AND(IF(K153<55,IF(L153>=1,IF(L153<14,TRUE,FALSE)))))","v":""},{"$f":"IF(M153=\"\",\"\",IF(P153=TRUE,M153/12,\"\"))","v":""},{"$f":"IF(I153=\"\",\"\",AND(IF(K153>=55,IF(L153>=1,IF(L153<14,TRUE,FALSE)))))","v":""},{"$f":"IF(N153=\"\",\"\",IF(R153=TRUE,N153/12,\"\"))","v":""},{"$f":"IF(Q153=\"\",\"\",IF(Q153<6,\"Non éligible\",\"Eligible\"))","v":""},{"$f":"IF(S153=\"\",\"\",IF(S153<3,\"Non éligible\",\"Eligible\"))","v":""},{"$f":"IF(K153=\"\",\"\",IF(L153=\"\",\"\",IF(L153>=1,IF(L153<14,CONCATENATE(T153,U153),\"Non éligible\"))))","v":""}]
["",null,null,null,null,null,null,null,null,"","",null,null,null,"","","","","","","",""]
["",null,null,null,null,null,null,null,null,"","",null,null,null,"","","","","","","",""]
["",null,null,null,null,null,null,null,null,"","",null,null,null,"","","","","","","",""]
["",null,null,null,null,null,null,null,null,"","",null,null,null,"","","","","","","",""]
["",null,null,null,null,null,null,null,null,"","",null,null,null,"","","","","","","",""]
["",null,null,null,null,null,null,null,null,"","",null,null,null,"","","","","","","",""]
["",null,null,null,null,null,null,null,null,"","",null,null,null,"","","","","","","",""]
["",null,null,null,null,null,null,null,null,"","",null,null,null,"","","","","","","",""]
["",null,null,null,null,null,null,null,null,"","",null,null,null,"","","","","","","",""]
["",null,null,null,null,null,null,null,null,"","",null,null,null,"","","","","","","",""]
["",null,null,null,null,null,null,null,null,"","",null,null,null,"","","","","","","",""]
["",null,null,null,null,null,null,null,null,"","",null,null,null,"","","","","","","",""]
["",null,null,null,null,null,null,null,null,"","",null,null,null,"","","","","","","",""]
["",null,null,null,null,null,null,null,null,"","",null,null,null,"","","","","","","",""]
["",null,null,null,null,null,null,null,null,"","",null,null,null,"","","","","","","",""]
["",null,null,null,null,null,null,null,null,"","",null,null,null,"","","","","","","",""]
["",null,null,null,null,null,null,null,null,"","",null,null,null,"","","","","","","",""]
["",null,null,null,null,null,null,null,null,"","",null,null,null,"","","","","","","",""]
["",null,null,null,null,null,null,null,null,"","",null,null,null,"","","","","","","",""]
["",null,null,null,null,null,null,null,null,"","",null,null,null,"","","","","","","",""]
["",null,null,null,null,null,null,null,null,"","",null,null,null,"","","","","","","",""]
["",null,null,null,null,null,null,null,null,"","",null,null,null,"","","","","","","",""]
["",null,null,null,null,null,null,null,null,"","",null,null,null,"","","","","","","",""]
["",null,null,null,null,null,null,null,null,"","",null,null,null,"","","","","","","",""]
["",null,null,null,null,null,null,null,null,"","",null,null,null,"","","","","","","",""]
["",null,null,null,null,null,null,null,null,"","",null,null,null,"","","","","","","",""]
["",null,null,null,null,null,null,null,null,"","",null,null,null,"","","","","","","",""]
["",null,null,null,null,null,null,null,null,"","",null,null,null,"","","","","","","",""]
["",null,null,null,null,null,null,null,null,"","",null,null,null,"","","","","","","",""]
["",null,null,null,null,null,null,null,null,"","",null,null,null,"","","","","","","",""]
["",null,null,null,null,null,null,null,null,"","",null,null,null,"","","","","","","",""]
["",null,null,null,null,null,null,null,null,"","",null,null,null,"","","","","","","",""]
["",null,null,null,null,null,null,null,null,"","",null,null,null,"","","","","","","",""]
["",null,null,null,null,null,null,null,null,"","",null,null,null,"","","","","","","",""]
["",null,null,null,null,null,null,null,null,"","",null,null,null,"","","","","","","",""]
["",null,null,null,null,null,null,null,null,"","",null,null,null,"","","","","","","",""]
["",null,null,null,null,null,null,null,null,"","",null,null,null,"","","","","","","",""]
["",null,null,null,null,null,null,null,null,"","",null,null,null,"","","","","","","",""]
["",null,null,null,null,null,null,null,null,"","",null,null,null,"","","","","","","",""]
["",null,null,null,null,null,null,null,null,"","",null,null,null,"","","","","","","",""]
["",null,null,null,null,null,null,null,null,"","",null,null,null,"","","","","","","",""]
["",null,null,null,null,null,null,null,null,"","",null,null,null,"","","","","","","",""]
["",null,null,null,null,null,null,null,null,"","",null,null,null,"","","","","","","",""]
["",null,null,null,null,null,null,null,null,"","",null,null,null,"","","","","","","",""]
["",null,null,null,null,null,null,null,null,"","",null,null,null,"","","","","","","",""]
["",null,null,null,null,null,null,null,null,"","",null,null,null,"","","","","","","",""]
["",null,null,null,null,null,null,null,null,"","",null,null,null,"","","","","","","",""]
["",null,null,null,null,null,null,null,null,"","",null,null,null,"","","","","","","",""]
["",null,null,null,null,null,null,null,null,"","",null,null,null,"","","","","","","",""]
["",null,null,null,null,null,null,null,null,"","",null,null,null,"","","","","","","",""]
["",null,null,null,null,null,null,null,null,"","",null,null,null,"","","","","","","",""]
["",null,null,null,null,null,null,null,null,"","",null,null,null,"","","","","","","",""]
["",null,null,null,null,null,null,null,null,"","",null,null,null,"","","","","","","",""]
["",null,null,null,null,null,null,null,null,"","",null,null,null,"","","","","","","",""]
["",null,null,null,null,null,null,null,null,"","",null,null,null,"","","","","","","",""]
[{"$f":"IF(B209=\"\",\"\",A208+1)","v":""},null,null,null,null,null,null,null,null,"","",null,null,null,"","","","","","","",""]
["",null,null,null,null,null,null,null,null,"","",null,null,null,"","","","","","","",""]
["",null,null,null,null,null,null,null,null,"","",null,null,null,"","","","","","","",""]
["",null,null,null,null,null,null,null,null,"","",null,null,null,"","","","","","","",""]
["",null,null,null,null,null,null,null,null,"","",null,null,null,"","","","","","","",""]
["",null,null,null,null,null,null,null,null,"","",null,null,null,"","","","","","","",""]
["",null,null,null,null,null,null,null,null,"","",null,null,null,"","","","","","","",""]
[{"$f":"IF(B216=\"\",\"\",A215+1)","v":""},null,null,null,null,null,null,null,null,{"$f":"IF(B216=\"\",\"\",IF(B216=\"Madame\",\"F\",\"H\"))","v":""},{"$f":"IF(I216=\"\",\"\",ROUNDDOWN((DATE(2012,3,16)-I216-3)/365.25,0))","v":""},null,null,null,{"$f":"IF(K216=\"\",\"\",IF(L216=\"\",\"\",IF(L216>=1,IF(L216<14,V216,\"Non éligible\"))))","v":""},{"$f":"IF(I216=\"\",\"\",AND(IF(K216<55,IF(L216>=1,IF(L216<14,TRUE,FALSE)))))","v":""},{"$f":"IF(M216=\"\",\"\",IF(P216=TRUE,M216/12,\"\"))","v":""},{"$f":"IF(I216=\"\",\"\",AND(IF(K216>=55,IF(L216>=1,IF(L216<14,TRUE,FALSE)))))","v":""},{"$f":"IF(N216=\"\",\"\",IF(R216=TRUE,N216/12,\"\"))","v":""},{"$f":"IF(Q216=\"\",\"\",IF(Q216<6,\"Non éligible\",\"Eligible\"))","v":""},{"$f":"IF(S216=\"\",\"\",IF(S216<3,\"Non éligible\",\"Eligible\"))","v":""},{"$f":"IF(K216=\"\",\"\",IF(L216=\"\",\"\",IF(L216>=1,IF(L216<14,CONCATENATE(T216,U216),\"Non éligible\"))))","v":""}]
["",null,null,null,null,null,null,null,null,"","",null,null,null,"","","","","","","",""]
["",null,null,null,null,null,null,null,null,"","",null,null,null,"","","","","","","",""]
["",null,null,null,null,null,null,null,null,"","",null,null,null,"","","","","","","",""]
["",null,null,null,null,null,null,null,null,"","",null,null,null,"","","","","","","",""]
["",null,null,null,null,null,null,null,null,"","",null,null,null,"","","","","","","",""]
["",null,null,null,null,null,null,null,null,"","",null,null,null,"","","","","","","",""]
["",null,null,null,null,null,null,null,null,"","",null,null,null,"","","","","","","",""]
["",null,null,null,null,null,null,null,null,"","",null,null,null,"","","","","","","",""]
["",null,null,null,null,null,null,null,null,"","",null,null,null,"","","","","","","",""]
["",null,null,null,null,null,null,null,null,"","",null,null,null,"","","","","","","",""]
["",null,null,null,null,null,null,null,null,"","",null,null,null,"","","","","","","",""]
["",null,null,null,null,null,null,null,null,"","",null,null,null,"","","","","","","",""]
["",null,null,null,null,null,null,null,null,"","",null,null,null,"","","","","","","",""]
["",null,null,null,null,null,null,null,null,"","",null,null,null,"","","","","","","",""]
["",null,null,null,null,null,null,null,null,"","",null,null,null,"","","","","","","",""]
["",null,null,null,null,null,null,null,null,"","",null,null,null,"","","","","","","",""]
["",null,null,null,null,null,null,null,null,"","",null,null,null,"","","","","","","",""]
["",null,null,null,null,null,null,null,null,"","",null,null,null,"","","","","","","",""]
["",null,null,null,null,null,null,null,null,"","",null,null,null,"","","","","","","",""]
["",null,null,null,null,null,null,null,null,"","",null,null,null,"","","","","","","",""]
["",null,null,null,null,null,null,null,null,"","",null,null,null,"","","","","","","",""]
["",null,null,null,null,null,null,null,null,"","",null,null,null,"","","","","","","",""]
["",null,null,null,null,null,null,null,null,"","",null,null,null,"","","","","","","",""]
["",null,null,null,null,null,null,null,null,"","",null,null,null,"","","","","","","",""]
["",null,null,null,null,null,null,null,null,"","",null,null,null,"","","","","","","",""]
["",null,null,null,null,null,null,null,null,"","",null,null,null,"","","","","","","",""]
["",null,null,null,null,null,null,null,null,"","",null,null,null,"","","","","","","",""]
["",null,null,null,null,null,null,null,null,"","",null,null,null,"","","","","","","",""]
["",null,null,null,null,null,null,null,null,"","",null,null,null,"","","","","","","",""]
["",null,null,null,null,null,null,null,null,"","",null,null,null,"","","","","","","",""]
["",null,null,null,null,null,null,null,null,"","",null,null,null,"","","","","","","",""]
["",null,null,null,null,null,null,null,null,"","",null,null,null,"","","","","","","",""]
["",null,null,null,null,null,null,null,null,"","",null,null,null,"","","","","","","",""]
["",null,null,null,null,null,null,null,null,"","",null,null,null,"","","","","","","",""]
["",null,null,null,null,null,null,null,null,"","",null,null,null,"","","","","","","",""]
["",null,null,null,null,null,null,null,null,"","",null,null,null,"","","","","","","",""]
["",null,null,null,null,null,null,null,null,"","",null,null,null,"","","","","","","",""]
["",null,null,null,null,null,null,null,null,"","",null,null,null,"","","","","","","",""]
["",null,null,null,null,null,null,null,null,"","",null,null,null,"","","","","","","",""]
["",null,null,null,null,null,null,null,null,"","",null,null,null,"","","","","","","",""]
["",null,null,null,null,null,null,null,null,"","",null,null,null,"","","","","","","",""]
["",null,null,null,null,null,null,null,null,"","",null,null,null,"","","","","","","",""]
["",null,null,null,null,null,null,null,null,"","",null,null,null,"","","","","","","",""]
["",null,null,null,null,null,null,null,null,"","",null,null,null,"","","","","","","",""]
["",null,null,null,null,null,null,null,null,"","",null,null,null,"","","","","","","",""]
["",null,null,null,null,null,null,null,null,"","",null,null,null,"","","","","","","",""]
["",null,null,null,null,null,null,null,null,"","",null,null,null,"","","","","","","",""]
["",null,null,null,null,null,null,null,null,"","",null,null,null,"","","","","","","",""]
["",null,null,null,null,null,null,null,null,"","",null,null,null,"","","","","","","",""]
["",null,null,null,null,null,null,null,null,"","",null,null,null,"","","","","","","",""]
["",null,null,null,null,null,null,null,null,"","",null,null,null,"","","","","","","",""]
["",null,null,null,null,null,null,null,null,"","",null,null,null,"","","","","","","",""]
["",null,null,null,null,null,null,null,null,"","",null,null,null,"","","","","","","",""]
["",null,null,null,null,null,null,null,null,"","",null,null,null,"","","","","","","",""]
["",null,null,null,null,null,null,null,null,"","",null,null,null,"","","","","","","",""]
["",null,null,null,null,null,null,null,null,"","",null,null,null,"","","","","","","",""]
["",null,null,null,null,null,null,null,null,"","",null,null,null,"","","","","","","",""]
["",null,null,null,null,null,null,null,null,"","",null,null,null,"","","","","","","",""]
["",null,null,null,null,null,null,null,null,"","",null,null,null,"","","","","","","",""]
["",null,null,null,null,null,null,null,null,"","",null,null,null,"","","","","","","",""]
["",null,null,null,null,null,null,null,null,"","",null,null,null,"","","","","","","",""]
["",null,null,null,null,null,null,null,null,"","",null,null,null,"","","","","","","",""]
["",null,null,null,null,null,null,null,null,"","",null,null,null,"","","","","","","",""]
[{"$f":"IF(B280=\"\",\"\",A279+1)","v":""},null,null,null,null,null,null,null,null,{"$f":"IF(B280=\"\",\"\",IF(B280=\"Madame\",\"F\",\"H\"))","v":""},{"$f":"IF(I280=\"\",\"\",ROUNDDOWN((DATE(2012,3,16)-I280-3)/365.25,0))","v":""},null,null,null,{"$f":"IF(K280=\"\",\"\",IF(L280=\"\",\"\",IF(L280>=1,IF(L280<14,V280,\"Non éligible\"))))","v":""},{"$f":"IF(I280=\"\",\"\",AND(IF(K280<55,IF(L280>=1,IF(L280<14,TRUE,FALSE)))))","v":""},{"$f":"IF(M280=\"\",\"\",IF(P280=TRUE,M280/12,\"\"))","v":""},{"$f":"IF(I280=\"\",\"\",AND(IF(K280>=55,IF(L280>=1,IF(L280<14,TRUE,FALSE)))))","v":""},{"$f":"IF(N280=\"\",\"\",IF(R280=TRUE,N280/12,\"\"))","v":""},{"$f":"IF(Q280=\"\",\"\",IF(Q280<6,\"Non éligible\",\"Eligible\"))","v":""},{"$f":"IF(S280=\"\",\"\",IF(S280<3,\"Non éligible\",\"Eligible\"))","v":""},{"$f":"IF(K280=\"\",\"\",IF(L280=\"\",\"\",IF(L280>=1,IF(L280<14,CONCATENATE(T280,U280),\"Non éligible\"))))","v":""}]
["",null,null,null,null,null,null,null,null,"","",null,null,null,"","","","","","","",""]
["",null,null,null,null,null,null,null,null,"","",null,null,null,"","","","","","","",""]
["",null,null,null,null,null,null,null,null,"","",null,null,null,"","","","","","","",""]
["",null,null,null,null,null,null,null,null,"","",null,null,null,"","","","","","","",""]
["",null,null,null,null,null,null,null,null,"","",null,null,null,"","","","","","","",""]
["",null,null,null,null,null,null,null,null,"","",null,null,null,"","","","","","","",""]
["",null,null,null,null,null,null,null,null,"","",null,null,null,"","","","","","","",""]
["",null,null,null,null,null,null,null,null,"","",null,null,null,"","","","","","","",""]
["",null,null,null,null,null,null,null,null,"","",null,null,null,"","","","","","","",""]
["",null,null,null,null,null,null,null,null,"","",null,null,null,"","","","","","","",""]
["",null,null,null,null,null,null,null,null,"","",null,null,null,"","","","","","","",""]
["",null,null,null,null,null,null,null,null,"","",null,null,null,"","","","","","","",""]
["",null,null,null,null,null,null,null,null,"","",null,null,null,"","","","","","","",""]
["",null,null,null,null,null,null,null,null,"","",null,null,null,"","","","","","","",""]
["",null,null,null,null,null,null,null,null,"","",null,null,null,"","","","","","","",""]
["",null,null,null,null,null,null,null,null,"","",null,null,null,"","","","","","","",""]
["",null,null,null,null,null,null,null,null,"","",null,null,null,"","","","","","","",""]
["",null,null,null,null,null,null,null,null,"","",null,null,null,"","","","","","","",""]
["",null,null,null,null,null,null,null,null,"","",null,null,null,"","","","","","","",""]
["",null,null,null,null,null,null,null,null,"","",null,null,null,"","","","","","","",""]
["",null,null,null,null,null,null,null,null,"","",null,null,null,"","","","","","","",""]
["",null,null,null,null,null,null,null,null,"","",null,null,null,"","","","","","","",""]
["",null,null,null,null,null,null,null,null,"","",null,null,null,"","","","","","","",""]
["",null,null,null,null,null,null,null,null,"","",null,null,null,"","","","","","","",""]
["",null,null,null,null,null,null,null,null,"","",null,null,null,"","","","","","","",""]
["",null,null,null,null,null,null,null,null,"","",null,null,null,"","","","","","","",""]
["",null,null,null,null,null,null,null,null,"","",null,null,null,"","","","","","","",""]
["",null,null,null,null,null,null,null,null,"","",null,null,null,"","","","","","","",""]
["",null,null,null,null,null,null,null,null,"","",null,null,null,"","","","","","","",""]
["",null,null,null,null,null,null,null,null,"","",null,null,null,"","","","","","","",""]
["",null,null,null,null,null,null,null,null,"","",null,null,null,"","","","","","","",""]
["",null,null,null,null,null,null,null,null,"","",null,null,null,"","","","","","","",""]
["",null,null,null,null,null,null,null,null,"","",null,null,null,"","","","","","","",""]
["",null,null,null,null,null,null,null,null,"","",null,null,null,"","","","","","","",""]
["",null,null,null,null,null,null,null,null,"","",null,null,null,"","","","","","","",""]
["",null,null,null,null,null,null,null,null,"","",null,null,null,"","","","","","","",""]
["",null,null,null,null,null,null,null,null,"","",null,null,null,"","","","","","","",""]
["",null,null,null,null,null,null,null,null,"","",null,null,null,"","","","","","","",""]
["",null,null,null,null,null,null,null,null,"","",null,null,null,"","","","","","","",""]
["",null,null,null,null,null,null,null,null,"","",null,null,null,"","","","","","","",""]
["",null,null,null,null,null,null,null,null,"","",null,null,null,"","","","","","","",""]
["",null,null,null,null,null,null,null,null,"","",null,null,null,"","","","","","","",""]
["",null,null,null,null,null,null,null,null,"","",null,null,null,"","","","","","","",""]
["",null,null,null,null,null,null,null,null,"","",null,null,null,"","","","","","","",""]
["",null,null,null,null,null,null,null,null,"","",null,null,null,"","","","","","","",""]
["",null,null,null,null,null,null,null,null,"","",null,null,null,"","","","","","","",""]
["",null,null,null,null,null,null,null,null,"","",null,null,null,"","","","","","","",""]
["",null,null,null,null,null,null,null,null,"","",null,null,null,"","","","","","","",""]
["",null,null,null,null,null,null,null,null,"","",null,null,null,"","","","","","","",""]
["",null,null,null,null,null,null,null,null,"","",null,null,null,"","","","","","","",""]
["",null,null,null,null,null,null,null,null,"","",null,null,null,"","","","","","","",""]
["",null,null,null,null,null,null,null,null,"","",null,null,null,"","","","","","","",""]
["",null,null,null,null,null,null,null,null,"","",null,null,null,"","","","","","","",""]
["",null,null,null,null,null,null,null,null,"","",null,null,null,"","","","","","","",""]
["",null,null,null,null,null,null,null,null,"","",null,null,null,"","","","","","","",""]
["",null,null,null,null,null,null,null,null,"","",null,null,null,"","","","","","","",""]
["",null,null,null,null,null,null,null,null,"","",null,null,null,"","","","","","","",""]
["",null,null,null,null,null,null,null,null,"","",null,null,null,"","","","","","","",""]
["",null,null,null,null,null,null,null,null,"","",null,null,null,"","","","","","","",""]
["",null,null,null,null,null,null,null,null,"","",null,null,null,"","","","","","","",""]
["",null,null,null,null,null,null,null,null,"","",null,null,null,"","","","","","","",""]
["",null,null,null,null,null,null,null,null,"","",null,null,null,"","","","","","","",""]
["",null,null,null,null,null,null,null,null,"","",null,null,null,"","","","","","","",""]
[{"$f":"IF(B344=\"\",\"\",A343+1)","v":""},null,null,null,null,null,null,null,null,{"$f":"IF(B344=\"\",\"\",IF(B344=\"Madame\",\"F\",\"H\"))","v":""},{"$f":"IF(I344=\"\",\"\",ROUNDDOWN((DATE(2012,3,16)-I344-3)/365.25,0))","v":""},null,null,null,{"$f":"IF(K344=\"\",\"\",IF(L344=\"\",\"\",IF(L344>=1,IF(L344<14,V344,\"Non éligible\"))))","v":""},{"$f":"IF(I344=\"\",\"\",AND(IF(K344<55,IF(L344>=1,IF(L344<14,TRUE,FALSE)))))","v":""},{"$f":"IF(M344=\"\",\"\",IF(P344=TRUE,M344/12,\"\"))","v":""},{"$f":"IF(I344=\"\",\"\",AND(IF(K344>=55,IF(L344>=1,IF(L344<14,TRUE,FALSE)))))","v":""},{"$f":"IF(N344=\"\",\"\",IF(R344=TRUE,N344/12,\"\"))","v":""},{"$f":"IF(Q344=\"\",\"\",IF(Q344<6,\"Non éligible\",\"Eligible\"))","v":""},{"$f":"IF(S344=\"\",\"\",IF(S344<3,\"Non éligible\",\"Eligible\"))","v":""},{"$f":"IF(K344=\"\",\"\",IF(L344=\"\",\"\",IF(L344>=1,IF(L344<14,CONCATENATE(T344,U344),\"Non éligible\"))))","v":""}]
["",null,null,null,null,null,null,null,null,"","",null,null,null,"","","","","","","",""]
["",null,null,null,null,null,null,null,null,"","",null,null,null,"","","","","","","",""]
["",null,null,null,null,null,null,null,null,"","",null,null,null,"","","","","","","",""]
["",null,null,null,null,null,null,null,null,"","",null,null,null,"","","","","","","",""]
["",null,null,null,null,null,null,null,null,"","",null,null,null,"","","","","","","",""]
["",null,null,null,null,null,null,null,null,"","",null,null,null,"","","","","","","",""]
["",null,null,null,null,null,null,null,null,"","",null,null,null,"","","","","","","",""]
["",null,null,null,null,null,null,null,null,"","",null,null,null,"","","","","","","",""]
["",null,null,null,null,null,null,null,null,"","",null,null,null,"","","","","","","",""]
["",null,null,null,null,null,null,null,null,"","",null,null,null,"","","","","","","",""]
["",null,null,null,null,null,null,null,null,"","",null,null,null,"","","","","","","",""]
["",null,null,null,null,null,null,null,null,"","",null,null,null,"","","","","","","",""]
["",null,null,null,null,null,null,null,null,"","",null,null,null,"","","","","","","",""]
["",null,null,null,null,null,null,null,null,"","",null,null,null,"","","","","","","",""]
["",null,null,null,null,null,null,null,null,"","",null,null,null,"","","","","","","",""]
["",null,null,null,null,null,null,null,null,"","",null,null,null,"","","","","","","",""]
["",null,null,null,null,null,null,null,null,"","",null,null,null,"","","","","","","",""]
["",null,null,null,null,null,null,null,null,"","",null,null,null,"","","","","","","",""]
["",null,null,null,null,null,null,null,null,"","",null,null,null,"","","","","","","",""]
["",null,null,null,null,null,null,null,null,"","",null,null,null,"","","","","","","",""]
["",null,null,null,null,null,null,null,null,"","",null,null,null,"","","","","","","",""]
["",null,null,null,null,null,null,null,null,"","",null,null,null,"","","","","","","",""]
["",null,null,null,null,null,null,null,null,"","",null,null,null,"","","","","","","",""]
["",null,null,null,null,null,null,null,null,"","",null,null,null,"","","","","","","",""]
["",null,null,null,null,null,null,null,null,"","",null,null,null,"","","","","","","",""]
["",null,null,null,null,null,null,null,null,"","",null,null,null,"","","","","","","",""]
["",null,null,null,null,null,null,null,null,"","",null,null,null,"","","","","","","",""]
["",null,null,null,null,null,null,null,null,"","",null,null,null,"","","","","","","",""]
["",null,null,null,null,null,null,null,null,"","",null,null,null,"","","","","","","",""]
["",null,null,null,null,null,null,null,null,"","",null,null,null,"","","","","","","",""]
["",null,null,null,null,null,null,null,null,"","",null,null,null,"","","","","","","",""]
["",null,null,null,null,null,null,null,null,"","",null,null,null,"","","","","","","",""]
["",null,null,null,null,null,null,null,null,"","",null,null,null,"","","","","","","",""]
["",null,null,null,null,null,null,null,null,"","",null,null,null,"","","","","","","",""]
["",null,null,null,null,null,null,null,null,"","",null,null,null,"","","","","","","",""]
["",null,null,null,null,null,null,null,null,"","",null,null,null,"","","","","","","",""]
["",null,null,null,null,null,null,null,null,"","",null,null,null,"","","","","","","",""]
["",null,null,null,null,null,null,null,null,"","",null,null,null,"","","","","","","",""]
["",null,null,null,null,null,null,null,null,"","",null,null,null,"","","","","","","",""]
["",null,null,null,null,null,null,null,null,"","",null,null,null,"","","","","","","",""]
["",null,null,null,null,null,null,null,null,"","",null,null,null,"","","","","","","",""]
["",null,null,null,null,null,null,null,null,"","",null,null,null,"","","","","","","",""]
["",null,null,null,null,null,null,null,null,"","",null,null,null,"","","","","","","",""]
["",null,null,null,null,null,null,null,null,"","",null,null,null,"","","","","","","",""]
["",null,null,null,null,null,null,null,null,"","",null,null,null,"","","","","","","",""]
["",null,null,null,null,null,null,null,null,"","",null,null,null,"","","","","","","",""]
["",null,null,null,null,null,null,null,null,"","",null,null,null,"","","","","","","",""]
["",null,null,null,null,null,null,null,null,"","",null,null,null,"","","","","","","",""]
["",null,null,null,null,null,null,null,null,"","",null,null,null,"","","","","","","",""]
["",null,null,null,null,null,null,null,null,"","",null,null,null,"","","","","","","",""]
["",null,null,null,null,null,null,null,null,"","",null,null,null,"","","","","","","",""]
["",null,null,null,null,null,null,null,null,"","",null,null,null,"","","","","","","",""]
["",null,null,null,null,null,null,null,null,"","",null,null,null,"","","","","","","",""]
["",null,null,null,null,null,null,null,null,"","",null,null,null,"","","","","","","",""]
["",null,null,null,null,null,null,null,null,"","",null,null,null,"","","","","","","",""]
["",null,null,null,null,null,null,null,null,"","",null,null,null,"","","","","","","",""]
["",null,null,null,null,null,null,null,null,"","",null,null,null,"","","","","","","",""]
["",null,null,null,null,null,null,null,null,"","",null,null,null,"","","","","","","",""]
["",null,null,null,null,null,null,null,null,"","",null,null,null,"","","","","","","",""]
["",null,null,null,null,null,null,null,null,"","",null,null,null,"","","","","","","",""]
["",null,null,null,null,null,null,null,null,"","",null,null,null,"","","","","","","",""]
["",null,null,null,null,null,null,null,null,"","",null,null,null,"","","","","","","",""]
["",null,null,null,null,null,null,null,null,"","",null,null,null,"","","","","","","",""]
[{"$f":"IF(B408=\"\",\"\",A407+1)","v":""},null,null,null,null,null,null,null,null,{"$f":"IF(B408=\"\",\"\",IF(B408=\"Madame\",\"F\",\"H\"))","v":""},{"$f":"IF(I408=\"\",\"\",ROUNDDOWN((DATE(2012,3,16)-I408-3)/365.25,0))","v":""},null,null,null,{"$f":"IF(K408=\"\",\"\",IF(L408=\"\",\"\",IF(L408>=1,IF(L408<14,V408,\"Non éligible\"))))","v":""},{"$f":"IF(I408=\"\",\"\",AND(IF(K408<55,IF(L408>=1,IF(L408<14,TRUE,FALSE)))))","v":""},{"$f":"IF(M408=\"\",\"\",IF(P408=TRUE,M408/12,\"\"))","v":""},{"$f":"IF(I408=\"\",\"\",AND(IF(K408>=55,IF(L408>=1,IF(L408<14,TRUE,FALSE)))))","v":""},{"$f":"IF(N408=\"\",\"\",IF(R408=TRUE,N408/12,\"\"))","v":""},{"$f":"IF(Q408=\"\",\"\",IF(Q408<6,\"Non éligible\",\"Eligible\"))","v":""},{"$f":"IF(S408=\"\",\"\",IF(S408<3,\"Non éligible\",\"Eligible\"))","v":""},{"$f":"IF(K408=\"\",\"\",IF(L408=\"\",\"\",IF(L408>=1,IF(L408<14,CONCATENATE(T408,U408),\"Non éligible\"))))","v":""}]
["",null,null,null,null,null,null,null,null,"","",null,null,null,"","","","","","","",""]
["",null,null,null,null,null,null,null,null,"","",null,null,null,"","","","","","","",""]
["",null,null,null,null,null,null,null,null,"","",null,null,null,"","","","","","","",""]
["",null,null,null,null,null,null,null,null,"","",null,null,null,"","","","","","","",""]
["",null,null,null,null,null,null,null,null,"","",null,null,null,"","","","","","","",""]
["",null,null,null,null,null,null,null,null,"","",null,null,null,"","","","","","","",""]
["",null,null,null,null,null,null,null,null,"","",null,null,null,"","","","","","","",""]
["",null,null,null,null,null,null,null,null,"","",null,null,null,"","","","","","","",""]
["",null,null,null,null,null,null,null,null,"","",null,null,null,"","","","","","","",""]
["",null,null,null,null,null,null,null,null,"","",null,null,null,"","","","","","","",""]
["",null,null,null,null,null,null,null,null,"","",null,null,null,"","","","","","","",""]
["",null,null,null,null,null,null,null,null,"","",null,null,null,"","","","","","","",""]
["",null,null,null,null,null,null,null,null,"","",null,null,null,"","","","","","","",""]
["",null,null,null,null,null,null,null,null,"","",null,null,null,"","","","","","","",""]
["",null,null,null,null,null,null,null,null,"","",null,null,null,"","","","","","","",""]
["",null,null,null,null,null,null,null,null,"","",null,null,null,"","","","","","","",""]
["",null,null,null,null,null,null,null,null,"","",null,null,null,"","","","","","","",""]
["",null,null,null,null,null,null,null,null,"","",null,null,null,"","","","","","","",""]
["",null,null,null,null,null,null,null,null,"","",null,null,null,"","","","","","","",""]
["",null,null,null,null,null,null,null,null,"","",null,null,null,"","","","","","","",""]
["",null,null,null,null,null,null,null,null,"","",null,null,null,"","","","","","","",""]
["",null,null,null,null,null,null,null,null,"","",null,null,null,"","","","","","","",""]
["",null,null,null,null,null,null,null,null,"","",null,null,null,"","","","","","","",""]
["",null,null,null,null,null,null,null,null,"","",null,null,null,"","","","","","","",""]
["",null,null,null,null,null,null,null,null,"","",null,null,null,"","","","","","","",""]
["",null,null,null,null,null,null,null,null,"","",null,null,null,"","","","","","","",""]
["",null,null,null,null,null,null,null,null,"","",null,null,null,"","","","","","","",""]
["",null,null,null,null,null,null,null,null,"","",null,null,null,"","","","","","","",""]
["",null,null,null,null,null,null,null,null,"","",null,null,null,"","","","","","","",""]
["",null,null,null,null,null,null,null,null,"","",null,null,null,"","","","","","","",""]
["",null,null,null,null,null,null,null,null,"","",null,null,null,"","","","","","","",""]
["",null,null,null,null,null,null,null,null,"","",null,null,null,"","","","","","","",""]
["",null,null,null,null,null,null,null,null,"","",null,null,null,"","","","","","","",""]
["",null,null,null,null,null,null,null,null,"","",null,null,null,"","","","","","","",""]
["",null,null,null,null,null,null,null,null,"","",null,null,null,"","","","","","","",""]
["",null,null,null,null,null,null,null,null,"","",null,null,null,"","","","","","","",""]
["",null,null,null,null,null,null,null,null,"","",null,null,null,"","","","","","","",""]
["",null,null,null,null,null,null,null,null,"","",null,null,null,"","","","","","","",""]
["",null,null,null,null,null,null,null,null,"","",null,null,null,"","","","","","","",""]
["",null,null,null,null,null,null,null,null,"","",null,null,null,"","","","","","","",""]
["",null,null,null,null,null,null,null,null,"","",null,null,null,"","","","","","","",""]
["",null,null,null,null,null,null,null,null,"","",null,null,null,"","","","","","","",""]
["",null,null,null,null,null,null,null,null,"","",null,null,null,"","","","","","","",""]
["",null,null,null,null,null,null,null,null,"","",null,null,null,"","","","","","","",""]
["",null,null,null,null,null,null,null,null,"","",null,null,null,"","","","","","","",""]
["",null,null,null,null,null,null,null,null,"","",null,null,null,"","","","","","","",""]
["",null,null,null,null,null,null,null,null,"","",null,null,null,"","","","","","","",""]
["",null,null,null,null,null,null,null,null,"","",null,null,null,"","","","","","","",""]
["",null,null,null,null,null,null,null,null,"","",null,null,null,"","","","","","","",""]
["",null,null,null,null,null,null,null,null,"","",null,null,null,"","","","","","","",""]
["",null,null,null,null,null,null,null,null,"","",null,null,null,"","","","","","","",""]
["",null,null,null,null,null,null,null,null,"","",null,null,null,"","","","","","","",""]
["",null,null,null,null,null,null,null,null,"","",null,null,null,"","","","","","","",""]
["",null,null,null,null,null,null,null,null,"","",null,null,null,"","","","","","","",""]
["",null,null,null,null,null,null,null,null,"","",null,null,null,"","","","","","","",""]
["",null,null,null,null,null,null,null,null,"","",null,null,null,"","","","","","","",""]
["",null,null,null,null,null,null,null,null,"","",null,null,null,"","","","","","","",""]
["",null,null,null,null,null,null,null,null,"","",null,null,null,"","","","","","","",""]
["",null,null,null,null,null,null,null,null,"","",null,null,null,"","","","","","","",""]
["",null,null,null,null,null,null,null,null,"","",null,null,null,"","","","","","","",""]
["",null,null,null,null,null,null,null,null,"","",null,null,null,"","","","","","","",""]
["",null,null,null,null,null,null,null,null,"","",null,null,null,"","","","","","","",""]
["",null,null,null,null,null,null,null,null,"","",null,null,null,"","","","","","","",""]
[{"$f":"IF(B472=\"\",\"\",A471+1)","v":""},null,null,null,null,null,null,null,null,{"$f":"IF(B472=\"\",\"\",IF(B472=\"Madame\",\"F\",\"H\"))","v":""},{"$f":"IF(I472=\"\",\"\",ROUNDDOWN((DATE(2012,3,16)-I472-3)/365.25,0))","v":""},null,null,null,{"$f":"IF(K472=\"\",\"\",IF(L472=\"\",\"\",IF(L472>=1,IF(L472<14,V472,\"Non éligible\"))))","v":""},{"$f":"IF(I472=\"\",\"\",AND(IF(K472<55,IF(L472>=1,IF(L472<14,TRUE,FALSE)))))","v":""},{"$f":"IF(M472=\"\",\"\",IF(P472=TRUE,M472/12,\"\"))","v":""},{"$f":"IF(I472=\"\",\"\",AND(IF(K472>=55,IF(L472>=1,IF(L472<14,TRUE,FALSE)))))","v":""},{"$f":"IF(N472=\"\",\"\",IF(R472=TRUE,N472/12,\"\"))","v":""},{"$f":"IF(Q472=\"\",\"\",IF(Q472<6,\"Non éligible\",\"Eligible\"))","v":""},{"$f":"IF(S472=\"\",\"\",IF(S472<3,\"Non éligible\",\"Eligible\"))","v":""},{"$f":"IF(K472=\"\",\"\",IF(L472=\"\",\"\",IF(L472>=1,IF(L472<14,CONCATENATE(T472,U472),\"Non éligible\"))))","v":""}]
["",null,null,null,null,null,null,null,null,"","",null,null,null,"","","","","","","",""]
["",null,null,null,null,null,null,null,null,"","",null,null,null,"","","","","","","",""]
["",null,null,null,null,null,null,null,null,"","",null,null,null,"","","","","","","",""]
["",null,null,null,null,null,null,null,null,"","",null,null,null,"","","","","","","",""]
["",null,null,null,null,null,null,null,null,"","",null,null,null,"","","","","","","",""]
["",null,null,null,null,null,null,null,null,"","",null,null,null,"","","","","","","",""]
["",null,null,null,null,null,null,null,null,"","",null,null,null,"","","","","","","",""]
["",null,null,null,null,null,null,null,null,"","",null,null,null,"","","","","","","",""]
["",null,null,null,null,null,null,null,null,"","",null,null,null,"","","","","","","",""]
["",null,null,null,null,null,null,null,null,"","",null,null,null,"","","","","","","",""]
["",null,null,null,null,null,null,null,null,"","",null,null,null,"","","","","","","",""]
["",null,null,null,null,null,null,null,null,"","",null,null,null,"","","","","","","",""]
["",null,null,null,null,null,null,null,null,"","",null,null,null,"","","","","","","",""]
["",null,null,null,null,null,null,null,null,"","",null,null,null,"","","","","","","",""]
["",null,null,null,null,null,null,null,null,"","",null,null,null,"","","","","","","",""]
["",null,null,null,null,null,null,null,null,"","",null,null,null,"","","","","","","",""]
["",null,null,null,null,null,null,null,null,"","",null,null,null,"","","","","","","",""]
["",null,null,null,null,null,null,null,null,"","",null,null,null,"","","","","","","",""]
["",null,null,null,null,null,null,null,null,"","",null,null,null,"","","","","","","",""]
["",null,null,null,null,null,null,null,null,"","",null,null,null,"","","","","","","",""]
["",null,null,null,null,null,null,null,null,"","",null,null,null,"","","","","","","",""]
["",null,null,null,null,null,null,null,null,"","",null,null,null,"","","","","","","",""]
["",null,null,null,null,null,null,null,null,"","",null,null,null,"","","","","","","",""]
["",null,null,null,null,null,null,null,null,"","",null,null,null,"","","","","","","",""]
["",null,null,null,null,null,null,null,null,"","",null,null,null,"","","","","","","",""]
["",null,null,null,null,null,null,null,null,"","",null,null,null,"","","","","","","",""]
["",null,null,null,null,null,null,null,null,"","",null,null,null,"","","","","","","",""]
["",null,null,null,null,null,null,null,null,"","",null,null,null,"","","","","","","",""]
["",null,null,null,null,null,null,null,null,"","",null,null,null,"","","","","","","",""]
["",null,null,null,null,null,null,null,null,"","",null,null,null,"","","","","","","",""]
["",null,null,null,null,null,null,null,null,"","",null,null,null,"","","","","","","",""]
["",null,null,null,null,null,null,null,null,"","",null,null,null,"","","","","","","",""]
["",null,null,null,null,null,null,null,null,"","",null,null,null,"","","","","","","",""]
["",null,null,null,null,null,null,null,null,"","",null,null,null,"","","","","","","",""]
["",null,null,null,null,null,null,null,null,"","",null,null,null,"","","","","","","",""]
["",null,null,null,null,null,null,null,null,"","",null,null,null,"","","","","","","",""]
["",null,null,null,null,null,null,null,null,"","",null,null,null,"","","","","","","",""]
["",null,null,null,null,null,null,null,null,"","",null,null,null,"","","","","","","",""]
["",null,null,null,null,null,null,null,null,"","",null,null,null,"","","","","","","",""]
["",null,null,null,null,null,null,null,null,"","",null,null,null,"","","","","","","",""]
["",null,null,null,null,null,null,null,null,"","",null,null,null,"","","","","","","",""]
["",null,null,null,null,null,null,null,null,"","",null,null,null,"","","","","","","",""]
["",null,null,null,null,null,null,null,null,"","",null,null,null,"","","","","","","",""]

{"sheet":"CDI-Cas de recrutement","index":2,"n_rows":28,"n_cols":5,"rows_kept":28,"cut":false,"hidden":true,"merged":[[0,0,0,4],[18,0,18,4],[20,0,20,1],[27,0,27,2],[21,0,21,1],[22,0,22,1],[23,0,23,1],[26,0,26,2],[3,0,3,4]]}
["CAS DE RECRUTEMENT DES NON TITULAIRES POUR L'ACCES AU CDI"]
[null,null,null,null,"Retour à l'onglet Cdisation"]
[]
["Contrats entrant dans le champ d'application de la loi : article 3 de la loi n° 84-53 du 26 janvier 1984 modifiée"]
[]
["Code 1","Article 3","1er alinéa","Emploi permanent","pour remplacement d'un agent indisponible"]
["Code 2","Article 3","2ème alinéa","Emploi non permanent","pour besoin saisonnier"]
["Code 3","Article 3","2ème alinéa","Emploi non permanent","pour besoin occasionnel"]
["Code 4","Article 3","1er alinéa","Emploi permanent","qui ne peut être immédiatement pourvu dans les conditions prévues par la loi"]
["Code 5","Article 3","4ème alinéa","Emploi permanent","en cas d'absence de cadre d'emplois de fonctionnaires susceptibles d'assurer les fonctions correspondantes"]
["Code 6","Article 3","5ème alinéa","Emploi permanent","du niveau de la catégorie A lorsque la nature des fonctions ou les besoins des services le justifient"]
["Code 7","Article 3","6ème alinéa","Emploi permanent","dont la durée hebdomadaire n'excède pas 17 heures 30 minutes dans les communes de moins de 1 000 habitants"]
["Code 8","Article 3","6ème alinéa","Emploi permanent","de secrétaire de mairie dans les communes de moins de 1 000 habitants"]
["Code 9","Article 3","6ème alinéa","Emploi permanent","dont la durée hebdomadaire n'excède pas 17 heures 30 minutes dans les groupements de communes dont la moyenne arithmétique n'excède pas 1 000 habitants"]
["Code 10","Article 3","6ème alinéa","Emploi permanent","de secrétaire de mairie dans les groupements de communes dont la moyenne arithmétique n'excède pas 1 000 habitants"]
["Code 11","Article 3","6ème alinéa dernière phrase","Emploi permanent","lorsque la création ou la suppression de l'emploi dépend de la décision d'une autorité qui s'impose à la collectivité en matière de création, de changement de périmètre ou de suppression d'un service public (communes de moins de 2 000 habitants)"]
["Code 12","Article 3","6ème alinéa dernière phrase","Emploi permanent","lorsque la création ou la suppression de l'emploi dépend de la décision d'une autorité qui s'impose à la collectivité en matière de création, de changement de périmètre ou de suppression d'un service public (groupement de communes de moins de 10 000 habitants)"]
[]
["Contrats exclus du dispositif"]
[]
["Article 3 de la loi n° 84-53 du 26/01/1984",null,"8ème alinéa","Emploi permanent","par reconduction du contrat à durée indéterminée à l'issue de la période maximale de 6 ans lorsque l'agent a été recruté sur la base des alinéas 4,5 ou 6"]
["Article 38 de la loi n° 84-53 du 26/01/1984",null,null,"Emploi permanent","recrutement de personnes handicapées"]
["Article 47 de la loi n° 84-53 du 26/01/1984",null,null,"Emploi permanent","emplois de direction"]
["Article 110 de la loi n° 84-53 du 26/01/1984",null,null,"Emploi non permanent","collaborateurs de cabinet"]
[null,null,null,"Emploi permanent","assistantes maternelles"]
[null,null,null,"Emploi permanent","recrutement en CDI (autres cas)"]
["Art. L2121-28, L3121-24, L4132-23 et L5215-18 du CGCT",null,null,"Emploi permanent","recrutement en qualité de collaborateur de groupe d'élus"]
["Article 15 II de la loi n° 2005-843 du 26/07/2005",null,null,"Emploi permanent","par transformation, le 27 juillet 2005, du contrat en cours en contrat à durée indéterminée"]

{"sheet":"Présentation","index":3,"n_rows":32,"n_cols":2,"rows_kept":32,"cut":false,"hidden":false,"merged":[[0,1,0,9],[1,0,1,10],[2,0,2,10],[3,0,3,10],[4,0,4,10],[21,0,21,10],[5,0,5,10],[6,0,6,10],[7,0,7,10],[8,0,8,10],[9,0,9,10],[10,0,10,10],[11,0,11,10],[12,0,12,10],[13,0,13,10],[16,0,16,10],[18,0,18,10],[23,0,23,10],[25,0,25,10],[27,0,27,10],[29,0,29,10],[31,0,31,10]]}
["logo","Présentation de l'outil (version 2016- v3 MAJ le 27/10/2016) permettant la production du\nRAPPORT SUR LA SITUATION DES AGENTS \nET DU PROGRAMME PLURIANNUEL D'ACCES A L'EMPLOI TITULAIRE\nprévus à l'article n°17 de la loi n°2012-347 du 12/03/2012 modifiée"]
["Votre Centre de Gestion, s'appuyant sur un document conçu dans le cadre de l'Association Nationale des Directeurs de Centres de Gestion par les CDG du Nord et des Alpes-Maritimes et mis à jour par le centre de gestion du Rhône et de la Métropole de Lyon, met à votre disposition un outil de recensement de vos agents contractuels éligibles ou non éligibles aux dispositions de la loi sur l'accès à l'emploi titulaire et à l'amélioration des conditions d'emploi des agents contractuels dans la Fonction Publique."]
["Cet outil se compose de trois parties de saisie : \n-> Deux parties destinées à faire état de l'éligibilité ou non éligibilité (partie verte) et de l'éligibilité à une date ultérieure au 31 mars 2013 (au plus tard à la clôture des inscriptions aux sélections : partie orange) : vous devrez les remplir en saississant au cas par cas les situations individuelles des agents concernés par la loi du 12 mars 2012 ;\n-> Une partie générale et récapitulative du document Excel (bleu), qui sera en partie alimentée automatiquement par les informations saisies dans les 2 onglets précédents. Cet onglet vous permettra, une fois complété, d'éditer le rapport  à présenter obligatoirement en Comité technique.\n\nN.B Les agents remplissant les conditions d'éligibilité prévues par la loi n° 2012-347 du 12 mars 2012 dans sa rédaction antérieure à la loi n°2016-483 du 20 avril 2016 demeurent éligibles à l'accès à la fonction publique au dispositif des recrutements réservés de la loi n°2012-347 du 12 mars 2012 jusqu'au 12 mars 2018."]
["Partie éligibilité (date de valeur : 31 mars 2013)"]
["Présentation : L'onglet éligibilité vous permet de vérifier si vos agents en Contrat à Durée Déterminée ou à Durée Indéterminée (CDD ou CDI) peuvent bénéficier des dispositions relatives à la titularisation. Un outil de calcul individuel contrat par contrat ou en équivalent temps plein est également à votre disposition dans la boîte à outils mise à disposition par votre CDG. Il vous permettra également de conserver une trace de l'étude d'éligibilité lors de la candidature de vos agents aux sélections professionnelles."]
["Utilisation : Il conviendra de reporter les informations personnelles relatives à vos agents susceptibles de remplir les conditions d'une éventuelle titularisation. Pour indiquer leur filière, leur grade ainsi que leur catégorie, il convient d'utiliser le menu déroulant à votre disposition (vous trouverez en outre dans l'onglet \"Annexe 1 filières et grades\" le classement des grades par filière). Des commentaires vous guident tout au long de la saisie : soyez attentif au format requis. Lorsque toutes les informations auront été renseignées , les deux dernières colonnes du tableau annoncent les possibilités d'éligibilité de vos agents. Trois cas sont possibles :\n1° votre agent n'est ni éligible à la date de valeur du 31 mars 2013, ni ultérieurement à cette date  : la mention \"non éligible\" appraîtra;\n2° l'agent est éligible à la date de valeur du 31 mars 2013 (éligibilité immédiate), dans ce cas il n'est pas nécessaire de vérifier s'il remplit les conditions pour une éligibilité ultérieure (après le 31 mars 2013): la mention \"éligible\" appraîtra;\n3° l'agent n'est pas éligible à la date de valeur du 31 mars 2013  mais remplira les conditions d'éligibilité : la mention \"éligibilité ultérieure\" apparaîtra.  Le caractère ultérieur de l'éligibilité s'apprécie à la date du 31 mars 2013 ce qui a pour conséquence qu'en 201, l'agent remplira généralement les conditions. Pour ce cas 3, nous vous invitons à vous reporter à la partie relative à a titularisation ultérieure."]
["Partie éligibilité ultérieure (après le 31 mars 2013 et au plus tard à la clôture des inscriptions)"]
["Présentation : L'onglet \"éligibilité ultérieure\" vous permet de suivre la durée des services restant à effectuer par vos agents (par rapport à la date du 31 mars 2013), pour bénéficier du dispositif de titularisation et ce au plus tard à la date de clôture des inscriptions au recrutement pour lequel ils postulent."]
["Utilisation : L'onglet \"éligibilité ultérieure\" permet l'édition du tableau récapitulatif des délais de titularisation ultérieure pour les agents éligibles au dispositif. Ce tableau est pré-saisi automatiquement : il reprend exclusivement les informations concernant les agents remplissant les conditions. Attention à veiller à appliquer correctement le filtre comme indiqué en commentaire.\n"]
["Partie Edition"]
["Présentation : L'onglet Edition permet de produire le document de référence à présenter au Comité Technique et conforme aux attentes de l'article 17 de la loi de n°2012-347 du 12 mars 2012 modifiée. Il intègre automatiquement les données des autres onglets et est composé de 3 parties et d'une annexe :\n1: les données générales relatives à votre collectivité -> à remplir par vos soins ;\n2: le Rapport sur la situation des agents remplissant les conditions définies aux articles 14 et 15 de loi du 12 mars 2012 -> automatiquement renseigné, seule une partie II.1 est à compléter. Une annexe est également à compléter partiellement afin de mentionner les fonctions (art 7 du décret 2012-1293 modifié) de vos agents éligibles dans les conditions définies aux articles 14 et 15 de la loi ;\n3: le Programme pluriannuel de l'accès à l'emploi titulaire -> partiellement alimentée, cette partie est à remplir par vos soins au vu des informations recueillies dans le rapport sur la situation des agents et les autres onglets du fichier."]
["Utilisation : Pour la première partie, il conviendra de sélectionner votre collectivité et d'alimenter les informations relatives à celle-ci ainsi qu'à l'agent chargé de l'élaboration du document. Pour la seconde partie, les informations sont saisies automatiquement. Enfin pour la dernière partie, il conviendra de compléter le tableau déjà pré-alimenté,  par vos informations de gestion prévisionnelle de vos effectifs et de vos emplois, dans le but d'évaluer les futures sélections professionnelles, qui seront organisées par votre collectivité ou par conventionnement avec votre centre de gestion."]
["Utilisation et paramètrage de l'outil Excel"]
["Cette procédure a pour but de vous accompagner dans la saisie générale du présent document Excel. Pour des facilités de navigation et de saisie, mais aussi de sécurité, la totalité du document est protégée par le verrouillage d'un certain nombre de cellules, ne vous permettant la saisie qu’au sein des espaces dédiés (les cases blanches)."]
["I. Appropriation du document"]
[null,"1. Insertion des logos de la collectivité ou de l’établissement"]
["En vue de la personnalisation du document par votre structure, ainsi que l‘édition des différents documents permettant votre identification claire, vous devez identifier votre collectivité ou établissement au sein des différents feuillets, notamment : « Eligibilité », « Eligibilité ultérieure » et « Edition ». Pour ce faire, nous vous invitons à entrer dans la mise en page de chaque feuille (« En-tête/Pied de page ») et la modifier par l’insertion de votre blason ou logo ou encore par la désignation littérale de votre structure. \nSi vous effectuez « Aperçu avant impression », le document a déjà été paramétré afin que vous n’ayez plus qu’à l'éditer selon la mise en page prévue.\n"]
[null,"2. Paramétrage et remplissage des informations propres à la structure"]
["L’onglet « Edition » est la partie qui vous permettra, en fin de saisie, d’imprimer votre document récapitulatif, qui pourra vous servir de rapport de présentation du dispositif, conformément aux dispositions prévues par l'article 17 de la loi n°2012-347 du 12 mars 2012 modifiée. Dans cet onglet, certaines cases devront être renseignées dans le but de donner les informations générales nécessaires à l'étude des situations de chaque structure territoriale."]
["II. Alimentation des onglets dédiés à la saisie des dossiers"]
[null,"1. Principes généraux de travail"]
["Le document est entièrement verrouillé pour éviter toute erreur de saisie ou éventuelle suppression de formule. Chaque feuillet a son code de couleur. Pour chaque tableau, les cases blanches sont dédiées à votre saisie, et les cases de couleur sont verrouillées pour votre sécurité."]
[null,"2. Navigation au sein du classeur"]
["Pour se déplacer au sein de ce classeur Excel, vous devrez utiliser les feuillets figurant sur le bas de votre écran. Ils sont bien distingués pour une identification rapide. Dans certaines feuilles de calcul, vous trouverez également des liens hypertextes vous permettant une navigation rapide entre les feuilles."]
[null,"3. Commentaires et messages d’erreur"]
["Pour vous accompagner et vous permettre une saisie correcte, vous trouverez dans chaque tableau des commentaires vous apportant toutes les informations pertinentes pour une saisie conforme à la règlementation : ces commentaires sont accessibles sur les cases ayant un onglet rouge en haut à droite. Les cases où votre attention est particulièrement requise, et la lecture du commentaire est fortement recommandée, sont identifiée par \"Cf. commentaire\" dans leur intitulé."]
[null,"4. Utilisation des filtres"]
["Dans certaines feuilles de saisie générale, des filtres ont été mis à votre disposition pour vous permettre d'extraire tout ou partie de vos informations récapitulatives, selon les masques décidés (genre, âge, grade, etc.). ATTENTION, le tri n'est pas possible et est à éviter afin de garantir la sécurité des formules du document. Si vous souhaitez opérer des tris, vous êtes invités à opérer un copier/coller_spécial des valeurs au sein d'un nouveau document Excel.\nEn ce qui concerne les feuilles \"Eligibilité ultérieure\" et \"Edition\", un filtre a déjà été paramétré afin de faire ressortir les agents concernés par votre filtre. Après chaque nouvelle saisie d'agent dans \"Eligibilité\", nous vous invitons à entrer sur le filtre et cliquer sur \"OK\" pour que tous les agents apparaissent."]
["III. Editions des onglets"]
["Normalement, la mise en page des tableaux a été préalablement paramétrée par votre centre de gestion. Il vous suffit donc de personnaliser vos tableaux par votre logo ou blason, puis de lancer l'impression pour chaque feuille. Dans le cas où la mise en page ne conviendrait pas, nous vous laissons la possibilité de modifier celle-ci, notament en passant par le menu Excel, dans la partie \"Mise en page\"."]
["IV. Présentation du document final au Comité Technique "]
["La dernière feuille \"Edition\" est dédiée à l'édition du document final regroupant le rapport sur la situation des agents et le programme pluriannuel d'accès à l'emploi titulaire qui pourra servir de document de présentation au Comité Technique conformément aux obligations définies par la loi 2012-347 du 12 mars 2012 modifiée. Ce document fait  la synthèse des informations saisies sur les différentes feuilles. Avant de l'imprimer :\n- veillez à renseigner les informations propres à votre collectivité, compléter vos tableaux, ainsi que vos besoins et vos objectifs de GPEEC. \n- n'oubliez pas, avant toute impression du document, de paramétrer la feuille avec votre logo et la dénomination précise de votre structure."]

{"sheet":"Annexe 1-liste filières-grades","index":4,"n_rows":43,"n_cols":5,"rows_kept":43,"cut":false,"hidden":false,"merged":[]}
["A N N E X E 1 DU DECRET 2012-1293 MODIFIE"]
[]
["LISTE DES GRADES DES CADRES D'EMPLOIS DE LA FONCTION PUBLIQUE TERRITORIALE"]
["OUVERTS PAR VOIE DE SÉLECTION PROFESSIONNELLE"]
[]
["FILERE ADMINSTRATIVE",null,"FILIERE TECHNIQUE",null,"FILIERE SAPEURS-POMPIERS"]
["ATTACHE",null,"INGENIEUR",null,"SAPEUR DE 1ERE CLASSE"]
["REDACTEUR PPAL DE 2ème CL",null,"TECHNICIEN PRINCIPAL DE 2ème CL",null,"SERGENT"]
["REDACTEUR",null,"TECHNICIEN",null,"INFIRMIER SAPEUR POMPIER DE CLASSE NORMALE"]
["ADJOINT ADMINISTRATIF DE 1ère CL",null,"AGENT DE MAÎTRISE",null,"LIEUTENANT DE 2ème CL"]
[null,null,"ADJOINT TECHNIQUE DE 1ère CL",null,"LIEUTENANT DE 1ère CL"]
[null,null,"ADJOINT TECHNIQUE 1ère CL DES ETS D'ENSEIGNEMENT",null,"CADRE DE SANTE DE SAPEUR POMPIER DE 2ème CL"]
[null,null,null,null,"CAPITAINE"]
[]
["FILIERE CULTURELLE",null,"FILIERE ANIMATION",null,"FILIERE SPORTIVE"]
["PROFESSEUR D'ENSEIGNEMENT ARTISTIQUE DE CLASSE NORMALE",null,"ANIMATEUR PPAL DE 2ème CL",null,"CONSEILLER APS"]
["ATTACHE DE CONSERVATION DU PATRIMOINE",null,"ANIMATEUR",null,"EDUCATEUR APS PPAL DE 2ème CL"]
["BIBLIOTHECAIRE",null,"ADJOINT D'ANIMATION DE 1ère CL",null,"EDUCATEUR APS"]
["ASS. D'ENSEIGNEMENT ARTISTIQUE PPAL DE 2ème CL",null,null,null,"OPERATEUR DES APS"]
["ASSISTANT D'ENSEIGNEMENT ARTISTIQUE"]
["ASSISTANT DE CONSERV. DU PAT ET DES BIB. PPAL DE 2ème CL"]
["ASSISTANT DE CONSERV. DU PAT ET DES BIB. "]
["ADJOINT DU PATRIMOINE DE 1ère CL"]
[]
[]
["FILIERE MEDICO-SOCIALE",null,"FILIERE SOCIALE ",null,"FILIERE MEDICO-TECHNIQUE"]
["SAGE-FEMME DE CLASSE NORMALE",null,"CONSEILLER SOCIO-EDUCATIF",null,"TECHNICIEN PARAMEDICAL DE CLASSE NORMALE"]
["CADRE DE SANTE DE 2ème CLASSE",null,"MONITEUR-EDUCATEUR ET INTERVENANT FAMILIAL"]
["PSYCHOLOGUE DE CLASSE NORMALE",null,"EDUCATEUR DE JEUNES ENFANTS"]
["PUERICULTRICE DE CLASSE NORMALE",null,"ASSISTANT SOCIO-EDUCATIF"]
["INFIRMIER EN SOINS GENERAUX DE CLASSE NORMALE",null,"ATSEM DE 1ère CL"]
["AUXILIAIRE DE PUERICULTURE DE 1ère CLASSE ",null,"AGENT SOCIAL DE 1ère CL"]
["AUXILIAIRE DE SOINS DE 1ère CL "]
[]
["LISTE DES GRADES DES CADRES D'EMPLOIS DE LA FONCTION PUBLIQUE TERRITORIALE"]
["OUVERTS PAR VOIE DE RECRUTEMENT RESERVE DE CATEGORIE C SANS CONCOURS"]
[]
["ADJOINT ADMINISTRATIF DE 2ème CL"]
["ADJOINT TECHNIQUE DE 2ème CL"]
["ADJOINT D'ANIMATION DE 2ème CL"]
["AGENT SOCIAL DE 2ème CL"]
["ADJOINT TECHNIQUE DE 2ème CL DES ETS D'ENSEIGNEMENT"]
["ADJOINT DU PATRIMOINE DE 2ème CL"]

{"sheet":"eligibilité","index":5,"n_rows":515,"n_cols":44,"rows_kept":515,"cut":false,"hidden":false,"merged":[[9,7,12,7],[9,1,12,1],[11,25,13,25],[9,0,12,0],[8,0,8,9],[9,9,12,9],[9,8,12,8],[9,6,12,6],[9,5,12,5],[9,4,12,4],[9,3,12,3],[9,13,13,13],[9,16,13,16],[9,2,12,2],[10,25,10,27],[8,11,8,16],[8,43,13,43],[8,35,13,35],[9,29,10,29],[9,28,13,28],[8,34,13,34],[8,18,8,29],[9,21,9,23],[11,21,13,21],[11,22,13,22],[9,20,13,20],[13,29,13,30],[9,25,9,27],[9,18,11,18],[11,19,13,19],[12,18,13,18],[9,24,13,24],[0,0,0,32],[5,0,5,32],[6,0,6,32],[2,0,2,38],[4,0,4,38],[3,0,3,24],[3,25,3,32],[8,41,13,42],[8,36,13,36],[8,37,13,37],[8,39,13,40],[8,32,9,32],[8,38,13,38],[8,33,13,33],[12,11,13,12],[9,11,11,11],[9,12,11,12],[9,14,10,14],[8,31,10,31],[12,29,12,30],[11,26,13,26],[11,14,13,14],[9,19,10,19],[10,21,10,23],[11,23,13,23],[11,29,11,30],[11,27,13,27]]}
["Accès au dispositif de titularisation - version 2016- v3 maj le 27/10/2016"]
[]
["Les services accomplis à temps partiel sont assimilés à des services à temps complet"]
["Les services accomplis à temps non complet > ou = à 17 h 30 sont assimilés à des services à temps complet           ",null,null,null,null,null,null,null,null,null,null,null,null,null,null,null,null,null,null,null,null,null,null,null,null,"Pour vous aider, des simulateurs individuels sont à votre disposition dans la boîte à outils"]
["Les services à temps non complet < 17 h 30 sont assimilés aux 3/4 du temps complet"]
["Pour les agents de catégorie A et B de la filière culturelle secteur enseignement artistique pour lesquels le temps complet est respectivement de 16 heures et de 20 heures, il convient de rapporter leur temps de travail sur un temps complet à 35 heures"]
["Exemple : un assistant d'enseignement artistique travaillant 10 heures pour un temps complet de 20 heures équivaut à un agent travaillant à 17 heures 30 pour un temps complet à 35 heures"]
[]
["Informations personnelles",null,null,null,null,null,null,null,null,null,null,"CDI ou CDD Cdisé",null,null,null,null,null,null,"CDD sur EMPLOI PERMANENT (!!cf. commentaire !!)",null,null,null,null,null,null,null,null,null,null,null,null,"Eligibilité à la date de publication de la loi","Eligibilité ultérieure (se reporter à l'onglet \"Titularisation ultérieure\")","Durées de services manquants en ETP","Test condition des 24 mois","Test en fonction dans la collectivité au 31/03/2013","Test colonne horaire hebdomadaire >=17 h 30","Si test colonne hebdomadaire = Faux alors non eligible sinon \"\"","Si test colonne hebdo = vrai et test colonne total période >=48 alors eligible sinon non eligible","Test eligibilité CDI VRAI OU FAUX",null,"Test eligibilité CDI cdisé VRAI OU FAUX",null,"Test eligibilité CDI ou Cdisé"]
["\nN°","\nCivilité","\nNom d'usage","\nNom de famille","\nPrénom","\nDate de naissance","\nSexe","Filière","\nGrade\n(cf. commentaire)","\nCatégorie hiérarchique (A,B,C)",null,"Au 31 mars 2013\nCDI sur emploi permanent ou CDD Cdisé en application de l'art 21 de la loi 2012-347 ","CDD transformé en CDI à la date de publication de la loi",null,"                                                                                                           Durée hebdomadaire à la date de publication de la loi","Transformation des heures minutes en heures centièmes","Test colonnes H ou I = 1",null,"En fonction dans la collectivité au 31/03/2013        (cf. commentaire)","Si oui, saisir la durée hebdomadaire du dernier contrat","Transformation des heures minutes en heures centièmes","Périodes d'activité, EN MOIS, entre le 31/03/2007 et le 30/03/2009 selon la quotité de travail                                     ",null,null,"Total des périodes d'activité entre le 01/04/2007 et le 31/03/2009 ","Périodes d'activité, EN MOIS, entre le 31/03/2009 et le 30/03/2013 selon la quotité de travail",null,null,"Total des périodes d'activité entre le 01/04/2009 et le 31/03/2013 ","Total des périodes d'activité entre le 31/03/2007 et le 30/03/2013"]
[null,null,null,null,null,null,null,null,null,null,null,null,null,null,null,"Durée hebdomadaire à la date de publication de la loi",null,null,null,null,null,"Pour vous aider, des simulateurs individuels sont à votre disposition dans la boîte à outils",null,null,null,"Pour vous aider, des simulateurs individuels sont à votre disposition dans la boîte à outils",null,null,null,null,null,null,"Cliquer ICI"]
[null,null,null,null,null,null,null,null,null,null,null,null,null,null,"Saisissez en heures minutes                 ex : saisir 35:30  pour 35h30mn",null,null,null,null,"Saisissez en heures minutes                 ex : saisir 35:30  pour 35h30 mn",null,"Temps complet","Temps partiel ou temps non complet       >= 17 h 30","Temps non complet           < 17 h 30",null,"Temps complet","Temps partiel ou temps non complet       >= 17 h 30","Temps non complet           < 17 h 30",null,"Total de dossiers",null,{"$f":"AF13+AF14","v":0},{"$f":"COUNTIF(AG15:AG515,\"Eligibilité ultérieure\")","v":0}]
[null,null,null,null,null,null,null,null,null,null,null,"Saisissez 1",null,null,null,null,null,null,"oui = 1               non = 0",null,null,null,null,null,null,null,null,null,null,"Dossiers éligibles",null,{"$f":"COUNTIF(W15:AF515,\"Eligible\")","v":0}]
[null,null,null,null,null,null,null,null,null,null,null,null,null,null,null,null,null,null,null,null,null,null,null,null,null,null,null,null,null,"Dossiers non éligibles",null,{"$f":"COUNTIF(AF15:AF515,\"Non éligible\")","v":0}]
[{"$f":"IF(B15=\"\",\"\",A14+1)","v":""},null,null,null,null,null,{"$f":"IF(B15=\"\",\"\",IF(B15=\"Madame\",\"F\",\"H\"))","v":""},null,null,null,null,null,null,{"$f":"IF(L15=1,1,IF(M15=1,1,0))","v":0},null,{"$f":"O15*24","v":0},{"$f":"IF(OR(L15=1,M15=1),1,\"\")","v":""},null,null,null,{"$f":"T15*24","v":0},null,null,null,{"$f":"V15+W15+3/4*X15","v":0},null,null,null,{"$f":"Z15+AA15+3/4*AB15","v":0},{"$f":"IF(T15=\"\",\"\",Y15+AC15)","v":""},null,{"$f":"CONCATENATE(AJ15,AL15,AM15,AR15)","v":""},{"$f":"IF(AI15=TRUE,\"Eligibilité ultérieure\",\"\")","v":""},{"$f":"IF(AG15=\"Eligibilité ultérieure\",48-AD15,\"\")","v":""},{"$f":"IF(AC15>=24,IF(AD15<48,TRUE,FALSE))","v":false},{"$f":"IF(S15=\"\",\"\",IF(S15=0,\"Non éligible\",\"\"))","v":""},{"$f":"IF(S15=\"\",\"\",IF(S15=0,\"\",IF(T15=\"\",\"\",IF(U15>=17.5,IF(S15=1,TRUE,\"\")))))","v":""},{"$f":"IF(AK15=FALSE,\"Non éligible\",\"\")","v":""},{"$f":"IF(AD15=\"\",\"\",IF(AD15=0,\"\",IF(AK15=TRUE,IF(U15>=17.5,IF(AD15>=48,\"Eligible\",\"Non éligible\")))))","v":""},{"$f":"IF(L15=\"\",\"\",IF(L15=1,IF(O15=\"\",\"\",IF(P15>=17.5,TRUE,FALSE))))","v":""},{"$f":"IF(AN15=\"\",\"\",IF(AN15=FALSE,\"Non éligible\",\"Eligible\"))","v":""},{"$f":"IF(M15=\"\",\"\",IF(M15=1,IF(O15=\"\",\"\",IF(P15>=17.5,TRUE,FALSE))))","v":""},{"$f":"IF(AP15=\"\",\"\",IF(AP15=FALSE,\"Non éligible\",\"Eligible\"))","v":""},{"$f":"CONCATENATE(AO15,AQ15)","v":""}]
[{"$f":"IF(B16=\"\",\"\",A15+1)","v":""},null,null,null,null,null,{"$f":"IF(B16=\"\",\"\",IF(B16=\"Madame\",\"F\",\"H\"))","v":""},null,null,null,null,null,null,0,null,0,"",null,null,null,{"$f":"T16*24","v":0},null,null,null,{"$f":"V16+W16+3/4*X16","v":0},null,null,null,0,{"$f":"IF(T16=\"\",\"\",Y16+AC16)","v":""},null,{"$f":"CONCATENATE(AJ16,AL16,AM16,AR16)","v":""},"",{"$f":"IF(AG16=\"Eligibilité ultérieure\",48-AD16,\"\")","v":""},{"$f":"IF(AC16>=24,IF(AD16<48,TRUE,FALSE))","v":false},"","","","",{"$f":"IF(L16=\"\",\"\",IF(L16=1,IF(O16=\"\",\"\",IF(P16>=17.5,TRUE,FALSE))))","v":""},"",{"$f":"IF(M16=\"\",\"\",IF(M16=1,IF(O16=\"\",\"\",IF(P16>=17.5,TRUE,FALSE))))","v":""},"",{"$f":"CONCATENATE(AO16,AQ16)","v":""}]
["",null,null,null,null,null,"",null,null,null,null,null,null,null,null,0,"",null,null,null,0,null,null,null,0,null,null,null,0,"",null,"","","",false,"","","","",{"$f":"IF(L17=\"\",\"\",IF(L17=1,IF(O17=\"\",\"\",IF(P17>=17.5,TRUE,FALSE))))","v":""},"",{"$f":"IF(M17=\"\",\"\",IF(M17=1,IF(O17=\"\",\"\",IF(P17>=17.5,TRUE,FALSE))))","v":""},"",{"$f":"CONCATENATE(AO17,AQ17)","v":""}]
["",null,null,null,null,null,"",null,null,null,null,null,null,0,null,0,"",null,null,null,0,null,null,null,0,null,null,null,0,"",null,"","","",false,"","","","",{"$f":"IF(L18=\"\",\"\",IF(L18=1,IF(O18=\"\",\"\",IF(P18>=17.5,TRUE,FALSE))))","v":""},"",{"$f":"IF(M18=\"\",\"\",IF(M18=1,IF(O18=\"\",\"\",IF(P18>=17.5,TRUE,FALSE))))","v":""},"",{"$f":"CONCATENATE(AO18,AQ18)","v":""}]
["",null,null,null,null,null,"",null,null,null,null,null,null,0,null,0,"",null,null,null,0,null,null,null,{"$f":"V19+W19+3/4*X19","v":0},null,null,null,{"$f":"Z19+AA19+3/4*AB19","v":0},"",null,"","","",false,"","","","",{"$f":"IF(L19=\"\",\"\",IF(L19=1,IF(O19=\"\",\"\",IF(P19>=17.5,TRUE,FALSE))))","v":""},"",{"$f":"IF(M19=\"\",\"\",IF(M19=1,IF(O19=\"\",\"\",IF(P19>=17.5,TRUE,FALSE))))","v":""},"",{"$f":"CONCATENATE(AO19,AQ19)","v":""}]
["",null,null,null,null,null,"",null,null,null,null,null,null,0,null,0,"",null,null,null,0,null,null,null,0,null,null,null,{"$f":"Z20+AA20+3/4*AB20","v":0},"",null,"","","",false,"","","","",{"$f":"IF(L20=\"\",\"\",IF(L20=1,IF(O20=\"\",\"\",IF(P20>=17.5,TRUE,FALSE))))","v":""},"",{"$f":"IF(M20=\"\",\"\",IF(M20=1,IF(O20=\"\",\"\",IF(P20>=17.5,TRUE,FALSE))))","v":""},"",{"$f":"CONCATENATE(AO20,AQ20)","v":""}]
["",null,null,null,null,null,"",null,null,null,null,null,null,0,null,0,"",null,null,null,0,null,null,null,0,null,null,null,0,"",null,"","","",false,"","","","","","","","",""]
["",null,null,null,null,null,"",null,null,null,null,null,null,0,null,0,"",null,null,null,0,null,null,null,0,null,null,null,0,"",null,"","","",false,"","","","","","","","",""]
["",null,null,null,null,null,"",null,null,null,null,null,null,0,null,0,"",null,null,null,0,null,null,null,0,null,null,null,0,"",null,"","","",false,"","","","","","","","",""]
["",null,null,null,null,null,"",null,null,null,null,null,null,0,null,0,"",null,null,null,0,null,null,null,0,null,null,null,0,"",null,"","","",false,"","","","","","","","",""]
["",null,null,null,null,null,"",null,null,null,null,null,null,0,null,0,"",null,null,null,0,null,null,null,0,null,null,null,0,"",null,"","","",false,"","","","","","","","",""]
["",null,null,null,null,null,"",null,null,null,null,null,null,0,null,0,"",null,null,null,0,null,null,null,{"$f":"V26+W26+3/4*X26","v":0},null,null,null,0,"",null,"","","",false,"","","","","","","","",""]
["",null,null,null,null,null,"",null,null,null,null,null,null,0,null,0,"",null,null,null,0,null,null,null,0,null,null,null,0,"",null,"","","",false,"","","","","","","","",""]
["",null,null,null,null,null,"",null,null,null,null,null,null,0,null,0,"",null,null,null,0,null,null,null,0,null,null,null,0,"",null,"","","",false,"","","","","","","","",""]
["",null,null,null,null,null,"",null,null,null,null,null,null,0,null,0,"",null,null,null,0,null,null,null,0,null,null,null,0,"",null,"",{"$f":"IF(AI29=TRUE,\"Eligibilité ultérieure\",\"\")","v":""},"",false,{"$f":"IF(S29=\"\",\"\",IF(S29=0,\"Non éligible\",\"\"))","v":""},{"$f":"IF(S29=\"\",\"\",IF(S29=0,\"\",IF(T29=\"\",\"\",IF(U29>=17.5,IF(S29=1,TRUE,\"\")))))","v":""},"","",{"$f":"IF(L29=\"\",\"\",IF(L29=1,IF(O29=\"\",\"\",IF(P29>=17.5,TRUE,FALSE))))","v":""},"",{"$f":"IF(M29=\"\",\"\",IF(M29=1,IF(O29=\"\",\"\",IF(P29>=17.5,TRUE,FALSE))))","v":""},"",{"$f":"CONCATENATE(AO29,AQ29)","v":""}]
["",null,null,null,null,null,"",null,null,null,null,null,null,0,null,0,"",null,null,null,0,null,null,null,0,null,null,null,0,"",null,{"$f":"CONCATENATE(AJ30,AL30,AM30,AR30)","v":""},"","",false,"","","",{"$f":"IF(AD30=\"\",\"\",IF(AD30=0,\"\",IF(AK30=TRUE,IF(U30>=17.5,IF(AD30>=48,\"Eligible\",\"Non éligible\")))))","v":""},"","","","",""]
["",null,null,null,null,null,"",null,null,null,null,null,null,0,null,0,"",null,null,null,0,null,null,null,0,null,null,null,0,"",null,"","","",false,"","","","","","","","",""]
["",null,null,null,null,null,"",null,null,null,null,null,null,0,null,0,"",null,null,null,0,null,null,null,0,null,null,null,0,"",null,"","","",false,"","","","","","","","",""]
["",null,null,null,null,null,{"$f":"IF(B33=\"\",\"\",IF(B33=\"Madame\",\"F\",\"H\"))","v":""},null,null,null,null,null,null,0,null,0,"",null,null,null,{"$f":"T33*24","v":0},null,null,null,0,null,null,null,{"$f":"Z33+AA33+3/4*AB33","v":0},"",null,"","","",false,"","","","","","","","",""]
["",null,null,null,null,null,"",null,null,null,null,null,null,{"$f":"IF(L34=1,1,IF(M34=1,1,0))","v":0},null,0,"",null,null,null,0,null,null,null,0,null,null,null,0,"",null,"","","",false,"","","","","","","","",""]
["",null,null,null,null,null,"",null,null,null,null,null,null,0,null,0,"",null,null,null,0,null,null,null,0,null,null,null,0,"",null,"","","",false,"","","","","","","","",""]
["",null,null,null,null,null,"",null,null,null,null,null,null,0,null,0,"",null,null,null,0,null,null,null,0,null,null,null,0,"",null,"","","",false,"","","","","","","","",""]
["",null,null,null,null,null,"",null,null,null,null,null,null,0,null,0,"",null,null,null,0,null,null,null,0,null,null,null,0,"",null,"","","",false,"","","","","","","","",""]
["",null,null,null,null,null,"",null,null,null,null,null,null,0,null,0,"",null,null,null,0,null,null,null,0,null,null,null,0,"",null,"","","",false,"","","","","","","","",""]
["",null,null,null,null,null,"",null,null,null,null,null,null,0,null,0,"",null,null,null,0,null,null,null,0,null,null,null,0,"",null,"","","",false,"","","","","","","","",""]
["",null,null,null,null,null,"",null,null,null,null,null,null,0,null,0,"",null,null,null,0,null,null,null,0,null,null,null,0,"",null,"","","",false,"","","","","","","","",""]
["",null,null,null,null,null,"",null,null,null,null,null,null,0,null,0,"",null,null,null,0,null,null,null,0,null,null,null,0,"",null,"","","",false,"","","","","","","","",""]
["",null,null,null,null,null,"",null,null,null,null,null,null,0,null,0,"",null,null,null,0,null,null,null,0,null,null,null,0,"",null,"","","",false,"","","","","","","","",""]
["",null,null,null,null,null,"",null,null,null,null,null,null,0,null,0,"",null,null,null,0,null,null,null,0,null,null,null,0,"",null,"","","",false,"","","","","","","","",""]
["",null,null,null,null,null,"",null,null,null,null,null,null,0,null,0,"",null,null,null,0,null,null,null,0,null,null,null,0,"",null,"","","",false,"","","","","","","","",""]
["",null,null,null,null,null,"",null,null,null,null,null,null,0,null,0,"",null,null,null,0,null,null,null,0,null,null,null,0,"",null,"","","",false,"","","","","","","","",""]
["",null,null,null,null,null,"",null,null,null,null,null,null,0,null,0,"",null,null,null,0,null,null,null,0,null,null,null,0,"",null,"","","",false,"","","","","","","","",""]
[{"$f":"IF(B47=\"\",\"\",A46+1)","v":""},null,null,null,null,null,{"$f":"IF(B47=\"\",\"\",IF(B47=\"Madame\",\"F\",\"H\"))","v":""},null,null,null,null,null,null,{"$f":"IF(L47=1,1,IF(M47=1,1,0))","v":0},null,{"$f":"O47*24","v":0},{"$f":"IF(OR(L47=1,M47=1),1,\"\")","v":""},null,null,null,{"$f":"T47*24","v":0},null,null,null,{"$f":"V47+W47+3/4*X47","v":0},null,null,null,{"$f":"Z47+AA47+3/4*AB47","v":0},"",null,{"$f":"CONCATENATE(AJ47,AL47,AM47,AR47)","v":""},{"$f":"IF(AI47=TRUE,\"Eligibilité ultérieure\",\"\")","v":""},"",false,{"$f":"IF(S47=\"\",\"\",IF(S47=0,\"Non éligible\",\"\"))","v":""},{"$f":"IF(S47=\"\",\"\",IF(S47=0,\"\",IF(T47=\"\",\"\",IF(U47>=17.5,IF(S47=1,TRUE,\"\")))))","v":""},{"$f":"IF(AK47=FALSE,\"Non éligible\",\"\")","v":""},{"$f":"IF(AD47=\"\",\"\",IF(AD47=0,\"\",IF(AK47=TRUE,IF(U47>=17.5,IF(AD47>=48,\"Eligible\",\"Non éligible\")))))","v":""},{"$f":"IF(L47=\"\",\"\",IF(L47=1,IF(O47=\"\",\"\",IF(P47>=17.5,TRUE,FALSE))))","v":""},{"$f":"IF(AN47=\"\",\"\",IF(AN47=FALSE,\"Non éligible\",\"Eligible\"))","v":""},{"$f":"IF(M47=\"\",\"\",IF(M47=1,IF(O47=\"\",\"\",IF(P47>=17.5,TRUE,FALSE))))","v":""},{"$f":"IF(AP47=\"\",\"\",IF(AP47=FALSE,\"Non éligible\",\"Eligible\"))","v":""},{"$f":"CONCATENATE(AO47,AQ47)","v":""}]
["",null,null,null,null,null,"",null,null,null,null,null,null,0,null,0,"",null,null,null,0,null,null,null,0,null,null,null,0,"",null,"","","",false,"","","","","","","","",""]
["",null,null,null,null,null,"",null,null,null,null,null,null,0,null,0,"",null,null,null,0,null,null,null,0,null,null,null,0,"",null,"","","",false,"","","","","","","","",""]
["",null,null,null,null,null,"",null,null,null,null,null,null,0,null,0,"",null,null,null,0,null,null,null,0,null,null,null,0,"",null,"","","",false,"","","","","","","","",""]
["",null,null,null,null,null,"",null,null,null,null,null,null,0,null,0,"",null,null,null,0,null,null,null,0,null,null,null,0,"",null,"","","",false,"","","","","","","","",""]
["",null,null,null,null,null,"",null,null,null,null,null,null,0,null,0,"",null,null,null,0,null,null,null,0,null,null,null,0,"",null,"","","",false,"","","","","","","","",""]
["",null,null,null,null,null,"",null,null,null,null,null,null,0,null,0,"",null,null,null,0,null,null,null,0,null,null,null,0,"",null,"","","",false,"","","","","","","","",""]
["",null,null,null,null,null,"",null,null,null,null,null,null,0,null,0,"",null,null,null,0,null,null,null,0,null,null,null,0,"",null,"","","",false,"","","","","","","","",""]
["",null,null,null,null,null,"",null,null,null,null,null,null,0,null,0,"",null,null,null,0,null,null,null,0,null,null,null,0,"",null,"","","",false,"","","","","","","","",""]
["",null,null,null,null,null,"",null,null,null,null,null,null,0,null,0,"",null,null,null,0,null,null,null,0,null,null,null,0,"",null,"","","",false,"","","","","","","","",""]
["",null,null,null,null,null,"",null,null,null,null,null,null,0,null,0,"",null,null,null,0,null,null,null,0,null,null,null,0,"",null,"","","",false,"","","","","","","","",""]
["",null,null,null,null,null,"",null,null,null,null,null,null,0,null,0,"",null,null,null,0,null,null,null,0,null,null,null,0,"",null,"","","",false,"","","","","","","","",""]
["",null,null,null,null,null,"",null,null,null,null,null,null,0,null,0,"",null,null,null,0,null,null,null,0,null,null,null,0,"",null,"","","",false,"","","","","","","","",""]
["",null,null,null,null,null,"",null,null,null,null,null,null,0,null,0,"",null,null,null,0,null,null,null,0,null,null,null,0,"",null,"","","",false,"","","","","","","","",""]
["",null,null,null,null,null,"",null,null,null,null,null,null,0,null,0,"",null,null,null,0,null,null,null,0,null,null,null,0,"",null,"","","",false,"","","","","","","","",""]
["",null,null,null,null,null,"",null,null,null,null,null,null,0,null,0,"",null,null,null,0,null,null,null,0,null,null,null,0,"",null,"","","",false,"","","","","","","","",""]
["",null,null,null,null,null,"",null,null,null,null,null,null,0,null,0,"",null,null,null,0,null,null,null,0,null,null,null,0,"",null,"","","",false,"","","","","","","","",""]
["",null,null,null,null,null,"",null,null,null,null,null,null,0,null,0,"",null,null,null,0,null,null,null,0,null,null,null,0,"",null,"","","",false,"","","","","","","","",""]
["",null,null,null,null,null,"",null,null,null,null,null,null,0,null,0,"",null,null,null,0,null,null,null,0,null,null,null,0,"",null,"","","",false,"","","","","","","","",""]
["",null,null,null,null,null,"",null,null,null,null,null,null,0,null,0,"",null,null,null,0,null,null,null,0,null,null,null,0,"",null,"","","",false,"","","","","","","","",""]
["",null,null,null,null,null,"",null,null,null,null,null,null,0,null,0,"",null,null,null,0,null,null,null,0,null,null,null,0,"",null,"","","",false,"","","","","","","","",""]
["",null,null,null,null,null,"",null,null,null,null,null,null,0,null,0,"",null,null,null,0,null,null,null,0,null,null,null,0,"",null,"","","",false,"","","","","","","","",""]
["",null,null,null,null,null,"",null,null,null,null,null,null,0,null,0,"",null,null,null,0,null,null,null,0,null,null,null,0,"",null,"","","",false,"","","","","","","","",""]
["",null,null,null,null,null,"",null,null,null,null,null,null,0,null,0,"",null,null,null,0,null,null,null,0,null,null,null,0,"",null,"","","",false,"","","","","","","","",""]
["",null,null,null,null,null,"",null,null,null,null,null,null,0,null,0,"",null,null,null,0,null,null,null,0,null,null,null,0,"",null,"","","",false,"","","","","","","","",""]
["",null,null,null,null,null,"",null,null,null,null,null,null,0,null,0,"",null,null,null,0,null,null,null,0,null,null,null,0,"",null,"","","",false,"","","","","","","","",""]
["",null,null,null,null,null,"",null,null,null,null,null,null,0,null,0,"",null,null,null,0,null,null,null,0,null,null,null,0,"",null,"","","",false,"","","","","","","","",""]
["",null,null,null,null,null,"",null,null,null,null,null,null,0,null,0,"",null,null,null,0,null,null,null,0,null,null,null,0,"",null,"","","",false,"","","","","","","","",""]
["",null,null,null,null,null,"",null,null,null,null,null,null,0,null,0,"",null,null,null,0,null,null,null,0,null,null,null,0,"",null,"","","",false,"","","","","","","","",""]
["",null,null,null,null,null,"",null,null,null,null,null,null,0,null,0,"",null,null,null,0,null,null,null,0,null,null,null,0,"",null,"","","",false,"","","","","","","","",""]
["",null,null,null,null,null,"",null,null,null,null,null,null,0,null,0,"",null,null,null,0,null,null,null,0,null,null,null,0,"",null,"","","",false,"","","","","","","","",""]
["",null,null,null,null,null,"",null,null,null,null,null,null,0,null,0,"",null,null,null,0,null,null,null,0,null,null,null,0,"",null,"","","",false,"","","","","","","","",""]
["",null,null,null,null,null,"",null,null,null,null,null,null,0,null,0,"",null,null,null,0,null,null,null,0,null,null,null,0,"",null,"","","",false,"","","","","","","","",""]
["",null,null,null,null,null,"",null,null,null,null,null,null,0,null,0,"",null,null,null,0,null,null,null,0,null,null,null,0,{"$f":"IF(T80=\"\",\"\",Y80+AC80)","v":""},null,"","",{"$f":"IF(AG80=\"Eligibilité ultérieure\",48-AD80,\"\")","v":""},{"$f":"IF(AC80>=24,IF(AD80<48,TRUE,FALSE))","v":false},"","","","","","","","",""]
["",null,null,null,null,null,"",null,null,null,null,null,null,0,null,0,"",null,null,null,0,null,null,null,0,null,null,null,0,"",null,"","","",false,"","","","","","","","",""]
["",null,null,null,null,null,"",null,null,null,null,null,null,0,null,0,"",null,null,null,0,null,null,null,0,null,null,null,0,"",null,"","","",false,"","","","","","","","",""]
["",null,null,null,null,null,"",null,null,null,null,null,null,0,null,0,"",null,null,null,0,null,null,null,0,null,null,null,0,"",null,"","","",false,"","","","","","","","",""]
["",null,null,null,null,null,"",null,null,null,null,null,null,0,null,0,"",null,null,null,0,null,null,null,0,null,null,null,0,"",null,"","","",false,"","","","","","","","",""]
["",null,null,null,null,null,"",null,null,null,null,null,null,0,null,0,"",null,null,null,0,null,null,null,0,null,null,null,0,"",null,"","","",false,"","","","","","","","",""]
["",null,null,null,null,null,"",null,null,null,null,null,null,0,null,0,"",null,null,null,0,null,null,null,0,null,null,null,0,"",null,"","","",false,"","","","","","","","",""]
["",null,null,null,null,null,"",null,null,null,null,null,null,0,null,0,"",null,null,null,0,null,null,null,0,null,null,null,0,"",null,"","","",false,"","","","","","","","",""]
["",null,null,null,null,null,"",null,null,null,null,null,null,0,null,0,"",null,null,null,0,null,null,null,0,null,null,null,0,"",null,"","","",false,"","","","","","","","",""]
["",null,null,null,null,null,"",null,null,null,null,null,null,0,null,0,"",null,null,null,0,null,null,null,0,null,null,null,0,"",null,"","","",false,"","","","","","","","",""]
["",null,null,null,null,null,"",null,null,null,null,null,null,0,null,0,"",null,null,null,0,null,null,null,0,null,null,null,0,"",null,"","","",false,"","","","","","","","",""]
["",null,null,null,null,null,"",null,null,null,null,null,null,0,null,0,"",null,null,null,0,null,null,null,0,null,null,null,0,"",null,"","","",false,"","","","","","","","",""]
["",null,null,null,null,null,"",null,null,null,null,null,null,0,null,0,"",null,null,null,0,null,null,null,0,null,null,null,0,"",null,"","","",false,"","","","","","","","",""]
["",null,null,null,null,null,"",null,null,null,null,null,null,0,null,0,"",null,null,null,0,null,null,null,0,null,null,null,0,"",null,"","","",false,"","","","","","","","",""]
["",null,null,null,null,null,"",null,null,null,null,null,null,0,null,0,"",null,null,null,0,null,null,null,0,null,null,null,0,"",null,"","","",false,"","","","","","","","",""]
["",null,null,null,null,null,"",null,null,null,null,null,null,0,null,0,"",null,null,null,0,null,null,null,0,null,null,null,0,"",null,"","","",false,"","","","","","","","",""]
["",null,null,null,null,null,"",null,null,null,null,null,null,0,null,0,"",null,null,null,0,null,null,null,0,null,null,null,0,"",null,"","","",false,"","","","","","","","",""]
["",null,null,null,null,null,"",null,null,null,null,null,null,0,null,0,"",null,null,null,0,null,null,null,0,null,null,null,0,"",null,"","","",false,"","","","","","","","",""]
["",null,null,null,null,null,"",null,null,null,null,null,null,0,null,0,"",null,null,null,0,null,null,null,0,null,null,null,0,"",null,"","","",false,"","","","","","","","",""]
["",null,null,null,null,null,"",null,null,null,null,null,null,0,null,0,"",null,null,null,0,null,null,null,0,null,null,null,0,"",null,"","","",false,"","","","","","","","",""]
["",null,null,null,null,null,"",null,null,null,null,null,null,0,null,0,"",null,null,null,0,null,null,null,0,null,null,null,0,"",null,"","","",false,"","","","","","","","",""]
["",null,null,null,null,null,"",null,null,null,null,null,null,0,null,0,"",null,null,null,0,null,null,null,0,null,null,null,0,"",null,"","","",false,"","","","","","","","",""]
["",null,null,null,null,null,"",null,null,null,null,null,null,0,null,0,"",null,null,null,0,null,null,null,0,null,null,null,0,"",null,"","","",false,"","","","","","","","",""]
["",null,null,null,null,null,"",null,null,null,null,null,null,0,null,0,"",null,null,null,0,null,null,null,0,null,null,null,0,"",null,"","","",false,"","","","","","","","",""]
["",null,null,null,null,null,"",null,null,null,null,null,null,0,null,0,"",null,null,null,0,null,null,null,0,null,null,null,0,"",null,"","","",false,"","","","","","","","",""]
["",null,null,null,null,null,"",null,null,null,null,null,null,0,null,0,"",null,null,null,0,null,null,null,0,null,null,null,0,"",null,"","","",false,"","","","","","","","",""]
["",null,null,null,null,null,"",null,null,null,null,null,null,0,null,0,"",null,null,null,0,null,null,null,0,null,null,null,0,"",null,"","","",false,"","","","","","","","",""]
["",null,null,null,null,null,"",null,null,null,null,null,null,0,null,0,"",null,null,null,0,null,null,null,0,null,null,null,0,"",null,"","","",false,"","","","","","","","",""]
["",null,null,null,null,null,"",null,null,null,null,null,null,0,null,0,"",null,null,null,0,null,null,null,0,null,null,null,0,"",null,"","","",false,"","","","","","","","",""]
["",null,null,null,null,null,"",null,null,null,null,null,null,0,null,0,"",null,null,null,0,null,null,null,0,null,null,null,0,"",null,"","","",false,"","","","","","","","",""]
["",null,null,null,null,null,"",null,null,null,null,null,null,0,null,0,"",null,null,null,0,null,null,null,0,null,null,null,0,"",null,"","","",false,"","","","","","","","",""]
[{"$f":"IF(B111=\"\",\"\",A110+1)","v":""},null,null,null,null,null,{"$f":"IF(B111=\"\",\"\",IF(B111=\"Madame\",\"F\",\"H\"))","v":""},null,null,null,null,null,null,{"$f":"IF(L111=1,1,IF(M111=1,1,0))","v":0},null,{"$f":"O111*24","v":0},{"$f":"IF(OR(L111=1,M111=1),1,\"\")","v":""},null,null,null,{"$f":"T111*24","v":0},null,null,null,{"$f":"V111+W111+3/4*X111","v":0},null,null,null,{"$f":"Z111+AA111+3/4*AB111","v":0},"",null,{"$f":"CONCATENATE(AJ111,AL111,AM111,AR111)","v":""},{"$f":"IF(AI111=TRUE,\"Eligibilité ultérieure\",\"\")","v":""},"",false,{"$f":"IF(S111=\"\",\"\",IF(S111=0,\"Non éligible\",\"\"))","v":""},{"$f":"IF(S111=\"\",\"\",IF(S111=0,\"\",IF(T111=\"\",\"\",IF(U111>=17.5,IF(S111=1,TRUE,\"\")))))","v":""},{"$f":"IF(AK111=FALSE,\"Non éligible\",\"\")","v":""},{"$f":"IF(AD111=\"\",\"\",IF(AD111=0,\"\",IF(AK111=TRUE,IF(U111>=17.5,IF(AD111>=48,\"Eligible\",\"Non éligible\")))))","v":""},{"$f":"IF(L111=\"\",\"\",IF(L111=1,IF(O111=\"\",\"\",IF(P111>=17.5,TRUE,FALSE))))","v":""},{"$f":"IF(AN111=\"\",\"\",IF(AN111=FALSE,\"Non éligible\",\"Eligible\"))","v":""},{"$f":"IF(M111=\"\",\"\",IF(M111=1,IF(O111=\"\",\"\",IF(P111>=17.5,TRUE,FALSE))))","v":""},{"$f":"IF(AP111=\"\",\"\",IF(AP111=FALSE,\"Non éligible\",\"Eligible\"))","v":""},{"$f":"CONCATENATE(AO111,AQ111)","v":""}]
["",null,null,null,null,null,"",null,null,null,null,null,null,0,null,0,"",null,null,null,0,null,null,null,0,null,null,null,0,"",null,"","","",false,"","","","","","","","",""]
["",null,null,null,null,null,"",null,null,null,null,null,null,0,null,0,"",null,null,null,0,null,null,null,0,null,null,null,0,"",null,"","","",false,"","","","","","","","",""]
["",null,null,null,null,null,"",null,null,null,null,null,null,0,null,0,"",null,null,null,0,null,null,null,0,null,null,null,0,"",null,"","","",false,"","","","","","","","",""]
["",null,null,null,null,null,"",null,null,null,null,null,null,0,null,0,"",null,null,null,0,null,null,null,0,null,null,null,0,"",null,"","","",false,"","","","","","","","",""]
["",null,null,null,null,null,"",null,null,null,null,null,null,0,null,0,"",null,null,null,0,null,null,null,0,null,null,null,0,"",null,"","","",false,"","","","","","","","",""]
["",null,null,null,null,null,"",null,null,null,null,null,null,0,null,0,"",null,null,null,0,null,null,null,0,null,null,null,0,"",null,"","","",false,"","","","","","","","",""]
["",null,null,null,null,null,"",null,null,null,null,null,null,0,null,0,"",null,null,null,0,null,null,null,0,null,null,null,0,"",null,"","","",false,"","","","","","","","",""]
["",null,null,null,null,null,"",null,null,null,null,null,null,0,null,0,"",null,null,null,0,null,null,null,0,null,null,null,0,"",null,"","","",false,"","","","","","","","",""]
["",null,null,null,null,null,"",null,null,null,null,null,null,0,null,0,"",null,null,null,0,null,null,null,0,null,null,null,0,"",null,"","","",false,"","","","","","","","",""]
["",null,null,null,null,null,"",null,null,null,null,null,null,0,null,0,"",null,null,null,0,null,null,null,0,null,null,null,0,"",null,"","","",false,"","","","","","","","",""]
["",null,null,null,null,null,"",null,null,null,null,null,null,0,null,0,"",null,null,null,0,null,null,null,0,null,null,null,0,"",null,"","","",false,"","","","","","","","",""]
["",null,null,null,null,null,"",null,null,null,null,null,null,0,null,0,"",null,null,null,0,null,null,null,0,null,null,null,0,"",null,"","","",false,"","","","","","","","",""]
["",null,null,null,null,null,"",null,null,null,null,null,null,0,null,0,"",null,null,null,0,null,null,null,0,null,null,null,0,"",null,"","","",false,"","","","","","","","",""]
["",null,null,null,null,null,"",null,null,null,null,null,null,0,null,0,"",null,null,null,0,null,null,null,0,null,null,null,0,"",null,"","","",false,"","","","","","","","",""]
["",null,null,null,null,null,"",null,null,null,null,null,null,0,null,0,"",null,null,null,0,null,null,null,0,null,null,null,0,"",null,"","","",false,"","","","","","","","",""]
["",null,null,null,null,null,"",null,null,null,null,null,null,0,null,0,"",null,null,null,0,null,null,null,0,null,null,null,0,"",null,"","","",false,"","","","","","","","",""]
["",null,null,null,null,null,"",null,null,null,null,null,null,0,null,0,"",null,null,null,0,null,null,null,0,null,null,null,0,"",null,"","","",false,"","","","","","","","",""]
["",null,null,null,null,null,"",null,null,null,null,null,null,0,null,0,"",null,null,null,0,null,null,null,0,null,null,null,0,"",null,"","","",false,"","","","","","","","",""]
["",null,null,null,null,null,"",null,null,null,null,null,null,0,null,0,"",null,null,null,0,null,null,null,0,null,null,null,0,"",null,"","","",false,"","","","","","","","",""]
["",null,null,null,null,null,"",null,null,null,null,null,null,0,null,0,"",null,null,null,0,null,null,null,0,null,null,null,0,"",null,"","","",false,"","","","","","","","",""]
["",null,null,null,null,null,"",null,null,null,null,null,null,0,null,0,"",null,null,null,0,null,null,null,0,null,null,null,0,"",null,"","","",false,"","","","","","","","",""]
["",null,null,null,null,null,"",null,null,null,null,null,null,0,null,0,"",null,null,null,0,null,null,null,0,null,null,null,0,"",null,"","","",false,"","","","","","","","",""]
["",null,null,null,null,null,"",null,null,null,null,null,null,0,null,0,"",null,null,null,0,null,null,null,0,null,null,null,0,"",null,"","","",false,"","","","","","","","",""]
["",null,null,null,null,null,"",null,null,null,null,null,null,0,null,0,"",null,null,null,0,null,null,null,0,null,null,null,0,"",null,"","","",false,"","","","","","","","",""]
["",null,null,null,null,null,"",null,null,null,null,null,null,0,null,0,"",null,null,null,0,null,null,null,0,null,null,null,0,"",null,"","","",false,"","","","","","","","",""]
["",null,null,null,null,null,"",null,null,null,null,null,null,0,null,0,"",null,null,null,0,null,null,null,0,null,null,null,0,"",null,"","","",false,"","","","","","","","",""]
["",null,null,null,null,null,"",null,null,null,null,null,null,0,null,0,"",null,null,null,0,null,null,null,0,null,null,null,0,"",null,"","","",false,"","","","","","","","",""]
["",null,null,null,null,null,"",null,null,null,null,null,null,0,null,0,"",null,null,null,0,null,null,null,0,null,null,null,0,"",null,"","","",false,"","","","","","","","",""]
["",null,null,null,null,null,"",null,null,null,null,null,null,0,null,0,"",null,null,null,0,null,null,null,0,null,null,null,0,"",null,"","","",false,"","","","","","","","",""]
["",null,null,null,null,null,"",null,null,null,null,null,null,0,null,0,"",null,null,null,0,null,null,null,0,null,null,null,0,"",null,"","","",false,"","","","","","","","",""]
["",null,null,null,null,null,"",null,null,null,null,null,null,0,null,0,"",null,null,null,0,null,null,null,0,null,null,null,0,"",null,"","","",false,"","","","","","","","",""]
["",null,null,null,null,null,"",null,null,null,null,null,null,0,null,0,"",null,null,null,0,null,null,null,0,null,null,null,0,"",null,"","","",false,"","","","","","","","",""]
["",null,null,null,null,null,"",null,null,null,null,null,null,0,null,0,"",null,null,null,0,null,null,null,0,null,null,null,0,{"$f":"IF(T144=\"\",\"\",Y144+AC144)","v":""},null,"","",{"$f":"IF(AG144=\"Eligibilité ultérieure\",48-AD144,\"\")","v":""},{"$f":"IF(AC144>=24,IF(AD144<48,TRUE,FALSE))","v":false},"","","","","","","","",""]
["",null,null,null,null,null,"",null,null,null,null,null,null,0,null,0,"",null,null,null,0,null,null,null,0,null,null,null,0,"",null,"","","",false,"","","","","","","","",""]
["",null,null,null,null,null,"",null,null,null,null,null,null,0,null,0,"",null,null,null,0,null,null,null,0,null,null,null,0,"",null,"","","",false,"","","","","","","","",""]
["",null,null,null,null,null,"",null,null,null,null,null,null,0,null,0,"",null,null,null,0,null,null,null,0,null,null,null,0,"",null,"","","",false,"","","","","","","","",""]
["",null,null,null,null,null,"",null,null,null,null,null,null,0,null,0,"",null,null,null,0,null,null,null,0,null,null,null,0,"",null,"","","",false,"","","","","","","","",""]
["",null,null,null,null,null,"",null,null,null,null,null,null,0,null,0,"",null,null,null,0,null,null,null,0,null,null,null,0,"",null,"","","",false,"","","","","","","","",""]
["",null,null,null,null,null,"",null,null,null,null,null,null,0,null,0,"",null,null,null,0,null,null,null,0,null,null,null,0,"",null,"","","",false,"","","","","","","","",""]
["",null,null,null,null,null,"",null,null,null,null,null,null,0,null,0,"",null,null,null,0,null,null,null,0,null,null,null,0,"",null,"","","",false,"","","","","","","","",""]
["",null,null,null,null,null,"",null,null,null,null,null,null,0,null,0,"",null,null,null,0,null,null,null,0,null,null,null,0,"",null,"","","",false,"","","","","","","","",""]
["",null,null,null,null,null,"",null,null,null,null,null,null,0,null,0,"",null,null,null,0,null,null,null,0,null,null,null,0,"",null,"","","",false,"","","","","","","","",""]
["",null,null,null,null,null,"",null,null,null,null,null,null,0,null,0,"",null,null,null,0,null,null,null,0,null,null,null,0,"",null,"","","",false,"","","","","","","","",""]
["",null,null,null,null,null,"",null,null,null,null,null,null,0,null,0,"",null,null,null,0,null,null,null,0,null,null,null,0,"",null,"","","",false,"","","","","","","","",""]
["",null,null,null,null,null,"",null,null,null,null,null,null,0,null,0,"",null,null,null,0,null,null,null,0,null,null,null,0,"",null,"","","",false,"","","","","","","","",""]
["",null,null,null,null,null,"",null,null,null,null,null,null,0,null,0,"",null,null,null,0,null,null,null,0,null,null,null,0,"",null,"","","",false,"","","","","","","","",""]
["",null,null,null,null,null,"",null,null,null,null,null,null,0,null,0,"",null,null,null,0,null,null,null,0,null,null,null,0,"",null,"","","",false,"","","","","","","","",""]
["",null,null,null,null,null,"",null,null,null,null,null,null,0,null,0,"",null,null,null,0,null,null,null,0,null,null,null,0,"",null,"","","",false,"","","","","","","","",""]
["",null,null,null,null,null,"",null,null,null,null,null,null,0,null,0,"",null,null,null,0,null,null,null,0,null,null,null,0,"",null,"","","",false,"","","","","","","","",""]
["",null,null,null,null,null,"",null,null,null,null,null,null,0,null,0,"",null,null,null,0,null,null,null,0,null,null,null,0,"",null,"","","",false,"","","","","","","","",""]
["",null,null,null,null,null,"",null,null,null,null,null,null,0,null,0,"",null,null,null,0,null,null,null,0,null,null,null,0,"",null,"","","",false,"","","","","","","","",""]
["",null,null,null,null,null,"",null,null,null,null,null,null,0,null,0,"",null,null,null,0,null,null,null,0,null,null,null,0,"",null,"","","",false,"","","","","","","","",""]
["",null,null,null,null,null,"",null,null,null,null,null,null,0,null,0,"",null,null,null,0,null,null,null,0,null,null,null,0,"",null,"","","",false,"","","","","","","","",""]
["",null,null,null,null,null,"",null,null,null,null,null,null,0,null,0,"",null,null,null,0,null,null,null,0,null,null,null,0,"",null,"","","",false,"","","","","","","","",""]
["",null,null,null,null,null,"",null,null,null,null,null,null,0,null,0,"",null,null,null,0,null,null,null,0,null,null,null,0,"",null,"","","",false,"","","","","","","","",""]
["",null,null,null,null,null,"",null,null,null,null,null,null,0,null,0,"",null,null,null,0,null,null,null,0,null,null,null,0,"",null,"","","",false,"","","","","","","","",""]
["",null,null,null,null,null,"",null,null,null,null,null,null,0,null,0,"",null,null,null,0,null,null,null,0,null,null,null,0,"",null,"","","",false,"","","","","","","","",""]
["",null,null,null,null,null,"",null,null,null,null,null,null,0,null,0,"",null,null,null,0,null,null,null,0,null,null,null,0,"",null,"","","",false,"","","","","","","","",""]
["",null,null,null,null,null,"",null,null,null,null,null,null,0,null,0,"",null,null,null,0,null,null,null,0,null,null,null,0,"",null,"","","",false,"","","","","","","","",""]
["",null,null,null,null,null,"",null,null,null,null,null,null,0,null,0,"",null,null,null,0,null,null,null,0,null,null,null,0,"",null,"","","",false,"","","","","","","","",""]
["",null,null,null,null,null,"",null,null,null,null,null,null,0,null,0,"",null,null,null,0,null,null,null,0,null,null,null,0,"",null,"","","",false,"","","","","","","","",""]
["",null,null,null,null,null,"",null,null,null,null,null,null,0,null,0,"",null,null,null,0,null,null,null,0,null,null,null,0,"",null,"","","",false,"","","","","","","","",""]
["",null,null,null,null,null,"",null,null,null,null,null,null,0,null,0,"",null,null,null,0,null,null,null,0,null,null,null,0,"",null,"","","",false,"","","","","","","","",""]
[{"$f":"IF(B175=\"\",\"\",A174+1)","v":""},null,null,null,null,null,{"$f":"IF(B175=\"\",\"\",IF(B175=\"Madame\",\"F\",\"H\"))","v":""},null,null,null,null,null,null,{"$f":"IF(L175=1,1,IF(M175=1,1,0))","v":0},null,{"$f":"O175*24","v":0},{"$f":"IF(OR(L175=1,M175=1),1,\"\")","v":""},null,null,null,{"$f":"T175*24","v":0},null,null,null,{"$f":"V175+W175+3/4*X175","v":0},null,null,null,{"$f":"Z175+AA175+3/4*AB175","v":0},"",null,{"$f":"CONCATENATE(AJ175,AL175,AM175,AR175)","v":""},{"$f":"IF(AI175=TRUE,\"Eligibilité ultérieure\",\"\")","v":""},"",false,{"$f":"IF(S175=\"\",\"\",IF(S175=0,\"Non éligible\",\"\"))","v":""},{"$f":"IF(S175=\"\",\"\",IF(S175=0,\"\",IF(T175=\"\",\"\",IF(U175>=17.5,IF(S175=1,TRUE,\"\")))))","v":""},{"$f":"IF(AK175=FALSE,\"Non éligible\",\"\")","v":""},{"$f":"IF(AD175=\"\",\"\",IF(AD175=0,\"\",IF(AK175=TRUE,IF(U175>=17.5,IF(AD175>=48,\"Eligible\",\"Non éligible\")))))","v":""},{"$f":"IF(L175=\"\",\"\",IF(L175=1,IF(O175=\"\",\"\",IF(P175>=17.5,TRUE,FALSE))))","v":""},{"$f":"IF(AN175=\"\",\"\",IF(AN175=FALSE,\"Non éligible\",\"Eligible\"))","v":""},{"$f":"IF(M175=\"\",\"\",IF(M175=1,IF(O175=\"\",\"\",IF(P175>=17.5,TRUE,FALSE))))","v":""},{"$f":"IF(AP175=\"\",\"\",IF(AP175=FALSE,\"Non éligible\",\"Eligible\"))","v":""},{"$f":"CONCATENATE(AO175,AQ175)","v":""}]
["",null,null,null,null,null,"",null,null,null,null,null,null,0,null,0,"",null,null,null,0,null,null,null,0,null,null,null,0,"",null,"","","",false,"","","","","","","","",""]
["",null,null,null,null,null,"",null,null,null,null,null,null,0,null,0,"",null,null,null,0,null,null,null,0,null,null,null,0,"",null,"","","",false,"","","","","","","","",""]
["",null,null,null,null,null,"",null,null,null,null,null,null,0,null,0,"",null,null,null,0,null,null,null,0,null,null,null,0,"",null,"","","",false,"","","","","","","","",""]
["",null,null,null,null,null,"",null,null,null,null,null,null,0,null,0,"",null,null,null,0,null,null,null,0,null,null,null,0,"",null,"","","",false,"","","","","","","","",""]
["",null,null,null,null,null,"",null,null,null,null,null,null,0,null,0,"",null,null,null,0,null,null,null,0,null,null,null,0,"",null,"","","",false,"","","","","","","","",""]
["",null,null,null,null,null,"",null,null,null,null,null,null,0,null,0,"",null,null,null,0,null,null,null,0,null,null,null,0,"",null,"","","",false,"","","","","","","","",""]
["",null,null,null,null,null,"",null,null,null,null,null,null,0,null,0,"",null,null,null,0,null,null,null,0,null,null,null,0,"",null,"","","",false,"","","","","","","","",""]
["",null,null,null,null,null,"",null,null,null,null,null,null,0,null,0,"",null,null,null,0,null,null,null,0,null,null,null,0,"",null,"","","",false,"","","","","","","","",""]
["",null,null,null,null,null,"",null,null,null,null,null,null,0,null,0,"",null,null,null,0,null,null,null,0,null,null,null,0,"",null,"","","",false,"","","","","","","","",""]
["",null,null,null,null,null,"",null,null,null,null,null,null,0,null,0,"",null,null,null,0,null,null,null,0,null,null,null,0,"",null,"","","",false,"","","","","","","","",""]
["",null,null,null,null,null,"",null,null,null,null,null,null,0,null,0,"",null,null,null,0,null,null,null,0,null,null,null,0,"",null,"","","",false,"","","","","","","","",""]
["",null,null,null,null,null,"",null,null,null,null,null,null,0,null,0,"",null,null,null,0,null,null,null,0,null,null,null,0,"",null,"","","",false,"","","","","","","","",""]
["",null,null,null,null,null,"",null,null,null,null,null,null,0,null,0,"",null,null,null,0,null,null,null,0,null,null,null,0,"",null,"","","",false,"","","","","","","","",""]
["",null,null,null,null,null,"",null,null,null,null,null,null,0,null,0,"",null,null,null,0,null,null,null,0,null,null,null,0,"",null,"","","",false,"","","","","","","","",""]
["",null,null,null,null,null,"",null,null,null,null,null,null,0,null,0,"",null,null,null,0,null,null,null,0,null,null,null,0,"",null,"","","",false,"","","","","","","","",""]
["",null,null,null,null,null,"",null,null,null,null,null,null,0,null,0,"",null,null,null,0,null,null,null,0,null,null,null,0,"",null,"","","",false,"","","","","","","","",""]
["",null,null,null,null,null,"",null,null,null,null,null,null,0,null,0,"",null,null,null,0,null,null,null,0,null,null,null,0,"",null,"","","",false,"","","","","","","","",""]
["",null,null,null,null,null,"",null,null,null,null,null,null,0,null,0,"",null,null,null,0,null,null,null,0,null,null,null,0,"",null,"","","",false,"","","","","","","","",""]
["",null,null,null,null,null,"",null,null,null,null,null,null,0,null,0,"",null,null,null,0,null,null,null,0,null,null,null,0,"",null,"","","",false,"","","","","","","","",""]
["",null,null,null,null,null,"",null,null,null,null,null,null,0,null,0,"",null,null,null,0,null,null,null,0,null,null,null,0,"",null,"","","",false,"","","","","","","","",""]
["",null,null,null,null,null,"",null,null,null,null,null,null,0,null,0,"",null,null,null,0,null,null,null,0,null,null,null,0,"",null,"","","",false,"","","","","","","","",""]
["",null,null,null,null,null,"",null,null,null,null,null,null,0,null,0,"",null,null,null,0,null,null,null,0,null,null,null,0,"",null,"","","",false,"","","","","","","","",""]
["",null,null,null,null,null,"",null,null,null,null,null,null,0,null,0,"",null,null,null,0,null,null,null,0,null,null,null,0,"",null,"","","",false,"","","","","","","","",""]
["",null,null,null,null,null,"",null,null,null,null,null,null,0,null,0,"",null,null,null,0,null,null,null,0,null,null,null,0,"",null,"","","",false,"","","","","","","","",""]
["",null,null,null,null,null,"",null,null,null,null,null,null,0,null,0,"",null,null,null,0,null,null,null,0,null,null,null,0,"",null,"","","",false,"","","","","","","","",""]
["",null,null,null,null,null,"",null,null,null,null,null,null,0,null,0,"",null,null,null,0,null,null,null,0,null,null,null,0,"",null,"","","",false,"","","","","","","","",""]
["",null,null,null,null,null,"",null,null,null,null,null,null,0,null,0,"",null,null,null,0,null,null,null,0,null,null,null,0,"",null,"","","",false,"","","","","","","","",""]
["",null,null,null,null,null,"",null,null,null,null,null,null,0,null,0,"",null,null,null,0,null,null,null,0,null,null,null,0,"",null,"","","",false,"","","","","","","","",""]
["",null,null,null,null,null,"",null,null,null,null,null,null,0,null,0,"",null,null,null,0,null,null,null,0,null,null,null,0,"",null,"","","",false,"","","","","","","","",""]
["",null,null,null,null,null,"",null,null,null,null,null,null,0,null,0,"",null,null,null,0,null,null,null,0,null,null,null,0,"",null,"","","",false,"","","","","","","","",""]
["",null,null,null,null,null,"",null,null,null,null,null,null,0,null,0,"",null,null,null,0,null,null,null,0,null,null,null,0,"",null,"","","",false,"","","","","","","","",""]
["",null,null,null,null,null,"",null,null,null,null,null,null,0,null,0,"",null,null,null,0,null,null,null,0,null,null,null,0,"",null,"","","",false,"","","","","","","","",""]
["",null,null,null,null,null,"",null,null,null,null,null,null,0,null,0,"",null,null,null,0,null,null,null,0,null,null,null,0,{"$f":"IF(T208=\"\",\"\",Y208+AC208)","v":""},null,"","",{"$f":"IF(AG208=\"Eligibilité ultérieure\",48-AD208,\"\")","v":""},{"$f":"IF(AC208>=24,IF(AD208<48,TRUE,FALSE))","v":false},"","","","","","","","",""]
["",null,null,null,null,null,"",null,null,null,null,null,null,0,null,0,"",null,null,null,0,null,null,null,0,null,null,null,0,"",null,"","","",false,"","","","","","","","",""]
["",null,null,null,null,null,"",null,null,null,null,null,null,0,null,0,"",null,null,null,0,null,null,null,0,null,null,null,0,"",null,"","","",false,"","","","","","","","",""]
["",null,null,null,null,null,"",null,null,null,null,null,null,0,null,0,"",null,null,null,0,null,null,null,0,null,null,null,0,"",null,"","","",false,"","","","","","","","",""]
["",null,null,null,null,null,"",null,null,null,null,null,null,0,null,0,"",null,null,null,0,null,null,null,0,null,null,null,0,"",null,"","","",false,"","","","","","","","",""]
["",null,null,null,null,null,"",null,null,null,null,null,null,0,null,0,"",null,null,null,0,null,null,null,0,null,null,null,0,"",null,"","","",false,"","","","","","","","",""]
["",null,null,null,null,null,"",null,null,null,null,null,null,0,null,0,"",null,null,null,0,null,null,null,0,null,null,null,0,"",null,"","","",false,"","","","","","","","",""]
[{"$f":"IF(B215=\"\",\"\",A214+1)","v":""},null,null,null,null,null,{"$f":"IF(B215=\"\",\"\",IF(B215=\"Madame\",\"F\",\"H\"))","v":""},null,null,null,null,null,null,{"$f":"IF(L215=1,1,IF(M215=1,1,0))","v":0},null,{"$f":"O215*24","v":0},{"$f":"IF(OR(L215=1,M215=1),1,\"\")","v":""},null,null,null,{"$f":"T215*24","v":0},null,null,null,{"$f":"V215+W215+3/4*X215","v":0},null,null,null,{"$f":"Z215+AA215+3/4*AB215","v":0},"",null,{"$f":"CONCATENATE(AJ215,AL215,AM215,AR215)","v":""},{"$f":"IF(AI215=TRUE,\"Eligibilité ultérieure\",\"\")","v":""},{"$f":"IF(AG215=\"Eligibilité ultérieure\",48-AD215,\"\")","v":""},false,{"$f":"IF(S215=\"\",\"\",IF(S215=0,\"Non éligible\",\"\"))","v":""},{"$f":"IF(S215=\"\",\"\",IF(S215=0,\"\",IF(T215=\"\",\"\",IF(U215>=17.5,IF(S215=1,TRUE,\"\")))))","v":""},{"$f":"IF(AK215=FALSE,\"Non éligible\",\"\")","v":""},{"$f":"IF(AD215=\"\",\"\",IF(AD215=0,\"\",IF(AK215=TRUE,IF(U215>=17.5,IF(AD215>=48,\"Eligible\",\"Non éligible\")))))","v":""},{"$f":"IF(L215=\"\",\"\",IF(L215=1,IF(O215=\"\",\"\",IF(P215>=17.5,TRUE,FALSE))))","v":""},{"$f":"IF(AN215=\"\",\"\",IF(AN215=FALSE,\"Non éligible\",\"Eligible\"))","v":""},{"$f":"IF(M215=\"\",\"\",IF(M215=1,IF(O215=\"\",\"\",IF(P215>=17.5,TRUE,FALSE))))","v":""},{"$f":"IF(AP215=\"\",\"\",IF(AP215=FALSE,\"Non éligible\",\"Eligible\"))","v":""},{"$f":"CONCATENATE(AO215,AQ215)","v":""}]
["",null,null,null,null,null,"",null,null,null,null,null,null,0,null,0,"",null,null,null,0,null,null,null,0,null,null,null,0,"",null,"","","",false,"","","","","","","","",""]
["",null,null,null,null,null,"",null,null,null,null,null,null,0,null,0,"",null,null,null,0,null,null,null,0,null,null,null,0,"",null,"","","",false,"","","","","","","","",""]
["",null,null,null,null,null,"",null,null,null,null,null,null,0,null,0,"",null,null,null,0,null,null,null,0,null,null,null,0,"",null,"","","",false,"","","","","","","","",""]
["",null,null,null,null,null,"",null,null,null,null,null,null,0,null,0,"",null,null,null,0,null,null,null,0,null,null,null,0,"",null,"","","",false,"","","","","","","","",""]
["",null,null,null,null,null,"",null,null,null,null,null,null,0,null,0,"",null,null,null,0,null,null,null,0,null,null,null,0,"",null,"","","",false,"","","","","","","","",""]
["",null,null,null,null,null,"",null,null,null,null,null,null,0,null,0,"",null,null,null,0,null,null,null,0,null,null,null,0,"",null,"","","",false,"","","","","","","","",""]
["",null,null,null,null,null,"",null,null,null,null,null,null,0,null,0,"",null,null,null,0,null,null,null,0,null,null,null,0,"",null,"","","",false,"","","","","","","","",""]
["",null,null,null,null,null,"",null,null,null,null,null,null,0,null,0,"",null,null,null,0,null,null,null,0,null,null,null,0,"",null,"","","",false,"","","","","","","","",""]
["",null,null,null,null,null,"",null,null,null,null,null,null,0,null,0,"",null,null,null,0,null,null,null,0,null,null,null,0,"",null,"","","",false,"","","","","","","","",""]
["",null,null,null,null,null,"",null,null,null,null,null,null,0,null,0,"",null,null,null,0,null,null,null,0,null,null,null,0,"",null,"","","",false,"","","","","","","","",""]
["",null,null,null,null,null,"",null,null,null,null,null,null,0,null,0,"",null,null,null,0,null,null,null,0,null,null,null,0,"",null,"","","",false,"","","","","","","","",""]
["",null,null,null,null,null,"",null,null,null,null,null,null,0,null,0,"",null,null,null,0,null,null,null,0,null,null,null,0,"",null,"","","",false,"","","","","","","","",""]
["",null,null,null,null,null,"",null,null,null,null,null,null,0,null,0,"",null,null,null,0,null,null,null,0,null,null,null,0,"",null,"","","",false,"","","","","","","","",""]
["",null,null,null,null,null,"",null,null,null,null,null,null,0,null,0,"",null,null,null,0,null,null,null,0,null,null,null,0,"",null,"","","",false,"","","","","","","","",""]
["",null,null,null,null,null,"",null,null,null,null,null,null,0,null,0,"",null,null,null,0,null,null,null,0,null,null,null,0,"",null,"","","",false,"","","","","","","","",""]
["",null,null,null,null,null,"",null,null,null,null,null,null,0,null,0,"",null,null,null,0,null,null,null,0,null,null,null,0,"",null,"","","",false,"","","","","","","","",""]
["",null,null,null,null,null,"",null,null,null,null,null,null,0,null,0,"",null,null,null,0,null,null,null,0,null,null,null,0,"",null,"","","",false,"","","","","","","","",""]
["",null,null,null,null,null,"",null,null,null,null,null,null,0,null,0,"",null,null,null,0,null,null,null,0,null,null,null,0,"",null,"","","",false,"","","","","","","","",""]
["",null,null,null,null,null,"",null,null,null,null,null,null,0,null,0,"",null,null,null,0,null,null,null,0,null,null,null,0,"",null,"","","",false,"","","","","","","","",""]
["",null,null,null,null,null,"",null,null,null,null,null,null,0,null,0,"",null,null,null,0,null,null,null,0,null,null,null,0,"",null,"","","",false,"","","","","","","","",""]
["",null,null,null,null,null,"",null,null,null,null,null,null,0,null,0,"",null,null,null,0,null,null,null,0,null,null,null,0,"",null,"","","",false,"","","","","","","","",""]
["",null,null,null,null,null,"",null,null,null,null,null,null,0,null,0,"",null,null,null,0,null,null,null,0,null,null,null,0,"",null,"","","",false,"","","","","","","","",""]
["",null,null,null,null,null,"",null,null,null,null,null,null,0,null,0,"",null,null,null,0,null,null,null,0,null,null,null,0,"",null,"","","",false,"","","","","","","","",""]
["",null,null,null,null,null,"",null,null,null,null,null,null,0,null,0,"",null,null,null,0,null,null,null,0,null,null,null,0,"",null,"","","",false,"","","","","","","","",""]
["",null,null,null,null,null,"",null,null,null,null,null,null,0,null,0,"",null,null,null,0,null,null,null,0,null,null,null,0,"",null,"","","",false,"","","","","","","","",""]
["",null,null,null,null,null,"",null,null,null,null,null,null,0,null,0,"",null,null,null,0,null,null,null,0,null,null,null,0,"",null,"","","",false,"","","","","","","","",""]
["",null,null,null,null,null,"",null,null,null,null,null,null,0,null,0,"",null,null,null,0,null,null,null,0,null,null,null,0,"",null,"","","",false,"","","","","","","","",""]
["",null,null,null,null,null,"",null,null,null,null,null,null,0,null,0,"",null,null,null,0,null,null,null,0,null,null,null,0,"",null,"","","",false,"","","","","","","","",""]
["",null,null,null,null,null,"",null,null,null,null,null,null,0,null,0,"",null,null,null,0,null,null,null,0,null,null,null,0,"",null,"","","",false,"","","","","","","","",""]
["",null,null,null,null,null,"",null,null,null,null,null,null,0,null,0,"",null,null,null,0,null,null,null,0,null,null,null,0,"",null,"","","",false,"","","","","","","","",""]
["",null,null,null,null,null,"",null,null,null,null,null,null,0,null,0,"",null,null,null,0,null,null,null,0,null,null,null,0,"",null,"","","",false,"","","","","","","","",""]
["",null,null,null,null,null,"",null,null,null,null,null,null,0,null,0,"",null,null,null,0,null,null,null,0,null,null,null,0,"",null,"","","",false,"","","","","","","","",""]
["",null,null,null,null,null,"",null,null,null,null,null,null,0,null,0,"",null,null,null,0,null,null,null,0,null,null,null,0,"",null,"","","",false,"","","","","","","","",""]
["",null,null,null,null,null,"",null,null,null,null,null,null,0,null,0,"",null,null,null,0,null,null,null,0,null,null,null,0,"",null,"","","",false,"","","","","","","","",""]
["",null,null,null,null,null,"",null,null,null,null,null,null,0,null,0,"",null,null,null,0,null,null,null,0,null,null,null,0,"",null,"","","",false,"","","","","","","","",""]
["",null,null,null,null,null,"",null,null,null,null,null,null,0,null,0,"",null,null,null,0,null,null,null,0,null,null,null,0,"",null,"","","",false,"","","","","","","","",""]
["",null,null,null,null,null,"",null,null,null,null,null,null,0,null,0,"",null,null,null,0,null,null,null,0,null,null,null,0,"",null,"","","",false,"","","","","","","","",""]
["",null,null,null,null,null,"",null,null,null,null,null,null,0,null,0,"",null,null,null,0,null,null,null,0,null,null,null,0,"",null,"","","",false,"","","","","","","","",""]
["",null,null,null,null,null,"",null,null,null,null,null,null,0,null,0,"",null,null,null,0,null,null,null,0,null,null,null,0,"",null,"","","",false,"","","","","","","","",""]
["",null,null,null,null,null,"",null,null,null,null,null,null,0,null,0,"",null,null,null,0,null,null,null,0,null,null,null,0,"",null,"","","",false,"","","","","","","","",""]
["",null,null,null,null,null,"",null,null,null,null,null,null,0,null,0,"",null,null,null,0,null,null,null,0,null,null,null,0,"",null,"","","",false,"","","","","","","","",""]
["",null,null,null,null,null,"",null,null,null,null,null,null,0,null,0,"",null,null,null,0,null,null,null,0,null,null,null,0,"",null,"","","",false,"","","","","","","","",""]
["",null,null,null,null,null,"",null,null,null,null,null,null,0,null,0,"",null,null,null,0,null,null,null,0,null,null,null,0,"",null,"","","",false,"","","","","","","","",""]
["",null,null,null,null,null,"",null,null,null,null,null,null,0,null,0,"",null,null,null,0,null,null,null,0,null,null,null,0,"",null,"","","",false,"","","","","","","","",""]
["",null,null,null,null,null,"",null,null,null,null,null,null,0,null,0,"",null,null,null,0,null,null,null,0,null,null,null,0,"",null,"","","",false,"","","","","","","","",""]
["",null,null,null,null,null,"",null,null,null,null,null,null,0,null,0,"",null,null,null,0,null,null,null,0,null,null,null,0,"",null,"","","",false,"","","","","","","","",""]
["",null,null,null,null,null,"",null,null,null,null,null,null,0,null,0,"",null,null,null,0,null,null,null,0,null,null,null,0,"",null,"","","",false,"","","","","","","","",""]
["",null,null,null,null,null,"",null,null,null,null,null,null,0,null,0,"",null,null,null,0,null,null,null,0,null,null,null,0,"",null,"","","",false,"","","","","","","","",""]
["",null,null,null,null,null,"",null,null,null,null,null,null,0,null,0,"",null,null,null,0,null,null,null,0,null,null,null,0,"",null,"","","",false,"","","","","","","","",""]
["",null,null,null,null,null,"",null,null,null,null,null,null,0,null,0,"",null,null,null,0,null,null,null,0,null,null,null,0,"",null,"","","",false,"","","","","","","","",""]
["",null,null,null,null,null,"",null,null,null,null,null,null,0,null,0,"",null,null,null,0,null,null,null,0,null,null,null,0,"",null,"","","",false,"","","","","","","","",""]
["",null,null,null,null,null,"",null,null,null,null,null,null,0,null,0,"",null,null,null,0,null,null,null,0,null,null,null,0,"",null,"","","",false,"","","","","","","","",""]
["",null,null,null,null,null,"",null,null,null,null,null,null,0,null,0,"",null,null,null,0,null,null,null,0,null,null,null,0,"",null,"","","",false,"","","","","","","","",""]
["",null,null,null,null,null,"",null,null,null,null,null,null,0,null,0,"",null,null,null,0,null,null,null,0,null,null,null,0,"",null,"","","",false,"","","","","","","","",""]
["",null,null,null,null,null,"",null,null,null,null,null,null,0,null,0,"",null,null,null,0,null,null,null,0,null,null,null,0,"",null,"","","",false,"","","","","","","","",""]
["",null,null,null,null,null,"",null,null,null,null,null,null,0,null,0,"",null,null,null,0,null,null,null,0,null,null,null,0,"",null,"","","",false,"","","","","","","","",""]
["",null,null,null,null,null,"",null,null,null,null,null,null,0,null,0,"",null,null,null,0,null,null,null,0,null,null,null,0,{"$f":"IF(T272=\"\",\"\",Y272+AC272)","v":""},null,"","","",{"$f":"IF(AC272>=24,IF(AD272<48,TRUE,FALSE))","v":false},"","","","","","","","",""]
["",null,null,null,null,null,"",null,null,null,null,null,null,0,null,0,"",null,null,null,0,null,null,null,0,null,null,null,0,"",null,"","","",false,"","","","","","","","",""]
["",null,null,null,null,null,"",null,null,null,null,null,null,0,null,0,"",null,null,null,0,null,null,null,0,null,null,null,0,"",null,"","","",false,"","","","","","","","",""]
["",null,null,null,null,null,"",null,null,null,null,null,null,0,null,0,"",null,null,null,0,null,null,null,0,null,null,null,0,"",null,"","","",false,"","","","","","","","",""]
["",null,null,null,null,null,"",null,null,null,null,null,null,0,null,0,"",null,null,null,0,null,null,null,0,null,null,null,0,"",null,"","","",false,"","","","","","","","",""]
["",null,null,null,null,null,"",null,null,null,null,null,null,0,null,0,"",null,null,null,0,null,null,null,0,null,null,null,0,"",null,"","","",false,"","","","","","","","",""]
["",null,null,null,null,null,"",null,null,null,null,null,null,0,null,0,"",null,null,null,0,null,null,null,0,null,null,null,0,"",null,"","","",false,"","","","","","","","",""]
[{"$f":"IF(B279=\"\",\"\",A278+1)","v":""},null,null,null,null,null,{"$f":"IF(B279=\"\",\"\",IF(B279=\"Madame\",\"F\",\"H\"))","v":""},null,null,null,null,null,null,{"$f":"IF(L279=1,1,IF(M279=1,1,0))","v":0},null,{"$f":"O279*24","v":0},{"$f":"IF(OR(L279=1,M279=1),1,\"\")","v":""},null,null,null,{"$f":"T279*24","v":0},null,null,null,{"$f":"V279+W279+3/4*X279","v":0},null,null,null,{"$f":"Z279+AA279+3/4*AB279","v":0},"",null,{"$f":"CONCATENATE(AJ279,AL279,AM279,AR279)","v":""},{"$f":"IF(AI279=TRUE,\"Eligibilité ultérieure\",\"\")","v":""},{"$f":"IF(AG279=\"Eligibilité ultérieure\",48-AD279,\"\")","v":""},false,{"$f":"IF(S279=\"\",\"\",IF(S279=0,\"Non éligible\",\"\"))","v":""},{"$f":"IF(S279=\"\",\"\",IF(S279=0,\"\",IF(T279=\"\",\"\",IF(U279>=17.5,IF(S279=1,TRUE,\"\")))))","v":""},{"$f":"IF(AK279=FALSE,\"Non éligible\",\"\")","v":""},{"$f":"IF(AD279=\"\",\"\",IF(AD279=0,\"\",IF(AK279=TRUE,IF(U279>=17.5,IF(AD279>=48,\"Eligible\",\"Non éligible\")))))","v":""},{"$f":"IF(L279=\"\",\"\",IF(L279=1,IF(O279=\"\",\"\",IF(P279>=17.5,TRUE,FALSE))))","v":""},{"$f":"IF(AN279=\"\",\"\",IF(AN279=FALSE,\"Non éligible\",\"Eligible\"))","v":""},{"$f":"IF(M279=\"\",\"\",IF(M279=1,IF(O279=\"\",\"\",IF(P279>=17.5,TRUE,FALSE))))","v":""},{"$f":"IF(AP279=\"\",\"\",IF(AP279=FALSE,\"Non éligible\",\"Eligible\"))","v":""},{"$f":"CONCATENATE(AO279,AQ279)","v":""}]
["",null,null,null,null,null,"",null,null,null,null,null,null,0,null,0,"",null,null,null,0,null,null,null,0,null,null,null,0,"",null,"","","",false,"","","","","","","","",""]
["",null,null,null,null,null,"",null,null,null,null,null,null,0,null,0,"",null,null,null,0,null,null,null,0,null,null,null,0,"",null,"","","",false,"","","","","","","","",""]
["",null,null,null,null,null,"",null,null,null,null,null,null,0,null,0,"",null,null,null,0,null,null,null,0,null,null,null,0,"",null,"","","",false,"","","","","","","","",""]
["",null,null,null,null,null,"",null,null,null,null,null,null,0,null,0,"",null,null,null,0,null,null,null,0,null,null,null,0,"",null,"","","",false,"","","","","","","","",""]
["",null,null,null,null,null,"",null,null,null,null,null,null,0,null,0,"",null,null,null,0,null,null,null,0,null,null,null,0,"",null,"","","",false,"","","","","","","","",""]
["",null,null,null,null,null,"",null,null,null,null,null,null,0,null,0,"",null,null,null,0,null,null,null,0,null,null,null,0,"",null,"","","",false,"","","","","","","","",""]
["",null,null,null,null,null,"",null,null,null,null,null,null,0,null,0,"",null,null,null,0,null,null,null,0,null,null,null,0,"",null,"","","",false,"","","","","","","","",""]
["",null,null,null,null,null,"",null,null,null,null,null,null,0,null,0,"",null,null,null,0,null,null,null,0,null,null,null,0,"",null,"","","",false,"","","","","","","","",""]
["",null,null,null,null,null,"",null,null,null,null,null,null,0,null,0,"",null,null,null,0,null,null,null,0,null,null,null,0,"",null,"","","",false,"","","","","","","","",""]
["",null,null,null,null,null,"",null,null,null,null,null,null,0,null,0,"",null,null,null,0,null,null,null,0,null,null,null,0,"",null,"","","",false,"","","","","","","","",""]
["",null,null,null,null,null,"",null,null,null,null,null,null,0,null,0,"",null,null,null,0,null,null,null,0,null,null,null,0,"",null,"","","",false,"","","","","","","","",""]
["",null,null,null,null,null,"",null,null,null,null,null,null,0,null,0,"",null,null,null,0,null,null,null,0,null,null,null,0,"",null,"","","",false,"","","","","","","","",""]
["",null,null,null,null,null,"",null,null,null,null,null,null,0,null,0,"",null,null,null,0,null,null,null,0,null,null,null,0,"",null,"","","",false,"","","","","","","","",""]
["",null,null,null,null,null,"",null,null,null,null,null,null,0,null,0,"",null,null,null,0,null,null,null,0,null,null,null,0,"",null,"","","",false,"","","","","","","","",""]
["",null,null,null,null,null,"",null,null,null,null,null,null,0,null,0,"",null,null,null,0,null,null,null,0,null,null,null,0,"",null,"","","",false,"","","","","","","","",""]
["",null,null,null,null,null,"",null,null,null,null,null,null,0,null,0,"",null,null,null,0,null,null,null,0,null,null,null,0,"",null,"","","",false,"","","","","","","","",""]
["",null,null,null,null,null,"",null,null,null,null,null,null,0,null,0,"",null,null,null,0,null,null,null,0,null,null,null,0,"",null,"","","",false,"","","","","","","","",""]
["",null,null,null,null,null,"",null,null,null,null,null,null,0,null,0,"",null,null,null,0,null,null,null,0,null,null,null,0,"",null,"","","",false,"","","","","","","","",""]
["",null,null,null,null,null,"",null,null,null,null,null,null,0,null,0,"",null,null,null,0,null,null,null,0,null,null,null,0,"",null,"","","",false,"","","","","","","","",""]
["",null,null,null,null,null,"",null,null,null,null,null,null,0,null,0,"",null,null,null,0,null,null,null,0,null,null,null,0,"",null,"","","",false,"","","","","","","","",""]
["",null,null,null,null,null,"",null,null,null,null,null,null,0,null,0,"",null,null,null,0,null,null,null,0,null,null,null,0,"",null,"","","",false,"","","","","","","","",""]
["",null,null,null,null,null,"",null,null,null,null,null,null,0,null,0,"",null,null,null,0,null,null,null,0,null,null,null,0,"",null,"","","",false,"","","","","","","","",""]
["",null,null,null,null,null,"",null,null,null,null,null,null,0,null,0,"",null,null,null,0,null,null,null,0,null,null,null,0,"",null,"","","",false,"","","","","","","","",""]
["",null,null,null,null,null,"",null,null,null,null,null,null,0,null,0,"",null,null,null,0,null,null,null,0,null,null,null,0,"",null,"","","",false,"","","","","","","","",""]
["",null,null,null,null,null,"",null,null,null,null,null,null,0,null,0,"",null,null,null,0,null,null,null,0,null,null,null,0,"",null,"","","",false,"","","","","","","","",""]
["",null,null,null,null,null,"",null,null,null,null,null,null,0,null,0,"",null,null,null,0,null,null,null,0,null,null,null,0,"",null,"","","",false,"","","","","","","","",""]
["",null,null,null,null,null,"",null,null,null,null,null,null,0,null,0,"",null,null,null,0,null,null,null,0,null,null,null,0,"",null,"","","",false,"","","","","","","","",""]
["",null,null,null,null,null,"",null,null,null,null,null,null,0,null,0,"",null,null,null,0,null,null,null,0,null,null,null,0,"",null,"","","",false,"","","","","","","","",""]
["",null,null,null,null,null,"",null,null,null,null,null,null,0,null,0,"",null,null,null,0,null,null,null,0,null,null,null,0,"",null,"","","",false,"","","","","","","","",""]
["",null,null,null,null,null,"",null,null,null,null,null,null,0,null,0,"",null,null,null,0,null,null,null,0,null,null,null,0,"",null,"","","",false,"","","","","","","","",""]
["",null,null,null,null,null,"",null,null,null,null,null,null,0,null,0,"",null,null,null,0,null,null,null,0,null,null,null,0,"",null,"","","",false,"","","","","","","","",""]
["",null,null,null,null,null,"",null,null,null,null,null,null,0,null,0,"",null,null,null,0,null,null,null,0,null,null,null,0,"",null,"","","",false,"","","","","","","","",""]
["",null,null,null,null,null,"",null,null,null,null,null,null,0,null,0,"",null,null,null,0,null,null,null,0,null,null,null,0,"",null,"","","",false,"","","","","","","","",""]
["",null,null,null,null,null,"",null,null,null,null,null,null,0,null,0,"",null,null,null,0,null,null,null,0,null,null,null,0,"",null,"","","",false,"","","","","","","","",""]
["",null,null,null,null,null,"",null,null,null,null,null,null,0,null,0,"",null,null,null,0,null,null,null,0,null,null,null,0,"",null,"","","",false,"","","","","","","","",""]
["",null,null,null,null,null,"",null,null,null,null,null,null,0,null,0,"",null,null,null,0,null,null,null,0,null,null,null,0,"",null,"","","",false,"","","","","","","","",""]
["",null,null,null,null,null,"",null,null,null,null,null,null,0,null,0,"",null,null,null,0,null,null,null,0,null,null,null,0,"",null,"","","",false,"","","","","","","","",""]
["",null,null,null,null,null,"",null,null,null,null,null,null,0,null,0,"",null,null,null,0,null,null,null,0,null,null,null,0,"",null,"","","",false,"","","","","","","","",""]
["",null,null,null,null,null,"",null,null,null,null,null,null,0,null,0,"",null,null,null,0,null,null,null,0,null,null,null,0,"",null,"","","",false,"","","","","","","","",""]
["",null,null,null,null,null,"",null,null,null,null,null,null,0,null,0,"",null,null,null,0,null,null,null,0,null,null,null,0,"",null,"","","",false,"","","","","","","","",""]
["",null,null,null,null,null,"",null,null,null,null,null,null,0,null,0,"",null,null,null,0,null,null,null,0,null,null,null,0,"",null,"","","",false,"","","","","","","","",""]
["",null,null,null,null,null,"",null,null,null,null,null,null,0,null,0,"",null,null,null,0,null,null,null,0,null,null,null,0,"",null,"","","",false,"","","","","","","","",""]
["",null,null,null,null,null,"",null,null,null,null,null,null,0,null,0,"",null,null,null,0,null,null,null,0,null,null,null,0,"",null,"","","",false,"","","","","","","","",""]
["",null,null,null,null,null,"",null,null,null,null,null,null,0,null,0,"",null,null,null,0,null,null,null,0,null,null,null,0,"",null,"","","",false,"","","","","","","","",""]
["",null,null,null,null,null,"",null,null,null,null,null,null,0,null,0,"",null,null,null,0,null,null,null,0,null,null,null,0,"",null,"","","",false,"","","","","","","","",""]
["",null,null,null,null,null,"",null,null,null,null,null,null,0,null,0,"",null,null,null,0,null,null,null,0,null,null,null,0,"",null,"","","",false,"","","","","","","","",""]
["",null,null,null,null,null,"",null,null,null,null,null,null,0,null,0,"",null,null,null,0,null,null,null,0,null,null,null,0,"",null,"","","",false,"","","","","","","","",""]
["",null,null,null,null,null,"",null,null,null,null,null,null,0,null,0,"",null,null,null,0,null,null,null,0,null,null,null,0,"",null,"","","",false,"","","","","","","","",""]
["",null,null,null,null,null,"",null,null,null,null,null,null,0,null,0,"",null,null,null,0,null,null,null,0,null,null,null,0,"",null,"","","",false,"","","","","","","","",""]
["",null,null,null,null,null,"",null,null,null,null,null,null,0,null,0,"",null,null,null,0,null,null,null,0,null,null,null,0,"",null,"","","",false,"","","","","","","","",""]
["",null,null,null,null,null,"",null,null,null,null,null,null,0,null,0,"",null,null,null,0,null,null,null,0,null,null,null,0,"",null,"","","",false,"","","","","","","","",""]
["",null,null,null,null,null,"",null,null,null,null,null,null,0,null,0,"",null,null,null,0,null,null,null,0,null,null,null,0,"",null,"","","",false,"","","","","","","","",""]
["",null,null,null,null,null,"",null,null,null,null,null,null,0,null,0,"",null,null,null,0,null,null,null,0,null,null,null,0,"",null,"","","",false,"","","","","","","","",""]
["",null,null,null,null,null,"",null,null,null,null,null,null,0,null,0,"",null,null,null,0,null,null,null,0,null,null,null,0,"",null,"","","",false,"","","","","","","","",""]
["",null,null,null,null,null,"",null,null,null,null,null,null,0,null,0,"",null,null,null,0,null,null,null,0,null,null,null,0,"",null,"","","",false,"","","","","","","","",""]
["",null,null,null,null,null,"",null,null,null,null,null,null,0,null,0,"",null,null,null,0,null,null,null,0,null,null,null,0,"",null,"","","",false,"","","","","","","","",""]
["",null,null,null,null,null,"",null,null,null,null,null,null,0,null,0,"",null,null,null,0,null,null,null,0,null,null,null,0,{"$f":"IF(T336=\"\",\"\",Y336+AC336)","v":""},null,"","","",{"$f":"IF(AC336>=24,IF(AD336<48,TRUE,FALSE))","v":false},"","","","","","","","",""]
["",null,null,null,null,null,"",null,null,null,null,null,null,0,null,0,"",null,null,null,0,null,null,null,0,null,null,null,0,"",null,"","","",false,"","","","","","","","",""]
["",null,null,null,null,null,"",null,null,null,null,null,null,0,null,0,"",null,null,null,0,null,null,null,0,null,null,null,0,"",null,"","","",false,"","","","","","","","",""]
["",null,null,null,null,null,"",null,null,null,null,null,null,0,null,0,"",null,null,null,0,null,null,null,0,null,null,null,0,"",null,"","","",false,"","","","","","","","",""]
["",null,null,null,null,null,"",null,null,null,null,null,null,0,null,0,"",null,null,null,0,null,null,null,0,null,null,null,0,"",null,"","","",false,"","","","","","","","",""]
["",null,null,null,null,null,"",null,null,null,null,null,null,0,null,0,"",null,null,null,0,null,null,null,0,null,null,null,0,"",null,"","","",false,"","","","","","","","",""]
["",null,null,null,null,null,"",null,null,null,null,null,null,0,null,0,"",null,null,null,0,null,null,null,0,null,null,null,0,"",null,"","","",false,"","","","","","","","",""]
[{"$f":"IF(B343=\"\",\"\",A342+1)","v":""},null,null,null,null,null,{"$f":"IF(B343=\"\",\"\",IF(B343=\"Madame\",\"F\",\"H\"))","v":""},null,null,null,null,null,null,{"$f":"IF(L343=1,1,IF(M343=1,1,0))","v":0},null,{"$f":"O343*24","v":0},{"$f":"IF(OR(L343=1,M343=1),1,\"\")","v":""},null,null,null,{"$f":"T343*24","v":0},null,null,null,{"$f":"V343+W343+3/4*X343","v":0},null,null,null,{"$f":"Z343+AA343+3/4*AB343","v":0},"",null,{"$f":"CONCATENATE(AJ343,AL343,AM343,AR343)","v":""},{"$f":"IF(AI343=TRUE,\"Eligibilité ultérieure\",\"\")","v":""},{"$f":"IF(AG343=\"Eligibilité ultérieure\",48-AD343,\"\")","v":""},false,{"$f":"IF(S343=\"\",\"\",IF(S343=0,\"Non éligible\",\"\"))","v":""},{"$f":"IF(S343=\"\",\"\",IF(S343=0,\"\",IF(T343=\"\",\"\",IF(U343>=17.5,IF(S343=1,TRUE,\"\")))))","v":""},{"$f":"IF(AK343=FALSE,\"Non éligible\",\"\")","v":""},{"$f":"IF(AD343=\"\",\"\",IF(AD343=0,\"\",IF(AK343=TRUE,IF(U343>=17.5,IF(AD343>=48,\"Eligible\",\"Non éligible\")))))","v":""},{"$f":"IF(L343=\"\",\"\",IF(L343=1,IF(O343=\"\",\"\",IF(P343>=17.5,TRUE,FALSE))))","v":""},{"$f":"IF(AN343=\"\",\"\",IF(AN343=FALSE,\"Non éligible\",\"Eligible\"))","v":""},{"$f":"IF(M343=\"\",\"\",IF(M343=1,IF(O343=\"\",\"\",IF(P343>=17.5,TRUE,FALSE))))","v":""},{"$f":"IF(AP343=\"\",\"\",IF(AP343=FALSE,\"Non éligible\",\"Eligible\"))","v":""},{"$f":"CONCATENATE(AO343,AQ343)","v":""}]
["",null,null,null,null,null,"",null,null,null,null,null,null,0,null,0,"",null,null,null,0,null,null,null,0,null,null,null,0,"",null,"","","",false,"","","","","","","","",""]
["",null,null,null,null,null,"",null,null,null,null,null,null,0,null,0,"",null,null,null,0,null,null,null,0,null,null,null,0,"",null,"","","",false,"","","","","","","","",""]
["",null,null,null,null,null,"",null,null,null,null,null,null,0,null,0,"",null,null,null,0,null,null,null,0,null,null,null,0,"",null,"","","",false,"","","","","","","","",""]
["",null,null,null,null,null,"",null,null,null,null,null,null,0,null,0,"",null,null,null,0,null,null,null,0,null,null,null,0,"",null,"","","",false,"","","","","","","","",""]
["",null,null,null,null,null,"",null,null,null,null,null,null,0,null,0,"",null,null,null,0,null,null,null,0,null,null,null,0,"",null,"","","",false,"","","","","","","","",""]
["",null,null,null,null,null,"",null,null,null,null,null,null,0,null,0,"",null,null,null,0,null,null,null,0,null,null,null,0,"",null,"","","",false,"","","","","","","","",""]
["",null,null,null,null,null,"",null,null,null,null,null,null,0,null,0,"",null,null,null,0,null,null,null,0,null,null,null,0,"",null,"","","",false,"","","","","","","","",""]
["",null,null,null,null,null,"",null,null,null,null,null,null,0,null,0,"",null,null,null,0,null,null,null,0,null,null,null,0,"",null,"","","",false,"","","","","","","","",""]
["",null,null,null,null,null,"",null,null,null,null,null,null,0,null,0,"",null,null,null,0,null,null,null,0,null,null,null,0,"",null,"","","",false,"","","","","","","","",""]
["",null,null,null,null,null,"",null,null,null,null,null,null,0,null,0,"",null,null,null,0,null,null,null,0,null,null,null,0,"",null,"","","",false,"","","","","","","","",""]
["",null,null,null,null,null,"",null,null,null,null,null,null,0,null,0,"",null,null,null,0,null,null,null,0,null,null,null,0,"",null,"","","",false,"","","","","","","","",""]
["",null,null,null,null,null,"",null,null,null,null,null,null,0,null,0,"",null,null,null,0,null,null,null,0,null,null,null,0,"",null,"","","",false,"","","","","","","","",""]
["",null,null,null,null,null,"",null,null,null,null,null,null,0,null,0,"",null,null,null,0,null,null,null,0,null,null,null,0,"",null,"","","",false,"","","","","","","","",""]
["",null,null,null,null,null,"",null,null,null,null,null,null,0,null,0,"",null,null,null,0,null,null,null,0,null,null,null,0,"",null,"","","",false,"","","","","","","","",""]
["",null,null,null,null,null,"",null,null,null,null,null,null,0,null,0,"",null,null,null,0,null,null,null,0,null,null,null,0,"",null,"","","",false,"","","","","","","","",""]
["",null,null,null,null,null,"",null,null,null,null,null,null,0,null,0,"",null,null,null,0,null,null,null,0,null,null,null,0,"",null,"","","",false,"","","","","","","","",""]
["",null,null,null,null,null,"",null,null,null,null,null,null,0,null,0,"",null,null,null,0,null,null,null,0,null,null,null,0,"",null,"","","",false,"","","","","","","","",""]
["",null,null,null,null,null,"",null,null,null,null,null,null,0,null,0,"",null,null,null,0,null,null,null,0,null,null,null,0,"",null,"","","",false,"","","","","","","","",""]
["",null,null,null,null,null,"",null,null,null,null,null,null,0,null,0,"",null,null,null,0,null,null,null,0,null,null,null,0,"",null,"","","",false,"","","","","","","","",""]
["",null,null,null,null,null,"",null,null,null,null,null,null,0,null,0,"",null,null,null,0,null,null,null,0,null,null,null,0,"",null,"","","",false,"","","","","","","","",""]
["",null,null,null,null,null,"",null,null,null,null,null,null,0,null,0,"",null,null,null,0,null,null,null,0,null,null,null,0,"",null,"","","",false,"","","","","","","","",""]
["",null,null,null,null,null,"",null,null,null,null,null,null,0,null,0,"",null,null,null,0,null,null,null,0,null,null,null,0,"",null,"","","",false,"","","","","","","","",""]
["",null,null,null,null,null,"",null,null,null,null,null,null,0,null,0,"",null,null,null,0,null,null,null,0,null,null,null,0,"",null,"","","",false,"","","","","","","","",""]
["",null,null,null,null,null,"",null,null,null,null,null,null,0,null,0,"",null,null,null,0,null,null,null,0,null,null,null,0,"",null,"","","",false,"","","","","","","","",""]
["",null,null,null,null,null,"",null,null,null,null,null,null,0,null,0,"",null,null,null,0,null,null,null,0,null,null,null,0,"",null,"","","",false,"","","","","","","","",""]
["",null,null,null,null,null,"",null,null,null,null,null,null,0,null,0,"",null,null,null,0,null,null,null,0,null,null,null,0,"",null,"","","",false,"","","","","","","","",""]
["",null,null,null,null,null,"",null,null,null,null,null,null,0,null,0,"",null,null,null,0,null,null,null,0,null,null,null,0,"",null,"","","",false,"","","","","","","","",""]
["",null,null,null,null,null,"",null,null,null,null,null,null,0,null,0,"",null,null,null,0,null,null,null,0,null,null,null,0,"",null,"","","",false,"","","","","","","","",""]
["",null,null,null,null,null,"",null,null,null,null,null,null,0,null,0,"",null,null,null,0,null,null,null,0,null,null,null,0,"",null,"","","",false,"","","","","","","","",""]
["",null,null,null,null,null,"",null,null,null,null,null,null,0,null,0,"",null,null,null,0,null,null,null,0,null,null,null,0,"",null,"","","",false,"","","","","","","","",""]
["",null,null,null,null,null,"",null,null,null,null,null,null,0,null,0,"",null,null,null,0,null,null,null,0,null,null,null,0,"",null,"","","",false,"","","","","","","","",""]
["",null,null,null,null,null,"",null,null,null,null,null,null,0,null,0,"",null,null,null,0,null,null,null,0,null,null,null,0,"",null,"","","",false,"","","","","","","","",""]
["",null,null,null,null,null,"",null,null,null,null,null,null,0,null,0,"",null,null,null,0,null,null,null,0,null,null,null,0,"",null,"","","",false,"","","","","","","","",""]
["",null,null,null,null,null,"",null,null,null,null,null,null,0,null,0,"",null,null,null,0,null,null,null,0,null,null,null,0,"",null,"","","",false,"","","","","","","","",""]
["",null,null,null,null,null,"",null,null,null,null,null,null,0,null,0,"",null,null,null,0,null,null,null,0,null,null,null,0,"",null,"","","",false,"","","","","","","","",""]
["",null,null,null,null,null,"",null,null,null,null,null,null,0,null,0,"",null,null,null,0,null,null,null,0,null,null,null,0,"",null,"","","",false,"","","","","","","","",""]
["",null,null,null,null,null,"",null,null,null,null,null,null,0,null,0,"",null,null,null,0,null,null,null,0,null,null,null,0,"",null,"","","",false,"","","","","","","","",""]
["",null,null,null,null,null,"",null,null,null,null,null,null,0,null,0,"",null,null,null,0,null,null,null,0,null,null,null,0,"",null,"","","",false,"","","","","","","","",""]
["",null,null,null,null,null,"",null,null,null,null,null,null,0,null,0,"",null,null,null,0,null,null,null,0,null,null,null,0,"",null,"","","",false,"","","","","","","","",""]
["",null,null,null,null,null,"",null,null,null,null,null,null,0,null,0,"",null,null,null,0,null,null,null,0,null,null,null,0,"",null,"","","",false,"","","","","","","","",""]
["",null,null,null,null,null,"",null,null,null,null,null,null,0,null,0,"",null,null,null,0,null,null,null,0,null,null,null,0,"",null,"","","",false,"","","","","","","","",""]
["",null,null,null,null,null,"",null,null,null,null,null,null,0,null,0,"",null,null,null,0,null,null,null,0,null,null,null,0,"",null,"","","",false,"","","","","","","","",""]
["",null,null,null,null,null,"",null,null,null,null,null,null,0,null,0,"",null,null,null,0,null,null,null,0,null,null,null,0,"",null,"","","",false,"","","","","","","","",""]
["",null,null,null,null,null,"",null,null,null,null,null,null,0,null,0,"",null,null,null,0,null,null,null,0,null,null,null,0,"",null,"","","",false,"","","","","","","","",""]
["",null,null,null,null,null,"",null,null,null,null,null,null,0,null,0,"",null,null,null,0,null,null,null,0,null,null,null,0,"",null,"","","",false,"","","","","","","","",""]
["",null,null,null,null,null,"",null,null,null,null,null,null,0,null,0,"",null,null,null,0,null,null,null,0,null,null,null,0,"",null,"","","",false,"","","","","","","","",""]
["",null,null,null,null,null,"",null,null,null,null,null,null,0,null,0,"",null,null,null,0,null,null,null,0,null,null,null,0,"",null,"","","",false,"","","","","","","","",""]
["",null,null,null,null,null,"",null,null,null,null,null,null,0,null,0,"",null,null,null,0,null,null,null,0,null,null,null,0,"",null,"","","",false,"","","","","","","","",""]
["",null,null,null,null,null,"",null,null,null,null,null,null,0,null,0,"",null,null,null,0,null,null,null,0,null,null,null,0,"",null,"","","",false,"","","","","","","","",""]
["",null,null,null,null,null,"",null,null,null,null,null,null,0,null,0,"",null,null,null,0,null,null,null,0,null,null,null,0,"",null,"","","",false,"","","","","","","","",""]
["",null,null,null,null,null,"",null,null,null,null,null,null,0,null,0,"",null,null,null,0,null,null,null,0,null,null,null,0,"",null,"","","",false,"","","","","","","","",""]
["",null,null,null,null,null,"",null,null,null,null,null,null,0,null,0,"",null,null,null,0,null,null,null,0,null,null,null,0,"",null,"","","",false,"","","","","","","","",""]
["",null,null,null,null,null,"",null,null,null,null,null,null,0,null,0,"",null,null,null,0,null,null,null,0,null,null,null,0,"",null,"","","",false,"","","","","","","","",""]
["",null,null,null,null,null,"",null,null,null,null,null,null,0,null,0,"",null,null,null,0,null,null,null,0,null,null,null,0,"",null,"","","",false,"","","","","","","","",""]
["",null,null,null,null,null,"",null,null,null,null,null,null,0,null,0,"",null,null,null,0,null,null,null,0,null,null,null,0,"",null,"","","",false,"","","","","","","","",""]
["",null,null,null,null,null,"",null,null,null,null,null,null,0,null,0,"",null,null,null,0,null,null,null,0,null,null,null,0,"",null,"","","",false,"","","","","","","","",""]
["",null,null,null,null,null,"",null,null,null,null,null,null,0,null,0,"",null,null,null,0,null,null,null,0,null,null,null,0,{"$f":"IF(T400=\"\",\"\",Y400+AC400)","v":""},null,"","","",{"$f":"IF(AC400>=24,IF(AD400<48,TRUE,FALSE))","v":false},"","","","","","","","",""]
["",null,null,null,null,null,"",null,null,null,null,null,null,0,null,0,"",null,null,null,0,null,null,null,0,null,null,null,0,"",null,"","","",false,"","","","","","","","",""]
["",null,null,null,null,null,"",null,null,null,null,null,null,0,null,0,"",null,null,null,0,null,null,null,0,null,null,null,0,"",null,"","","",false,"","","","","","","","",""]
["",null,null,null,null,null,"",null,null,null,null,null,null,0,null,0,"",null,null,null,0,null,null,null,0,null,null,null,0,"",null,"","","",false,"","","","","","","","",""]
["",null,null,null,null,null,"",null,null,null,null,null,null,0,null,0,"",null,null,null,0,null,null,null,0,null,null,null,0,"",null,"","","",false,"","","","","","","","",""]
["",null,null,null,null,null,"",null,null,null,null,null,null,0,null,0,"",null,null,null,0,null,null,null,0,null,null,null,0,"",null,"","","",false,"","","","","","","","",""]
["",null,null,null,null,null,"",null,null,null,null,null,null,0,null,0,"",null,null,null,0,null,null,null,0,null,null,null,0,"",null,"","","",false,"","","","","","","","",""]
[{"$f":"IF(B407=\"\",\"\",A406+1)","v":""},null,null,null,null,null,{"$f":"IF(B407=\"\",\"\",IF(B407=\"Madame\",\"F\",\"H\"))","v":""},null,null,null,null,null,null,{"$f":"IF(L407=1,1,IF(M407=1,1,0))","v":0},null,{"$f":"O407*24","v":0},{"$f":"IF(OR(L407=1,M407=1),1,\"\")","v":""},null,null,null,{"$f":"T407*24","v":0},null,null,null,{"$f":"V407+W407+3/4*X407","v":0},null,null,null,{"$f":"Z407+AA407+3/4*AB407","v":0},"",null,{"$f":"CONCATENATE(AJ407,AL407,AM407,AR407)","v":""},{"$f":"IF(AI407=TRUE,\"Eligibilité ultérieure\",\"\")","v":""},{"$f":"IF(AG407=\"Eligibilité ultérieure\",48-AD407,\"\")","v":""},false,{"$f":"IF(S407=\"\",\"\",IF(S407=0,\"Non éligible\",\"\"))","v":""},{"$f":"IF(S407=\"\",\"\",IF(S407=0,\"\",IF(T407=\"\",\"\",IF(U407>=17.5,IF(S407=1,TRUE,\"\")))))","v":""},{"$f":"IF(AK407=FALSE,\"Non éligible\",\"\")","v":""},{"$f":"IF(AD407=\"\",\"\",IF(AD407=0,\"\",IF(AK407=TRUE,IF(U407>=17.5,IF(AD407>=48,\"Eligible\",\"Non éligible\")))))","v":""},{"$f":"IF(L407=\"\",\"\",IF(L407=1,IF(O407=\"\",\"\",IF(P407>=17.5,TRUE,FALSE))))","v":""},{"$f":"IF(AN407=\"\",\"\",IF(AN407=FALSE,\"Non éligible\",\"Eligible\"))","v":""},{"$f":"IF(M407=\"\",\"\",IF(M407=1,IF(O407=\"\",\"\",IF(P407>=17.5,TRUE,FALSE))))","v":""},{"$f":"IF(AP407=\"\",\"\",IF(AP407=FALSE,\"Non éligible\",\"Eligible\"))","v":""},{"$f":"CONCATENATE(AO407,AQ407)","v":""}]
["",null,null,null,null,null,"",null,null,null,null,null,null,0,null,0,"",null,null,null,0,null,null,null,0,null,null,null,0,"",null,"","","",false,"","","","","","","","",""]
["",null,null,null,null,null,"",null,null,null,null,null,null,0,null,0,"",null,null,null,0,null,null,null,0,null,null,null,0,"",null,"","","",false,"","","","","","","","",""]
["",null,null,null,null,null,"",null,null,null,null,null,null,0,null,0,"",null,null,null,0,null,null,null,0,null,null,null,0,"",null,"","","",false,"","","","","","","","",""]
["",null,null,null,null,null,"",null,null,null,null,null,null,0,null,0,"",null,null,null,0,null,null,null,0,null,null,null,0,"",null,"","","",false,"","","","","","","","",""]
["",null,null,null,null,null,"",null,null,null,null,null,null,0,null,0,"",null,null,null,0,null,null,null,0,null,null,null,0,"",null,"","","",false,"","","","","","","","",""]
["",null,null,null,null,null,"",null,null,null,null,null,null,0,null,0,"",null,null,null,0,null,null,null,0,null,null,null,0,"",null,"","","",false,"","","","","","","","",""]
["",null,null,null,null,null,"",null,null,null,null,null,null,0,null,0,"",null,null,null,0,null,null,null,0,null,null,null,0,"",null,"","","",false,"","","","","","","","",""]
["",null,null,null,null,null,"",null,null,null,null,null,null,0,null,0,"",null,null,null,0,null,null,null,0,null,null,null,0,"",null,"","","",false,"","","","","","","","",""]
["",null,null,null,null,null,"",null,null,null,null,null,null,0,null,0,"",null,null,null,0,null,null,null,0,null,null,null,0,"",null,"","","",false,"","","","","","","","",""]
["",null,null,null,null,null,"",null,null,null,null,null,null,0,null,0,"",null,null,null,0,null,null,null,0,null,null,null,0,"",null,"","","",false,"","","","","","","","",""]
["",null,null,null,null,null,"",null,null,null,null,null,null,0,null,0,"",null,null,null,0,null,null,null,0,null,null,null,0,"",null,"","","",false,"","","","","","","","",""]
["",null,null,null,null,null,"",null,null,null,null,null,null,0,null,0,"",null,null,null,0,null,null,null,0,null,null,null,0,"",null,"","","",false,"","","","","","","","",""]
["",null,null,null,null,null,"",null,null,null,null,null,null,0,null,0,"",null,null,null,0,null,null,null,0,null,null,null,0,"",null,"","","",false,"","","","","","","","",""]
["",null,null,null,null,null,"",null,null,null,null,null,null,0,null,0,"",null,null,null,0,null,null,null,0,null,null,null,0,"",null,"","","",false,"","","","","","","","",""]
["",null,null,null,null,null,"",null,null,null,null,null,null,0,null,0,"",null,null,null,0,null,null,null,0,null,null,null,0,"",null,"","","",false,"","","","","","","","",""]
["",null,null,null,null,null,"",null,null,null,null,null,null,0,null,0,"",null,null,null,0,null,null,null,0,null,null,null,0,"",null,"","","",false,"","","","","","","","",""]
["",null,null,null,null,null,"",null,null,null,null,null,null,0,null,0,"",null,null,null,0,null,null,null,0,null,null,null,0,"",null,"","","",false,"","","","","","","","",""]
["",null,null,null,null,null,"",null,null,null,null,null,null,0,null,0,"",null,null,null,0,null,null,null,0,null,null,null,0,"",null,"","","",false,"","","","","","","","",""]
["",null,null,null,null,null,"",null,null,null,null,null,null,0,null,0,"",null,null,null,0,null,null,null,0,null,null,null,0,"",null,"","","",false,"","","","","","","","",""]
["",null,null,null,null,null,"",null,null,null,null,null,null,0,null,0,"",null,null,null,0,null,null,null,0,null,null,null,0,"",null,"","","",false,"","","","","","","","",""]
["",null,null,null,null,null,"",null,null,null,null,null,null,0,null,0,"",null,null,null,0,null,null,null,0,null,null,null,0,"",null,"","","",false,"","","","","","","","",""]
["",null,null,null,null,null,"",null,null,null,null,null,null,0,null,0,"",null,null,null,0,null,null,null,0,null,null,null,0,"",null,"","","",false,"","","","","","","","",""]
["",null,null,null,null,null,"",null,null,null,null,null,null,0,null,0,"",null,null,null,0,null,null,null,0,null,null,null,0,"",null,"","","",false,"","","","","","","","",""]
["",null,null,null,null,null,"",null,null,null,null,null,null,0,null,0,"",null,null,null,0,null,null,null,0,null,null,null,0,"",null,"","","",false,"","","","","","","","",""]
["",null,null,null,null,null,"",null,null,null,null,null,null,0,null,0,"",null,null,null,0,null,null,null,0,null,null,null,0,"",null,"","","",false,"","","","","","","","",""]
["",null,null,null,null,null,"",null,null,null,null,null,null,0,null,0,"",null,null,null,0,null,null,null,0,null,null,null,0,"",null,"","","",false,"","","","","","","","",""]
["",null,null,null,null,null,"",null,null,null,null,null,null,0,null,0,"",null,null,null,0,null,null,null,0,null,null,null,0,"",null,"","","",false,"","","","","","","","",""]
["",null,null,null,null,null,"",null,null,null,null,null,null,0,null,0,"",null,null,null,0,null,null,null,0,null,null,null,0,"",null,"","","",false,"","","","","","","","",""]
["",null,null,null,null,null,"",null,null,null,null,null,null,0,null,0,"",null,null,null,0,null,null,null,0,null,null,null,0,"",null,"","","",false,"","","","","","","","",""]
["",null,null,null,null,null,"",null,null,null,null,null,null,0,null,0,"",null,null,null,0,null,null,null,0,null,null,null,0,"",null,"","","",false,"","","","","","","","",""]
["",null,null,null,null,null,"",null,null,null,null,null,null,0,null,0,"",null,null,null,0,null,null,null,0,null,null,null,0,"",null,"","","",false,"","","","","","","","",""]
["",null,null,null,null,null,"",null,null,null,null,null,null,0,null,0,"",null,null,null,0,null,null,null,0,null,null,null,0,"",null,"","","",false,"","","","","","","","",""]
["",null,null,null,null,null,"",null,null,null,null,null,null,0,null,0,"",null,null,null,0,null,null,null,0,null,null,null,0,"",null,"","","",false,"","","","","","","","",""]
["",null,null,null,null,null,"",null,null,null,null,null,null,0,null,0,"",null,null,null,0,null,null,null,0,null,null,null,0,"",null,"","","",false,"","","","","","","","",""]
["",null,null,null,null,null,"",null,null,null,null,null,null,0,null,0,"",null,null,null,0,null,null,null,0,null,null,null,0,"",null,"","","",false,"","","","","","","","",""]
["",null,null,null,null,null,"",null,null,null,null,null,null,0,null,0,"",null,null,null,0,null,null,null,0,null,null,null,0,"",null,"","","",false,"","","","","","","","",""]
["",null,null,null,null,null,"",null,null,null,null,null,null,0,null,0,"",null,null,null,0,null,null,null,0,null,null,null,0,"",null,"","","",false,"","","","","","","","",""]
["",null,null,null,null,null,"",null,null,null,null,null,null,0,null,0,"",null,null,null,0,null,null,null,0,null,null,null,0,"",null,"","","",false,"","","","","","","","",""]
["",null,null,null,null,null,"",null,null,null,null,null,null,0,null,0,"",null,null,null,0,null,null,null,0,null,null,null,0,"",null,"","","",false,"","","","","","","","",""]
["",null,null,null,null,null,"",null,null,null,null,null,null,0,null,0,"",null,null,null,0,null,null,null,0,null,null,null,0,"",null,"","","",false,"","","","","","","","",""]
["",null,null,null,null,null,"",null,null,null,null,null,null,0,null,0,"",null,null,null,0,null,null,null,0,null,null,null,0,"",null,"","","",false,"","","","","","","","",""]
["",null,null,null,null,null,"",null,null,null,null,null,null,0,null,0,"",null,null,null,0,null,null,null,0,null,null,null,0,"",null,"","","",false,"","","","","","","","",""]
["",null,null,null,null,null,"",null,null,null,null,null,null,0,null,0,"",null,null,null,0,null,null,null,0,null,null,null,0,"",null,"","","",false,"","","","","","","","",""]
["",null,null,null,null,null,"",null,null,null,null,null,null,0,null,0,"",null,null,null,0,null,null,null,0,null,null,null,0,"",null,"","","",false,"","","","","","","","",""]
["",null,null,null,null,null,"",null,null,null,null,null,null,0,null,0,"",null,null,null,0,null,null,null,0,null,null,null,0,"",null,"","","",false,"","","","","","","","",""]
["",null,null,null,null,null,"",null,null,null,null,null,null,0,null,0,"",null,null,null,0,null,null,null,0,null,null,null,0,"",null,"","","",false,"","","","","","","","",""]
["",null,null,null,null,null,"",null,null,null,null,null,null,0,null,0,"",null,null,null,0,null,null,null,0,null,null,null,0,"",null,"","","",false,"","","","","","","","",""]
["",null,null,null,null,null,"",null,null,null,null,null,null,0,null,0,"",null,null,null,0,null,null,null,0,null,null,null,0,"",null,"","","",false,"","","","","","","","",""]
["",null,null,null,null,null,"",null,null,null,null,null,null,0,null,0,"",null,null,null,0,null,null,null,0,null,null,null,0,"",null,"","","",false,"","","","","","","","",""]
["",null,null,null,null,null,"",null,null,null,null,null,null,0,null,0,"",null,null,null,0,null,null,null,0,null,null,null,0,"",null,"","","",false,"","","","","","","","",""]
["",null,null,null,null,null,"",null,null,null,null,null,null,0,null,0,"",null,null,null,0,null,null,null,0,null,null,null,0,"",null,"","","",false,"","","","","","","","",""]
["",null,null,null,null,null,"",null,null,null,null,null,null,0,null,0,"",null,null,null,0,null,null,null,0,null,null,null,0,"",null,"","","",false,"","","","","","","","",""]
["",null,null,null,null,null,"",null,null,null,null,null,null,0,null,0,"",null,null,null,0,null,null,null,0,null,null,null,0,"",null,"","","",false,"","","","","","","","",""]
["",null,null,null,null,null,"",null,null,null,null,null,null,0,null,0,"",null,null,null,0,null,null,null,0,null,null,null,0,"",null,"","","",false,"","","","","","","","",""]
["",null,null,null,null,null,"",null,null,null,null,null,null,0,null,0,"",null,null,null,0,null,null,null,0,null,null,null,0,"",null,"","","",false,"","","","","","","","",""]
["",null,null,null,null,null,"",null,null,null,null,null,null,0,null,0,"",null,null,null,0,null,null,null,0,null,null,null,0,"",null,"","","",false,"","","","","","","","",""]
["",null,null,null,null,null,"",null,null,null,null,null,null,0,null,0,"",null,null,null,0,null,null,null,0,null,null,null,0,{"$f":"IF(T464=\"\",\"\",Y464+AC464)","v":""},null,"","","",{"$f":"IF(AC464>=24,IF(AD464<48,TRUE,FALSE))","v":false},"","","","","","","","",""]
["",null,null,null,null,null,"",null,null,null,null,null,null,0,null,0,"",null,null,null,0,null,null,null,0,null,null,null,0,"",null,"","","",false,"","","","","","","","",""]
["",null,null,null,null,null,"",null,null,null,null,null,null,0,null,0,"",null,null,null,0,null,null,null,0,null,null,null,0,"",null,"","","",false,"","","","","","","","",""]
["",null,null,null,null,null,"",null,null,null,null,null,null,0,null,0,"",null,null,null,0,null,null,null,0,null,null,null,0,"",null,"","","",false,"","","","","","","","",""]
["",null,null,null,null,null,"",null,null,null,null,null,null,0,null,0,"",null,null,null,0,null,null,null,0,null,null,null,0,"",null,"","","",false,"","","","","","","","",""]
["",null,null,null,null,null,"",null,null,null,null,null,null,0,null,0,"",null,null,null,0,null,null,null,0,null,null,null,0,"",null,"","","",false,"","","","","","","","",""]
["",null,null,null,null,null,"",null,null,null,null,null,null,0,null,0,"",null,null,null,0,null,null,null,0,null,null,null,0,"",null,"","","",false,"","","","","","","","",""]
[{"$f":"IF(B471=\"\",\"\",A470+1)","v":""},null,null,null,null,null,{"$f":"IF(B471=\"\",\"\",IF(B471=\"Madame\",\"F\",\"H\"))","v":""},null,null,null,null,null,null,{"$f":"IF(L471=1,1,IF(M471=1,1,0))","v":0},null,{"$f":"O471*24","v":0},{"$f":"IF(OR(L471=1,M471=1),1,\"\")","v":""},null,null,null,{"$f":"T471*24","v":0},null,null,null,{"$f":"V471+W471+3/4*X471","v":0},null,null,null,{"$f":"Z471+AA471+3/4*AB471","v":0},"",null,{"$f":"CONCATENATE(AJ471,AL471,AM471,AR471)","v":""},{"$f":"IF(AI471=TRUE,\"Eligibilité ultérieure\",\"\")","v":""},{"$f":"IF(AG471=\"Eligibilité ultérieure\",48-AD471,\"\")","v":""},false,{"$f":"IF(S471=\"\",\"\",IF(S471=0,\"Non éligible\",\"\"))","v":""},{"$f":"IF(S471=\"\",\"\",IF(S471=0,\"\",IF(T471=\"\",\"\",IF(U471>=17.5,IF(S471=1,TRUE,\"\")))))","v":""},{"$f":"IF(AK471=FALSE,\"Non éligible\",\"\")","v":""},{"$f":"IF(AD471=\"\",\"\",IF(AD471=0,\"\",IF(AK471=TRUE,IF(U471>=17.5,IF(AD471>=48,\"Eligible\",\"Non éligible\")))))","v":""},{"$f":"IF(L471=\"\",\"\",IF(L471=1,IF(O471=\"\",\"\",IF(P471>=17.5,TRUE,FALSE))))","v":""},{"$f":"IF(AN471=\"\",\"\",IF(AN471=FALSE,\"Non éligible\",\"Eligible\"))","v":""},{"$f":"IF(M471=\"\",\"\",IF(M471=1,IF(O471=\"\",\"\",IF(P471>=17.5,TRUE,FALSE))))","v":""},{"$f":"IF(AP471=\"\",\"\",IF(AP471=FALSE,\"Non éligible\",\"Eligible\"))","v":""},{"$f":"CONCATENATE(AO471,AQ471)","v":""}]
["",null,null,null,null,null,"",null,null,null,null,null,null,0,null,0,"",null,null,null,0,null,null,null,0,null,null,null,0,"",null,"","","",false,"","","","","","","","",""]
["",null,null,null,null,null,"",null,null,null,null,null,null,0,null,0,"",null,null,null,0,null,null,null,0,null,null,null,0,"",null,"","","",false,"","","","","","","","",""]
["",null,null,null,null,null,"",null,null,null,null,null,null,0,null,0,"",null,null,null,0,null,null,null,0,null,null,null,0,"",null,"","","",false,"","","","","","","","",""]
["",null,null,null,null,null,"",null,null,null,null,null,null,0,null,0,"",null,null,null,0,null,null,null,0,null,null,null,0,"",null,"","","",false,"","","","","","","","",""]
["",null,null,null,null,null,"",null,null,null,null,null,null,0,null,0,"",null,null,null,0,null,null,null,0,null,null,null,0,"",null,"","","",false,"","","","","","","","",""]
["",null,null,null,null,null,"",null,null,null,null,null,null,0,null,0,"",null,null,null,0,null,null,null,0,null,null,null,0,"",null,"","","",false,"","","","","","","","",""]
["",null,null,null,null,null,"",null,null,null,null,null,null,0,null,0,"",null,null,null,0,null,null,null,0,null,null,null,0,"",null,"","","",false,"","","","","","","","",""]
["",null,null,null,null,null,"",null,null,null,null,null,null,0,null,0,"",null,null,null,0,null,null,null,0,null,null,null,0,"",null,"","","",false,"","","","","","","","",""]
["",null,null,null,null,null,"",null,null,null,null,null,null,0,null,0,"",null,null,null,0,null,null,null,0,null,null,null,0,"",null,"","","",false,"","","","","","","","",""]
["",null,null,null,null,null,"",null,null,null,null,null,null,0,null,0,"",null,null,null,0,null,null,null,0,null,null,null,0,"",null,"","","",false,"","","","","","","","",""]
["",null,null,null,null,null,"",null,null,null,null,null,null,0,null,0,"",null,null,null,0,null,null,null,0,null,null,null,0,"",null,"","","",false,"","","","","","","","",""]
["",null,null,null,null,null,"",null,null,null,null,null,null,0,null,0,"",null,null,null,0,null,null,null,0,null,null,null,0,"",null,"","","",false,"","","","","","","","",""]
["",null,null,null,null,null,"",null,null,null,null,null,null,0,null,0,"",null,null,null,0,null,null,null,0,null,null,null,0,"",null,"","","",false,"","","","","","","","",""]
["",null,null,null,null,null,"",null,null,null,null,null,null,0,null,0,"",null,null,null,0,null,null,null,0,null,null,null,0,"",null,"","","",false,"","","","","","","","",""]
["",null,null,null,null,null,"",null,null,null,null,null,null,0,null,0,"",null,null,null,0,null,null,null,0,null,null,null,0,"",null,"","","",false,"","","","","","","","",""]
["",null,null,null,null,null,"",null,null,null,null,null,null,0,null,0,"",null,null,null,0,null,null,null,0,null,null,null,0,"",null,"","","",false,"","","","","","","","",""]
["",null,null,null,null,null,"",null,null,null,null,null,null,0,null,0,"",null,null,null,0,null,null,null,0,null,null,null,0,"",null,"","","",false,"","","","","","","","",""]
["",null,null,null,null,null,"",null,null,null,null,null,null,0,null,0,"",null,null,null,0,null,null,null,0,null,null,null,0,"",null,"","","",false,"","","","","","","","",""]
["",null,null,null,null,null,"",null,null,null,null,null,null,0,null,0,"",null,null,null,0,null,null,null,0,null,null,null,0,"",null,"","","",false,"","","","","","","","",""]
["",null,null,null,null,null,"",null,null,null,null,null,null,0,null,0,"",null,null,null,0,null,null,null,0,null,null,null,0,"",null,"","","",false,"","","","","","","","",""]
["",null,null,null,null,null,"",null,null,null,null,null,null,0,null,0,"",null,null,null,0,null,null,null,0,null,null,null,0,"",null,"","","",false,"","","","","","","","",""]
["",null,null,null,null,null,"",null,null,null,null,null,null,0,null,0,"",null,null,null,0,null,null,null,0,null,null,null,0,"",null,"","","",false,"","","","","","","","",""]
["",null,null,null,null,null,"",null,null,null,null,null,null,0,null,0,"",null,null,null,0,null,null,null,0,null,null,null,0,"",null,"","","",false,"","","","","","","","",""]
["",null,null,null,null,null,"",null,null,null,null,null,null,0,null,0,"",null,null,null,0,null,null,null,0,null,null,null,0,"",null,"","","",false,"","","","","","","","",""]
["",null,null,null,null,null,"",null,null,null,null,null,null,0,null,0,"",null,null,null,0,null,null,null,0,null,null,null,0,"",null,"","","",false,"","","","","","","","",""]
["",null,null,null,null,null,"",null,null,null,null,null,null,0,null,0,"",null,null,null,0,null,null,null,0,null,null,null,0,"",null,"","","",false,"","","","","","","","",""]
["",null,null,null,null,null,"",null,null,null,null,null,null,0,null,0,"",null,null,null,0,null,null,null,0,null,null,null,0,"",null,"","","",false,"","","","","","","","",""]
["",null,null,null,null,null,"",null,null,null,null,null,null,0,null,0,"",null,null,null,0,null,null,null,0,null,null,null,0,"",null,"","","",false,"","","","","","","","",""]
["",null,null,null,null,null,"",null,null,null,null,null,null,0,null,0,"",null,null,null,0,null,null,null,0,null,null,null,0,"",null,"","","",false,"","","","","","","","",""]
["",null,null,null,null,null,"",null,null,null,null,null,null,0,null,0,"",null,null,null,0,null,null,null,0,null,null,null,0,"",null,"","","",false,"","","","","","","","",""]
["",null,null,null,null,null,"",null,null,null,null,null,null,0,null,0,"",null,null,null,0,null,null,null,0,null,null,null,0,"",null,"","","",false,"","","","","","","","",""]
["",null,null,null,null,null,"",null,null,null,null,null,null,0,null,0,"",null,null,null,0,null,null,null,0,null,null,null,0,"",null,"","","",false,"","","","","","","","",""]
["",null,null,null,null,null,"",null,null,null,null,null,null,0,null,0,"",null,null,null,0,null,null,null,0,null,null,null,0,"",null,"","","",false,"","","","","","","","",""]
["",null,null,null,null,null,"",null,null,null,null,null,null,0,null,0,"",null,null,null,0,null,null,null,0,null,null,null,0,"",null,"","","",false,"","","","","","","","",""]
["",null,null,null,null,null,"",null,null,null,null,null,null,0,null,0,"",null,null,null,0,null,null,null,0,null,null,null,0,"",null,"","","",false,"","","","","","","","",""]
["",null,null,null,null,null,"",null,null,null,null,null,null,0,null,0,"",null,null,null,0,null,null,null,0,null,null,null,0,"",null,"","","",false,"","","","","","","","",""]
["",null,null,null,null,null,"",null,null,null,null,null,null,0,null,0,"",null,null,null,0,null,null,null,0,null,null,null,0,"",null,"","","",false,"","","","","","","","",""]
["",null,null,null,null,null,"",null,null,null,null,null,null,0,null,0,"",null,null,null,0,null,null,null,0,null,null,null,0,"",null,"","","",false,"","","","","","","","",""]
["",null,null,null,null,null,"",null,null,null,null,null,null,0,null,0,"",null,null,null,0,null,null,null,0,null,null,null,0,"",null,"","","",false,"","","","","","","","",""]
["",null,null,null,null,null,"",null,null,null,null,null,null,0,null,0,"",null,null,null,0,null,null,null,0,null,null,null,0,"",null,"","","",false,"","","","","","","","",""]
["",null,null,null,null,null,"",null,null,null,null,null,null,0,null,0,"",null,null,null,0,null,null,null,0,null,null,null,0,"",null,"","","",false,"","","","","","","","",""]
["",null,null,null,null,null,"",null,null,null,null,null,null,0,null,0,"",null,null,null,0,null,null,null,0,null,null,null,0,"",null,"","","",false,"","","","","","","","",""]
["",null,null,null,null,null,"",null,null,null,null,null,null,0,null,0,"",null,null,null,0,null,null,null,0,null,null,null,0,"",null,"","","",false,"","","","","","","","",""]
["",null,null,null,null,null,"",null,null,null,null,null,null,0,null,0,"",null,null,null,0,null,null,null,0,null,null,null,0,"",null,"","","",false,"","","","","","","","",""]

{"sheet":"Eligibilité ultérieure","index":6,"n_rows":513,"n_cols":27,"rows_kept":513,"cut":false,"hidden":false,"merged":[[8,25,11,25],[8,16,9,16],[8,12,11,15],[8,19,11,19],[9,0,10,0],[9,8,11,8],[9,4,11,4],[9,5,11,5],[1,0,1,26],[8,10,10,10],[5,0,5,26],[8,11,11,11],[9,2,11,2],[3,0,3,26],[4,0,4,26],[8,17,11,17],[8,18,11,18],[9,1,10,1],[9,3,11,3],[9,6,11,6],[8,26,9,26],[8,20,11,24],[9,9,11,9],[9,7,11,7]]}
[]
["Accès au dispositif de titularisation ultérieure - version 2016-v3 maj 27/10/2016"]
[]
["Les services accomplis à temps partiel sont assimilés à des services à temps complet"]
["Les services accomplis à Temps Non Complet > ou = à 17 h 30 sont assimilés à des services à temps complet"]
["Les services à Temps Non Complet < 17 h 30 sont assimilés aux 3/4 du temps complet"]
["Pour actualiser le contenu du tableau, aller sur le filtre de la colonne \"Civilité\" (cellule \"B12\") puis cliquer sur \"OK\" (ni décocher ni cocher d'autres cellules)"]
[]
["Informations personnelles",null,null,null,null,null,null,null,null,null,"Total des périodes d'activité entre le 3103/2007 et le 30/03/2013","Services manquants depuis le 31/03/2013 (en mois centièmes)","Transformation des mois centièmes en années mois jours",null,null,null,"Services restants à effectuer à compter du","Transformation des services en jours","Temps écoulé entre le 01/04/2013 et aujourd'hui en jours","Différence colonne p - q","Transformation des services en jours",null,null,null,null,"Affichage","Services restants à effectuer à compter de la date du jour (cf commentaires)"]
["N°","Civilité","Nom d'épouse","Nom de famille","Prénom","Date de naissance","Sexe","Filière","Grade","Catégorie hiérarchique (A,B,C)"]
[null,null,null,null,null,null,null,null,null,null,null,null,null,null,null,null,"2013-03-31",null,null,null,null,null,null,null,null,null,{"$f":"TODAY()","v":"2016-10-27"}]
[null,null,null,null,null,null,null,null,null,null,"(rappel)",null,null,null,null,null,"(sans interruption)",null,null,null,null,null,null,null,null,null,"(sans interruption)"]
[{"$f":"IF(eligibilité!AG15=\"\",\"\",eligibilité!A15)","v":""},{"$f":"IF(A13=\"\",\"\",IF(VLOOKUP(A13,eligibilité!$A$15:$J$515,2,TRUE)=\"\",\"\",VLOOKUP(A13,eligibilité!$A$15:$J$515,2,TRUE)))","v":""},{"$f":"IF(A13=\"\",\"\",IF(VLOOKUP(A13,eligibilité!$A$15:$AG$515,3,TRUE)=\"\",\"\",VLOOKUP(A13,eligibilité!$A$15:$AG$515,3,TRUE)))","v":""},{"$f":"IF(A13=\"\",\"\",IF(VLOOKUP(A13,eligibilité!$A$15:$AG$515,4,TRUE)=\"\",\"\",VLOOKUP(A13,eligibilité!$A$15:$AG$515,4,TRUE)))","v":""},{"$f":"IF(A13=\"\",\"\",IF(VLOOKUP(A13,eligibilité!$A$15:$AG$515,5,TRUE)=\"\",\"\",VLOOKUP(A13,eligibilité!$A$15:$AG$515,5,TRUE)))","v":""},{"$f":"IF(A13=\"\",\"\",IF(VLOOKUP(A13,eligibilité!$A$15:$AG$515,6,TRUE)=\"\",\"\",VLOOKUP(A13,eligibilité!$A$15:$AG$515,6,TRUE)))","v":""},{"$f":"IF(A13=\"\",\"\",IF(VLOOKUP(A13,eligibilité!$A$15:$AG$515,7,TRUE)=\"\",\"\",VLOOKUP(A13,eligibilité!$A$15:$AG$515,7,TRUE)))","v":""},{"$f":"IF(A13=\"\",\"\",IF(VLOOKUP(A13,eligibilité!$A$15:$AG$515,8,TRUE)=\"\",\"\",VLOOKUP(A13,eligibilité!$A$15:$AG$515,8,TRUE)))","v":""},{"$f":"IF(A13=\"\",\"\",IF(VLOOKUP(A13,eligibilité!$A$15:$AG$515,9,TRUE)=\"\",\"\",VLOOKUP(A13,eligibilité!$A$15:$AG$515,9,TRUE)))","v":""},{"$f":"IF(A13=\"\",\"\",IF(VLOOKUP(A13,eligibilité!$A$15:$AG$515,10,TRUE)=\"\",\"\",VLOOKUP(A13,eligibilité!$A$15:$AG$515,10,TRUE)))","v":""},{"$f":"IF(A13=\"\",\"\",IF(VLOOKUP(A13,eligibilité!$A$15:$AG$515,30,FALSE)=0,\"\",VLOOKUP(A13,eligibilité!$A$15:$AG$515,30,FALSE)))","v":""},{"$f":"IF(K13=\"\",\"\",48-K13)","v":""},{"$f":"IF(L13=\"\",\"\",INT(L13/12))","v":""},{"$f":"IF(L13=\"\",\"\",(L13-M13*12))","v":""},{"$f":"IF(L13=\"\",\"\",INT(N13))","v":""},{"$f":"IF(L13=\"\",\"\",ROUNDDOWN((N13-O13)*30.44,0))","v":""},{"$f":"IF(K13=\"\",\"\",CONCATENATE(M13,\" an(s) \",O13,\" mois \",P13,\" jour(s)\"))","v":""},{"$f":"IF(K13=\"\",\"\",M13*365.25+O13*30.44+P13)","v":""},{"$f":"TODAY()-DATE(2013,4,1)","v":1305},{"$f":"IF(R13=\"\",\"\",R13-S13)","v":""},{"$f":"IF(L13=\"\",\"\",IF(T13<=365.25,0,INT(T13/365.25)))","v":""},{"$f":"IF(T13=\"\",\"\",T13-U13)","v":""},{"$f":"IF(L13=\"\",\"\",IF(U13=0,(T13/30.44),(T13/30.44)-12))","v":""},{"$f":"IF(W13=\"\",\"\",ABS(ROUNDDOWN(W13,0)))","v":""},{"$f":"IF(T13=\"\",\"\",ROUNDDOWN(ABS(W13-ROUNDDOWN(W13,0))*30.44,0))","v":""},{"$f":"IF(T13<=0,\"Temps écoulé depuis : \",\"Temps restant : \")","v":"Temps restant : "},{"$f":"IF(L13=\"\",\"\",CONCATENATE(Z13,U13,\" an(s) \",X13,\" mois \",Y13,\" jour(s) \"))","v":""}]
[{"$f":"IF(eligibilité!AG16=\"\",\"\",eligibilité!A16)","v":""},{"$f":"IF(A14=\"\",\"\",IF(VLOOKUP(A14,eligibilité!$A$15:$J$515,2,TRUE)=\"\",\"\",VLOOKUP(A14,eligibilité!$A$15:$J$515,2,TRUE)))","v":""},{"$f":"IF(A14=\"\",\"\",IF(VLOOKUP(A14,eligibilité!$A$15:$AG$515,3,TRUE)=\"\",\"\",VLOOKUP(A14,eligibilité!$A$15:$AG$515,3,TRUE)))","v":""},{"$f":"IF(A14=\"\",\"\",IF(VLOOKUP(A14,eligibilité!$A$15:$AG$515,4,TRUE)=\"\",\"\",VLOOKUP(A14,eligibilité!$A$15:$AG$515,4,TRUE)))","v":""},{"$f":"IF(A14=\"\",\"\",IF(VLOOKUP(A14,eligibilité!$A$15:$AG$515,5,TRUE)=\"\",\"\",VLOOKUP(A14,eligibilité!$A$15:$AG$515,5,TRUE)))","v":""},{"$f":"IF(A14=\"\",\"\",IF(VLOOKUP(A14,eligibilité!$A$15:$AG$515,6,TRUE)=\"\",\"\",VLOOKUP(A14,eligibilité!$A$15:$AG$515,6,TRUE)))","v":""},{"$f":"IF(A14=\"\",\"\",IF(VLOOKUP(A14,eligibilité!$A$15:$AG$515,7,TRUE)=\"\",\"\",VLOOKUP(A14,eligibilité!$A$15:$AG$515,7,TRUE)))","v":""},{"$f":"IF(A14=\"\",\"\",IF(VLOOKUP(A14,eligibilité!$A$15:$AG$515,8,TRUE)=\"\",\"\",VLOOKUP(A14,eligibilité!$A$15:$AG$515,8,TRUE)))","v":""},{"$f":"IF(A14=\"\",\"\",IF(VLOOKUP(A14,eligibilité!$A$15:$AG$515,9,TRUE)=\"\",\"\",VLOOKUP(A14,eligibilité!$A$15:$AG$515,9,TRUE)))","v":""},{"$f":"IF(A14=\"\",\"\",IF(VLOOKUP(A14,eligibilité!$A$15:$AG$515,10,TRUE)=\"\",\"\",VLOOKUP(A14,eligibilité!$A$15:$AG$515,10,TRUE)))","v":""},{"$f":"IF(A14=\"\",\"\",IF(VLOOKUP(A14,eligibilité!$A$15:$AG$515,30,FALSE)=0,\"\",VLOOKUP(A14,eligibilité!$A$15:$AG$515,30,FALSE)))","v":""},{"$f":"IF(K14=\"\",\"\",48-K14)","v":""},{"$f":"IF(L14=\"\",\"\",INT(L14/12))","v":""},{"$f":"IF(L14=\"\",\"\",(L14-M14*12))","v":""},{"$f":"IF(L14=\"\",\"\",INT(N14))","v":""},{"$f":"IF(L14=\"\",\"\",ROUNDDOWN((N14-O14)*30.44,0))","v":""},{"$f":"IF(K14=\"\",\"\",CONCATENATE(M14,\" an(s) \",O14,\" mois \",P14,\" jour(s)\"))","v":""},{"$f":"IF(K14=\"\",\"\",M14*365.25+O14*30.44+P14)","v":""},{"$f":"TODAY()-DATE(2013,4,1)","v":1305},{"$f":"IF(R14=\"\",\"\",R14-S14)","v":""},{"$f":"IF(L14=\"\",\"\",IF(T14<=365.25,0,INT(T14/365.25)))","v":""},{"$f":"IF(T14=\"\",\"\",T14-U14)","v":""},{"$f":"IF(L14=\"\",\"\",IF(U14=0,(T14/30.44),(T14/30.44)-12))","v":""},{"$f":"IF(W14=\"\",\"\",ABS(ROUNDDOWN(W14,0)))","v":""},{"$f":"IF(T14=\"\",\"\",ROUNDDOWN(ABS(W14-ROUNDDOWN(W14,0))*30.44,0))","v":""},{"$f":"IF(T14<=0,\"Temps écoulé depuis : \",\"Temps restant : \")","v":"Temps restant : "},{"$f":"IF(L14=\"\",\"\",CONCATENATE(Z14,U14,\" an(s) \",X14,\" mois \",Y14,\" jour(s) \"))","v":""}]
[{"$f":"IF(eligibilité!AG17=\"\",\"\",eligibilité!A17)","v":""},{"$f":"IF(A15=\"\",\"\",IF(VLOOKUP(A15,eligibilité!$A$15:$J$515,2,TRUE)=\"\",\"\",VLOOKUP(A15,eligibilité!$A$15:$J$515,2,TRUE)))","v":""},{"$f":"IF(A15=\"\",\"\",IF(VLOOKUP(A15,eligibilité!$A$15:$AG$515,3,TRUE)=\"\",\"\",VLOOKUP(A15,eligibilité!$A$15:$AG$515,3,TRUE)))","v":""},{"$f":"IF(A15=\"\",\"\",IF(VLOOKUP(A15,eligibilité!$A$15:$AG$515,4,TRUE)=\"\",\"\",VLOOKUP(A15,eligibilité!$A$15:$AG$515,4,TRUE)))","v":""},{"$f":"IF(A15=\"\",\"\",IF(VLOOKUP(A15,eligibilité!$A$15:$AG$515,5,TRUE)=\"\",\"\",VLOOKUP(A15,eligibilité!$A$15:$AG$515,5,TRUE)))","v":""},{"$f":"IF(A15=\"\",\"\",IF(VLOOKUP(A15,eligibilité!$A$15:$AG$515,6,TRUE)=\"\",\"\",VLOOKUP(A15,eligibilité!$A$15:$AG$515,6,TRUE)))","v":""},{"$f":"IF(A15=\"\",\"\",IF(VLOOKUP(A15,eligibilité!$A$15:$AG$515,7,TRUE)=\"\",\"\",VLOOKUP(A15,eligibilité!$A$15:$AG$515,7,TRUE)))","v":""},{"$f":"IF(A15=\"\",\"\",IF(VLOOKUP(A15,eligibilité!$A$15:$AG$515,8,TRUE)=\"\",\"\",VLOOKUP(A15,eligibilité!$A$15:$AG$515,8,TRUE)))","v":""},{"$f":"IF(A15=\"\",\"\",IF(VLOOKUP(A15,eligibilité!$A$15:$AG$515,9,TRUE)=\"\",\"\",VLOOKUP(A15,eligibilité!$A$15:$AG$515,9,TRUE)))","v":""},{"$f":"IF(A15=\"\",\"\",IF(VLOOKUP(A15,eligibilité!$A$15:$AG$515,10,TRUE)=\"\",\"\",VLOOKUP(A15,eligibilité!$A$15:$AG$515,10,TRUE)))","v":""},{"$f":"IF(A15=\"\",\"\",IF(VLOOKUP(A15,eligibilité!$A$15:$AG$515,30,FALSE)=0,\"\",VLOOKUP(A15,eligibilité!$A$15:$AG$515,30,FALSE)))","v":""},"","","","","","","",{"$f":"TODAY()-DATE(2013,4,1)","v":1305},"","","","","","","Temps restant : ",""]
[{"$f":"IF(eligibilité!AG18=\"\",\"\",eligibilité!A18)","v":""},{"$f":"IF(A16=\"\",\"\",IF(VLOOKUP(A16,eligibilité!$A$15:$J$515,2,TRUE)=\"\",\"\",VLOOKUP(A16,eligibilité!$A$15:$J$515,2,TRUE)))","v":""},{"$f":"IF(A16=\"\",\"\",IF(VLOOKUP(A16,eligibilité!$A$15:$AG$515,3,TRUE)=\"\",\"\",VLOOKUP(A16,eligibilité!$A$15:$AG$515,3,TRUE)))","v":""},{"$f":"IF(A16=\"\",\"\",IF(VLOOKUP(A16,eligibilité!$A$15:$AG$515,4,TRUE)=\"\",\"\",VLOOKUP(A16,eligibilité!$A$15:$AG$515,4,TRUE)))","v":""},{"$f":"IF(A16=\"\",\"\",IF(VLOOKUP(A16,eligibilité!$A$15:$AG$515,5,TRUE)=\"\",\"\",VLOOKUP(A16,eligibilité!$A$15:$AG$515,5,TRUE)))","v":""},{"$f":"IF(A16=\"\",\"\",IF(VLOOKUP(A16,eligibilité!$A$15:$AG$515,6,TRUE)=\"\",\"\",VLOOKUP(A16,eligibilité!$A$15:$AG$515,6,TRUE)))","v":""},{"$f":"IF(A16=\"\",\"\",IF(VLOOKUP(A16,eligibilité!$A$15:$AG$515,7,TRUE)=\"\",\"\",VLOOKUP(A16,eligibilité!$A$15:$AG$515,7,TRUE)))","v":""},{"$f":"IF(A16=\"\",\"\",IF(VLOOKUP(A16,eligibilité!$A$15:$AG$515,8,TRUE)=\"\",\"\",VLOOKUP(A16,eligibilité!$A$15:$AG$515,8,TRUE)))","v":""},{"$f":"IF(A16=\"\",\"\",IF(VLOOKUP(A16,eligibilité!$A$15:$AG$515,9,TRUE)=\"\",\"\",VLOOKUP(A16,eligibilité!$A$15:$AG$515,9,TRUE)))","v":""},{"$f":"IF(A16=\"\",\"\",IF(VLOOKUP(A16,eligibilité!$A$15:$AG$515,10,TRUE)=\"\",\"\",VLOOKUP(A16,eligibilité!$A$15:$AG$515,10,TRUE)))","v":""},{"$f":"IF(A16=\"\",\"\",IF(VLOOKUP(A16,eligibilité!$A$15:$AG$515,30,FALSE)=0,\"\",VLOOKUP(A16,eligibilité!$A$15:$AG$515,30,FALSE)))","v":""},"","","","","","","",1305,"","","","","","","Temps restant : ",""]
[{"$f":"IF(eligibilité!AG19=\"\",\"\",eligibilité!A19)","v":""},{"$f":"IF(A17=\"\",\"\",IF(VLOOKUP(A17,eligibilité!$A$15:$J$515,2,TRUE)=\"\",\"\",VLOOKUP(A17,eligibilité!$A$15:$J$515,2,TRUE)))","v":""},{"$f":"IF(A17=\"\",\"\",IF(VLOOKUP(A17,eligibilité!$A$15:$AG$515,3,TRUE)=\"\",\"\",VLOOKUP(A17,eligibilité!$A$15:$AG$515,3,TRUE)))","v":""},{"$f":"IF(A17=\"\",\"\",IF(VLOOKUP(A17,eligibilité!$A$15:$AG$515,4,TRUE)=\"\",\"\",VLOOKUP(A17,eligibilité!$A$15:$AG$515,4,TRUE)))","v":""},{"$f":"IF(A17=\"\",\"\",IF(VLOOKUP(A17,eligibilité!$A$15:$AG$515,5,TRUE)=\"\",\"\",VLOOKUP(A17,eligibilité!$A$15:$AG$515,5,TRUE)))","v":""},{"$f":"IF(A17=\"\",\"\",IF(VLOOKUP(A17,eligibilité!$A$15:$AG$515,6,TRUE)=\"\",\"\",VLOOKUP(A17,eligibilité!$A$15:$AG$515,6,TRUE)))","v":""},{"$f":"IF(A17=\"\",\"\",IF(VLOOKUP(A17,eligibilité!$A$15:$AG$515,7,TRUE)=\"\",\"\",VLOOKUP(A17,eligibilité!$A$15:$AG$515,7,TRUE)))","v":""},{"$f":"IF(A17=\"\",\"\",IF(VLOOKUP(A17,eligibilité!$A$15:$AG$515,8,TRUE)=\"\",\"\",VLOOKUP(A17,eligibilité!$A$15:$AG$515,8,TRUE)))","v":""},{"$f":"IF(A17=\"\",\"\",IF(VLOOKUP(A17,eligibilité!$A$15:$AG$515,9,TRUE)=\"\",\"\",VLOOKUP(A17,eligibilité!$A$15:$AG$515,9,TRUE)))","v":""},{"$f":"IF(A17=\"\",\"\",IF(VLOOKUP(A17,eligibilité!$A$15:$AG$515,10,TRUE)=\"\",\"\",VLOOKUP(A17,eligibilité!$A$15:$AG$515,10,TRUE)))","v":""},{"$f":"IF(A17=\"\",\"\",IF(VLOOKUP(A17,eligibilité!$A$15:$AG$515,30,FALSE)=0,\"\",VLOOKUP(A17,eligibilité!$A$15:$AG$515,30,FALSE)))","v":""},"","","","","","","",1305,"","","","","","","Temps restant : ",""]
[{"$f":"IF(eligibilité!AG20=\"\",\"\",eligibilité!A20)","v":""},{"$f":"IF(A18=\"\",\"\",IF(VLOOKUP(A18,eligibilité!$A$15:$J$515,2,TRUE)=\"\",\"\",VLOOKUP(A18,eligibilité!$A$15:$J$515,2,TRUE)))","v":""},{"$f":"IF(A18=\"\",\"\",IF(VLOOKUP(A18,eligibilité!$A$15:$AG$515,3,TRUE)=\"\",\"\",VLOOKUP(A18,eligibilité!$A$15:$AG$515,3,TRUE)))","v":""},{"$f":"IF(A18=\"\",\"\",IF(VLOOKUP(A18,eligibilité!$A$15:$AG$515,4,TRUE)=\"\",\"\",VLOOKUP(A18,eligibilité!$A$15:$AG$515,4,TRUE)))","v":""},{"$f":"IF(A18=\"\",\"\",IF(VLOOKUP(A18,eligibilité!$A$15:$AG$515,5,TRUE)=\"\",\"\",VLOOKUP(A18,eligibilité!$A$15:$AG$515,5,TRUE)))","v":""},{"$f":"IF(A18=\"\",\"\",IF(VLOOKUP(A18,eligibilité!$A$15:$AG$515,6,TRUE)=\"\",\"\",VLOOKUP(A18,eligibilité!$A$15:$AG$515,6,TRUE)))","v":""},{"$f":"IF(A18=\"\",\"\",IF(VLOOKUP(A18,eligibilité!$A$15:$AG$515,7,TRUE)=\"\",\"\",VLOOKUP(A18,eligibilité!$A$15:$AG$515,7,TRUE)))","v":""},{"$f":"IF(A18=\"\",\"\",IF(VLOOKUP(A18,eligibilité!$A$15:$AG$515,8,TRUE)=\"\",\"\",VLOOKUP(A18,eligibilité!$A$15:$AG$515,8,TRUE)))","v":""},{"$f":"IF(A18=\"\",\"\",IF(VLOOKUP(A18,eligibilité!$A$15:$AG$515,9,TRUE)=\"\",\"\",VLOOKUP(A18,eligibilité!$A$15:$AG$515,9,TRUE)))","v":""},{"$f":"IF(A18=\"\",\"\",IF(VLOOKUP(A18,eligibilité!$A$15:$AG$515,10,TRUE)=\"\",\"\",VLOOKUP(A18,eligibilité!$A$15:$AG$515,10,TRUE)))","v":""},{"$f":"IF(A18=\"\",\"\",IF(VLOOKUP(A18,eligibilité!$A$15:$AG$515,30,FALSE)=0,\"\",VLOOKUP(A18,eligibilité!$A$15:$AG$515,30,FALSE)))","v":""},"","","","","","","",1305,"","","","","","","Temps restant : ",""]
[{"$f":"IF(eligibilité!AG21=\"\",\"\",eligibilité!A21)","v":""},{"$f":"IF(A19=\"\",\"\",IF(VLOOKUP(A19,eligibilité!$A$15:$J$515,2,TRUE)=\"\",\"\",VLOOKUP(A19,eligibilité!$A$15:$J$515,2,TRUE)))","v":""},{"$f":"IF(A19=\"\",\"\",IF(VLOOKUP(A19,eligibilité!$A$15:$AG$515,3,TRUE)=\"\",\"\",VLOOKUP(A19,eligibilité!$A$15:$AG$515,3,TRUE)))","v":""},{"$f":"IF(A19=\"\",\"\",IF(VLOOKUP(A19,eligibilité!$A$15:$AG$515,4,TRUE)=\"\",\"\",VLOOKUP(A19,eligibilité!$A$15:$AG$515,4,TRUE)))","v":""},{"$f":"IF(A19=\"\",\"\",IF(VLOOKUP(A19,eligibilité!$A$15:$AG$515,5,TRUE)=\"\",\"\",VLOOKUP(A19,eligibilité!$A$15:$AG$515,5,TRUE)))","v":""},{"$f":"IF(A19=\"\",\"\",IF(VLOOKUP(A19,eligibilité!$A$15:$AG$515,6,TRUE)=\"\",\"\",VLOOKUP(A19,eligibilité!$A$15:$AG$515,6,TRUE)))","v":""},{"$f":"IF(A19=\"\",\"\",IF(VLOOKUP(A19,eligibilité!$A$15:$AG$515,7,TRUE)=\"\",\"\",VLOOKUP(A19,eligibilité!$A$15:$AG$515,7,TRUE)))","v":""},{"$f":"IF(A19=\"\",\"\",IF(VLOOKUP(A19,eligibilité!$A$15:$AG$515,8,TRUE)=\"\",\"\",VLOOKUP(A19,eligibilité!$A$15:$AG$515,8,TRUE)))","v":""},{"$f":"IF(A19=\"\",\"\",IF(VLOOKUP(A19,eligibilité!$A$15:$AG$515,9,TRUE)=\"\",\"\",VLOOKUP(A19,eligibilité!$A$15:$AG$515,9,TRUE)))","v":""},{"$f":"IF(A19=\"\",\"\",IF(VLOOKUP(A19,eligibilité!$A$15:$AG$515,10,TRUE)=\"\",\"\",VLOOKUP(A19,eligibilité!$A$15:$AG$515,10,TRUE)))","v":""},{"$f":"IF(A19=\"\",\"\",IF(VLOOKUP(A19,eligibilité!$A$15:$AG$515,30,FALSE)=0,\"\",VLOOKUP(A19,eligibilité!$A$15:$AG$515,30,FALSE)))","v":""},"","","","","","","",1305,"","","","","","","Temps restant : ",""]
[{"$f":"IF(eligibilité!AG22=\"\",\"\",eligibilité!A22)","v":""},{"$f":"IF(A20=\"\",\"\",IF(VLOOKUP(A20,eligibilité!$A$15:$J$515,2,TRUE)=\"\",\"\",VLOOKUP(A20,eligibilité!$A$15:$J$515,2,TRUE)))","v":""},{"$f":"IF(A20=\"\",\"\",IF(VLOOKUP(A20,eligibilité!$A$15:$AG$515,3,TRUE)=\"\",\"\",VLOOKUP(A20,eligibilité!$A$15:$AG$515,3,TRUE)))","v":""},{"$f":"IF(A20=\"\",\"\",IF(VLOOKUP(A20,eligibilité!$A$15:$AG$515,4,TRUE)=\"\",\"\",VLOOKUP(A20,eligibilité!$A$15:$AG$515,4,TRUE)))","v":""},{"$f":"IF(A20=\"\",\"\",IF(VLOOKUP(A20,eligibilité!$A$15:$AG$515,5,TRUE)=\"\",\"\",VLOOKUP(A20,eligibilité!$A$15:$AG$515,5,TRUE)))","v":""},{"$f":"IF(A20=\"\",\"\",IF(VLOOKUP(A20,eligibilité!$A$15:$AG$515,6,TRUE)=\"\",\"\",VLOOKUP(A20,eligibilité!$A$15:$AG$515,6,TRUE)))","v":""},{"$f":"IF(A20=\"\",\"\",IF(VLOOKUP(A20,eligibilité!$A$15:$AG$515,7,TRUE)=\"\",\"\",VLOOKUP(A20,eligibilité!$A$15:$AG$515,7,TRUE)))","v":""},{"$f":"IF(A20=\"\",\"\",IF(VLOOKUP(A20,eligibilité!$A$15:$AG$515,8,TRUE)=\"\",\"\",VLOOKUP(A20,eligibilité!$A$15:$AG$515,8,TRUE)))","v":""},{"$f":"IF(A20=\"\",\"\",IF(VLOOKUP(A20,eligibilité!$A$15:$AG$515,9,TRUE)=\"\",\"\",VLOOKUP(A20,eligibilité!$A$15:$AG$515,9,TRUE)))","v":""},{"$f":"IF(A20=\"\",\"\",IF(VLOOKUP(A20,eligibilité!$A$15:$AG$515,10,TRUE)=\"\",\"\",VLOOKUP(A20,eligibilité!$A$15:$AG$515,10,TRUE)))","v":""},{"$f":"IF(A20=\"\",\"\",IF(VLOOKUP(A20,eligibilité!$A$15:$AG$515,30,FALSE)=0,\"\",VLOOKUP(A20,eligibilité!$A$15:$AG$515,30,FALSE)))","v":""},"","","","","","","",1305,"","","","","","","Temps restant : ",""]
[{"$f":"IF(eligibilité!AG23=\"\",\"\",eligibilité!A23)","v":""},{"$f":"IF(A21=\"\",\"\",IF(VLOOKUP(A21,eligibilité!$A$15:$J$515,2,TRUE)=\"\",\"\",VLOOKUP(A21,eligibilité!$A$15:$J$515,2,TRUE)))","v":""},{"$f":"IF(A21=\"\",\"\",IF(VLOOKUP(A21,eligibilité!$A$15:$AG$515,3,TRUE)=\"\",\"\",VLOOKUP(A21,eligibilité!$A$15:$AG$515,3,TRUE)))","v":""},{"$f":"IF(A21=\"\",\"\",IF(VLOOKUP(A21,eligibilité!$A$15:$AG$515,4,TRUE)=\"\",\"\",VLOOKUP(A21,eligibilité!$A$15:$AG$515,4,TRUE)))","v":""},{"$f":"IF(A21=\"\",\"\",IF(VLOOKUP(A21,eligibilité!$A$15:$AG$515,5,TRUE)=\"\",\"\",VLOOKUP(A21,eligibilité!$A$15:$AG$515,5,TRUE)))","v":""},{"$f":"IF(A21=\"\",\"\",IF(VLOOKUP(A21,eligibilité!$A$15:$AG$515,6,TRUE)=\"\",\"\",VLOOKUP(A21,eligibilité!$A$15:$AG$515,6,TRUE)))","v":""},{"$f":"IF(A21=\"\",\"\",IF(VLOOKUP(A21,eligibilité!$A$15:$AG$515,7,TRUE)=\"\",\"\",VLOOKUP(A21,eligibilité!$A$15:$AG$515,7,TRUE)))","v":""},{"$f":"IF(A21=\"\",\"\",IF(VLOOKUP(A21,eligibilité!$A$15:$AG$515,8,TRUE)=\"\",\"\",VLOOKUP(A21,eligibilité!$A$15:$AG$515,8,TRUE)))","v":""},{"$f":"IF(A21=\"\",\"\",IF(VLOOKUP(A21,eligibilité!$A$15:$AG$515,9,TRUE)=\"\",\"\",VLOOKUP(A21,eligibilité!$A$15:$AG$515,9,TRUE)))","v":""},{"$f":"IF(A21=\"\",\"\",IF(VLOOKUP(A21,eligibilité!$A$15:$AG$515,10,TRUE)=\"\",\"\",VLOOKUP(A21,eligibilité!$A$15:$AG$515,10,TRUE)))","v":""},{"$f":"IF(A21=\"\",\"\",IF(VLOOKUP(A21,eligibilité!$A$15:$AG$515,30,FALSE)=0,\"\",VLOOKUP(A21,eligibilité!$A$15:$AG$515,30,FALSE)))","v":""},"","","","","","","",1305,"","","","","","","Temps restant : ",""]
[{"$f":"IF(eligibilité!AG24=\"\",\"\",eligibilité!A24)","v":""},{"$f":"IF(A22=\"\",\"\",IF(VLOOKUP(A22,eligibilité!$A$15:$J$515,2,TRUE)=\"\",\"\",VLOOKUP(A22,eligibilité!$A$15:$J$515,2,TRUE)))","v":""},{"$f":"IF(A22=\"\",\"\",IF(VLOOKUP(A22,eligibilité!$A$15:$AG$515,3,TRUE)=\"\",\"\",VLOOKUP(A22,eligibilité!$A$15:$AG$515,3,TRUE)))","v":""},{"$f":"IF(A22=\"\",\"\",IF(VLOOKUP(A22,eligibilité!$A$15:$AG$515,4,TRUE)=\"\",\"\",VLOOKUP(A22,eligibilité!$A$15:$AG$515,4,TRUE)))","v":""},{"$f":"IF(A22=\"\",\"\",IF(VLOOKUP(A22,eligibilité!$A$15:$AG$515,5,TRUE)=\"\",\"\",VLOOKUP(A22,eligibilité!$A$15:$AG$515,5,TRUE)))","v":""},{"$f":"IF(A22=\"\",\"\",IF(VLOOKUP(A22,eligibilité!$A$15:$AG$515,6,TRUE)=\"\",\"\",VLOOKUP(A22,eligibilité!$A$15:$AG$515,6,TRUE)))","v":""},{"$f":"IF(A22=\"\",\"\",IF(VLOOKUP(A22,eligibilité!$A$15:$AG$515,7,TRUE)=\"\",\"\",VLOOKUP(A22,eligibilité!$A$15:$AG$515,7,TRUE)))","v":""},{"$f":"IF(A22=\"\",\"\",IF(VLOOKUP(A22,eligibilité!$A$15:$AG$515,8,TRUE)=\"\",\"\",VLOOKUP(A22,eligibilité!$A$15:$AG$515,8,TRUE)))","v":""},{"$f":"IF(A22=\"\",\"\",IF(VLOOKUP(A22,eligibilité!$A$15:$AG$515,9,TRUE)=\"\",\"\",VLOOKUP(A22,eligibilité!$A$15:$AG$515,9,TRUE)))","v":""},{"$f":"IF(A22=\"\",\"\",IF(VLOOKUP(A22,eligibilité!$A$15:$AG$515,10,TRUE)=\"\",\"\",VLOOKUP(A22,eligibilité!$A$15:$AG$515,10,TRUE)))","v":""},{"$f":"IF(A22=\"\",\"\",IF(VLOOKUP(A22,eligibilité!$A$15:$AG$515,30,FALSE)=0,\"\",VLOOKUP(A22,eligibilité!$A$15:$AG$515,30,FALSE)))","v":""},"","","","","","","",1305,"","","","","","","Temps restant : ",""]
[{"$f":"IF(eligibilité!AG25=\"\",\"\",eligibilité!A25)","v":""},{"$f":"IF(A23=\"\",\"\",IF(VLOOKUP(A23,eligibilité!$A$15:$J$515,2,TRUE)=\"\",\"\",VLOOKUP(A23,eligibilité!$A$15:$J$515,2,TRUE)))","v":""},{"$f":"IF(A23=\"\",\"\",IF(VLOOKUP(A23,eligibilité!$A$15:$AG$515,3,TRUE)=\"\",\"\",VLOOKUP(A23,eligibilité!$A$15:$AG$515,3,TRUE)))","v":""},{"$f":"IF(A23=\"\",\"\",IF(VLOOKUP(A23,eligibilité!$A$15:$AG$515,4,TRUE)=\"\",\"\",VLOOKUP(A23,eligibilité!$A$15:$AG$515,4,TRUE)))","v":""},{"$f":"IF(A23=\"\",\"\",IF(VLOOKUP(A23,eligibilité!$A$15:$AG$515,5,TRUE)=\"\",\"\",VLOOKUP(A23,eligibilité!$A$15:$AG$515,5,TRUE)))","v":""},{"$f":"IF(A23=\"\",\"\",IF(VLOOKUP(A23,eligibilité!$A$15:$AG$515,6,TRUE)=\"\",\"\",VLOOKUP(A23,eligibilité!$A$15:$AG$515,6,TRUE)))","v":""},{"$f":"IF(A23=\"\",\"\",IF(VLOOKUP(A23,eligibilité!$A$15:$AG$515,7,TRUE)=\"\",\"\",VLOOKUP(A23,eligibilité!$A$15:$AG$515,7,TRUE)))","v":""},{"$f":"IF(A23=\"\",\"\",IF(VLOOKUP(A23,eligibilité!$A$15:$AG$515,8,TRUE)=\"\",\"\",VLOOKUP(A23,eligibilité!$A$15:$AG$515,8,TRUE)))","v":""},{"$f":"IF(A23=\"\",\"\",IF(VLOOKUP(A23,eligibilité!$A$15:$AG$515,9,TRUE)=\"\",\"\",VLOOKUP(A23,eligibilité!$A$15:$AG$515,9,TRUE)))","v":""},{"$f":"IF(A23=\"\",\"\",IF(VLOOKUP(A23,eligibilité!$A$15:$AG$515,10,TRUE)=\"\",\"\",VLOOKUP(A23,eligibilité!$A$15:$AG$515,10,TRUE)))","v":""},{"$f":"IF(A23=\"\",\"\",IF(VLOOKUP(A23,eligibilité!$A$15:$AG$515,30,FALSE)=0,\"\",VLOOKUP(A23,eligibilité!$A$15:$AG$515,30,FALSE)))","v":""},"","","","","","","",1305,"","","","","","","Temps restant : ",""]
[{"$f":"IF(eligibilité!AG26=\"\",\"\",eligibilité!A26)","v":""},{"$f":"IF(A24=\"\",\"\",IF(VLOOKUP(A24,eligibilité!$A$15:$J$515,2,TRUE)=\"\",\"\",VLOOKUP(A24,eligibilité!$A$15:$J$515,2,TRUE)))","v":""},{"$f":"IF(A24=\"\",\"\",IF(VLOOKUP(A24,eligibilité!$A$15:$AG$515,3,TRUE)=\"\",\"\",VLOOKUP(A24,eligibilité!$A$15:$AG$515,3,TRUE)))","v":""},{"$f":"IF(A24=\"\",\"\",IF(VLOOKUP(A24,eligibilité!$A$15:$AG$515,4,TRUE)=\"\",\"\",VLOOKUP(A24,eligibilité!$A$15:$AG$515,4,TRUE)))","v":""},{"$f":"IF(A24=\"\",\"\",IF(VLOOKUP(A24,eligibilité!$A$15:$AG$515,5,TRUE)=\"\",\"\",VLOOKUP(A24,eligibilité!$A$15:$AG$515,5,TRUE)))","v":""},{"$f":"IF(A24=\"\",\"\",IF(VLOOKUP(A24,eligibilité!$A$15:$AG$515,6,TRUE)=\"\",\"\",VLOOKUP(A24,eligibilité!$A$15:$AG$515,6,TRUE)))","v":""},{"$f":"IF(A24=\"\",\"\",IF(VLOOKUP(A24,eligibilité!$A$15:$AG$515,7,TRUE)=\"\",\"\",VLOOKUP(A24,eligibilité!$A$15:$AG$515,7,TRUE)))","v":""},{"$f":"IF(A24=\"\",\"\",IF(VLOOKUP(A24,eligibilité!$A$15:$AG$515,8,TRUE)=\"\",\"\",VLOOKUP(A24,eligibilité!$A$15:$AG$515,8,TRUE)))","v":""},{"$f":"IF(A24=\"\",\"\",IF(VLOOKUP(A24,eligibilité!$A$15:$AG$515,9,TRUE)=\"\",\"\",VLOOKUP(A24,eligibilité!$A$15:$AG$515,9,TRUE)))","v":""},{"$f":"IF(A24=\"\",\"\",IF(VLOOKUP(A24,eligibilité!$A$15:$AG$515,10,TRUE)=\"\",\"\",VLOOKUP(A24,eligibilité!$A$15:$AG$515,10,TRUE)))","v":""},{"$f":"IF(A24=\"\",\"\",IF(VLOOKUP(A24,eligibilité!$A$15:$AG$515,30,FALSE)=0,\"\",VLOOKUP(A24,eligibilité!$A$15:$AG$515,30,FALSE)))","v":""},"","","","","","","",1305,"","","","","","","Temps restant : ",""]
[{"$f":"IF(eligibilité!AG27=\"\",\"\",eligibilité!A27)","v":""},{"$f":"IF(A25=\"\",\"\",IF(VLOOKUP(A25,eligibilité!$A$15:$J$515,2,TRUE)=\"\",\"\",VLOOKUP(A25,eligibilité!$A$15:$J$515,2,TRUE)))","v":""},{"$f":"IF(A25=\"\",\"\",IF(VLOOKUP(A25,eligibilité!$A$15:$AG$515,3,TRUE)=\"\",\"\",VLOOKUP(A25,eligibilité!$A$15:$AG$515,3,TRUE)))","v":""},{"$f":"IF(A25=\"\",\"\",IF(VLOOKUP(A25,eligibilité!$A$15:$AG$515,4,TRUE)=\"\",\"\",VLOOKUP(A25,eligibilité!$A$15:$AG$515,4,TRUE)))","v":""},{"$f":"IF(A25=\"\",\"\",IF(VLOOKUP(A25,eligibilité!$A$15:$AG$515,5,TRUE)=\"\",\"\",VLOOKUP(A25,eligibilité!$A$15:$AG$515,5,TRUE)))","v":""},{"$f":"IF(A25=\"\",\"\",IF(VLOOKUP(A25,eligibilité!$A$15:$AG$515,6,TRUE)=\"\",\"\",VLOOKUP(A25,eligibilité!$A$15:$AG$515,6,TRUE)))","v":""},{"$f":"IF(A25=\"\",\"\",IF(VLOOKUP(A25,eligibilité!$A$15:$AG$515,7,TRUE)=\"\",\"\",VLOOKUP(A25,eligibilité!$A$15:$AG$515,7,TRUE)))","v":""},{"$f":"IF(A25=\"\",\"\",IF(VLOOKUP(A25,eligibilité!$A$15:$AG$515,8,TRUE)=\"\",\"\",VLOOKUP(A25,eligibilité!$A$15:$AG$515,8,TRUE)))","v":""},{"$f":"IF(A25=\"\",\"\",IF(VLOOKUP(A25,eligibilité!$A$15:$AG$515,9,TRUE)=\"\",\"\",VLOOKUP(A25,eligibilité!$A$15:$AG$515,9,TRUE)))","v":""},{"$f":"IF(A25=\"\",\"\",IF(VLOOKUP(A25,eligibilité!$A$15:$AG$515,10,TRUE)=\"\",\"\",VLOOKUP(A25,eligibilité!$A$15:$AG$515,10,TRUE)))","v":""},{"$f":"IF(A25=\"\",\"\",IF(VLOOKUP(A25,eligibilité!$A$15:$AG$515,30,FALSE)=0,\"\",VLOOKUP(A25,eligibilité!$A$15:$AG$515,30,FALSE)))","v":""},"","","","","","","",1305,"","","","","","","Temps restant : ",""]
[{"$f":"IF(eligibilité!AG28=\"\",\"\",eligibilité!A28)","v":""},{"$f":"IF(A26=\"\",\"\",IF(VLOOKUP(A26,eligibilité!$A$15:$J$515,2,TRUE)=\"\",\"\",VLOOKUP(A26,eligibilité!$A$15:$J$515,2,TRUE)))","v":""},{"$f":"IF(A26=\"\",\"\",IF(VLOOKUP(A26,eligibilité!$A$15:$AG$515,3,TRUE)=\"\",\"\",VLOOKUP(A26,eligibilité!$A$15:$AG$515,3,TRUE)))","v":""},{"$f":"IF(A26=\"\",\"\",IF(VLOOKUP(A26,eligibilité!$A$15:$AG$515,4,TRUE)=\"\",\"\",VLOOKUP(A26,eligibilité!$A$15:$AG$515,4,TRUE)))","v":""},{"$f":"IF(A26=\"\",\"\",IF(VLOOKUP(A26,eligibilité!$A$15:$AG$515,5,TRUE)=\"\",\"\",VLOOKUP(A26,eligibilité!$A$15:$AG$515,5,TRUE)))","v":""},{"$f":"IF(A26=\"\",\"\",IF(VLOOKUP(A26,eligibilité!$A$15:$AG$515,6,TRUE)=\"\",\"\",VLOOKUP(A26,eligibilité!$A$15:$AG$515,6,TRUE)))","v":""},{"$f":"IF(A26=\"\",\"\",IF(VLOOKUP(A26,eligibilité!$A$15:$AG$515,7,TRUE)=\"\",\"\",VLOOKUP(A26,eligibilité!$A$15:$AG$515,7,TRUE)))","v":""},{"$f":"IF(A26=\"\",\"\",IF(VLOOKUP(A26,eligibilité!$A$15:$AG$515,8,TRUE)=\"\",\"\",VLOOKUP(A26,eligibilité!$A$15:$AG$515,8,TRUE)))","v":""},{"$f":"IF(A26=\"\",\"\",IF(VLOOKUP(A26,eligibilité!$A$15:$AG$515,9,TRUE)=\"\",\"\",VLOOKUP(A26,eligibilité!$A$15:$AG$515,9,TRUE)))","v":""},{"$f":"IF(A26=\"\",\"\",IF(VLOOKUP(A26,eligibilité!$A$15:$AG$515,10,TRUE)=\"\",\"\",VLOOKUP(A26,eligibilité!$A$15:$AG$515,10,TRUE)))","v":""},{"$f":"IF(A26=\"\",\"\",IF(VLOOKUP(A26,eligibilité!$A$15:$AG$515,30,FALSE)=0,\"\",VLOOKUP(A26,eligibilité!$A$15:$AG$515,30,FALSE)))","v":""},"","","","","","","",1305,"","","","","","","Temps restant : ",""]
[{"$f":"IF(eligibilité!AG29=\"\",\"\",eligibilité!A29)","v":""},{"$f":"IF(A27=\"\",\"\",IF(VLOOKUP(A27,eligibilité!$A$15:$J$515,2,TRUE)=\"\",\"\",VLOOKUP(A27,eligibilité!$A$15:$J$515,2,TRUE)))","v":""},{"$f":"IF(A27=\"\",\"\",IF(VLOOKUP(A27,eligibilité!$A$15:$AG$515,3,TRUE)=\"\",\"\",VLOOKUP(A27,eligibilité!$A$15:$AG$515,3,TRUE)))","v":""},{"$f":"IF(A27=\"\",\"\",IF(VLOOKUP(A27,eligibilité!$A$15:$AG$515,4,TRUE)=\"\",\"\",VLOOKUP(A27,eligibilité!$A$15:$AG$515,4,TRUE)))","v":""},{"$f":"IF(A27=\"\",\"\",IF(VLOOKUP(A27,eligibilité!$A$15:$AG$515,5,TRUE)=\"\",\"\",VLOOKUP(A27,eligibilité!$A$15:$AG$515,5,TRUE)))","v":""},{"$f":"IF(A27=\"\",\"\",IF(VLOOKUP(A27,eligibilité!$A$15:$AG$515,6,TRUE)=\"\",\"\",VLOOKUP(A27,eligibilité!$A$15:$AG$515,6,TRUE)))","v":""},{"$f":"IF(A27=\"\",\"\",IF(VLOOKUP(A27,eligibilité!$A$15:$AG$515,7,TRUE)=\"\",\"\",VLOOKUP(A27,eligibilité!$A$15:$AG$515,7,TRUE)))","v":""},{"$f":"IF(A27=\"\",\"\",IF(VLOOKUP(A27,eligibilité!$A$15:$AG$515,8,TRUE)=\"\",\"\",VLOOKUP(A27,eligibilité!$A$15:$AG$515,8,TRUE)))","v":""},{"$f":"IF(A27=\"\",\"\",IF(VLOOKUP(A27,eligibilité!$A$15:$AG$515,9,TRUE)=\"\",\"\",VLOOKUP(A27,eligibilité!$A$15:$AG$515,9,TRUE)))","v":""},{"$f":"IF(A27=\"\",\"\",IF(VLOOKUP(A27,eligibilité!$A$15:$AG$515,10,TRUE)=\"\",\"\",VLOOKUP(A27,eligibilité!$A$15:$AG$515,10,TRUE)))","v":""},{"$f":"IF(A27=\"\",\"\",IF(VLOOKUP(A27,eligibilité!$A$15:$AG$515,30,FALSE)=0,\"\",VLOOKUP(A27,eligibilité!$A$15:$AG$515,30,FALSE)))","v":""},"","","","","","","",1305,"","","","","","","Temps restant : ",""]
[{"$f":"IF(eligibilité!AG30=\"\",\"\",eligibilité!A30)","v":""},{"$f":"IF(A28=\"\",\"\",IF(VLOOKUP(A28,eligibilité!$A$15:$J$515,2,TRUE)=\"\",\"\",VLOOKUP(A28,eligibilité!$A$15:$J$515,2,TRUE)))","v":""},{"$f":"IF(A28=\"\",\"\",IF(VLOOKUP(A28,eligibilité!$A$15:$AG$515,3,TRUE)=\"\",\"\",VLOOKUP(A28,eligibilité!$A$15:$AG$515,3,TRUE)))","v":""},{"$f":"IF(A28=\"\",\"\",IF(VLOOKUP(A28,eligibilité!$A$15:$AG$515,4,TRUE)=\"\",\"\",VLOOKUP(A28,eligibilité!$A$15:$AG$515,4,TRUE)))","v":""},{"$f":"IF(A28=\"\",\"\",IF(VLOOKUP(A28,eligibilité!$A$15:$AG$515,5,TRUE)=\"\",\"\",VLOOKUP(A28,eligibilité!$A$15:$AG$515,5,TRUE)))","v":""},{"$f":"IF(A28=\"\",\"\",IF(VLOOKUP(A28,eligibilité!$A$15:$AG$515,6,TRUE)=\"\",\"\",VLOOKUP(A28,eligibilité!$A$15:$AG$515,6,TRUE)))","v":""},{"$f":"IF(A28=\"\",\"\",IF(VLOOKUP(A28,eligibilité!$A$15:$AG$515,7,TRUE)=\"\",\"\",VLOOKUP(A28,eligibilité!$A$15:$AG$515,7,TRUE)))","v":""},{"$f":"IF(A28=\"\",\"\",IF(VLOOKUP(A28,eligibilité!$A$15:$AG$515,8,TRUE)=\"\",\"\",VLOOKUP(A28,eligibilité!$A$15:$AG$515,8,TRUE)))","v":""},{"$f":"IF(A28=\"\",\"\",IF(VLOOKUP(A28,eligibilité!$A$15:$AG$515,9,TRUE)=\"\",\"\",VLOOKUP(A28,eligibilité!$A$15:$AG$515,9,TRUE)))","v":""},{"$f":"IF(A28=\"\",\"\",IF(VLOOKUP(A28,eligibilité!$A$15:$AG$515,10,TRUE)=\"\",\"\",VLOOKUP(A28,eligibilité!$A$15:$AG$515,10,TRUE)))","v":""},{"$f":"IF(A28=\"\",\"\",IF(VLOOKUP(A28,eligibilité!$A$15:$AG$515,30,FALSE)=0,\"\",VLOOKUP(A28,eligibilité!$A$15:$AG$515,30,FALSE)))","v":""},"","","","","","","",1305,"","","","","","","Temps restant : ",""]
[{"$f":"IF(eligibilité!AG31=\"\",\"\",eligibilité!A31)","v":""},{"$f":"IF(A29=\"\",\"\",IF(VLOOKUP(A29,eligibilité!$A$15:$J$515,2,TRUE)=\"\",\"\",VLOOKUP(A29,eligibilité!$A$15:$J$515,2,TRUE)))","v":""},{"$f":"IF(A29=\"\",\"\",IF(VLOOKUP(A29,eligibilité!$A$15:$AG$515,3,TRUE)=\"\",\"\",VLOOKUP(A29,eligibilité!$A$15:$AG$515,3,TRUE)))","v":""},{"$f":"IF(A29=\"\",\"\",IF(VLOOKUP(A29,eligibilité!$A$15:$AG$515,4,TRUE)=\"\",\"\",VLOOKUP(A29,eligibilité!$A$15:$AG$515,4,TRUE)))","v":""},{"$f":"IF(A29=\"\",\"\",IF(VLOOKUP(A29,eligibilité!$A$15:$AG$515,5,TRUE)=\"\",\"\",VLOOKUP(A29,eligibilité!$A$15:$AG$515,5,TRUE)))","v":""},{"$f":"IF(A29=\"\",\"\",IF(VLOOKUP(A29,eligibilité!$A$15:$AG$515,6,TRUE)=\"\",\"\",VLOOKUP(A29,eligibilité!$A$15:$AG$515,6,TRUE)))","v":""},{"$f":"IF(A29=\"\",\"\",IF(VLOOKUP(A29,eligibilité!$A$15:$AG$515,7,TRUE)=\"\",\"\",VLOOKUP(A29,eligibilité!$A$15:$AG$515,7,TRUE)))","v":""},{"$f":"IF(A29=\"\",\"\",IF(VLOOKUP(A29,eligibilité!$A$15:$AG$515,8,TRUE)=\"\",\"\",VLOOKUP(A29,eligibilité!$A$15:$AG$515,8,TRUE)))","v":""},{"$f":"IF(A29=\"\",\"\",IF(VLOOKUP(A29,eligibilité!$A$15:$AG$515,9,TRUE)=\"\",\"\",VLOOKUP(A29,eligibilité!$A$15:$AG$515,9,TRUE)))","v":""},{"$f":"IF(A29=\"\",\"\",IF(VLOOKUP(A29,eligibilité!$A$15:$AG$515,10,TRUE)=\"\",\"\",VLOOKUP(A29,eligibilité!$A$15:$AG$515,10,TRUE)))","v":""},{"$f":"IF(A29=\"\",\"\",IF(VLOOKUP(A29,eligibilité!$A$15:$AG$515,30,FALSE)=0,\"\",VLOOKUP(A29,eligibilité!$A$15:$AG$515,30,FALSE)))","v":""},"","","","","","","",1305,"","","","","","","Temps restant : ",""]
[{"$f":"IF(eligibilité!AG32=\"\",\"\",eligibilité!A32)","v":""},{"$f":"IF(A30=\"\",\"\",IF(VLOOKUP(A30,eligibilité!$A$15:$J$515,2,TRUE)=\"\",\"\",VLOOKUP(A30,eligibilité!$A$15:$J$515,2,TRUE)))","v":""},{"$f":"IF(A30=\"\",\"\",IF(VLOOKUP(A30,eligibilité!$A$15:$AG$515,3,TRUE)=\"\",\"\",VLOOKUP(A30,eligibilité!$A$15:$AG$515,3,TRUE)))","v":""},{"$f":"IF(A30=\"\",\"\",IF(VLOOKUP(A30,eligibilité!$A$15:$AG$515,4,TRUE)=\"\",\"\",VLOOKUP(A30,eligibilité!$A$15:$AG$515,4,TRUE)))","v":""},{"$f":"IF(A30=\"\",\"\",IF(VLOOKUP(A30,eligibilité!$A$15:$AG$515,5,TRUE)=\"\",\"\",VLOOKUP(A30,eligibilité!$A$15:$AG$515,5,TRUE)))","v":""},{"$f":"IF(A30=\"\",\"\",IF(VLOOKUP(A30,eligibilité!$A$15:$AG$515,6,TRUE)=\"\",\"\",VLOOKUP(A30,eligibilité!$A$15:$AG$515,6,TRUE)))","v":""},{"$f":"IF(A30=\"\",\"\",IF(VLOOKUP(A30,eligibilité!$A$15:$AG$515,7,TRUE)=\"\",\"\",VLOOKUP(A30,eligibilité!$A$15:$AG$515,7,TRUE)))","v":""},{"$f":"IF(A30=\"\",\"\",IF(VLOOKUP(A30,eligibilité!$A$15:$AG$515,8,TRUE)=\"\",\"\",VLOOKUP(A30,eligibilité!$A$15:$AG$515,8,TRUE)))","v":""},{"$f":"IF(A30=\"\",\"\",IF(VLOOKUP(A30,eligibilité!$A$15:$AG$515,9,TRUE)=\"\",\"\",VLOOKUP(A30,eligibilité!$A$15:$AG$515,9,TRUE)))","v":""},{"$f":"IF(A30=\"\",\"\",IF(VLOOKUP(A30,eligibilité!$A$15:$AG$515,10,TRUE)=\"\",\"\",VLOOKUP(A30,eligibilité!$A$15:$AG$515,10,TRUE)))","v":""},{"$f":"IF(A30=\"\",\"\",IF(VLOOKUP(A30,eligibilité!$A$15:$AG$515,30,FALSE)=0,\"\",VLOOKUP(A30,eligibilité!$A$15:$AG$515,30,FALSE)))","v":""},"","","","","","","",1305,"","","","","","","Temps restant : ",""]
[{"$f":"IF(eligibilité!AG33=\"\",\"\",eligibilité!A33)","v":""},{"$f":"IF(A31=\"\",\"\",IF(VLOOKUP(A31,eligibilité!$A$15:$J$515,2,TRUE)=\"\",\"\",VLOOKUP(A31,eligibilité!$A$15:$J$515,2,TRUE)))","v":""},{"$f":"IF(A31=\"\",\"\",IF(VLOOKUP(A31,eligibilité!$A$15:$AG$515,3,TRUE)=\"\",\"\",VLOOKUP(A31,eligibilité!$A$15:$AG$515,3,TRUE)))","v":""},{"$f":"IF(A31=\"\",\"\",IF(VLOOKUP(A31,eligibilité!$A$15:$AG$515,4,TRUE)=\"\",\"\",VLOOKUP(A31,eligibilité!$A$15:$AG$515,4,TRUE)))","v":""},{"$f":"IF(A31=\"\",\"\",IF(VLOOKUP(A31,eligibilité!$A$15:$AG$515,5,TRUE)=\"\",\"\",VLOOKUP(A31,eligibilité!$A$15:$AG$515,5,TRUE)))","v":""},{"$f":"IF(A31=\"\",\"\",IF(VLOOKUP(A31,eligibilité!$A$15:$AG$515,6,TRUE)=\"\",\"\",VLOOKUP(A31,eligibilité!$A$15:$AG$515,6,TRUE)))","v":""},{"$f":"IF(A31=\"\",\"\",IF(VLOOKUP(A31,eligibilité!$A$15:$AG$515,7,TRUE)=\"\",\"\",VLOOKUP(A31,eligibilité!$A$15:$AG$515,7,TRUE)))","v":""},{"$f":"IF(A31=\"\",\"\",IF(VLOOKUP(A31,eligibilité!$A$15:$AG$515,8,TRUE)=\"\",\"\",VLOOKUP(A31,eligibilité!$A$15:$AG$515,8,TRUE)))","v":""},{"$f":"IF(A31=\"\",\"\",IF(VLOOKUP(A31,eligibilité!$A$15:$AG$515,9,TRUE)=\"\",\"\",VLOOKUP(A31,eligibilité!$A$15:$AG$515,9,TRUE)))","v":""},{"$f":"IF(A31=\"\",\"\",IF(VLOOKUP(A31,eligibilité!$A$15:$AG$515,10,TRUE)=\"\",\"\",VLOOKUP(A31,eligibilité!$A$15:$AG$515,10,TRUE)))","v":""},{"$f":"IF(A31=\"\",\"\",IF(VLOOKUP(A31,eligibilité!$A$15:$AG$515,30,FALSE)=0,\"\",VLOOKUP(A31,eligibilité!$A$15:$AG$515,30,FALSE)))","v":""},"","","","","","","",1305,"","","","","","","Temps restant : ",""]
[{"$f":"IF(eligibilité!AG34=\"\",\"\",eligibilité!A34)","v":""},{"$f":"IF(A32=\"\",\"\",IF(VLOOKUP(A32,eligibilité!$A$15:$J$515,2,TRUE)=\"\",\"\",VLOOKUP(A32,eligibilité!$A$15:$J$515,2,TRUE)))","v":""},{"$f":"IF(A32=\"\",\"\",IF(VLOOKUP(A32,eligibilité!$A$15:$AG$515,3,TRUE)=\"\",\"\",VLOOKUP(A32,eligibilité!$A$15:$AG$515,3,TRUE)))","v":""},{"$f":"IF(A32=\"\",\"\",IF(VLOOKUP(A32,eligibilité!$A$15:$AG$515,4,TRUE)=\"\",\"\",VLOOKUP(A32,eligibilité!$A$15:$AG$515,4,TRUE)))","v":""},{"$f":"IF(A32=\"\",\"\",IF(VLOOKUP(A32,eligibilité!$A$15:$AG$515,5,TRUE)=\"\",\"\",VLOOKUP(A32,eligibilité!$A$15:$AG$515,5,TRUE)))","v":""},{"$f":"IF(A32=\"\",\"\",IF(VLOOKUP(A32,eligibilité!$A$15:$AG$515,6,TRUE)=\"\",\"\",VLOOKUP(A32,eligibilité!$A$15:$AG$515,6,TRUE)))","v":""},{"$f":"IF(A32=\"\",\"\",IF(VLOOKUP(A32,eligibilité!$A$15:$AG$515,7,TRUE)=\"\",\"\",VLOOKUP(A32,eligibilité!$A$15:$AG$515,7,TRUE)))","v":""},{"$f":"IF(A32=\"\",\"\",IF(VLOOKUP(A32,eligibilité!$A$15:$AG$515,8,TRUE)=\"\",\"\",VLOOKUP(A32,eligibilité!$A$15:$AG$515,8,TRUE)))","v":""},{"$f":"IF(A32=\"\",\"\",IF(VLOOKUP(A32,eligibilité!$A$15:$AG$515,9,TRUE)=\"\",\"\",VLOOKUP(A32,eligibilité!$A$15:$AG$515,9,TRUE)))","v":""},{"$f":"IF(A32=\"\",\"\",IF(VLOOKUP(A32,eligibilité!$A$15:$AG$515,10,TRUE)=\"\",\"\",VLOOKUP(A32,eligibilité!$A$15:$AG$515,10,TRUE)))","v":""},{"$f":"IF(A32=\"\",\"\",IF(VLOOKUP(A32,eligibilité!$A$15:$AG$515,30,FALSE)=0,\"\",VLOOKUP(A32,eligibilité!$A$15:$AG$515,30,FALSE)))","v":""},"","","","","","","",1305,"","","","","","","Temps restant : ",""]
[{"$f":"IF(eligibilité!AG35=\"\",\"\",eligibilité!A35)","v":""},{"$f":"IF(A33=\"\",\"\",IF(VLOOKUP(A33,eligibilité!$A$15:$J$515,2,TRUE)=\"\",\"\",VLOOKUP(A33,eligibilité!$A$15:$J$515,2,TRUE)))","v":""},{"$f":"IF(A33=\"\",\"\",IF(VLOOKUP(A33,eligibilité!$A$15:$AG$515,3,TRUE)=\"\",\"\",VLOOKUP(A33,eligibilité!$A$15:$AG$515,3,TRUE)))","v":""},{"$f":"IF(A33=\"\",\"\",IF(VLOOKUP(A33,eligibilité!$A$15:$AG$515,4,TRUE)=\"\",\"\",VLOOKUP(A33,eligibilité!$A$15:$AG$515,4,TRUE)))","v":""},{"$f":"IF(A33=\"\",\"\",IF(VLOOKUP(A33,eligibilité!$A$15:$AG$515,5,TRUE)=\"\",\"\",VLOOKUP(A33,eligibilité!$A$15:$AG$515,5,TRUE)))","v":""},{"$f":"IF(A33=\"\",\"\",IF(VLOOKUP(A33,eligibilité!$A$15:$AG$515,6,TRUE)=\"\",\"\",VLOOKUP(A33,eligibilité!$A$15:$AG$515,6,TRUE)))","v":""},{"$f":"IF(A33=\"\",\"\",IF(VLOOKUP(A33,eligibilité!$A$15:$AG$515,7,TRUE)=\"\",\"\",VLOOKUP(A33,eligibilité!$A$15:$AG$515,7,TRUE)))","v":""},{"$f":"IF(A33=\"\",\"\",IF(VLOOKUP(A33,eligibilité!$A$15:$AG$515,8,TRUE)=\"\",\"\",VLOOKUP(A33,eligibilité!$A$15:$AG$515,8,TRUE)))","v":""},{"$f":"IF(A33=\"\",\"\",IF(VLOOKUP(A33,eligibilité!$A$15:$AG$515,9,TRUE)=\"\",\"\",VLOOKUP(A33,eligibilité!$A$15:$AG$515,9,TRUE)))","v":""},{"$f":"IF(A33=\"\",\"\",IF(VLOOKUP(A33,eligibilité!$A$15:$AG$515,10,TRUE)=\"\",\"\",VLOOKUP(A33,eligibilité!$A$15:$AG$515,10,TRUE)))","v":""},{"$f":"IF(A33=\"\",\"\",IF(VLOOKUP(A33,eligibilité!$A$15:$AG$515,30,FALSE)=0,\"\",VLOOKUP(A33,eligibilité!$A$15:$AG$515,30,FALSE)))","v":""},"","","","","","","",1305,"","","","","","","Temps restant : ",""]
[{"$f":"IF(eligibilité!AG36=\"\",\"\",eligibilité!A36)","v":""},{"$f":"IF(A34=\"\",\"\",IF(VLOOKUP(A34,eligibilité!$A$15:$J$515,2,TRUE)=\"\",\"\",VLOOKUP(A34,eligibilité!$A$15:$J$515,2,TRUE)))","v":""},{"$f":"IF(A34=\"\",\"\",IF(VLOOKUP(A34,eligibilité!$A$15:$AG$515,3,TRUE)=\"\",\"\",VLOOKUP(A34,eligibilité!$A$15:$AG$515,3,TRUE)))","v":""},{"$f":"IF(A34=\"\",\"\",IF(VLOOKUP(A34,eligibilité!$A$15:$AG$515,4,TRUE)=\"\",\"\",VLOOKUP(A34,eligibilité!$A$15:$AG$515,4,TRUE)))","v":""},{"$f":"IF(A34=\"\",\"\",IF(VLOOKUP(A34,eligibilité!$A$15:$AG$515,5,TRUE)=\"\",\"\",VLOOKUP(A34,eligibilité!$A$15:$AG$515,5,TRUE)))","v":""},{"$f":"IF(A34=\"\",\"\",IF(VLOOKUP(A34,eligibilité!$A$15:$AG$515,6,TRUE)=\"\",\"\",VLOOKUP(A34,eligibilité!$A$15:$AG$515,6,TRUE)))","v":""},{"$f":"IF(A34=\"\",\"\",IF(VLOOKUP(A34,eligibilité!$A$15:$AG$515,7,TRUE)=\"\",\"\",VLOOKUP(A34,eligibilité!$A$15:$AG$515,7,TRUE)))","v":""},{"$f":"IF(A34=\"\",\"\",IF(VLOOKUP(A34,eligibilité!$A$15:$AG$515,8,TRUE)=\"\",\"\",VLOOKUP(A34,eligibilité!$A$15:$AG$515,8,TRUE)))","v":""},{"$f":"IF(A34=\"\",\"\",IF(VLOOKUP(A34,eligibilité!$A$15:$AG$515,9,TRUE)=\"\",\"\",VLOOKUP(A34,eligibilité!$A$15:$AG$515,9,TRUE)))","v":""},{"$f":"IF(A34=\"\",\"\",IF(VLOOKUP(A34,eligibilité!$A$15:$AG$515,10,TRUE)=\"\",\"\",VLOOKUP(A34,eligibilité!$A$15:$AG$515,10,TRUE)))","v":""},{"$f":"IF(A34=\"\",\"\",IF(VLOOKUP(A34,eligibilité!$A$15:$AG$515,30,FALSE)=0,\"\",VLOOKUP(A34,eligibilité!$A$15:$AG$515,30,FALSE)))","v":""},"","","","","","","",1305,"","","","","","","Temps restant : ",""]
[{"$f":"IF(eligibilité!AG37=\"\",\"\",eligibilité!A37)","v":""},{"$f":"IF(A35=\"\",\"\",IF(VLOOKUP(A35,eligibilité!$A$15:$J$515,2,TRUE)=\"\",\"\",VLOOKUP(A35,eligibilité!$A$15:$J$515,2,TRUE)))","v":""},{"$f":"IF(A35=\"\",\"\",IF(VLOOKUP(A35,eligibilité!$A$15:$AG$515,3,TRUE)=\"\",\"\",VLOOKUP(A35,eligibilité!$A$15:$AG$515,3,TRUE)))","v":""},{"$f":"IF(A35=\"\",\"\",IF(VLOOKUP(A35,eligibilité!$A$15:$AG$515,4,TRUE)=\"\",\"\",VLOOKUP(A35,eligibilité!$A$15:$AG$515,4,TRUE)))","v":""},{"$f":"IF(A35=\"\",\"\",IF(VLOOKUP(A35,eligibilité!$A$15:$AG$515,5,TRUE)=\"\",\"\",VLOOKUP(A35,eligibilité!$A$15:$AG$515,5,TRUE)))","v":""},{"$f":"IF(A35=\"\",\"\",IF(VLOOKUP(A35,eligibilité!$A$15:$AG$515,6,TRUE)=\"\",\"\",VLOOKUP(A35,eligibilité!$A$15:$AG$515,6,TRUE)))","v":""},{"$f":"IF(A35=\"\",\"\",IF(VLOOKUP(A35,eligibilité!$A$15:$AG$515,7,TRUE)=\"\",\"\",VLOOKUP(A35,eligibilité!$A$15:$AG$515,7,TRUE)))","v":""},{"$f":"IF(A35=\"\",\"\",IF(VLOOKUP(A35,eligibilité!$A$15:$AG$515,8,TRUE)=\"\",\"\",VLOOKUP(A35,eligibilité!$A$15:$AG$515,8,TRUE)))","v":""},{"$f":"IF(A35=\"\",\"\",IF(VLOOKUP(A35,eligibilité!$A$15:$AG$515,9,TRUE)=\"\",\"\",VLOOKUP(A35,eligibilité!$A$15:$AG$515,9,TRUE)))","v":""},{"$f":"IF(A35=\"\",\"\",IF(VLOOKUP(A35,eligibilité!$A$15:$AG$515,10,TRUE)=\"\",\"\",VLOOKUP(A35,eligibilité!$A$15:$AG$515,10,TRUE)))","v":""},{"$f":"IF(A35=\"\",\"\",IF(VLOOKUP(A35,eligibilité!$A$15:$AG$515,30,FALSE)=0,\"\",VLOOKUP(A35,eligibilité!$A$15:$AG$515,30,FALSE)))","v":""},"","","","","","","",1305,"","","","","","","Temps restant : ",""]
[{"$f":"IF(eligibilité!AG38=\"\",\"\",eligibilité!A38)","v":""},{"$f":"IF(A36=\"\",\"\",IF(VLOOKUP(A36,eligibilité!$A$15:$J$515,2,TRUE)=\"\",\"\",VLOOKUP(A36,eligibilité!$A$15:$J$515,2,TRUE)))","v":""},{"$f":"IF(A36=\"\",\"\",IF(VLOOKUP(A36,eligibilité!$A$15:$AG$515,3,TRUE)=\"\",\"\",VLOOKUP(A36,eligibilité!$A$15:$AG$515,3,TRUE)))","v":""},{"$f":"IF(A36=\"\",\"\",IF(VLOOKUP(A36,eligibilité!$A$15:$AG$515,4,TRUE)=\"\",\"\",VLOOKUP(A36,eligibilité!$A$15:$AG$515,4,TRUE)))","v":""},{"$f":"IF(A36=\"\",\"\",IF(VLOOKUP(A36,eligibilité!$A$15:$AG$515,5,TRUE)=\"\",\"\",VLOOKUP(A36,eligibilité!$A$15:$AG$515,5,TRUE)))","v":""},{"$f":"IF(A36=\"\",\"\",IF(VLOOKUP(A36,eligibilité!$A$15:$AG$515,6,TRUE)=\"\",\"\",VLOOKUP(A36,eligibilité!$A$15:$AG$515,6,TRUE)))","v":""},{"$f":"IF(A36=\"\",\"\",IF(VLOOKUP(A36,eligibilité!$A$15:$AG$515,7,TRUE)=\"\",\"\",VLOOKUP(A36,eligibilité!$A$15:$AG$515,7,TRUE)))","v":""},{"$f":"IF(A36=\"\",\"\",IF(VLOOKUP(A36,eligibilité!$A$15:$AG$515,8,TRUE)=\"\",\"\",VLOOKUP(A36,eligibilité!$A$15:$AG$515,8,TRUE)))","v":""},{"$f":"IF(A36=\"\",\"\",IF(VLOOKUP(A36,eligibilité!$A$15:$AG$515,9,TRUE)=\"\",\"\",VLOOKUP(A36,eligibilité!$A$15:$AG$515,9,TRUE)))","v":""},{"$f":"IF(A36=\"\",\"\",IF(VLOOKUP(A36,eligibilité!$A$15:$AG$515,10,TRUE)=\"\",\"\",VLOOKUP(A36,eligibilité!$A$15:$AG$515,10,TRUE)))","v":""},{"$f":"IF(A36=\"\",\"\",IF(VLOOKUP(A36,eligibilité!$A$15:$AG$515,30,FALSE)=0,\"\",VLOOKUP(A36,eligibilité!$A$15:$AG$515,30,FALSE)))","v":""},"","","","","","","",1305,"","","","","","","Temps restant : ",""]
[{"$f":"IF(eligibilité!AG39=\"\",\"\",eligibilité!A39)","v":""},{"$f":"IF(A37=\"\",\"\",IF(VLOOKUP(A37,eligibilité!$A$15:$J$515,2,TRUE)=\"\",\"\",VLOOKUP(A37,eligibilité!$A$15:$J$515,2,TRUE)))","v":""},{"$f":"IF(A37=\"\",\"\",IF(VLOOKUP(A37,eligibilité!$A$15:$AG$515,3,TRUE)=\"\",\"\",VLOOKUP(A37,eligibilité!$A$15:$AG$515,3,TRUE)))","v":""},{"$f":"IF(A37=\"\",\"\",IF(VLOOKUP(A37,eligibilité!$A$15:$AG$515,4,TRUE)=\"\",\"\",VLOOKUP(A37,eligibilité!$A$15:$AG$515,4,TRUE)))","v":""},{"$f":"IF(A37=\"\",\"\",IF(VLOOKUP(A37,eligibilité!$A$15:$AG$515,5,TRUE)=\"\",\"\",VLOOKUP(A37,eligibilité!$A$15:$AG$515,5,TRUE)))","v":""},{"$f":"IF(A37=\"\",\"\",IF(VLOOKUP(A37,eligibilité!$A$15:$AG$515,6,TRUE)=\"\",\"\",VLOOKUP(A37,eligibilité!$A$15:$AG$515,6,TRUE)))","v":""},{"$f":"IF(A37=\"\",\"\",IF(VLOOKUP(A37,eligibilité!$A$15:$AG$515,7,TRUE)=\"\",\"\",VLOOKUP(A37,eligibilité!$A$15:$AG$515,7,TRUE)))","v":""},{"$f":"IF(A37=\"\",\"\",IF(VLOOKUP(A37,eligibilité!$A$15:$AG$515,8,TRUE)=\"\",\"\",VLOOKUP(A37,eligibilité!$A$15:$AG$515,8,TRUE)))","v":""},{"$f":"IF(A37=\"\",\"\",IF(VLOOKUP(A37,eligibilité!$A$15:$AG$515,9,TRUE)=\"\",\"\",VLOOKUP(A37,eligibilité!$A$15:$AG$515,9,TRUE)))","v":""},{"$f":"IF(A37=\"\",\"\",IF(VLOOKUP(A37,eligibilité!$A$15:$AG$515,10,TRUE)=\"\",\"\",VLOOKUP(A37,eligibilité!$A$15:$AG$515,10,TRUE)))","v":""},{"$f":"IF(A37=\"\",\"\",IF(VLOOKUP(A37,eligibilité!$A$15:$AG$515,30,FALSE)=0,\"\",VLOOKUP(A37,eligibilité!$A$15:$AG$515,30,FALSE)))","v":""},"","","","","","","",1305,"","","","","","","Temps restant : ",""]
[{"$f":"IF(eligibilité!AG40=\"\",\"\",eligibilité!A40)","v":""},{"$f":"IF(A38=\"\",\"\",IF(VLOOKUP(A38,eligibilité!$A$15:$J$515,2,TRUE)=\"\",\"\",VLOOKUP(A38,eligibilité!$A$15:$J$515,2,TRUE)))","v":""},{"$f":"IF(A38=\"\",\"\",IF(VLOOKUP(A38,eligibilité!$A$15:$AG$515,3,TRUE)=\"\",\"\",VLOOKUP(A38,eligibilité!$A$15:$AG$515,3,TRUE)))","v":""},{"$f":"IF(A38=\"\",\"\",IF(VLOOKUP(A38,eligibilité!$A$15:$AG$515,4,TRUE)=\"\",\"\",VLOOKUP(A38,eligibilité!$A$15:$AG$515,4,TRUE)))","v":""},{"$f":"IF(A38=\"\",\"\",IF(VLOOKUP(A38,eligibilité!$A$15:$AG$515,5,TRUE)=\"\",\"\",VLOOKUP(A38,eligibilité!$A$15:$AG$515,5,TRUE)))","v":""},{"$f":"IF(A38=\"\",\"\",IF(VLOOKUP(A38,eligibilité!$A$15:$AG$515,6,TRUE)=\"\",\"\",VLOOKUP(A38,eligibilité!$A$15:$AG$515,6,TRUE)))","v":""},{"$f":"IF(A38=\"\",\"\",IF(VLOOKUP(A38,eligibilité!$A$15:$AG$515,7,TRUE)=\"\",\"\",VLOOKUP(A38,eligibilité!$A$15:$AG$515,7,TRUE)))","v":""},{"$f":"IF(A38=\"\",\"\",IF(VLOOKUP(A38,eligibilité!$A$15:$AG$515,8,TRUE)=\"\",\"\",VLOOKUP(A38,eligibilité!$A$15:$AG$515,8,TRUE)))","v":""},{"$f":"IF(A38=\"\",\"\",IF(VLOOKUP(A38,eligibilité!$A$15:$AG$515,9,TRUE)=\"\",\"\",VLOOKUP(A38,eligibilité!$A$15:$AG$515,9,TRUE)))","v":""},{"$f":"IF(A38=\"\",\"\",IF(VLOOKUP(A38,eligibilité!$A$15:$AG$515,10,TRUE)=\"\",\"\",VLOOKUP(A38,eligibilité!$A$15:$AG$515,10,TRUE)))","v":""},{"$f":"IF(A38=\"\",\"\",IF(VLOOKUP(A38,eligibilité!$A$15:$AG$515,30,FALSE)=0,\"\",VLOOKUP(A38,eligibilité!$A$15:$AG$515,30,FALSE)))","v":""},"","","","","","","",1305,"","","","","","","Temps restant : ",""]
[{"$f":"IF(eligibilité!AG41=\"\",\"\",eligibilité!A41)","v":""},{"$f":"IF(A39=\"\",\"\",IF(VLOOKUP(A39,eligibilité!$A$15:$J$515,2,TRUE)=\"\",\"\",VLOOKUP(A39,eligibilité!$A$15:$J$515,2,TRUE)))","v":""},{"$f":"IF(A39=\"\",\"\",IF(VLOOKUP(A39,eligibilité!$A$15:$AG$515,3,TRUE)=\"\",\"\",VLOOKUP(A39,eligibilité!$A$15:$AG$515,3,TRUE)))","v":""},{"$f":"IF(A39=\"\",\"\",IF(VLOOKUP(A39,eligibilité!$A$15:$AG$515,4,TRUE)=\"\",\"\",VLOOKUP(A39,eligibilité!$A$15:$AG$515,4,TRUE)))","v":""},{"$f":"IF(A39=\"\",\"\",IF(VLOOKUP(A39,eligibilité!$A$15:$AG$515,5,TRUE)=\"\",\"\",VLOOKUP(A39,eligibilité!$A$15:$AG$515,5,TRUE)))","v":""},{"$f":"IF(A39=\"\",\"\",IF(VLOOKUP(A39,eligibilité!$A$15:$AG$515,6,TRUE)=\"\",\"\",VLOOKUP(A39,eligibilité!$A$15:$AG$515,6,TRUE)))","v":""},{"$f":"IF(A39=\"\",\"\",IF(VLOOKUP(A39,eligibilité!$A$15:$AG$515,7,TRUE)=\"\",\"\",VLOOKUP(A39,eligibilité!$A$15:$AG$515,7,TRUE)))","v":""},{"$f":"IF(A39=\"\",\"\",IF(VLOOKUP(A39,eligibilité!$A$15:$AG$515,8,TRUE)=\"\",\"\",VLOOKUP(A39,eligibilité!$A$15:$AG$515,8,TRUE)))","v":""},{"$f":"IF(A39=\"\",\"\",IF(VLOOKUP(A39,eligibilité!$A$15:$AG$515,9,TRUE)=\"\",\"\",VLOOKUP(A39,eligibilité!$A$15:$AG$515,9,TRUE)))","v":""},{"$f":"IF(A39=\"\",\"\",IF(VLOOKUP(A39,eligibilité!$A$15:$AG$515,10,TRUE)=\"\",\"\",VLOOKUP(A39,eligibilité!$A$15:$AG$515,10,TRUE)))","v":""},{"$f":"IF(A39=\"\",\"\",IF(VLOOKUP(A39,eligibilité!$A$15:$AG$515,30,FALSE)=0,\"\",VLOOKUP(A39,eligibilité!$A$15:$AG$515,30,FALSE)))","v":""},"","","","","","","",1305,"","","","","","","Temps restant : ",""]
[{"$f":"IF(eligibilité!AG42=\"\",\"\",eligibilité!A42)","v":""},{"$f":"IF(A40=\"\",\"\",IF(VLOOKUP(A40,eligibilité!$A$15:$J$515,2,TRUE)=\"\",\"\",VLOOKUP(A40,eligibilité!$A$15:$J$515,2,TRUE)))","v":""},{"$f":"IF(A40=\"\",\"\",IF(VLOOKUP(A40,eligibilité!$A$15:$AG$515,3,TRUE)=\"\",\"\",VLOOKUP(A40,eligibilité!$A$15:$AG$515,3,TRUE)))","v":""},{"$f":"IF(A40=\"\",\"\",IF(VLOOKUP(A40,eligibilité!$A$15:$AG$515,4,TRUE)=\"\",\"\",VLOOKUP(A40,eligibilité!$A$15:$AG$515,4,TRUE)))","v":""},{"$f":"IF(A40=\"\",\"\",IF(VLOOKUP(A40,eligibilité!$A$15:$AG$515,5,TRUE)=\"\",\"\",VLOOKUP(A40,eligibilité!$A$15:$AG$515,5,TRUE)))","v":""},{"$f":"IF(A40=\"\",\"\",IF(VLOOKUP(A40,eligibilité!$A$15:$AG$515,6,TRUE)=\"\",\"\",VLOOKUP(A40,eligibilité!$A$15:$AG$515,6,TRUE)))","v":""},{"$f":"IF(A40=\"\",\"\",IF(VLOOKUP(A40,eligibilité!$A$15:$AG$515,7,TRUE)=\"\",\"\",VLOOKUP(A40,eligibilité!$A$15:$AG$515,7,TRUE)))","v":""},{"$f":"IF(A40=\"\",\"\",IF(VLOOKUP(A40,eligibilité!$A$15:$AG$515,8,TRUE)=\"\",\"\",VLOOKUP(A40,eligibilité!$A$15:$AG$515,8,TRUE)))","v":""},{"$f":"IF(A40=\"\",\"\",IF(VLOOKUP(A40,eligibilité!$A$15:$AG$515,9,TRUE)=\"\",\"\",VLOOKUP(A40,eligibilité!$A$15:$AG$515,9,TRUE)))","v":""},{"$f":"IF(A40=\"\",\"\",IF(VLOOKUP(A40,eligibilité!$A$15:$AG$515,10,TRUE)=\"\",\"\",VLOOKUP(A40,eligibilité!$A$15:$AG$515,10,TRUE)))","v":""},{"$f":"IF(A40=\"\",\"\",IF(VLOOKUP(A40,eligibilité!$A$15:$AG$515,30,FALSE)=0,\"\",VLOOKUP(A40,eligibilité!$A$15:$AG$515,30,FALSE)))","v":""},"","","","","","","",1305,"","","","","","","Temps restant : ",""]
[{"$f":"IF(eligibilité!AG43=\"\",\"\",eligibilité!A43)","v":""},{"$f":"IF(A41=\"\",\"\",IF(VLOOKUP(A41,eligibilité!$A$15:$J$515,2,TRUE)=\"\",\"\",VLOOKUP(A41,eligibilité!$A$15:$J$515,2,TRUE)))","v":""},{"$f":"IF(A41=\"\",\"\",IF(VLOOKUP(A41,eligibilité!$A$15:$AG$515,3,TRUE)=\"\",\"\",VLOOKUP(A41,eligibilité!$A$15:$AG$515,3,TRUE)))","v":""},{"$f":"IF(A41=\"\",\"\",IF(VLOOKUP(A41,eligibilité!$A$15:$AG$515,4,TRUE)=\"\",\"\",VLOOKUP(A41,eligibilité!$A$15:$AG$515,4,TRUE)))","v":""},{"$f":"IF(A41=\"\",\"\",IF(VLOOKUP(A41,eligibilité!$A$15:$AG$515,5,TRUE)=\"\",\"\",VLOOKUP(A41,eligibilité!$A$15:$AG$515,5,TRUE)))","v":""},{"$f":"IF(A41=\"\",\"\",IF(VLOOKUP(A41,eligibilité!$A$15:$AG$515,6,TRUE)=\"\",\"\",VLOOKUP(A41,eligibilité!$A$15:$AG$515,6,TRUE)))","v":""},{"$f":"IF(A41=\"\",\"\",IF(VLOOKUP(A41,eligibilité!$A$15:$AG$515,7,TRUE)=\"\",\"\",VLOOKUP(A41,eligibilité!$A$15:$AG$515,7,TRUE)))","v":""},{"$f":"IF(A41=\"\",\"\",IF(VLOOKUP(A41,eligibilité!$A$15:$AG$515,8,TRUE)=\"\",\"\",VLOOKUP(A41,eligibilité!$A$15:$AG$515,8,TRUE)))","v":""},{"$f":"IF(A41=\"\",\"\",IF(VLOOKUP(A41,eligibilité!$A$15:$AG$515,9,TRUE)=\"\",\"\",VLOOKUP(A41,eligibilité!$A$15:$AG$515,9,TRUE)))","v":""},{"$f":"IF(A41=\"\",\"\",IF(VLOOKUP(A41,eligibilité!$A$15:$AG$515,10,TRUE)=\"\",\"\",VLOOKUP(A41,eligibilité!$A$15:$AG$515,10,TRUE)))","v":""},{"$f":"IF(A41=\"\",\"\",IF(VLOOKUP(A41,eligibilité!$A$15:$AG$515,30,FALSE)=0,\"\",VLOOKUP(A41,eligibilité!$A$15:$AG$515,30,FALSE)))","v":""},"","","","","","","",1305,"","","","","","","Temps restant : ",""]
[{"$f":"IF(eligibilité!AG44=\"\",\"\",eligibilité!A44)","v":""},{"$f":"IF(A42=\"\",\"\",IF(VLOOKUP(A42,eligibilité!$A$15:$J$515,2,TRUE)=\"\",\"\",VLOOKUP(A42,eligibilité!$A$15:$J$515,2,TRUE)))","v":""},{"$f":"IF(A42=\"\",\"\",IF(VLOOKUP(A42,eligibilité!$A$15:$AG$515,3,TRUE)=\"\",\"\",VLOOKUP(A42,eligibilité!$A$15:$AG$515,3,TRUE)))","v":""},{"$f":"IF(A42=\"\",\"\",IF(VLOOKUP(A42,eligibilité!$A$15:$AG$515,4,TRUE)=\"\",\"\",VLOOKUP(A42,eligibilité!$A$15:$AG$515,4,TRUE)))","v":""},{"$f":"IF(A42=\"\",\"\",IF(VLOOKUP(A42,eligibilité!$A$15:$AG$515,5,TRUE)=\"\",\"\",VLOOKUP(A42,eligibilité!$A$15:$AG$515,5,TRUE)))","v":""},{"$f":"IF(A42=\"\",\"\",IF(VLOOKUP(A42,eligibilité!$A$15:$AG$515,6,TRUE)=\"\",\"\",VLOOKUP(A42,eligibilité!$A$15:$AG$515,6,TRUE)))","v":""},{"$f":"IF(A42=\"\",\"\",IF(VLOOKUP(A42,eligibilité!$A$15:$AG$515,7,TRUE)=\"\",\"\",VLOOKUP(A42,eligibilité!$A$15:$AG$515,7,TRUE)))","v":""},{"$f":"IF(A42=\"\",\"\",IF(VLOOKUP(A42,eligibilité!$A$15:$AG$515,8,TRUE)=\"\",\"\",VLOOKUP(A42,eligibilité!$A$15:$AG$515,8,TRUE)))","v":""},{"$f":"IF(A42=\"\",\"\",IF(VLOOKUP(A42,eligibilité!$A$15:$AG$515,9,TRUE)=\"\",\"\",VLOOKUP(A42,eligibilité!$A$15:$AG$515,9,TRUE)))","v":""},{"$f":"IF(A42=\"\",\"\",IF(VLOOKUP(A42,eligibilité!$A$15:$AG$515,10,TRUE)=\"\",\"\",VLOOKUP(A42,eligibilité!$A$15:$AG$515,10,TRUE)))","v":""},{"$f":"IF(A42=\"\",\"\",IF(VLOOKUP(A42,eligibilité!$A$15:$AG$515,30,FALSE)=0,\"\",VLOOKUP(A42,eligibilité!$A$15:$AG$515,30,FALSE)))","v":""},"","","","","","","",1305,"","","","","","","Temps restant : ",""]
[{"$f":"IF(eligibilité!AG45=\"\",\"\",eligibilité!A45)","v":""},{"$f":"IF(A43=\"\",\"\",IF(VLOOKUP(A43,eligibilité!$A$15:$J$515,2,TRUE)=\"\",\"\",VLOOKUP(A43,eligibilité!$A$15:$J$515,2,TRUE)))","v":""},{"$f":"IF(A43=\"\",\"\",IF(VLOOKUP(A43,eligibilité!$A$15:$AG$515,3,TRUE)=\"\",\"\",VLOOKUP(A43,eligibilité!$A$15:$AG$515,3,TRUE)))","v":""},{"$f":"IF(A43=\"\",\"\",IF(VLOOKUP(A43,eligibilité!$A$15:$AG$515,4,TRUE)=\"\",\"\",VLOOKUP(A43,eligibilité!$A$15:$AG$515,4,TRUE)))","v":""},{"$f":"IF(A43=\"\",\"\",IF(VLOOKUP(A43,eligibilité!$A$15:$AG$515,5,TRUE)=\"\",\"\",VLOOKUP(A43,eligibilité!$A$15:$AG$515,5,TRUE)))","v":""},{"$f":"IF(A43=\"\",\"\",IF(VLOOKUP(A43,eligibilité!$A$15:$AG$515,6,TRUE)=\"\",\"\",VLOOKUP(A43,eligibilité!$A$15:$AG$515,6,TRUE)))","v":""},{"$f":"IF(A43=\"\",\"\",IF(VLOOKUP(A43,eligibilité!$A$15:$AG$515,7,TRUE)=\"\",\"\",VLOOKUP(A43,eligibilité!$A$15:$AG$515,7,TRUE)))","v":""},{"$f":"IF(A43=\"\",\"\",IF(VLOOKUP(A43,eligibilité!$A$15:$AG$515,8,TRUE)=\"\",\"\",VLOOKUP(A43,eligibilité!$A$15:$AG$515,8,TRUE)))","v":""},{"$f":"IF(A43=\"\",\"\",IF(VLOOKUP(A43,eligibilité!$A$15:$AG$515,9,TRUE)=\"\",\"\",VLOOKUP(A43,eligibilité!$A$15:$AG$515,9,TRUE)))","v":""},{"$f":"IF(A43=\"\",\"\",IF(VLOOKUP(A43,eligibilité!$A$15:$AG$515,10,TRUE)=\"\",\"\",VLOOKUP(A43,eligibilité!$A$15:$AG$515,10,TRUE)))","v":""},{"$f":"IF(A43=\"\",\"\",IF(VLOOKUP(A43,eligibilité!$A$15:$AG$515,30,FALSE)=0,\"\",VLOOKUP(A43,eligibilité!$A$15:$AG$515,30,FALSE)))","v":""},"","","","","","","",1305,"","","","","","","Temps restant : ",""]
[{"$f":"IF(eligibilité!AG46=\"\",\"\",eligibilité!A46)","v":""},{"$f":"IF(A44=\"\",\"\",IF(VLOOKUP(A44,eligibilité!$A$15:$J$515,2,TRUE)=\"\",\"\",VLOOKUP(A44,eligibilité!$A$15:$J$515,2,TRUE)))","v":""},{"$f":"IF(A44=\"\",\"\",IF(VLOOKUP(A44,eligibilité!$A$15:$AG$515,3,TRUE)=\"\",\"\",VLOOKUP(A44,eligibilité!$A$15:$AG$515,3,TRUE)))","v":""},{"$f":"IF(A44=\"\",\"\",IF(VLOOKUP(A44,eligibilité!$A$15:$AG$515,4,TRUE)=\"\",\"\",VLOOKUP(A44,eligibilité!$A$15:$AG$515,4,TRUE)))","v":""},{"$f":"IF(A44=\"\",\"\",IF(VLOOKUP(A44,eligibilité!$A$15:$AG$515,5,TRUE)=\"\",\"\",VLOOKUP(A44,eligibilité!$A$15:$AG$515,5,TRUE)))","v":""},{"$f":"IF(A44=\"\",\"\",IF(VLOOKUP(A44,eligibilité!$A$15:$AG$515,6,TRUE)=\"\",\"\",VLOOKUP(A44,eligibilité!$A$15:$AG$515,6,TRUE)))","v":""},{"$f":"IF(A44=\"\",\"\",IF(VLOOKUP(A44,eligibilité!$A$15:$AG$515,7,TRUE)=\"\",\"\",VLOOKUP(A44,eligibilité!$A$15:$AG$515,7,TRUE)))","v":""},{"$f":"IF(A44=\"\",\"\",IF(VLOOKUP(A44,eligibilité!$A$15:$AG$515,8,TRUE)=\"\",\"\",VLOOKUP(A44,eligibilité!$A$15:$AG$515,8,TRUE)))","v":""},{"$f":"IF(A44=\"\",\"\",IF(VLOOKUP(A44,eligibilité!$A$15:$AG$515,9,TRUE)=\"\",\"\",VLOOKUP(A44,eligibilité!$A$15:$AG$515,9,TRUE)))","v":""},{"$f":"IF(A44=\"\",\"\",IF(VLOOKUP(A44,eligibilité!$A$15:$AG$515,10,TRUE)=\"\",\"\",VLOOKUP(A44,eligibilité!$A$15:$AG$515,10,TRUE)))","v":""},{"$f":"IF(A44=\"\",\"\",IF(VLOOKUP(A44,eligibilité!$A$15:$AG$515,30,FALSE)=0,\"\",VLOOKUP(A44,eligibilité!$A$15:$AG$515,30,FALSE)))","v":""},"","","","","","","",1305,"","","","","","","Temps restant : ",""]
[{"$f":"IF(eligibilité!AG47=\"\",\"\",eligibilité!A47)","v":""},{"$f":"IF(A45=\"\",\"\",IF(VLOOKUP(A45,eligibilité!$A$15:$J$515,2,TRUE)=\"\",\"\",VLOOKUP(A45,eligibilité!$A$15:$J$515,2,TRUE)))","v":""},{"$f":"IF(A45=\"\",\"\",IF(VLOOKUP(A45,eligibilité!$A$15:$AG$515,3,TRUE)=\"\",\"\",VLOOKUP(A45,eligibilité!$A$15:$AG$515,3,TRUE)))","v":""},{"$f":"IF(A45=\"\",\"\",IF(VLOOKUP(A45,eligibilité!$A$15:$AG$515,4,TRUE)=\"\",\"\",VLOOKUP(A45,eligibilité!$A$15:$AG$515,4,TRUE)))","v":""},{"$f":"IF(A45=\"\",\"\",IF(VLOOKUP(A45,eligibilité!$A$15:$AG$515,5,TRUE)=\"\",\"\",VLOOKUP(A45,eligibilité!$A$15:$AG$515,5,TRUE)))","v":""},{"$f":"IF(A45=\"\",\"\",IF(VLOOKUP(A45,eligibilité!$A$15:$AG$515,6,TRUE)=\"\",\"\",VLOOKUP(A45,eligibilité!$A$15:$AG$515,6,TRUE)))","v":""},{"$f":"IF(A45=\"\",\"\",IF(VLOOKUP(A45,eligibilité!$A$15:$AG$515,7,TRUE)=\"\",\"\",VLOOKUP(A45,eligibilité!$A$15:$AG$515,7,TRUE)))","v":""},{"$f":"IF(A45=\"\",\"\",IF(VLOOKUP(A45,eligibilité!$A$15:$AG$515,8,TRUE)=\"\",\"\",VLOOKUP(A45,eligibilité!$A$15:$AG$515,8,TRUE)))","v":""},{"$f":"IF(A45=\"\",\"\",IF(VLOOKUP(A45,eligibilité!$A$15:$AG$515,9,TRUE)=\"\",\"\",VLOOKUP(A45,eligibilité!$A$15:$AG$515,9,TRUE)))","v":""},{"$f":"IF(A45=\"\",\"\",IF(VLOOKUP(A45,eligibilité!$A$15:$AG$515,10,TRUE)=\"\",\"\",VLOOKUP(A45,eligibilité!$A$15:$AG$515,10,TRUE)))","v":""},{"$f":"IF(A45=\"\",\"\",IF(VLOOKUP(A45,eligibilité!$A$15:$AG$515,30,FALSE)=0,\"\",VLOOKUP(A45,eligibilité!$A$15:$AG$515,30,FALSE)))","v":""},"","","","","","","",1305,"","","","","","","Temps restant : ",""]
[{"$f":"IF(eligibilité!AG48=\"\",\"\",eligibilité!A48)","v":""},{"$f":"IF(A46=\"\",\"\",IF(VLOOKUP(A46,eligibilité!$A$15:$J$515,2,TRUE)=\"\",\"\",VLOOKUP(A46,eligibilité!$A$15:$J$515,2,TRUE)))","v":""},{"$f":"IF(A46=\"\",\"\",IF(VLOOKUP(A46,eligibilité!$A$15:$AG$515,3,TRUE)=\"\",\"\",VLOOKUP(A46,eligibilité!$A$15:$AG$515,3,TRUE)))","v":""},{"$f":"IF(A46=\"\",\"\",IF(VLOOKUP(A46,eligibilité!$A$15:$AG$515,4,TRUE)=\"\",\"\",VLOOKUP(A46,eligibilité!$A$15:$AG$515,4,TRUE)))","v":""},{"$f":"IF(A46=\"\",\"\",IF(VLOOKUP(A46,eligibilité!$A$15:$AG$515,5,TRUE)=\"\",\"\",VLOOKUP(A46,eligibilité!$A$15:$AG$515,5,TRUE)))","v":""},{"$f":"IF(A46=\"\",\"\",IF(VLOOKUP(A46,eligibilité!$A$15:$AG$515,6,TRUE)=\"\",\"\",VLOOKUP(A46,eligibilité!$A$15:$AG$515,6,TRUE)))","v":""},{"$f":"IF(A46=\"\",\"\",IF(VLOOKUP(A46,eligibilité!$A$15:$AG$515,7,TRUE)=\"\",\"\",VLOOKUP(A46,eligibilité!$A$15:$AG$515,7,TRUE)))","v":""},{"$f":"IF(A46=\"\",\"\",IF(VLOOKUP(A46,eligibilité!$A$15:$AG$515,8,TRUE)=\"\",\"\",VLOOKUP(A46,eligibilité!$A$15:$AG$515,8,TRUE)))","v":""},{"$f":"IF(A46=\"\",\"\",IF(VLOOKUP(A46,eligibilité!$A$15:$AG$515,9,TRUE)=\"\",\"\",VLOOKUP(A46,eligibilité!$A$15:$AG$515,9,TRUE)))","v":""},{"$f":"IF(A46=\"\",\"\",IF(VLOOKUP(A46,eligibilité!$A$15:$AG$515,10,TRUE)=\"\",\"\",VLOOKUP(A46,eligibilité!$A$15:$AG$515,10,TRUE)))","v":""},{"$f":"IF(A46=\"\",\"\",IF(VLOOKUP(A46,eligibilité!$A$15:$AG$515,30,FALSE)=0,\"\",VLOOKUP(A46,eligibilité!$A$15:$AG$515,30,FALSE)))","v":""},"","","","","","","",1305,"","","","","","","Temps restant : ",""]
[{"$f":"IF(eligibilité!AG49=\"\",\"\",eligibilité!A49)","v":""},{"$f":"IF(A47=\"\",\"\",IF(VLOOKUP(A47,eligibilité!$A$15:$J$515,2,TRUE)=\"\",\"\",VLOOKUP(A47,eligibilité!$A$15:$J$515,2,TRUE)))","v":""},{"$f":"IF(A47=\"\",\"\",IF(VLOOKUP(A47,eligibilité!$A$15:$AG$515,3,TRUE)=\"\",\"\",VLOOKUP(A47,eligibilité!$A$15:$AG$515,3,TRUE)))","v":""},{"$f":"IF(A47=\"\",\"\",IF(VLOOKUP(A47,eligibilité!$A$15:$AG$515,4,TRUE)=\"\",\"\",VLOOKUP(A47,eligibilité!$A$15:$AG$515,4,TRUE)))","v":""},{"$f":"IF(A47=\"\",\"\",IF(VLOOKUP(A47,eligibilité!$A$15:$AG$515,5,TRUE)=\"\",\"\",VLOOKUP(A47,eligibilité!$A$15:$AG$515,5,TRUE)))","v":""},{"$f":"IF(A47=\"\",\"\",IF(VLOOKUP(A47,eligibilité!$A$15:$AG$515,6,TRUE)=\"\",\"\",VLOOKUP(A47,eligibilité!$A$15:$AG$515,6,TRUE)))","v":""},{"$f":"IF(A47=\"\",\"\",IF(VLOOKUP(A47,eligibilité!$A$15:$AG$515,7,TRUE)=\"\",\"\",VLOOKUP(A47,eligibilité!$A$15:$AG$515,7,TRUE)))","v":""},{"$f":"IF(A47=\"\",\"\",IF(VLOOKUP(A47,eligibilité!$A$15:$AG$515,8,TRUE)=\"\",\"\",VLOOKUP(A47,eligibilité!$A$15:$AG$515,8,TRUE)))","v":""},{"$f":"IF(A47=\"\",\"\",IF(VLOOKUP(A47,eligibilité!$A$15:$AG$515,9,TRUE)=\"\",\"\",VLOOKUP(A47,eligibilité!$A$15:$AG$515,9,TRUE)))","v":""},{"$f":"IF(A47=\"\",\"\",IF(VLOOKUP(A47,eligibilité!$A$15:$AG$515,10,TRUE)=\"\",\"\",VLOOKUP(A47,eligibilité!$A$15:$AG$515,10,TRUE)))","v":""},{"$f":"IF(A47=\"\",\"\",IF(VLOOKUP(A47,eligibilité!$A$15:$AG$515,30,FALSE)=0,\"\",VLOOKUP(A47,eligibilité!$A$15:$AG$515,30,FALSE)))","v":""},"","","","","","","",1305,"","","","","","","Temps restant : ",""]
[{"$f":"IF(eligibilité!AG50=\"\",\"\",eligibilité!A50)","v":""},{"$f":"IF(A48=\"\",\"\",IF(VLOOKUP(A48,eligibilité!$A$15:$J$515,2,TRUE)=\"\",\"\",VLOOKUP(A48,eligibilité!$A$15:$J$515,2,TRUE)))","v":""},{"$f":"IF(A48=\"\",\"\",IF(VLOOKUP(A48,eligibilité!$A$15:$AG$515,3,TRUE)=\"\",\"\",VLOOKUP(A48,eligibilité!$A$15:$AG$515,3,TRUE)))","v":""},{"$f":"IF(A48=\"\",\"\",IF(VLOOKUP(A48,eligibilité!$A$15:$AG$515,4,TRUE)=\"\",\"\",VLOOKUP(A48,eligibilité!$A$15:$AG$515,4,TRUE)))","v":""},{"$f":"IF(A48=\"\",\"\",IF(VLOOKUP(A48,eligibilité!$A$15:$AG$515,5,TRUE)=\"\",\"\",VLOOKUP(A48,eligibilité!$A$15:$AG$515,5,TRUE)))","v":""},{"$f":"IF(A48=\"\",\"\",IF(VLOOKUP(A48,eligibilité!$A$15:$AG$515,6,TRUE)=\"\",\"\",VLOOKUP(A48,eligibilité!$A$15:$AG$515,6,TRUE)))","v":""},{"$f":"IF(A48=\"\",\"\",IF(VLOOKUP(A48,eligibilité!$A$15:$AG$515,7,TRUE)=\"\",\"\",VLOOKUP(A48,eligibilité!$A$15:$AG$515,7,TRUE)))","v":""},{"$f":"IF(A48=\"\",\"\",IF(VLOOKUP(A48,eligibilité!$A$15:$AG$515,8,TRUE)=\"\",\"\",VLOOKUP(A48,eligibilité!$A$15:$AG$515,8,TRUE)))","v":""},{"$f":"IF(A48=\"\",\"\",IF(VLOOKUP(A48,eligibilité!$A$15:$AG$515,9,TRUE)=\"\",\"\",VLOOKUP(A48,eligibilité!$A$15:$AG$515,9,TRUE)))","v":""},{"$f":"IF(A48=\"\",\"\",IF(VLOOKUP(A48,eligibilité!$A$15:$AG$515,10,TRUE)=\"\",\"\",VLOOKUP(A48,eligibilité!$A$15:$AG$515,10,TRUE)))","v":""},{"$f":"IF(A48=\"\",\"\",IF(VLOOKUP(A48,eligibilité!$A$15:$AG$515,30,FALSE)=0,\"\",VLOOKUP(A48,eligibilité!$A$15:$AG$515,30,FALSE)))","v":""},"","","","","","","",1305,"","","","","","","Temps restant : ",""]
[{"$f":"IF(eligibilité!AG51=\"\",\"\",eligibilité!A51)","v":""},{"$f":"IF(A49=\"\",\"\",IF(VLOOKUP(A49,eligibilité!$A$15:$J$515,2,TRUE)=\"\",\"\",VLOOKUP(A49,eligibilité!$A$15:$J$515,2,TRUE)))","v":""},{"$f":"IF(A49=\"\",\"\",IF(VLOOKUP(A49,eligibilité!$A$15:$AG$515,3,TRUE)=\"\",\"\",VLOOKUP(A49,eligibilité!$A$15:$AG$515,3,TRUE)))","v":""},{"$f":"IF(A49=\"\",\"\",IF(VLOOKUP(A49,eligibilité!$A$15:$AG$515,4,TRUE)=\"\",\"\",VLOOKUP(A49,eligibilité!$A$15:$AG$515,4,TRUE)))","v":""},{"$f":"IF(A49=\"\",\"\",IF(VLOOKUP(A49,eligibilité!$A$15:$AG$515,5,TRUE)=\"\",\"\",VLOOKUP(A49,eligibilité!$A$15:$AG$515,5,TRUE)))","v":""},{"$f":"IF(A49=\"\",\"\",IF(VLOOKUP(A49,eligibilité!$A$15:$AG$515,6,TRUE)=\"\",\"\",VLOOKUP(A49,eligibilité!$A$15:$AG$515,6,TRUE)))","v":""},{"$f":"IF(A49=\"\",\"\",IF(VLOOKUP(A49,eligibilité!$A$15:$AG$515,7,TRUE)=\"\",\"\",VLOOKUP(A49,eligibilité!$A$15:$AG$515,7,TRUE)))","v":""},{"$f":"IF(A49=\"\",\"\",IF(VLOOKUP(A49,eligibilité!$A$15:$AG$515,8,TRUE)=\"\",\"\",VLOOKUP(A49,eligibilité!$A$15:$AG$515,8,TRUE)))","v":""},{"$f":"IF(A49=\"\",\"\",IF(VLOOKUP(A49,eligibilité!$A$15:$AG$515,9,TRUE)=\"\",\"\",VLOOKUP(A49,eligibilité!$A$15:$AG$515,9,TRUE)))","v":""},{"$f":"IF(A49=\"\",\"\",IF(VLOOKUP(A49,eligibilité!$A$15:$AG$515,10,TRUE)=\"\",\"\",VLOOKUP(A49,eligibilité!$A$15:$AG$515,10,TRUE)))","v":""},{"$f":"IF(A49=\"\",\"\",IF(VLOOKUP(A49,eligibilité!$A$15:$AG$515,30,FALSE)=0,\"\",VLOOKUP(A49,eligibilité!$A$15:$AG$515,30,FALSE)))","v":""},"","","","","","","",1305,"","","","","","","Temps restant : ",""]
[{"$f":"IF(eligibilité!AG52=\"\",\"\",eligibilité!A52)","v":""},{"$f":"IF(A50=\"\",\"\",IF(VLOOKUP(A50,eligibilité!$A$15:$J$515,2,TRUE)=\"\",\"\",VLOOKUP(A50,eligibilité!$A$15:$J$515,2,TRUE)))","v":""},{"$f":"IF(A50=\"\",\"\",IF(VLOOKUP(A50,eligibilité!$A$15:$AG$515,3,TRUE)=\"\",\"\",VLOOKUP(A50,eligibilité!$A$15:$AG$515,3,TRUE)))","v":""},{"$f":"IF(A50=\"\",\"\",IF(VLOOKUP(A50,eligibilité!$A$15:$AG$515,4,TRUE)=\"\",\"\",VLOOKUP(A50,eligibilité!$A$15:$AG$515,4,TRUE)))","v":""},{"$f":"IF(A50=\"\",\"\",IF(VLOOKUP(A50,eligibilité!$A$15:$AG$515,5,TRUE)=\"\",\"\",VLOOKUP(A50,eligibilité!$A$15:$AG$515,5,TRUE)))","v":""},{"$f":"IF(A50=\"\",\"\",IF(VLOOKUP(A50,eligibilité!$A$15:$AG$515,6,TRUE)=\"\",\"\",VLOOKUP(A50,eligibilité!$A$15:$AG$515,6,TRUE)))","v":""},{"$f":"IF(A50=\"\",\"\",IF(VLOOKUP(A50,eligibilité!$A$15:$AG$515,7,TRUE)=\"\",\"\",VLOOKUP(A50,eligibilité!$A$15:$AG$515,7,TRUE)))","v":""},{"$f":"IF(A50=\"\",\"\",IF(VLOOKUP(A50,eligibilité!$A$15:$AG$515,8,TRUE)=\"\",\"\",VLOOKUP(A50,eligibilité!$A$15:$AG$515,8,TRUE)))","v":""},{"$f":"IF(A50=\"\",\"\",IF(VLOOKUP(A50,eligibilité!$A$15:$AG$515,9,TRUE)=\"\",\"\",VLOOKUP(A50,eligibilité!$A$15:$AG$515,9,TRUE)))","v":""},{"$f":"IF(A50=\"\",\"\",IF(VLOOKUP(A50,eligibilité!$A$15:$AG$515,10,TRUE)=\"\",\"\",VLOOKUP(A50,eligibilité!$A$15:$AG$515,10,TRUE)))","v":""},{"$f":"IF(A50=\"\",\"\",IF(VLOOKUP(A50,eligibilité!$A$15:$AG$515,30,FALSE)=0,\"\",VLOOKUP(A50,eligibilité!$A$15:$AG$515,30,FALSE)))","v":""},"","","","","","","",1305,"","","","","","","Temps restant : ",""]
[{"$f":"IF(eligibilité!AG53=\"\",\"\",eligibilité!A53)","v":""},{"$f":"IF(A51=\"\",\"\",IF(VLOOKUP(A51,eligibilité!$A$15:$J$515,2,TRUE)=\"\",\"\",VLOOKUP(A51,eligibilité!$A$15:$J$515,2,TRUE)))","v":""},{"$f":"IF(A51=\"\",\"\",IF(VLOOKUP(A51,eligibilité!$A$15:$AG$515,3,TRUE)=\"\",\"\",VLOOKUP(A51,eligibilité!$A$15:$AG$515,3,TRUE)))","v":""},{"$f":"IF(A51=\"\",\"\",IF(VLOOKUP(A51,eligibilité!$A$15:$AG$515,4,TRUE)=\"\",\"\",VLOOKUP(A51,eligibilité!$A$15:$AG$515,4,TRUE)))","v":""},{"$f":"IF(A51=\"\",\"\",IF(VLOOKUP(A51,eligibilité!$A$15:$AG$515,5,TRUE)=\"\",\"\",VLOOKUP(A51,eligibilité!$A$15:$AG$515,5,TRUE)))","v":""},{"$f":"IF(A51=\"\",\"\",IF(VLOOKUP(A51,eligibilité!$A$15:$AG$515,6,TRUE)=\"\",\"\",VLOOKUP(A51,eligibilité!$A$15:$AG$515,6,TRUE)))","v":""},{"$f":"IF(A51=\"\",\"\",IF(VLOOKUP(A51,eligibilité!$A$15:$AG$515,7,TRUE)=\"\",\"\",VLOOKUP(A51,eligibilité!$A$15:$AG$515,7,TRUE)))","v":""},{"$f":"IF(A51=\"\",\"\",IF(VLOOKUP(A51,eligibilité!$A$15:$AG$515,8,TRUE)=\"\",\"\",VLOOKUP(A51,eligibilité!$A$15:$AG$515,8,TRUE)))","v":""},{"$f":"IF(A51=\"\",\"\",IF(VLOOKUP(A51,eligibilité!$A$15:$AG$515,9,TRUE)=\"\",\"\",VLOOKUP(A51,eligibilité!$A$15:$AG$515,9,TRUE)))","v":""},{"$f":"IF(A51=\"\",\"\",IF(VLOOKUP(A51,eligibilité!$A$15:$AG$515,10,TRUE)=\"\",\"\",VLOOKUP(A51,eligibilité!$A$15:$AG$515,10,TRUE)))","v":""},{"$f":"IF(A51=\"\",\"\",IF(VLOOKUP(A51,eligibilité!$A$15:$AG$515,30,FALSE)=0,\"\",VLOOKUP(A51,eligibilité!$A$15:$AG$515,30,FALSE)))","v":""},"","","","","","","",1305,"","","","","","","Temps restant : ",""]
[{"$f":"IF(eligibilité!AG54=\"\",\"\",eligibilité!A54)","v":""},{"$f":"IF(A52=\"\",\"\",IF(VLOOKUP(A52,eligibilité!$A$15:$J$515,2,TRUE)=\"\",\"\",VLOOKUP(A52,eligibilité!$A$15:$J$515,2,TRUE)))","v":""},{"$f":"IF(A52=\"\",\"\",IF(VLOOKUP(A52,eligibilité!$A$15:$AG$515,3,TRUE)=\"\",\"\",VLOOKUP(A52,eligibilité!$A$15:$AG$515,3,TRUE)))","v":""},{"$f":"IF(A52=\"\",\"\",IF(VLOOKUP(A52,eligibilité!$A$15:$AG$515,4,TRUE)=\"\",\"\",VLOOKUP(A52,eligibilité!$A$15:$AG$515,4,TRUE)))","v":""},{"$f":"IF(A52=\"\",\"\",IF(VLOOKUP(A52,eligibilité!$A$15:$AG$515,5,TRUE)=\"\",\"\",VLOOKUP(A52,eligibilité!$A$15:$AG$515,5,TRUE)))","v":""},{"$f":"IF(A52=\"\",\"\",IF(VLOOKUP(A52,eligibilité!$A$15:$AG$515,6,TRUE)=\"\",\"\",VLOOKUP(A52,eligibilité!$A$15:$AG$515,6,TRUE)))","v":""},{"$f":"IF(A52=\"\",\"\",IF(VLOOKUP(A52,eligibilité!$A$15:$AG$515,7,TRUE)=\"\",\"\",VLOOKUP(A52,eligibilité!$A$15:$AG$515,7,TRUE)))","v":""},{"$f":"IF(A52=\"\",\"\",IF(VLOOKUP(A52,eligibilité!$A$15:$AG$515,8,TRUE)=\"\",\"\",VLOOKUP(A52,eligibilité!$A$15:$AG$515,8,TRUE)))","v":""},{"$f":"IF(A52=\"\",\"\",IF(VLOOKUP(A52,eligibilité!$A$15:$AG$515,9,TRUE)=\"\",\"\",VLOOKUP(A52,eligibilité!$A$15:$AG$515,9,TRUE)))","v":""},{"$f":"IF(A52=\"\",\"\",IF(VLOOKUP(A52,eligibilité!$A$15:$AG$515,10,TRUE)=\"\",\"\",VLOOKUP(A52,eligibilité!$A$15:$AG$515,10,TRUE)))","v":""},{"$f":"IF(A52=\"\",\"\",IF(VLOOKUP(A52,eligibilité!$A$15:$AG$515,30,FALSE)=0,\"\",VLOOKUP(A52,eligibilité!$A$15:$AG$515,30,FALSE)))","v":""},"","","","","","","",1305,"","","","","","","Temps restant : ",""]
[{"$f":"IF(eligibilité!AG55=\"\",\"\",eligibilité!A55)","v":""},{"$f":"IF(A53=\"\",\"\",IF(VLOOKUP(A53,eligibilité!$A$15:$J$515,2,TRUE)=\"\",\"\",VLOOKUP(A53,eligibilité!$A$15:$J$515,2,TRUE)))","v":""},{"$f":"IF(A53=\"\",\"\",IF(VLOOKUP(A53,eligibilité!$A$15:$AG$515,3,TRUE)=\"\",\"\",VLOOKUP(A53,eligibilité!$A$15:$AG$515,3,TRUE)))","v":""},{"$f":"IF(A53=\"\",\"\",IF(VLOOKUP(A53,eligibilité!$A$15:$AG$515,4,TRUE)=\"\",\"\",VLOOKUP(A53,eligibilité!$A$15:$AG$515,4,TRUE)))","v":""},{"$f":"IF(A53=\"\",\"\",IF(VLOOKUP(A53,eligibilité!$A$15:$AG$515,5,TRUE)=\"\",\"\",VLOOKUP(A53,eligibilité!$A$15:$AG$515,5,TRUE)))","v":""},{"$f":"IF(A53=\"\",\"\",IF(VLOOKUP(A53,eligibilité!$A$15:$AG$515,6,TRUE)=\"\",\"\",VLOOKUP(A53,eligibilité!$A$15:$AG$515,6,TRUE)))","v":""},{"$f":"IF(A53=\"\",\"\",IF(VLOOKUP(A53,eligibilité!$A$15:$AG$515,7,TRUE)=\"\",\"\",VLOOKUP(A53,eligibilité!$A$15:$AG$515,7,TRUE)))","v":""},{"$f":"IF(A53=\"\",\"\",IF(VLOOKUP(A53,eligibilité!$A$15:$AG$515,8,TRUE)=\"\",\"\",VLOOKUP(A53,eligibilité!$A$15:$AG$515,8,TRUE)))","v":""},{"$f":"IF(A53=\"\",\"\",IF(VLOOKUP(A53,eligibilité!$A$15:$AG$515,9,TRUE)=\"\",\"\",VLOOKUP(A53,eligibilité!$A$15:$AG$515,9,TRUE)))","v":""},{"$f":"IF(A53=\"\",\"\",IF(VLOOKUP(A53,eligibilité!$A$15:$AG$515,10,TRUE)=\"\",\"\",VLOOKUP(A53,eligibilité!$A$15:$AG$515,10,TRUE)))","v":""},{"$f":"IF(A53=\"\",\"\",IF(VLOOKUP(A53,eligibilité!$A$15:$AG$515,30,FALSE)=0,\"\",VLOOKUP(A53,eligibilité!$A$15:$AG$515,30,FALSE)))","v":""},"","","","","","","",1305,"","","","","","","Temps restant : ",""]
[{"$f":"IF(eligibilité!AG56=\"\",\"\",eligibilité!A56)","v":""},{"$f":"IF(A54=\"\",\"\",IF(VLOOKUP(A54,eligibilité!$A$15:$J$515,2,TRUE)=\"\",\"\",VLOOKUP(A54,eligibilité!$A$15:$J$515,2,TRUE)))","v":""},{"$f":"IF(A54=\"\",\"\",IF(VLOOKUP(A54,eligibilité!$A$15:$AG$515,3,TRUE)=\"\",\"\",VLOOKUP(A54,eligibilité!$A$15:$AG$515,3,TRUE)))","v":""},{"$f":"IF(A54=\"\",\"\",IF(VLOOKUP(A54,eligibilité!$A$15:$AG$515,4,TRUE)=\"\",\"\",VLOOKUP(A54,eligibilité!$A$15:$AG$515,4,TRUE)))","v":""},{"$f":"IF(A54=\"\",\"\",IF(VLOOKUP(A54,eligibilité!$A$15:$AG$515,5,TRUE)=\"\",\"\",VLOOKUP(A54,eligibilité!$A$15:$AG$515,5,TRUE)))","v":""},{"$f":"IF(A54=\"\",\"\",IF(VLOOKUP(A54,eligibilité!$A$15:$AG$515,6,TRUE)=\"\",\"\",VLOOKUP(A54,eligibilité!$A$15:$AG$515,6,TRUE)))","v":""},{"$f":"IF(A54=\"\",\"\",IF(VLOOKUP(A54,eligibilité!$A$15:$AG$515,7,TRUE)=\"\",\"\",VLOOKUP(A54,eligibilité!$A$15:$AG$515,7,TRUE)))","v":""},{"$f":"IF(A54=\"\",\"\",IF(VLOOKUP(A54,eligibilité!$A$15:$AG$515,8,TRUE)=\"\",\"\",VLOOKUP(A54,eligibilité!$A$15:$AG$515,8,TRUE)))","v":""},{"$f":"IF(A54=\"\",\"\",IF(VLOOKUP(A54,eligibilité!$A$15:$AG$515,9,TRUE)=\"\",\"\",VLOOKUP(A54,eligibilité!$A$15:$AG$515,9,TRUE)))","v":""},{"$f":"IF(A54=\"\",\"\",IF(VLOOKUP(A54,eligibilité!$A$15:$AG$515,10,TRUE)=\"\",\"\",VLOOKUP(A54,eligibilité!$A$15:$AG$515,10,TRUE)))","v":""},{"$f":"IF(A54=\"\",\"\",IF(VLOOKUP(A54,eligibilité!$A$15:$AG$515,30,FALSE)=0,\"\",VLOOKUP(A54,eligibilité!$A$15:$AG$515,30,FALSE)))","v":""},"","","","","","","",1305,"","","","","","","Temps restant : ",""]
[{"$f":"IF(eligibilité!AG57=\"\",\"\",eligibilité!A57)","v":""},{"$f":"IF(A55=\"\",\"\",IF(VLOOKUP(A55,eligibilité!$A$15:$J$515,2,TRUE)=\"\",\"\",VLOOKUP(A55,eligibilité!$A$15:$J$515,2,TRUE)))","v":""},{"$f":"IF(A55=\"\",\"\",IF(VLOOKUP(A55,eligibilité!$A$15:$AG$515,3,TRUE)=\"\",\"\",VLOOKUP(A55,eligibilité!$A$15:$AG$515,3,TRUE)))","v":""},{"$f":"IF(A55=\"\",\"\",IF(VLOOKUP(A55,eligibilité!$A$15:$AG$515,4,TRUE)=\"\",\"\",VLOOKUP(A55,eligibilité!$A$15:$AG$515,4,TRUE)))","v":""},{"$f":"IF(A55=\"\",\"\",IF(VLOOKUP(A55,eligibilité!$A$15:$AG$515,5,TRUE)=\"\",\"\",VLOOKUP(A55,eligibilité!$A$15:$AG$515,5,TRUE)))","v":""},{"$f":"IF(A55=\"\",\"\",IF(VLOOKUP(A55,eligibilité!$A$15:$AG$515,6,TRUE)=\"\",\"\",VLOOKUP(A55,eligibilité!$A$15:$AG$515,6,TRUE)))","v":""},{"$f":"IF(A55=\"\",\"\",IF(VLOOKUP(A55,eligibilité!$A$15:$AG$515,7,TRUE)=\"\",\"\",VLOOKUP(A55,eligibilité!$A$15:$AG$515,7,TRUE)))","v":""},{"$f":"IF(A55=\"\",\"\",IF(VLOOKUP(A55,eligibilité!$A$15:$AG$515,8,TRUE)=\"\",\"\",VLOOKUP(A55,eligibilité!$A$15:$AG$515,8,TRUE)))","v":""},{"$f":"IF(A55=\"\",\"\",IF(VLOOKUP(A55,eligibilité!$A$15:$AG$515,9,TRUE)=\"\",\"\",VLOOKUP(A55,eligibilité!$A$15:$AG$515,9,TRUE)))","v":""},{"$f":"IF(A55=\"\",\"\",IF(VLOOKUP(A55,eligibilité!$A$15:$AG$515,10,TRUE)=\"\",\"\",VLOOKUP(A55,eligibilité!$A$15:$AG$515,10,TRUE)))","v":""},{"$f":"IF(A55=\"\",\"\",IF(VLOOKUP(A55,eligibilité!$A$15:$AG$515,30,FALSE)=0,\"\",VLOOKUP(A55,eligibilité!$A$15:$AG$515,30,FALSE)))","v":""},"","","","","","","",1305,"","","","","","","Temps restant : ",""]
[{"$f":"IF(eligibilité!AG58=\"\",\"\",eligibilité!A58)","v":""},{"$f":"IF(A56=\"\",\"\",IF(VLOOKUP(A56,eligibilité!$A$15:$J$515,2,TRUE)=\"\",\"\",VLOOKUP(A56,eligibilité!$A$15:$J$515,2,TRUE)))","v":""},{"$f":"IF(A56=\"\",\"\",IF(VLOOKUP(A56,eligibilité!$A$15:$AG$515,3,TRUE)=\"\",\"\",VLOOKUP(A56,eligibilité!$A$15:$AG$515,3,TRUE)))","v":""},{"$f":"IF(A56=\"\",\"\",IF(VLOOKUP(A56,eligibilité!$A$15:$AG$515,4,TRUE)=\"\",\"\",VLOOKUP(A56,eligibilité!$A$15:$AG$515,4,TRUE)))","v":""},{"$f":"IF(A56=\"\",\"\",IF(VLOOKUP(A56,eligibilité!$A$15:$AG$515,5,TRUE)=\"\",\"\",VLOOKUP(A56,eligibilité!$A$15:$AG$515,5,TRUE)))","v":""},{"$f":"IF(A56=\"\",\"\",IF(VLOOKUP(A56,eligibilité!$A$15:$AG$515,6,TRUE)=\"\",\"\",VLOOKUP(A56,eligibilité!$A$15:$AG$515,6,TRUE)))","v":""},{"$f":"IF(A56=\"\",\"\",IF(VLOOKUP(A56,eligibilité!$A$15:$AG$515,7,TRUE)=\"\",\"\",VLOOKUP(A56,eligibilité!$A$15:$AG$515,7,TRUE)))","v":""},{"$f":"IF(A56=\"\",\"\",IF(VLOOKUP(A56,eligibilité!$A$15:$AG$515,8,TRUE)=\"\",\"\",VLOOKUP(A56,eligibilité!$A$15:$AG$515,8,TRUE)))","v":""},{"$f":"IF(A56=\"\",\"\",IF(VLOOKUP(A56,eligibilité!$A$15:$AG$515,9,TRUE)=\"\",\"\",VLOOKUP(A56,eligibilité!$A$15:$AG$515,9,TRUE)))","v":""},{"$f":"IF(A56=\"\",\"\",IF(VLOOKUP(A56,eligibilité!$A$15:$AG$515,10,TRUE)=\"\",\"\",VLOOKUP(A56,eligibilité!$A$15:$AG$515,10,TRUE)))","v":""},{"$f":"IF(A56=\"\",\"\",IF(VLOOKUP(A56,eligibilité!$A$15:$AG$515,30,FALSE)=0,\"\",VLOOKUP(A56,eligibilité!$A$15:$AG$515,30,FALSE)))","v":""},"","","","","","","",1305,"","","","","","","Temps restant : ",""]
[{"$f":"IF(eligibilité!AG59=\"\",\"\",eligibilité!A59)","v":""},{"$f":"IF(A57=\"\",\"\",IF(VLOOKUP(A57,eligibilité!$A$15:$J$515,2,TRUE)=\"\",\"\",VLOOKUP(A57,eligibilité!$A$15:$J$515,2,TRUE)))","v":""},{"$f":"IF(A57=\"\",\"\",IF(VLOOKUP(A57,eligibilité!$A$15:$AG$515,3,TRUE)=\"\",\"\",VLOOKUP(A57,eligibilité!$A$15:$AG$515,3,TRUE)))","v":""},{"$f":"IF(A57=\"\",\"\",IF(VLOOKUP(A57,eligibilité!$A$15:$AG$515,4,TRUE)=\"\",\"\",VLOOKUP(A57,eligibilité!$A$15:$AG$515,4,TRUE)))","v":""},{"$f":"IF(A57=\"\",\"\",IF(VLOOKUP(A57,eligibilité!$A$15:$AG$515,5,TRUE)=\"\",\"\",VLOOKUP(A57,eligibilité!$A$15:$AG$515,5,TRUE)))","v":""},{"$f":"IF(A57=\"\",\"\",IF(VLOOKUP(A57,eligibilité!$A$15:$AG$515,6,TRUE)=\"\",\"\",VLOOKUP(A57,eligibilité!$A$15:$AG$515,6,TRUE)))","v":""},{"$f":"IF(A57=\"\",\"\",IF(VLOOKUP(A57,eligibilité!$A$15:$AG$515,7,TRUE)=\"\",\"\",VLOOKUP(A57,eligibilité!$A$15:$AG$515,7,TRUE)))","v":""},{"$f":"IF(A57=\"\",\"\",IF(VLOOKUP(A57,eligibilité!$A$15:$AG$515,8,TRUE)=\"\",\"\",VLOOKUP(A57,eligibilité!$A$15:$AG$515,8,TRUE)))","v":""},{"$f":"IF(A57=\"\",\"\",IF(VLOOKUP(A57,eligibilité!$A$15:$AG$515,9,TRUE)=\"\",\"\",VLOOKUP(A57,eligibilité!$A$15:$AG$515,9,TRUE)))","v":""},{"$f":"IF(A57=\"\",\"\",IF(VLOOKUP(A57,eligibilité!$A$15:$AG$515,10,TRUE)=\"\",\"\",VLOOKUP(A57,eligibilité!$A$15:$AG$515,10,TRUE)))","v":""},{"$f":"IF(A57=\"\",\"\",IF(VLOOKUP(A57,eligibilité!$A$15:$AG$515,30,FALSE)=0,\"\",VLOOKUP(A57,eligibilité!$A$15:$AG$515,30,FALSE)))","v":""},"","","","","","","",1305,"","","","","","","Temps restant : ",""]
[{"$f":"IF(eligibilité!AG60=\"\",\"\",eligibilité!A60)","v":""},{"$f":"IF(A58=\"\",\"\",IF(VLOOKUP(A58,eligibilité!$A$15:$J$515,2,TRUE)=\"\",\"\",VLOOKUP(A58,eligibilité!$A$15:$J$515,2,TRUE)))","v":""},{"$f":"IF(A58=\"\",\"\",IF(VLOOKUP(A58,eligibilité!$A$15:$AG$515,3,TRUE)=\"\",\"\",VLOOKUP(A58,eligibilité!$A$15:$AG$515,3,TRUE)))","v":""},{"$f":"IF(A58=\"\",\"\",IF(VLOOKUP(A58,eligibilité!$A$15:$AG$515,4,TRUE)=\"\",\"\",VLOOKUP(A58,eligibilité!$A$15:$AG$515,4,TRUE)))","v":""},{"$f":"IF(A58=\"\",\"\",IF(VLOOKUP(A58,eligibilité!$A$15:$AG$515,5,TRUE)=\"\",\"\",VLOOKUP(A58,eligibilité!$A$15:$AG$515,5,TRUE)))","v":""},{"$f":"IF(A58=\"\",\"\",IF(VLOOKUP(A58,eligibilité!$A$15:$AG$515,6,TRUE)=\"\",\"\",VLOOKUP(A58,eligibilité!$A$15:$AG$515,6,TRUE)))","v":""},{"$f":"IF(A58=\"\",\"\",IF(VLOOKUP(A58,eligibilité!$A$15:$AG$515,7,TRUE)=\"\",\"\",VLOOKUP(A58,eligibilité!$A$15:$AG$515,7,TRUE)))","v":""},{"$f":"IF(A58=\"\",\"\",IF(VLOOKUP(A58,eligibilité!$A$15:$AG$515,8,TRUE)=\"\",\"\",VLOOKUP(A58,eligibilité!$A$15:$AG$515,8,TRUE)))","v":""},{"$f":"IF(A58=\"\",\"\",IF(VLOOKUP(A58,eligibilité!$A$15:$AG$515,9,TRUE)=\"\",\"\",VLOOKUP(A58,eligibilité!$A$15:$AG$515,9,TRUE)))","v":""},{"$f":"IF(A58=\"\",\"\",IF(VLOOKUP(A58,eligibilité!$A$15:$AG$515,10,TRUE)=\"\",\"\",VLOOKUP(A58,eligibilité!$A$15:$AG$515,10,TRUE)))","v":""},{"$f":"IF(A58=\"\",\"\",IF(VLOOKUP(A58,eligibilité!$A$15:$AG$515,30,FALSE)=0,\"\",VLOOKUP(A58,eligibilité!$A$15:$AG$515,30,FALSE)))","v":""},"","","","","","","",1305,"","","","","","","Temps restant : ",""]
[{"$f":"IF(eligibilité!AG61=\"\",\"\",eligibilité!A61)","v":""},{"$f":"IF(A59=\"\",\"\",IF(VLOOKUP(A59,eligibilité!$A$15:$J$515,2,TRUE)=\"\",\"\",VLOOKUP(A59,eligibilité!$A$15:$J$515,2,TRUE)))","v":""},{"$f":"IF(A59=\"\",\"\",IF(VLOOKUP(A59,eligibilité!$A$15:$AG$515,3,TRUE)=\"\",\"\",VLOOKUP(A59,eligibilité!$A$15:$AG$515,3,TRUE)))","v":""},{"$f":"IF(A59=\"\",\"\",IF(VLOOKUP(A59,eligibilité!$A$15:$AG$515,4,TRUE)=\"\",\"\",VLOOKUP(A59,eligibilité!$A$15:$AG$515,4,TRUE)))","v":""},{"$f":"IF(A59=\"\",\"\",IF(VLOOKUP(A59,eligibilité!$A$15:$AG$515,5,TRUE)=\"\",\"\",VLOOKUP(A59,eligibilité!$A$15:$AG$515,5,TRUE)))","v":""},{"$f":"IF(A59=\"\",\"\",IF(VLOOKUP(A59,eligibilité!$A$15:$AG$515,6,TRUE)=\"\",\"\",VLOOKUP(A59,eligibilité!$A$15:$AG$515,6,TRUE)))","v":""},{"$f":"IF(A59=\"\",\"\",IF(VLOOKUP(A59,eligibilité!$A$15:$AG$515,7,TRUE)=\"\",\"\",VLOOKUP(A59,eligibilité!$A$15:$AG$515,7,TRUE)))","v":""},{"$f":"IF(A59=\"\",\"\",IF(VLOOKUP(A59,eligibilité!$A$15:$AG$515,8,TRUE)=\"\",\"\",VLOOKUP(A59,eligibilité!$A$15:$AG$515,8,TRUE)))","v":""},{"$f":"IF(A59=\"\",\"\",IF(VLOOKUP(A59,eligibilité!$A$15:$AG$515,9,TRUE)=\"\",\"\",VLOOKUP(A59,eligibilité!$A$15:$AG$515,9,TRUE)))","v":""},{"$f":"IF(A59=\"\",\"\",IF(VLOOKUP(A59,eligibilité!$A$15:$AG$515,10,TRUE)=\"\",\"\",VLOOKUP(A59,eligibilité!$A$15:$AG$515,10,TRUE)))","v":""},{"$f":"IF(A59=\"\",\"\",IF(VLOOKUP(A59,eligibilité!$A$15:$AG$515,30,FALSE)=0,\"\",VLOOKUP(A59,eligibilité!$A$15:$AG$515,30,FALSE)))","v":""},"","","","","","","",1305,"","","","","","","Temps restant : ",""]
[{"$f":"IF(eligibilité!AG62=\"\",\"\",eligibilité!A62)","v":""},{"$f":"IF(A60=\"\",\"\",IF(VLOOKUP(A60,eligibilité!$A$15:$J$515,2,TRUE)=\"\",\"\",VLOOKUP(A60,eligibilité!$A$15:$J$515,2,TRUE)))","v":""},{"$f":"IF(A60=\"\",\"\",IF(VLOOKUP(A60,eligibilité!$A$15:$AG$515,3,TRUE)=\"\",\"\",VLOOKUP(A60,eligibilité!$A$15:$AG$515,3,TRUE)))","v":""},{"$f":"IF(A60=\"\",\"\",IF(VLOOKUP(A60,eligibilité!$A$15:$AG$515,4,TRUE)=\"\",\"\",VLOOKUP(A60,eligibilité!$A$15:$AG$515,4,TRUE)))","v":""},{"$f":"IF(A60=\"\",\"\",IF(VLOOKUP(A60,eligibilité!$A$15:$AG$515,5,TRUE)=\"\",\"\",VLOOKUP(A60,eligibilité!$A$15:$AG$515,5,TRUE)))","v":""},{"$f":"IF(A60=\"\",\"\",IF(VLOOKUP(A60,eligibilité!$A$15:$AG$515,6,TRUE)=\"\",\"\",VLOOKUP(A60,eligibilité!$A$15:$AG$515,6,TRUE)))","v":""},{"$f":"IF(A60=\"\",\"\",IF(VLOOKUP(A60,eligibilité!$A$15:$AG$515,7,TRUE)=\"\",\"\",VLOOKUP(A60,eligibilité!$A$15:$AG$515,7,TRUE)))","v":""},{"$f":"IF(A60=\"\",\"\",IF(VLOOKUP(A60,eligibilité!$A$15:$AG$515,8,TRUE)=\"\",\"\",VLOOKUP(A60,eligibilité!$A$15:$AG$515,8,TRUE)))","v":""},{"$f":"IF(A60=\"\",\"\",IF(VLOOKUP(A60,eligibilité!$A$15:$AG$515,9,TRUE)=\"\",\"\",VLOOKUP(A60,eligibilité!$A$15:$AG$515,9,TRUE)))","v":""},{"$f":"IF(A60=\"\",\"\",IF(VLOOKUP(A60,eligibilité!$A$15:$AG$515,10,TRUE)=\"\",\"\",VLOOKUP(A60,eligibilité!$A$15:$AG$515,10,TRUE)))","v":""},{"$f":"IF(A60=\"\",\"\",IF(VLOOKUP(A60,eligibilité!$A$15:$AG$515,30,FALSE)=0,\"\",VLOOKUP(A60,eligibilité!$A$15:$AG$515,30,FALSE)))","v":""},"","","","","","","",1305,"","","","","","","Temps restant : ",""]
[{"$f":"IF(eligibilité!AG63=\"\",\"\",eligibilité!A63)","v":""},{"$f":"IF(A61=\"\",\"\",IF(VLOOKUP(A61,eligibilité!$A$15:$J$515,2,TRUE)=\"\",\"\",VLOOKUP(A61,eligibilité!$A$15:$J$515,2,TRUE)))","v":""},{"$f":"IF(A61=\"\",\"\",IF(VLOOKUP(A61,eligibilité!$A$15:$AG$515,3,TRUE)=\"\",\"\",VLOOKUP(A61,eligibilité!$A$15:$AG$515,3,TRUE)))","v":""},{"$f":"IF(A61=\"\",\"\",IF(VLOOKUP(A61,eligibilité!$A$15:$AG$515,4,TRUE)=\"\",\"\",VLOOKUP(A61,eligibilité!$A$15:$AG$515,4,TRUE)))","v":""},{"$f":"IF(A61=\"\",\"\",IF(VLOOKUP(A61,eligibilité!$A$15:$AG$515,5,TRUE)=\"\",\"\",VLOOKUP(A61,eligibilité!$A$15:$AG$515,5,TRUE)))","v":""},{"$f":"IF(A61=\"\",\"\",IF(VLOOKUP(A61,eligibilité!$A$15:$AG$515,6,TRUE)=\"\",\"\",VLOOKUP(A61,eligibilité!$A$15:$AG$515,6,TRUE)))","v":""},{"$f":"IF(A61=\"\",\"\",IF(VLOOKUP(A61,eligibilité!$A$15:$AG$515,7,TRUE)=\"\",\"\",VLOOKUP(A61,eligibilité!$A$15:$AG$515,7,TRUE)))","v":""},{"$f":"IF(A61=\"\",\"\",IF(VLOOKUP(A61,eligibilité!$A$15:$AG$515,8,TRUE)=\"\",\"\",VLOOKUP(A61,eligibilité!$A$15:$AG$515,8,TRUE)))","v":""},{"$f":"IF(A61=\"\",\"\",IF(VLOOKUP(A61,eligibilité!$A$15:$AG$515,9,TRUE)=\"\",\"\",VLOOKUP(A61,eligibilité!$A$15:$AG$515,9,TRUE)))","v":""},{"$f":"IF(A61=\"\",\"\",IF(VLOOKUP(A61,eligibilité!$A$15:$AG$515,10,TRUE)=\"\",\"\",VLOOKUP(A61,eligibilité!$A$15:$AG$515,10,TRUE)))","v":""},{"$f":"IF(A61=\"\",\"\",IF(VLOOKUP(A61,eligibilité!$A$15:$AG$515,30,FALSE)=0,\"\",VLOOKUP(A61,eligibilité!$A$15:$AG$515,30,FALSE)))","v":""},"","","","","","","",1305,"","","","","","","Temps restant : ",""]
[{"$f":"IF(eligibilité!AG64=\"\",\"\",eligibilité!A64)","v":""},{"$f":"IF(A62=\"\",\"\",IF(VLOOKUP(A62,eligibilité!$A$15:$J$515,2,TRUE)=\"\",\"\",VLOOKUP(A62,eligibilité!$A$15:$J$515,2,TRUE)))","v":""},{"$f":"IF(A62=\"\",\"\",IF(VLOOKUP(A62,eligibilité!$A$15:$AG$515,3,TRUE)=\"\",\"\",VLOOKUP(A62,eligibilité!$A$15:$AG$515,3,TRUE)))","v":""},{"$f":"IF(A62=\"\",\"\",IF(VLOOKUP(A62,eligibilité!$A$15:$AG$515,4,TRUE)=\"\",\"\",VLOOKUP(A62,eligibilité!$A$15:$AG$515,4,TRUE)))","v":""},{"$f":"IF(A62=\"\",\"\",IF(VLOOKUP(A62,eligibilité!$A$15:$AG$515,5,TRUE)=\"\",\"\",VLOOKUP(A62,eligibilité!$A$15:$AG$515,5,TRUE)))","v":""},{"$f":"IF(A62=\"\",\"\",IF(VLOOKUP(A62,eligibilité!$A$15:$AG$515,6,TRUE)=\"\",\"\",VLOOKUP(A62,eligibilité!$A$15:$AG$515,6,TRUE)))","v":""},{"$f":"IF(A62=\"\",\"\",IF(VLOOKUP(A62,eligibilité!$A$15:$AG$515,7,TRUE)=\"\",\"\",VLOOKUP(A62,eligibilité!$A$15:$AG$515,7,TRUE)))","v":""},{"$f":"IF(A62=\"\",\"\",IF(VLOOKUP(A62,eligibilité!$A$15:$AG$515,8,TRUE)=\"\",\"\",VLOOKUP(A62,eligibilité!$A$15:$AG$515,8,TRUE)))","v":""},{"$f":"IF(A62=\"\",\"\",IF(VLOOKUP(A62,eligibilité!$A$15:$AG$515,9,TRUE)=\"\",\"\",VLOOKUP(A62,eligibilité!$A$15:$AG$515,9,TRUE)))","v":""},{"$f":"IF(A62=\"\",\"\",IF(VLOOKUP(A62,eligibilité!$A$15:$AG$515,10,TRUE)=\"\",\"\",VLOOKUP(A62,eligibilité!$A$15:$AG$515,10,TRUE)))","v":""},{"$f":"IF(A62=\"\",\"\",IF(VLOOKUP(A62,eligibilité!$A$15:$AG$515,30,FALSE)=0,\"\",VLOOKUP(A62,eligibilité!$A$15:$AG$515,30,FALSE)))","v":""},"","","","","","","",1305,"","","","","","","Temps restant : ",""]
[{"$f":"IF(eligibilité!AG65=\"\",\"\",eligibilité!A65)","v":""},{"$f":"IF(A63=\"\",\"\",IF(VLOOKUP(A63,eligibilité!$A$15:$J$515,2,TRUE)=\"\",\"\",VLOOKUP(A63,eligibilité!$A$15:$J$515,2,TRUE)))","v":""},{"$f":"IF(A63=\"\",\"\",IF(VLOOKUP(A63,eligibilité!$A$15:$AG$515,3,TRUE)=\"\",\"\",VLOOKUP(A63,eligibilité!$A$15:$AG$515,3,TRUE)))","v":""},{"$f":"IF(A63=\"\",\"\",IF(VLOOKUP(A63,eligibilité!$A$15:$AG$515,4,TRUE)=\"\",\"\",VLOOKUP(A63,eligibilité!$A$15:$AG$515,4,TRUE)))","v":""},{"$f":"IF(A63=\"\",\"\",IF(VLOOKUP(A63,eligibilité!$A$15:$AG$515,5,TRUE)=\"\",\"\",VLOOKUP(A63,eligibilité!$A$15:$AG$515,5,TRUE)))","v":""},{"$f":"IF(A63=\"\",\"\",IF(VLOOKUP(A63,eligibilité!$A$15:$AG$515,6,TRUE)=\"\",\"\",VLOOKUP(A63,eligibilité!$A$15:$AG$515,6,TRUE)))","v":""},{"$f":"IF(A63=\"\",\"\",IF(VLOOKUP(A63,eligibilité!$A$15:$AG$515,7,TRUE)=\"\",\"\",VLOOKUP(A63,eligibilité!$A$15:$AG$515,7,TRUE)))","v":""},{"$f":"IF(A63=\"\",\"\",IF(VLOOKUP(A63,eligibilité!$A$15:$AG$515,8,TRUE)=\"\",\"\",VLOOKUP(A63,eligibilité!$A$15:$AG$515,8,TRUE)))","v":""},{"$f":"IF(A63=\"\",\"\",IF(VLOOKUP(A63,eligibilité!$A$15:$AG$515,9,TRUE)=\"\",\"\",VLOOKUP(A63,eligibilité!$A$15:$AG$515,9,TRUE)))","v":""},{"$f":"IF(A63=\"\",\"\",IF(VLOOKUP(A63,eligibilité!$A$15:$AG$515,10,TRUE)=\"\",\"\",VLOOKUP(A63,eligibilité!$A$15:$AG$515,10,TRUE)))","v":""},{"$f":"IF(A63=\"\",\"\",IF(VLOOKUP(A63,eligibilité!$A$15:$AG$515,30,FALSE)=0,\"\",VLOOKUP(A63,eligibilité!$A$15:$AG$515,30,FALSE)))","v":""},"","","","","","","",1305,"","","","","","","Temps restant : ",""]
[{"$f":"IF(eligibilité!AG66=\"\",\"\",eligibilité!A66)","v":""},{"$f":"IF(A64=\"\",\"\",IF(VLOOKUP(A64,eligibilité!$A$15:$J$515,2,TRUE)=\"\",\"\",VLOOKUP(A64,eligibilité!$A$15:$J$515,2,TRUE)))","v":""},{"$f":"IF(A64=\"\",\"\",IF(VLOOKUP(A64,eligibilité!$A$15:$AG$515,3,TRUE)=\"\",\"\",VLOOKUP(A64,eligibilité!$A$15:$AG$515,3,TRUE)))","v":""},{"$f":"IF(A64=\"\",\"\",IF(VLOOKUP(A64,eligibilité!$A$15:$AG$515,4,TRUE)=\"\",\"\",VLOOKUP(A64,eligibilité!$A$15:$AG$515,4,TRUE)))","v":""},{"$f":"IF(A64=\"\",\"\",IF(VLOOKUP(A64,eligibilité!$A$15:$AG$515,5,TRUE)=\"\",\"\",VLOOKUP(A64,eligibilité!$A$15:$AG$515,5,TRUE)))","v":""},{"$f":"IF(A64=\"\",\"\",IF(VLOOKUP(A64,eligibilité!$A$15:$AG$515,6,TRUE)=\"\",\"\",VLOOKUP(A64,eligibilité!$A$15:$AG$515,6,TRUE)))","v":""},{"$f":"IF(A64=\"\",\"\",IF(VLOOKUP(A64,eligibilité!$A$15:$AG$515,7,TRUE)=\"\",\"\",VLOOKUP(A64,eligibilité!$A$15:$AG$515,7,TRUE)))","v":""},{"$f":"IF(A64=\"\",\"\",IF(VLOOKUP(A64,eligibilité!$A$15:$AG$515,8,TRUE)=\"\",\"\",VLOOKUP(A64,eligibilité!$A$15:$AG$515,8,TRUE)))","v":""},{"$f":"IF(A64=\"\",\"\",IF(VLOOKUP(A64,eligibilité!$A$15:$AG$515,9,TRUE)=\"\",\"\",VLOOKUP(A64,eligibilité!$A$15:$AG$515,9,TRUE)))","v":""},{"$f":"IF(A64=\"\",\"\",IF(VLOOKUP(A64,eligibilité!$A$15:$AG$515,10,TRUE)=\"\",\"\",VLOOKUP(A64,eligibilité!$A$15:$AG$515,10,TRUE)))","v":""},{"$f":"IF(A64=\"\",\"\",IF(VLOOKUP(A64,eligibilité!$A$15:$AG$515,30,FALSE)=0,\"\",VLOOKUP(A64,eligibilité!$A$15:$AG$515,30,FALSE)))","v":""},"","","","","","","",1305,"","","","","","","Temps restant : ",""]
[{"$f":"IF(eligibilité!AG67=\"\",\"\",eligibilité!A67)","v":""},{"$f":"IF(A65=\"\",\"\",IF(VLOOKUP(A65,eligibilité!$A$15:$J$515,2,TRUE)=\"\",\"\",VLOOKUP(A65,eligibilité!$A$15:$J$515,2,TRUE)))","v":""},{"$f":"IF(A65=\"\",\"\",IF(VLOOKUP(A65,eligibilité!$A$15:$AG$515,3,TRUE)=\"\",\"\",VLOOKUP(A65,eligibilité!$A$15:$AG$515,3,TRUE)))","v":""},{"$f":"IF(A65=\"\",\"\",IF(VLOOKUP(A65,eligibilité!$A$15:$AG$515,4,TRUE)=\"\",\"\",VLOOKUP(A65,eligibilité!$A$15:$AG$515,4,TRUE)))","v":""},{"$f":"IF(A65=\"\",\"\",IF(VLOOKUP(A65,eligibilité!$A$15:$AG$515,5,TRUE)=\"\",\"\",VLOOKUP(A65,eligibilité!$A$15:$AG$515,5,TRUE)))","v":""},{"$f":"IF(A65=\"\",\"\",IF(VLOOKUP(A65,eligibilité!$A$15:$AG$515,6,TRUE)=\"\",\"\",VLOOKUP(A65,eligibilité!$A$15:$AG$515,6,TRUE)))","v":""},{"$f":"IF(A65=\"\",\"\",IF(VLOOKUP(A65,eligibilité!$A$15:$AG$515,7,TRUE)=\"\",\"\",VLOOKUP(A65,eligibilité!$A$15:$AG$515,7,TRUE)))","v":""},{"$f":"IF(A65=\"\",\"\",IF(VLOOKUP(A65,eligibilité!$A$15:$AG$515,8,TRUE)=\"\",\"\",VLOOKUP(A65,eligibilité!$A$15:$AG$515,8,TRUE)))","v":""},{"$f":"IF(A65=\"\",\"\",IF(VLOOKUP(A65,eligibilité!$A$15:$AG$515,9,TRUE)=\"\",\"\",VLOOKUP(A65,eligibilité!$A$15:$AG$515,9,TRUE)))","v":""},{"$f":"IF(A65=\"\",\"\",IF(VLOOKUP(A65,eligibilité!$A$15:$AG$515,10,TRUE)=\"\",\"\",VLOOKUP(A65,eligibilité!$A$15:$AG$515,10,TRUE)))","v":""},{"$f":"IF(A65=\"\",\"\",IF(VLOOKUP(A65,eligibilité!$A$15:$AG$515,30,FALSE)=0,\"\",VLOOKUP(A65,eligibilité!$A$15:$AG$515,30,FALSE)))","v":""},"","","","","","","",1305,"","","","","","","Temps restant : ",""]
[{"$f":"IF(eligibilité!AG68=\"\",\"\",eligibilité!A68)","v":""},{"$f":"IF(A66=\"\",\"\",IF(VLOOKUP(A66,eligibilité!$A$15:$J$515,2,TRUE)=\"\",\"\",VLOOKUP(A66,eligibilité!$A$15:$J$515,2,TRUE)))","v":""},{"$f":"IF(A66=\"\",\"\",IF(VLOOKUP(A66,eligibilité!$A$15:$AG$515,3,TRUE)=\"\",\"\",VLOOKUP(A66,eligibilité!$A$15:$AG$515,3,TRUE)))","v":""},{"$f":"IF(A66=\"\",\"\",IF(VLOOKUP(A66,eligibilité!$A$15:$AG$515,4,TRUE)=\"\",\"\",VLOOKUP(A66,eligibilité!$A$15:$AG$515,4,TRUE)))","v":""},{"$f":"IF(A66=\"\",\"\",IF(VLOOKUP(A66,eligibilité!$A$15:$AG$515,5,TRUE)=\"\",\"\",VLOOKUP(A66,eligibilité!$A$15:$AG$515,5,TRUE)))","v":""},{"$f":"IF(A66=\"\",\"\",IF(VLOOKUP(A66,eligibilité!$A$15:$AG$515,6,TRUE)=\"\",\"\",VLOOKUP(A66,eligibilité!$A$15:$AG$515,6,TRUE)))","v":""},{"$f":"IF(A66=\"\",\"\",IF(VLOOKUP(A66,eligibilité!$A$15:$AG$515,7,TRUE)=\"\",\"\",VLOOKUP(A66,eligibilité!$A$15:$AG$515,7,TRUE)))","v":""},{"$f":"IF(A66=\"\",\"\",IF(VLOOKUP(A66,eligibilité!$A$15:$AG$515,8,TRUE)=\"\",\"\",VLOOKUP(A66,eligibilité!$A$15:$AG$515,8,TRUE)))","v":""},{"$f":"IF(A66=\"\",\"\",IF(VLOOKUP(A66,eligibilité!$A$15:$AG$515,9,TRUE)=\"\",\"\",VLOOKUP(A66,eligibilité!$A$15:$AG$515,9,TRUE)))","v":""},{"$f":"IF(A66=\"\",\"\",IF(VLOOKUP(A66,eligibilité!$A$15:$AG$515,10,TRUE)=\"\",\"\",VLOOKUP(A66,eligibilité!$A$15:$AG$515,10,TRUE)))","v":""},{"$f":"IF(A66=\"\",\"\",IF(VLOOKUP(A66,eligibilité!$A$15:$AG$515,30,FALSE)=0,\"\",VLOOKUP(A66,eligibilité!$A$15:$AG$515,30,FALSE)))","v":""},"","","","","","","",1305,"","","","","","","Temps restant : ",""]
[{"$f":"IF(eligibilité!AG69=\"\",\"\",eligibilité!A69)","v":""},{"$f":"IF(A67=\"\",\"\",IF(VLOOKUP(A67,eligibilité!$A$15:$J$515,2,TRUE)=\"\",\"\",VLOOKUP(A67,eligibilité!$A$15:$J$515,2,TRUE)))","v":""},{"$f":"IF(A67=\"\",\"\",IF(VLOOKUP(A67,eligibilité!$A$15:$AG$515,3,TRUE)=\"\",\"\",VLOOKUP(A67,eligibilité!$A$15:$AG$515,3,TRUE)))","v":""},{"$f":"IF(A67=\"\",\"\",IF(VLOOKUP(A67,eligibilité!$A$15:$AG$515,4,TRUE)=\"\",\"\",VLOOKUP(A67,eligibilité!$A$15:$AG$515,4,TRUE)))","v":""},{"$f":"IF(A67=\"\",\"\",IF(VLOOKUP(A67,eligibilité!$A$15:$AG$515,5,TRUE)=\"\",\"\",VLOOKUP(A67,eligibilité!$A$15:$AG$515,5,TRUE)))","v":""},{"$f":"IF(A67=\"\",\"\",IF(VLOOKUP(A67,eligibilité!$A$15:$AG$515,6,TRUE)=\"\",\"\",VLOOKUP(A67,eligibilité!$A$15:$AG$515,6,TRUE)))","v":""},{"$f":"IF(A67=\"\",\"\",IF(VLOOKUP(A67,eligibilité!$A$15:$AG$515,7,TRUE)=\"\",\"\",VLOOKUP(A67,eligibilité!$A$15:$AG$515,7,TRUE)))","v":""},{"$f":"IF(A67=\"\",\"\",IF(VLOOKUP(A67,eligibilité!$A$15:$AG$515,8,TRUE)=\"\",\"\",VLOOKUP(A67,eligibilité!$A$15:$AG$515,8,TRUE)))","v":""},{"$f":"IF(A67=\"\",\"\",IF(VLOOKUP(A67,eligibilité!$A$15:$AG$515,9,TRUE)=\"\",\"\",VLOOKUP(A67,eligibilité!$A$15:$AG$515,9,TRUE)))","v":""},{"$f":"IF(A67=\"\",\"\",IF(VLOOKUP(A67,eligibilité!$A$15:$AG$515,10,TRUE)=\"\",\"\",VLOOKUP(A67,eligibilité!$A$15:$AG$515,10,TRUE)))","v":""},{"$f":"IF(A67=\"\",\"\",IF(VLOOKUP(A67,eligibilité!$A$15:$AG$515,30,FALSE)=0,\"\",VLOOKUP(A67,eligibilité!$A$15:$AG$515,30,FALSE)))","v":""},"","","","","","","",1305,"","","","","","","Temps restant : ",""]
[{"$f":"IF(eligibilité!AG70=\"\",\"\",eligibilité!A70)","v":""},{"$f":"IF(A68=\"\",\"\",IF(VLOOKUP(A68,eligibilité!$A$15:$J$515,2,TRUE)=\"\",\"\",VLOOKUP(A68,eligibilité!$A$15:$J$515,2,TRUE)))","v":""},{"$f":"IF(A68=\"\",\"\",IF(VLOOKUP(A68,eligibilité!$A$15:$AG$515,3,TRUE)=\"\",\"\",VLOOKUP(A68,eligibilité!$A$15:$AG$515,3,TRUE)))","v":""},{"$f":"IF(A68=\"\",\"\",IF(VLOOKUP(A68,eligibilité!$A$15:$AG$515,4,TRUE)=\"\",\"\",VLOOKUP(A68,eligibilité!$A$15:$AG$515,4,TRUE)))","v":""},{"$f":"IF(A68=\"\",\"\",IF(VLOOKUP(A68,eligibilité!$A$15:$AG$515,5,TRUE)=\"\",\"\",VLOOKUP(A68,eligibilité!$A$15:$AG$515,5,TRUE)))","v":""},{"$f":"IF(A68=\"\",\"\",IF(VLOOKUP(A68,eligibilité!$A$15:$AG$515,6,TRUE)=\"\",\"\",VLOOKUP(A68,eligibilité!$A$15:$AG$515,6,TRUE)))","v":""},{"$f":"IF(A68=\"\",\"\",IF(VLOOKUP(A68,eligibilité!$A$15:$AG$515,7,TRUE)=\"\",\"\",VLOOKUP(A68,eligibilité!$A$15:$AG$515,7,TRUE)))","v":""},{"$f":"IF(A68=\"\",\"\",IF(VLOOKUP(A68,eligibilité!$A$15:$AG$515,8,TRUE)=\"\",\"\",VLOOKUP(A68,eligibilité!$A$15:$AG$515,8,TRUE)))","v":""},{"$f":"IF(A68=\"\",\"\",IF(VLOOKUP(A68,eligibilité!$A$15:$AG$515,9,TRUE)=\"\",\"\",VLOOKUP(A68,eligibilité!$A$15:$AG$515,9,TRUE)))","v":""},{"$f":"IF(A68=\"\",\"\",IF(VLOOKUP(A68,eligibilité!$A$15:$AG$515,10,TRUE)=\"\",\"\",VLOOKUP(A68,eligibilité!$A$15:$AG$515,10,TRUE)))","v":""},{"$f":"IF(A68=\"\",\"\",IF(VLOOKUP(A68,eligibilité!$A$15:$AG$515,30,FALSE)=0,\"\",VLOOKUP(A68,eligibilité!$A$15:$AG$515,30,FALSE)))","v":""},"","","","","","","",1305,"","","","","","","Temps restant : ",""]
[{"$f":"IF(eligibilité!AG71=\"\",\"\",eligibilité!A71)","v":""},{"$f":"IF(A69=\"\",\"\",IF(VLOOKUP(A69,eligibilité!$A$15:$J$515,2,TRUE)=\"\",\"\",VLOOKUP(A69,eligibilité!$A$15:$J$515,2,TRUE)))","v":""},{"$f":"IF(A69=\"\",\"\",IF(VLOOKUP(A69,eligibilité!$A$15:$AG$515,3,TRUE)=\"\",\"\",VLOOKUP(A69,eligibilité!$A$15:$AG$515,3,TRUE)))","v":""},{"$f":"IF(A69=\"\",\"\",IF(VLOOKUP(A69,eligibilité!$A$15:$AG$515,4,TRUE)=\"\",\"\",VLOOKUP(A69,eligibilité!$A$15:$AG$515,4,TRUE)))","v":""},{"$f":"IF(A69=\"\",\"\",IF(VLOOKUP(A69,eligibilité!$A$15:$AG$515,5,TRUE)=\"\",\"\",VLOOKUP(A69,eligibilité!$A$15:$AG$515,5,TRUE)))","v":""},{"$f":"IF(A69=\"\",\"\",IF(VLOOKUP(A69,eligibilité!$A$15:$AG$515,6,TRUE)=\"\",\"\",VLOOKUP(A69,eligibilité!$A$15:$AG$515,6,TRUE)))","v":""},{"$f":"IF(A69=\"\",\"\",IF(VLOOKUP(A69,eligibilité!$A$15:$AG$515,7,TRUE)=\"\",\"\",VLOOKUP(A69,eligibilité!$A$15:$AG$515,7,TRUE)))","v":""},{"$f":"IF(A69=\"\",\"\",IF(VLOOKUP(A69,eligibilité!$A$15:$AG$515,8,TRUE)=\"\",\"\",VLOOKUP(A69,eligibilité!$A$15:$AG$515,8,TRUE)))","v":""},{"$f":"IF(A69=\"\",\"\",IF(VLOOKUP(A69,eligibilité!$A$15:$AG$515,9,TRUE)=\"\",\"\",VLOOKUP(A69,eligibilité!$A$15:$AG$515,9,TRUE)))","v":""},{"$f":"IF(A69=\"\",\"\",IF(VLOOKUP(A69,eligibilité!$A$15:$AG$515,10,TRUE)=\"\",\"\",VLOOKUP(A69,eligibilité!$A$15:$AG$515,10,TRUE)))","v":""},{"$f":"IF(A69=\"\",\"\",IF(VLOOKUP(A69,eligibilité!$A$15:$AG$515,30,FALSE)=0,\"\",VLOOKUP(A69,eligibilité!$A$15:$AG$515,30,FALSE)))","v":""},"","","","","","","",1305,"","","","","","","Temps restant : ",""]
[{"$f":"IF(eligibilité!AG72=\"\",\"\",eligibilité!A72)","v":""},{"$f":"IF(A70=\"\",\"\",IF(VLOOKUP(A70,eligibilité!$A$15:$J$515,2,TRUE)=\"\",\"\",VLOOKUP(A70,eligibilité!$A$15:$J$515,2,TRUE)))","v":""},{"$f":"IF(A70=\"\",\"\",IF(VLOOKUP(A70,eligibilité!$A$15:$AG$515,3,TRUE)=\"\",\"\",VLOOKUP(A70,eligibilité!$A$15:$AG$515,3,TRUE)))","v":""},{"$f":"IF(A70=\"\",\"\",IF(VLOOKUP(A70,eligibilité!$A$15:$AG$515,4,TRUE)=\"\",\"\",VLOOKUP(A70,eligibilité!$A$15:$AG$515,4,TRUE)))","v":""},{"$f":"IF(A70=\"\",\"\",IF(VLOOKUP(A70,eligibilité!$A$15:$AG$515,5,TRUE)=\"\",\"\",VLOOKUP(A70,eligibilité!$A$15:$AG$515,5,TRUE)))","v":""},{"$f":"IF(A70=\"\",\"\",IF(VLOOKUP(A70,eligibilité!$A$15:$AG$515,6,TRUE)=\"\",\"\",VLOOKUP(A70,eligibilité!$A$15:$AG$515,6,TRUE)))","v":""},{"$f":"IF(A70=\"\",\"\",IF(VLOOKUP(A70,eligibilité!$A$15:$AG$515,7,TRUE)=\"\",\"\",VLOOKUP(A70,eligibilité!$A$15:$AG$515,7,TRUE)))","v":""},{"$f":"IF(A70=\"\",\"\",IF(VLOOKUP(A70,eligibilité!$A$15:$AG$515,8,TRUE)=\"\",\"\",VLOOKUP(A70,eligibilité!$A$15:$AG$515,8,TRUE)))","v":""},{"$f":"IF(A70=\"\",\"\",IF(VLOOKUP(A70,eligibilité!$A$15:$AG$515,9,TRUE)=\"\",\"\",VLOOKUP(A70,eligibilité!$A$15:$AG$515,9,TRUE)))","v":""},{"$f":"IF(A70=\"\",\"\",IF(VLOOKUP(A70,eligibilité!$A$15:$AG$515,10,TRUE)=\"\",\"\",VLOOKUP(A70,eligibilité!$A$15:$AG$515,10,TRUE)))","v":""},{"$f":"IF(A70=\"\",\"\",IF(VLOOKUP(A70,eligibilité!$A$15:$AG$515,30,FALSE)=0,\"\",VLOOKUP(A70,eligibilité!$A$15:$AG$515,30,FALSE)))","v":""},"","","","","","","",1305,"","","","","","","Temps restant : ",""]
[{"$f":"IF(eligibilité!AG73=\"\",\"\",eligibilité!A73)","v":""},{"$f":"IF(A71=\"\",\"\",IF(VLOOKUP(A71,eligibilité!$A$15:$J$515,2,TRUE)=\"\",\"\",VLOOKUP(A71,eligibilité!$A$15:$J$515,2,TRUE)))","v":""},{"$f":"IF(A71=\"\",\"\",IF(VLOOKUP(A71,eligibilité!$A$15:$AG$515,3,TRUE)=\"\",\"\",VLOOKUP(A71,eligibilité!$A$15:$AG$515,3,TRUE)))","v":""},{"$f":"IF(A71=\"\",\"\",IF(VLOOKUP(A71,eligibilité!$A$15:$AG$515,4,TRUE)=\"\",\"\",VLOOKUP(A71,eligibilité!$A$15:$AG$515,4,TRUE)))","v":""},{"$f":"IF(A71=\"\",\"\",IF(VLOOKUP(A71,eligibilité!$A$15:$AG$515,5,TRUE)=\"\",\"\",VLOOKUP(A71,eligibilité!$A$15:$AG$515,5,TRUE)))","v":""},{"$f":"IF(A71=\"\",\"\",IF(VLOOKUP(A71,eligibilité!$A$15:$AG$515,6,TRUE)=\"\",\"\",VLOOKUP(A71,eligibilité!$A$15:$AG$515,6,TRUE)))","v":""},{"$f":"IF(A71=\"\",\"\",IF(VLOOKUP(A71,eligibilité!$A$15:$AG$515,7,TRUE)=\"\",\"\",VLOOKUP(A71,eligibilité!$A$15:$AG$515,7,TRUE)))","v":""},{"$f":"IF(A71=\"\",\"\",IF(VLOOKUP(A71,eligibilité!$A$15:$AG$515,8,TRUE)=\"\",\"\",VLOOKUP(A71,eligibilité!$A$15:$AG$515,8,TRUE)))","v":""},{"$f":"IF(A71=\"\",\"\",IF(VLOOKUP(A71,eligibilité!$A$15:$AG$515,9,TRUE)=\"\",\"\",VLOOKUP(A71,eligibilité!$A$15:$AG$515,9,TRUE)))","v":""},{"$f":"IF(A71=\"\",\"\",IF(VLOOKUP(A71,eligibilité!$A$15:$AG$515,10,TRUE)=\"\",\"\",VLOOKUP(A71,eligibilité!$A$15:$AG$515,10,TRUE)))","v":""},{"$f":"IF(A71=\"\",\"\",IF(VLOOKUP(A71,eligibilité!$A$15:$AG$515,30,FALSE)=0,\"\",VLOOKUP(A71,eligibilité!$A$15:$AG$515,30,FALSE)))","v":""},"","","","","","","",1305,"","","","","","","Temps restant : ",""]
[{"$f":"IF(eligibilité!AG74=\"\",\"\",eligibilité!A74)","v":""},{"$f":"IF(A72=\"\",\"\",IF(VLOOKUP(A72,eligibilité!$A$15:$J$515,2,TRUE)=\"\",\"\",VLOOKUP(A72,eligibilité!$A$15:$J$515,2,TRUE)))","v":""},{"$f":"IF(A72=\"\",\"\",IF(VLOOKUP(A72,eligibilité!$A$15:$AG$515,3,TRUE)=\"\",\"\",VLOOKUP(A72,eligibilité!$A$15:$AG$515,3,TRUE)))","v":""},{"$f":"IF(A72=\"\",\"\",IF(VLOOKUP(A72,eligibilité!$A$15:$AG$515,4,TRUE)=\"\",\"\",VLOOKUP(A72,eligibilité!$A$15:$AG$515,4,TRUE)))","v":""},{"$f":"IF(A72=\"\",\"\",IF(VLOOKUP(A72,eligibilité!$A$15:$AG$515,5,TRUE)=\"\",\"\",VLOOKUP(A72,eligibilité!$A$15:$AG$515,5,TRUE)))","v":""},{"$f":"IF(A72=\"\",\"\",IF(VLOOKUP(A72,eligibilité!$A$15:$AG$515,6,TRUE)=\"\",\"\",VLOOKUP(A72,eligibilité!$A$15:$AG$515,6,TRUE)))","v":""},{"$f":"IF(A72=\"\",\"\",IF(VLOOKUP(A72,eligibilité!$A$15:$AG$515,7,TRUE)=\"\",\"\",VLOOKUP(A72,eligibilité!$A$15:$AG$515,7,TRUE)))","v":""},{"$f":"IF(A72=\"\",\"\",IF(VLOOKUP(A72,eligibilité!$A$15:$AG$515,8,TRUE)=\"\",\"\",VLOOKUP(A72,eligibilité!$A$15:$AG$515,8,TRUE)))","v":""},{"$f":"IF(A72=\"\",\"\",IF(VLOOKUP(A72,eligibilité!$A$15:$AG$515,9,TRUE)=\"\",\"\",VLOOKUP(A72,eligibilité!$A$15:$AG$515,9,TRUE)))","v":""},{"$f":"IF(A72=\"\",\"\",IF(VLOOKUP(A72,eligibilité!$A$15:$AG$515,10,TRUE)=\"\",\"\",VLOOKUP(A72,eligibilité!$A$15:$AG$515,10,TRUE)))","v":""},{"$f":"IF(A72=\"\",\"\",IF(VLOOKUP(A72,eligibilité!$A$15:$AG$515,30,FALSE)=0,\"\",VLOOKUP(A72,eligibilité!$A$15:$AG$515,30,FALSE)))","v":""},"","","","","","","",1305,"","","","","","","Temps restant : ",""]
[{"$f":"IF(eligibilité!AG75=\"\",\"\",eligibilité!A75)","v":""},{"$f":"IF(A73=\"\",\"\",IF(VLOOKUP(A73,eligibilité!$A$15:$J$515,2,TRUE)=\"\",\"\",VLOOKUP(A73,eligibilité!$A$15:$J$515,2,TRUE)))","v":""},{"$f":"IF(A73=\"\",\"\",IF(VLOOKUP(A73,eligibilité!$A$15:$AG$515,3,TRUE)=\"\",\"\",VLOOKUP(A73,eligibilité!$A$15:$AG$515,3,TRUE)))","v":""},{"$f":"IF(A73=\"\",\"\",IF(VLOOKUP(A73,eligibilité!$A$15:$AG$515,4,TRUE)=\"\",\"\",VLOOKUP(A73,eligibilité!$A$15:$AG$515,4,TRUE)))","v":""},{"$f":"IF(A73=\"\",\"\",IF(VLOOKUP(A73,eligibilité!$A$15:$AG$515,5,TRUE)=\"\",\"\",VLOOKUP(A73,eligibilité!$A$15:$AG$515,5,TRUE)))","v":""},{"$f":"IF(A73=\"\",\"\",IF(VLOOKUP(A73,eligibilité!$A$15:$AG$515,6,TRUE)=\"\",\"\",VLOOKUP(A73,eligibilité!$A$15:$AG$515,6,TRUE)))","v":""},{"$f":"IF(A73=\"\",\"\",IF(VLOOKUP(A73,eligibilité!$A$15:$AG$515,7,TRUE)=\"\",\"\",VLOOKUP(A73,eligibilité!$A$15:$AG$515,7,TRUE)))","v":""},{"$f":"IF(A73=\"\",\"\",IF(VLOOKUP(A73,eligibilité!$A$15:$AG$515,8,TRUE)=\"\",\"\",VLOOKUP(A73,eligibilité!$A$15:$AG$515,8,TRUE)))","v":""},{"$f":"IF(A73=\"\",\"\",IF(VLOOKUP(A73,eligibilité!$A$15:$AG$515,9,TRUE)=\"\",\"\",VLOOKUP(A73,eligibilité!$A$15:$AG$515,9,TRUE)))","v":""},{"$f":"IF(A73=\"\",\"\",IF(VLOOKUP(A73,eligibilité!$A$15:$AG$515,10,TRUE)=\"\",\"\",VLOOKUP(A73,eligibilité!$A$15:$AG$515,10,TRUE)))","v":""},{"$f":"IF(A73=\"\",\"\",IF(VLOOKUP(A73,eligibilité!$A$15:$AG$515,30,FALSE)=0,\"\",VLOOKUP(A73,eligibilité!$A$15:$AG$515,30,FALSE)))","v":""},"","","","","","","",1305,"","","","","","","Temps restant : ",""]
[{"$f":"IF(eligibilité!AG76=\"\",\"\",eligibilité!A76)","v":""},{"$f":"IF(A74=\"\",\"\",IF(VLOOKUP(A74,eligibilité!$A$15:$J$515,2,TRUE)=\"\",\"\",VLOOKUP(A74,eligibilité!$A$15:$J$515,2,TRUE)))","v":""},{"$f":"IF(A74=\"\",\"\",IF(VLOOKUP(A74,eligibilité!$A$15:$AG$515,3,TRUE)=\"\",\"\",VLOOKUP(A74,eligibilité!$A$15:$AG$515,3,TRUE)))","v":""},{"$f":"IF(A74=\"\",\"\",IF(VLOOKUP(A74,eligibilité!$A$15:$AG$515,4,TRUE)=\"\",\"\",VLOOKUP(A74,eligibilité!$A$15:$AG$515,4,TRUE)))","v":""},{"$f":"IF(A74=\"\",\"\",IF(VLOOKUP(A74,eligibilité!$A$15:$AG$515,5,TRUE)=\"\",\"\",VLOOKUP(A74,eligibilité!$A$15:$AG$515,5,TRUE)))","v":""},{"$f":"IF(A74=\"\",\"\",IF(VLOOKUP(A74,eligibilité!$A$15:$AG$515,6,TRUE)=\"\",\"\",VLOOKUP(A74,eligibilité!$A$15:$AG$515,6,TRUE)))","v":""},{"$f":"IF(A74=\"\",\"\",IF(VLOOKUP(A74,eligibilité!$A$15:$AG$515,7,TRUE)=\"\",\"\",VLOOKUP(A74,eligibilité!$A$15:$AG$515,7,TRUE)))","v":""},{"$f":"IF(A74=\"\",\"\",IF(VLOOKUP(A74,eligibilité!$A$15:$AG$515,8,TRUE)=\"\",\"\",VLOOKUP(A74,eligibilité!$A$15:$AG$515,8,TRUE)))","v":""},{"$f":"IF(A74=\"\",\"\",IF(VLOOKUP(A74,eligibilité!$A$15:$AG$515,9,TRUE)=\"\",\"\",VLOOKUP(A74,eligibilité!$A$15:$AG$515,9,TRUE)))","v":""},{"$f":"IF(A74=\"\",\"\",IF(VLOOKUP(A74,eligibilité!$A$15:$AG$515,10,TRUE)=\"\",\"\",VLOOKUP(A74,eligibilité!$A$15:$AG$515,10,TRUE)))","v":""},{"$f":"IF(A74=\"\",\"\",IF(VLOOKUP(A74,eligibilité!$A$15:$AG$515,30,FALSE)=0,\"\",VLOOKUP(A74,eligibilité!$A$15:$AG$515,30,FALSE)))","v":""},"","","","","","","",1305,"","","","","","","Temps restant : ",""]
[{"$f":"IF(eligibilité!AG77=\"\",\"\",eligibilité!A77)","v":""},{"$f":"IF(A75=\"\",\"\",IF(VLOOKUP(A75,eligibilité!$A$15:$J$515,2,TRUE)=\"\",\"\",VLOOKUP(A75,eligibilité!$A$15:$J$515,2,TRUE)))","v":""},{"$f":"IF(A75=\"\",\"\",IF(VLOOKUP(A75,eligibilité!$A$15:$AG$515,3,TRUE)=\"\",\"\",VLOOKUP(A75,eligibilité!$A$15:$AG$515,3,TRUE)))","v":""},{"$f":"IF(A75=\"\",\"\",IF(VLOOKUP(A75,eligibilité!$A$15:$AG$515,4,TRUE)=\"\",\"\",VLOOKUP(A75,eligibilité!$A$15:$AG$515,4,TRUE)))","v":""},{"$f":"IF(A75=\"\",\"\",IF(VLOOKUP(A75,eligibilité!$A$15:$AG$515,5,TRUE)=\"\",\"\",VLOOKUP(A75,eligibilité!$A$15:$AG$515,5,TRUE)))","v":""},{"$f":"IF(A75=\"\",\"\",IF(VLOOKUP(A75,eligibilité!$A$15:$AG$515,6,TRUE)=\"\",\"\",VLOOKUP(A75,eligibilité!$A$15:$AG$515,6,TRUE)))","v":""},{"$f":"IF(A75=\"\",\"\",IF(VLOOKUP(A75,eligibilité!$A$15:$AG$515,7,TRUE)=\"\",\"\",VLOOKUP(A75,eligibilité!$A$15:$AG$515,7,TRUE)))","v":""},{"$f":"IF(A75=\"\",\"\",IF(VLOOKUP(A75,eligibilité!$A$15:$AG$515,8,TRUE)=\"\",\"\",VLOOKUP(A75,eligibilité!$A$15:$AG$515,8,TRUE)))","v":""},{"$f":"IF(A75=\"\",\"\",IF(VLOOKUP(A75,eligibilité!$A$15:$AG$515,9,TRUE)=\"\",\"\",VLOOKUP(A75,eligibilité!$A$15:$AG$515,9,TRUE)))","v":""},{"$f":"IF(A75=\"\",\"\",IF(VLOOKUP(A75,eligibilité!$A$15:$AG$515,10,TRUE)=\"\",\"\",VLOOKUP(A75,eligibilité!$A$15:$AG$515,10,TRUE)))","v":""},{"$f":"IF(A75=\"\",\"\",IF(VLOOKUP(A75,eligibilité!$A$15:$AG$515,30,FALSE)=0,\"\",VLOOKUP(A75,eligibilité!$A$15:$AG$515,30,FALSE)))","v":""},"","","","","","","",1305,"","","","","","","Temps restant : ",""]
[{"$f":"IF(eligibilité!AG78=\"\",\"\",eligibilité!A78)","v":""},{"$f":"IF(A76=\"\",\"\",IF(VLOOKUP(A76,eligibilité!$A$15:$J$515,2,TRUE)=\"\",\"\",VLOOKUP(A76,eligibilité!$A$15:$J$515,2,TRUE)))","v":""},{"$f":"IF(A76=\"\",\"\",IF(VLOOKUP(A76,eligibilité!$A$15:$AG$515,3,TRUE)=\"\",\"\",VLOOKUP(A76,eligibilité!$A$15:$AG$515,3,TRUE)))","v":""},{"$f":"IF(A76=\"\",\"\",IF(VLOOKUP(A76,eligibilité!$A$15:$AG$515,4,TRUE)=\"\",\"\",VLOOKUP(A76,eligibilité!$A$15:$AG$515,4,TRUE)))","v":""},{"$f":"IF(A76=\"\",\"\",IF(VLOOKUP(A76,eligibilité!$A$15:$AG$515,5,TRUE)=\"\",\"\",VLOOKUP(A76,eligibilité!$A$15:$AG$515,5,TRUE)))","v":""},{"$f":"IF(A76=\"\",\"\",IF(VLOOKUP(A76,eligibilité!$A$15:$AG$515,6,TRUE)=\"\",\"\",VLOOKUP(A76,eligibilité!$A$15:$AG$515,6,TRUE)))","v":""},{"$f":"IF(A76=\"\",\"\",IF(VLOOKUP(A76,eligibilité!$A$15:$AG$515,7,TRUE)=\"\",\"\",VLOOKUP(A76,eligibilité!$A$15:$AG$515,7,TRUE)))","v":""},{"$f":"IF(A76=\"\",\"\",IF(VLOOKUP(A76,eligibilité!$A$15:$AG$515,8,TRUE)=\"\",\"\",VLOOKUP(A76,eligibilité!$A$15:$AG$515,8,TRUE)))","v":""},{"$f":"IF(A76=\"\",\"\",IF(VLOOKUP(A76,eligibilité!$A$15:$AG$515,9,TRUE)=\"\",\"\",VLOOKUP(A76,eligibilité!$A$15:$AG$515,9,TRUE)))","v":""},{"$f":"IF(A76=\"\",\"\",IF(VLOOKUP(A76,eligibilité!$A$15:$AG$515,10,TRUE)=\"\",\"\",VLOOKUP(A76,eligibilité!$A$15:$AG$515,10,TRUE)))","v":""},{"$f":"IF(A76=\"\",\"\",IF(VLOOKUP(A76,eligibilité!$A$15:$AG$515,30,FALSE)=0,\"\",VLOOKUP(A76,eligibilité!$A$15:$AG$515,30,FALSE)))","v":""},"","","","","","","",1305,"","","","","","","Temps restant : ",""]
[{"$f":"IF(eligibilité!AG79=\"\",\"\",eligibilité!A79)","v":""},{"$f":"IF(A77=\"\",\"\",IF(VLOOKUP(A77,eligibilité!$A$15:$J$515,2,TRUE)=\"\",\"\",VLOOKUP(A77,eligibilité!$A$15:$J$515,2,TRUE)))","v":""},{"$f":"IF(A77=\"\",\"\",IF(VLOOKUP(A77,eligibilité!$A$15:$AG$515,3,TRUE)=\"\",\"\",VLOOKUP(A77,eligibilité!$A$15:$AG$515,3,TRUE)))","v":""},{"$f":"IF(A77=\"\",\"\",IF(VLOOKUP(A77,eligibilité!$A$15:$AG$515,4,TRUE)=\"\",\"\",VLOOKUP(A77,eligibilité!$A$15:$AG$515,4,TRUE)))","v":""},{"$f":"IF(A77=\"\",\"\",IF(VLOOKUP(A77,eligibilité!$A$15:$AG$515,5,TRUE)=\"\",\"\",VLOOKUP(A77,eligibilité!$A$15:$AG$515,5,TRUE)))","v":""},{"$f":"IF(A77=\"\",\"\",IF(VLOOKUP(A77,eligibilité!$A$15:$AG$515,6,TRUE)=\"\",\"\",VLOOKUP(A77,eligibilité!$A$15:$AG$515,6,TRUE)))","v":""},{"$f":"IF(A77=\"\",\"\",IF(VLOOKUP(A77,eligibilité!$A$15:$AG$515,7,TRUE)=\"\",\"\",VLOOKUP(A77,eligibilité!$A$15:$AG$515,7,TRUE)))","v":""},{"$f":"IF(A77=\"\",\"\",IF(VLOOKUP(A77,eligibilité!$A$15:$AG$515,8,TRUE)=\"\",\"\",VLOOKUP(A77,eligibilité!$A$15:$AG$515,8,TRUE)))","v":""},{"$f":"IF(A77=\"\",\"\",IF(VLOOKUP(A77,eligibilité!$A$15:$AG$515,9,TRUE)=\"\",\"\",VLOOKUP(A77,eligibilité!$A$15:$AG$515,9,TRUE)))","v":""},{"$f":"IF(A77=\"\",\"\",IF(VLOOKUP(A77,eligibilité!$A$15:$AG$515,10,TRUE)=\"\",\"\",VLOOKUP(A77,eligibilité!$A$15:$AG$515,10,TRUE)))","v":""},{"$f":"IF(A77=\"\",\"\",IF(VLOOKUP(A77,eligibilité!$A$15:$AG$515,30,FALSE)=0,\"\",VLOOKUP(A77,eligibilité!$A$15:$AG$515,30,FALSE)))","v":""},"","","","","","","",1305,"","","","","","","Temps restant : ",""]
[{"$f":"IF(eligibilité!AG80=\"\",\"\",eligibilité!A80)","v":""},{"$f":"IF(A78=\"\",\"\",IF(VLOOKUP(A78,eligibilité!$A$15:$J$515,2,TRUE)=\"\",\"\",VLOOKUP(A78,eligibilité!$A$15:$J$515,2,TRUE)))","v":""},{"$f":"IF(A78=\"\",\"\",IF(VLOOKUP(A78,eligibilité!$A$15:$AG$515,3,TRUE)=\"\",\"\",VLOOKUP(A78,eligibilité!$A$15:$AG$515,3,TRUE)))","v":""},{"$f":"IF(A78=\"\",\"\",IF(VLOOKUP(A78,eligibilité!$A$15:$AG$515,4,TRUE)=\"\",\"\",VLOOKUP(A78,eligibilité!$A$15:$AG$515,4,TRUE)))","v":""},{"$f":"IF(A78=\"\",\"\",IF(VLOOKUP(A78,eligibilité!$A$15:$AG$515,5,TRUE)=\"\",\"\",VLOOKUP(A78,eligibilité!$A$15:$AG$515,5,TRUE)))","v":""},{"$f":"IF(A78=\"\",\"\",IF(VLOOKUP(A78,eligibilité!$A$15:$AG$515,6,TRUE)=\"\",\"\",VLOOKUP(A78,eligibilité!$A$15:$AG$515,6,TRUE)))","v":""},{"$f":"IF(A78=\"\",\"\",IF(VLOOKUP(A78,eligibilité!$A$15:$AG$515,7,TRUE)=\"\",\"\",VLOOKUP(A78,eligibilité!$A$15:$AG$515,7,TRUE)))","v":""},{"$f":"IF(A78=\"\",\"\",IF(VLOOKUP(A78,eligibilité!$A$15:$AG$515,8,TRUE)=\"\",\"\",VLOOKUP(A78,eligibilité!$A$15:$AG$515,8,TRUE)))","v":""},{"$f":"IF(A78=\"\",\"\",IF(VLOOKUP(A78,eligibilité!$A$15:$AG$515,9,TRUE)=\"\",\"\",VLOOKUP(A78,eligibilité!$A$15:$AG$515,9,TRUE)))","v":""},{"$f":"IF(A78=\"\",\"\",IF(VLOOKUP(A78,eligibilité!$A$15:$AG$515,10,TRUE)=\"\",\"\",VLOOKUP(A78,eligibilité!$A$15:$AG$515,10,TRUE)))","v":""},{"$f":"IF(A78=\"\",\"\",IF(VLOOKUP(A78,eligibilité!$A$15:$AG$515,30,FALSE)=0,\"\",VLOOKUP(A78,eligibilité!$A$15:$AG$515,30,FALSE)))","v":""},{"$f":"IF(K78=\"\",\"\",48-K78)","v":""},{"$f":"IF(L78=\"\",\"\",INT(L78/12))","v":""},{"$f":"IF(L78=\"\",\"\",(L78-M78*12))","v":""},{"$f":"IF(L78=\"\",\"\",INT(N78))","v":""},{"$f":"IF(L78=\"\",\"\",ROUNDDOWN((N78-O78)*30.44,0))","v":""},{"$f":"IF(K78=\"\",\"\",CONCATENATE(M78,\" an(s) \",O78,\" mois \",P78,\" jour(s)\"))","v":""},{"$f":"IF(K78=\"\",\"\",M78*365.25+O78*30.44+P78)","v":""},1305,{"$f":"IF(R78=\"\",\"\",R78-S78)","v":""},{"$f":"IF(L78=\"\",\"\",IF(T78<=365.25,0,INT(T78/365.25)))","v":""},{"$f":"IF(T78=\"\",\"\",T78-U78)","v":""},{"$f":"IF(L78=\"\",\"\",IF(U78=0,(T78/30.44),(T78/30.44)-12))","v":""},{"$f":"IF(W78=\"\",\"\",ABS(ROUNDDOWN(W78,0)))","v":""},{"$f":"IF(T78=\"\",\"\",ROUNDDOWN(ABS(W78-ROUNDDOWN(W78,0))*30.44,0))","v":""},{"$f":"IF(T78<=0,\"Temps écoulé depuis : \",\"Temps restant : \")","v":"Temps restant : "},{"$f":"IF(L78=\"\",\"\",CONCATENATE(Z78,U78,\" an(s) \",X78,\" mois \",Y78,\" jour(s) \"))","v":""}]
[{"$f":"IF(eligibilité!AG81=\"\",\"\",eligibilité!A81)","v":""},{"$f":"IF(A79=\"\",\"\",IF(VLOOKUP(A79,eligibilité!$A$15:$J$515,2,TRUE)=\"\",\"\",VLOOKUP(A79,eligibilité!$A$15:$J$515,2,TRUE)))","v":""},{"$f":"IF(A79=\"\",\"\",IF(VLOOKUP(A79,eligibilité!$A$15:$AG$515,3,TRUE)=\"\",\"\",VLOOKUP(A79,eligibilité!$A$15:$AG$515,3,TRUE)))","v":""},{"$f":"IF(A79=\"\",\"\",IF(VLOOKUP(A79,eligibilité!$A$15:$AG$515,4,TRUE)=\"\",\"\",VLOOKUP(A79,eligibilité!$A$15:$AG$515,4,TRUE)))","v":""},{"$f":"IF(A79=\"\",\"\",IF(VLOOKUP(A79,eligibilité!$A$15:$AG$515,5,TRUE)=\"\",\"\",VLOOKUP(A79,eligibilité!$A$15:$AG$515,5,TRUE)))","v":""},{"$f":"IF(A79=\"\",\"\",IF(VLOOKUP(A79,eligibilité!$A$15:$AG$515,6,TRUE)=\"\",\"\",VLOOKUP(A79,eligibilité!$A$15:$AG$515,6,TRUE)))","v":""},{"$f":"IF(A79=\"\",\"\",IF(VLOOKUP(A79,eligibilité!$A$15:$AG$515,7,TRUE)=\"\",\"\",VLOOKUP(A79,eligibilité!$A$15:$AG$515,7,TRUE)))","v":""},{"$f":"IF(A79=\"\",\"\",IF(VLOOKUP(A79,eligibilité!$A$15:$AG$515,8,TRUE)=\"\",\"\",VLOOKUP(A79,eligibilité!$A$15:$AG$515,8,TRUE)))","v":""},{"$f":"IF(A79=\"\",\"\",IF(VLOOKUP(A79,eligibilité!$A$15:$AG$515,9,TRUE)=\"\",\"\",VLOOKUP(A79,eligibilité!$A$15:$AG$515,9,TRUE)))","v":""},{"$f":"IF(A79=\"\",\"\",IF(VLOOKUP(A79,eligibilité!$A$15:$AG$515,10,TRUE)=\"\",\"\",VLOOKUP(A79,eligibilité!$A$15:$AG$515,10,TRUE)))","v":""},{"$f":"IF(A79=\"\",\"\",IF(VLOOKUP(A79,eligibilité!$A$15:$AG$515,30,FALSE)=0,\"\",VLOOKUP(A79,eligibilité!$A$15:$AG$515,30,FALSE)))","v":""},"","","","","","","",{"$f":"TODAY()-DATE(2013,4,1)","v":1305},"","","","","","","Temps restant : ",""]
[{"$f":"IF(eligibilité!AG82=\"\",\"\",eligibilité!A82)","v":""},{"$f":"IF(A80=\"\",\"\",IF(VLOOKUP(A80,eligibilité!$A$15:$J$515,2,TRUE)=\"\",\"\",VLOOKUP(A80,eligibilité!$A$15:$J$515,2,TRUE)))","v":""},{"$f":"IF(A80=\"\",\"\",IF(VLOOKUP(A80,eligibilité!$A$15:$AG$515,3,TRUE)=\"\",\"\",VLOOKUP(A80,eligibilité!$A$15:$AG$515,3,TRUE)))","v":""},{"$f":"IF(A80=\"\",\"\",IF(VLOOKUP(A80,eligibilité!$A$15:$AG$515,4,TRUE)=\"\",\"\",VLOOKUP(A80,eligibilité!$A$15:$AG$515,4,TRUE)))","v":""},{"$f":"IF(A80=\"\",\"\",IF(VLOOKUP(A80,eligibilité!$A$15:$AG$515,5,TRUE)=\"\",\"\",VLOOKUP(A80,eligibilité!$A$15:$AG$515,5,TRUE)))","v":""},{"$f":"IF(A80=\"\",\"\",IF(VLOOKUP(A80,eligibilité!$A$15:$AG$515,6,TRUE)=\"\",\"\",VLOOKUP(A80,eligibilité!$A$15:$AG$515,6,TRUE)))","v":""},{"$f":"IF(A80=\"\",\"\",IF(VLOOKUP(A80,eligibilité!$A$15:$AG$515,7,TRUE)=\"\",\"\",VLOOKUP(A80,eligibilité!$A$15:$AG$515,7,TRUE)))","v":""},{"$f":"IF(A80=\"\",\"\",IF(VLOOKUP(A80,eligibilité!$A$15:$AG$515,8,TRUE)=\"\",\"\",VLOOKUP(A80,eligibilité!$A$15:$AG$515,8,TRUE)))","v":""},{"$f":"IF(A80=\"\",\"\",IF(VLOOKUP(A80,eligibilité!$A$15:$AG$515,9,TRUE)=\"\",\"\",VLOOKUP(A80,eligibilité!$A$15:$AG$515,9,TRUE)))","v":""},{"$f":"IF(A80=\"\",\"\",IF(VLOOKUP(A80,eligibilité!$A$15:$AG$515,10,TRUE)=\"\",\"\",VLOOKUP(A80,eligibilité!$A$15:$AG$515,10,TRUE)))","v":""},{"$f":"IF(A80=\"\",\"\",IF(VLOOKUP(A80,eligibilité!$A$15:$AG$515,30,FALSE)=0,\"\",VLOOKUP(A80,eligibilité!$A$15:$AG$515,30,FALSE)))","v":""},"","","","","","","",1305,"","","","","","","Temps restant : ",""]
[{"$f":"IF(eligibilité!AG83=\"\",\"\",eligibilité!A83)","v":""},{"$f":"IF(A81=\"\",\"\",IF(VLOOKUP(A81,eligibilité!$A$15:$J$515,2,TRUE)=\"\",\"\",VLOOKUP(A81,eligibilité!$A$15:$J$515,2,TRUE)))","v":""},{"$f":"IF(A81=\"\",\"\",IF(VLOOKUP(A81,eligibilité!$A$15:$AG$515,3,TRUE)=\"\",\"\",VLOOKUP(A81,eligibilité!$A$15:$AG$515,3,TRUE)))","v":""},{"$f":"IF(A81=\"\",\"\",IF(VLOOKUP(A81,eligibilité!$A$15:$AG$515,4,TRUE)=\"\",\"\",VLOOKUP(A81,eligibilité!$A$15:$AG$515,4,TRUE)))","v":""},{"$f":"IF(A81=\"\",\"\",IF(VLOOKUP(A81,eligibilité!$A$15:$AG$515,5,TRUE)=\"\",\"\",VLOOKUP(A81,eligibilité!$A$15:$AG$515,5,TRUE)))","v":""},{"$f":"IF(A81=\"\",\"\",IF(VLOOKUP(A81,eligibilité!$A$15:$AG$515,6,TRUE)=\"\",\"\",VLOOKUP(A81,eligibilité!$A$15:$AG$515,6,TRUE)))","v":""},{"$f":"IF(A81=\"\",\"\",IF(VLOOKUP(A81,eligibilité!$A$15:$AG$515,7,TRUE)=\"\",\"\",VLOOKUP(A81,eligibilité!$A$15:$AG$515,7,TRUE)))","v":""},{"$f":"IF(A81=\"\",\"\",IF(VLOOKUP(A81,eligibilité!$A$15:$AG$515,8,TRUE)=\"\",\"\",VLOOKUP(A81,eligibilité!$A$15:$AG$515,8,TRUE)))","v":""},{"$f":"IF(A81=\"\",\"\",IF(VLOOKUP(A81,eligibilité!$A$15:$AG$515,9,TRUE)=\"\",\"\",VLOOKUP(A81,eligibilité!$A$15:$AG$515,9,TRUE)))","v":""},{"$f":"IF(A81=\"\",\"\",IF(VLOOKUP(A81,eligibilité!$A$15:$AG$515,10,TRUE)=\"\",\"\",VLOOKUP(A81,eligibilité!$A$15:$AG$515,10,TRUE)))","v":""},{"$f":"IF(A81=\"\",\"\",IF(VLOOKUP(A81,eligibilité!$A$15:$AG$515,30,FALSE)=0,\"\",VLOOKUP(A81,eligibilité!$A$15:$AG$515,30,FALSE)))","v":""},"","","","","","","",1305,"","","","","","","Temps restant : ",""]
[{"$f":"IF(eligibilité!AG84=\"\",\"\",eligibilité!A84)","v":""},{"$f":"IF(A82=\"\",\"\",IF(VLOOKUP(A82,eligibilité!$A$15:$J$515,2,TRUE)=\"\",\"\",VLOOKUP(A82,eligibilité!$A$15:$J$515,2,TRUE)))","v":""},{"$f":"IF(A82=\"\",\"\",IF(VLOOKUP(A82,eligibilité!$A$15:$AG$515,3,TRUE)=\"\",\"\",VLOOKUP(A82,eligibilité!$A$15:$AG$515,3,TRUE)))","v":""},{"$f":"IF(A82=\"\",\"\",IF(VLOOKUP(A82,eligibilité!$A$15:$AG$515,4,TRUE)=\"\",\"\",VLOOKUP(A82,eligibilité!$A$15:$AG$515,4,TRUE)))","v":""},{"$f":"IF(A82=\"\",\"\",IF(VLOOKUP(A82,eligibilité!$A$15:$AG$515,5,TRUE)=\"\",\"\",VLOOKUP(A82,eligibilité!$A$15:$AG$515,5,TRUE)))","v":""},{"$f":"IF(A82=\"\",\"\",IF(VLOOKUP(A82,eligibilité!$A$15:$AG$515,6,TRUE)=\"\",\"\",VLOOKUP(A82,eligibilité!$A$15:$AG$515,6,TRUE)))","v":""},{"$f":"IF(A82=\"\",\"\",IF(VLOOKUP(A82,eligibilité!$A$15:$AG$515,7,TRUE)=\"\",\"\",VLOOKUP(A82,eligibilité!$A$15:$AG$515,7,TRUE)))","v":""},{"$f":"IF(A82=\"\",\"\",IF(VLOOKUP(A82,eligibilité!$A$15:$AG$515,8,TRUE)=\"\",\"\",VLOOKUP(A82,eligibilité!$A$15:$AG$515,8,TRUE)))","v":""},{"$f":"IF(A82=\"\",\"\",IF(VLOOKUP(A82,eligibilité!$A$15:$AG$515,9,TRUE)=\"\",\"\",VLOOKUP(A82,eligibilité!$A$15:$AG$515,9,TRUE)))","v":""},{"$f":"IF(A82=\"\",\"\",IF(VLOOKUP(A82,eligibilité!$A$15:$AG$515,10,TRUE)=\"\",\"\",VLOOKUP(A82,eligibilité!$A$15:$AG$515,10,TRUE)))","v":""},{"$f":"IF(A82=\"\",\"\",IF(VLOOKUP(A82,eligibilité!$A$15:$AG$515,30,FALSE)=0,\"\",VLOOKUP(A82,eligibilité!$A$15:$AG$515,30,FALSE)))","v":""},"","","","","","","",1305,"","","","","","","Temps restant : ",""]
[{"$f":"IF(eligibilité!AG85=\"\",\"\",eligibilité!A85)","v":""},{"$f":"IF(A83=\"\",\"\",IF(VLOOKUP(A83,eligibilité!$A$15:$J$515,2,TRUE)=\"\",\"\",VLOOKUP(A83,eligibilité!$A$15:$J$515,2,TRUE)))","v":""},{"$f":"IF(A83=\"\",\"\",IF(VLOOKUP(A83,eligibilité!$A$15:$AG$515,3,TRUE)=\"\",\"\",VLOOKUP(A83,eligibilité!$A$15:$AG$515,3,TRUE)))","v":""},{"$f":"IF(A83=\"\",\"\",IF(VLOOKUP(A83,eligibilité!$A$15:$AG$515,4,TRUE)=\"\",\"\",VLOOKUP(A83,eligibilité!$A$15:$AG$515,4,TRUE)))","v":""},{"$f":"IF(A83=\"\",\"\",IF(VLOOKUP(A83,eligibilité!$A$15:$AG$515,5,TRUE)=\"\",\"\",VLOOKUP(A83,eligibilité!$A$15:$AG$515,5,TRUE)))","v":""},{"$f":"IF(A83=\"\",\"\",IF(VLOOKUP(A83,eligibilité!$A$15:$AG$515,6,TRUE)=\"\",\"\",VLOOKUP(A83,eligibilité!$A$15:$AG$515,6,TRUE)))","v":""},{"$f":"IF(A83=\"\",\"\",IF(VLOOKUP(A83,eligibilité!$A$15:$AG$515,7,TRUE)=\"\",\"\",VLOOKUP(A83,eligibilité!$A$15:$AG$515,7,TRUE)))","v":""},{"$f":"IF(A83=\"\",\"\",IF(VLOOKUP(A83,eligibilité!$A$15:$AG$515,8,TRUE)=\"\",\"\",VLOOKUP(A83,eligibilité!$A$15:$AG$515,8,TRUE)))","v":""},{"$f":"IF(A83=\"\",\"\",IF(VLOOKUP(A83,eligibilité!$A$15:$AG$515,9,TRUE)=\"\",\"\",VLOOKUP(A83,eligibilité!$A$15:$AG$515,9,TRUE)))","v":""},{"$f":"IF(A83=\"\",\"\",IF(VLOOKUP(A83,eligibilité!$A$15:$AG$515,10,TRUE)=\"\",\"\",VLOOKUP(A83,eligibilité!$A$15:$AG$515,10,TRUE)))","v":""},{"$f":"IF(A83=\"\",\"\",IF(VLOOKUP(A83,eligibilité!$A$15:$AG$515,30,FALSE)=0,\"\",VLOOKUP(A83,eligibilité!$A$15:$AG$515,30,FALSE)))","v":""},"","","","","","","",1305,"","","","","","","Temps restant : ",""]
[{"$f":"IF(eligibilité!AG86=\"\",\"\",eligibilité!A86)","v":""},{"$f":"IF(A84=\"\",\"\",IF(VLOOKUP(A84,eligibilité!$A$15:$J$515,2,TRUE)=\"\",\"\",VLOOKUP(A84,eligibilité!$A$15:$J$515,2,TRUE)))","v":""},{"$f":"IF(A84=\"\",\"\",IF(VLOOKUP(A84,eligibilité!$A$15:$AG$515,3,TRUE)=\"\",\"\",VLOOKUP(A84,eligibilité!$A$15:$AG$515,3,TRUE)))","v":""},{"$f":"IF(A84=\"\",\"\",IF(VLOOKUP(A84,eligibilité!$A$15:$AG$515,4,TRUE)=\"\",\"\",VLOOKUP(A84,eligibilité!$A$15:$AG$515,4,TRUE)))","v":""},{"$f":"IF(A84=\"\",\"\",IF(VLOOKUP(A84,eligibilité!$A$15:$AG$515,5,TRUE)=\"\",\"\",VLOOKUP(A84,eligibilité!$A$15:$AG$515,5,TRUE)))","v":""},{"$f":"IF(A84=\"\",\"\",IF(VLOOKUP(A84,eligibilité!$A$15:$AG$515,6,TRUE)=\"\",\"\",VLOOKUP(A84,eligibilité!$A$15:$AG$515,6,TRUE)))","v":""},{"$f":"IF(A84=\"\",\"\",IF(VLOOKUP(A84,eligibilité!$A$15:$AG$515,7,TRUE)=\"\",\"\",VLOOKUP(A84,eligibilité!$A$15:$AG$515,7,TRUE)))","v":""},{"$f":"IF(A84=\"\",\"\",IF(VLOOKUP(A84,eligibilité!$A$15:$AG$515,8,TRUE)=\"\",\"\",VLOOKUP(A84,eligibilité!$A$15:$AG$515,8,TRUE)))","v":""},{"$f":"IF(A84=\"\",\"\",IF(VLOOKUP(A84,eligibilité!$A$15:$AG$515,9,TRUE)=\"\",\"\",VLOOKUP(A84,eligibilité!$A$15:$AG$515,9,TRUE)))","v":""},{"$f":"IF(A84=\"\",\"\",IF(VLOOKUP(A84,eligibilité!$A$15:$AG$515,10,TRUE)=\"\",\"\",VLOOKUP(A84,eligibilité!$A$15:$AG$515,10,TRUE)))","v":""},{"$f":"IF(A84=\"\",\"\",IF(VLOOKUP(A84,eligibilité!$A$15:$AG$515,30,FALSE)=0,\"\",VLOOKUP(A84,eligibilité!$A$15:$AG$515,30,FALSE)))","v":""},"","","","","","","",1305,"","","","","","","Temps restant : ",""]
[{"$f":"IF(eligibilité!AG87=\"\",\"\",eligibilité!A87)","v":""},{"$f":"IF(A85=\"\",\"\",IF(VLOOKUP(A85,eligibilité!$A$15:$J$515,2,TRUE)=\"\",\"\",VLOOKUP(A85,eligibilité!$A$15:$J$515,2,TRUE)))","v":""},{"$f":"IF(A85=\"\",\"\",IF(VLOOKUP(A85,eligibilité!$A$15:$AG$515,3,TRUE)=\"\",\"\",VLOOKUP(A85,eligibilité!$A$15:$AG$515,3,TRUE)))","v":""},{"$f":"IF(A85=\"\",\"\",IF(VLOOKUP(A85,eligibilité!$A$15:$AG$515,4,TRUE)=\"\",\"\",VLOOKUP(A85,eligibilité!$A$15:$AG$515,4,TRUE)))","v":""},{"$f":"IF(A85=\"\",\"\",IF(VLOOKUP(A85,eligibilité!$A$15:$AG$515,5,TRUE)=\"\",\"\",VLOOKUP(A85,eligibilité!$A$15:$AG$515,5,TRUE)))","v":""},{"$f":"IF(A85=\"\",\"\",IF(VLOOKUP(A85,eligibilité!$A$15:$AG$515,6,TRUE)=\"\",\"\",VLOOKUP(A85,eligibilité!$A$15:$AG$515,6,TRUE)))","v":""},{"$f":"IF(A85=\"\",\"\",IF(VLOOKUP(A85,eligibilité!$A$15:$AG$515,7,TRUE)=\"\",\"\",VLOOKUP(A85,eligibilité!$A$15:$AG$515,7,TRUE)))","v":""},{"$f":"IF(A85=\"\",\"\",IF(VLOOKUP(A85,eligibilité!$A$15:$AG$515,8,TRUE)=\"\",\"\",VLOOKUP(A85,eligibilité!$A$15:$AG$515,8,TRUE)))","v":""},{"$f":"IF(A85=\"\",\"\",IF(VLOOKUP(A85,eligibilité!$A$15:$AG$515,9,TRUE)=\"\",\"\",VLOOKUP(A85,eligibilité!$A$15:$AG$515,9,TRUE)))","v":""},{"$f":"IF(A85=\"\",\"\",IF(VLOOKUP(A85,eligibilité!$A$15:$AG$515,10,TRUE)=\"\",\"\",VLOOKUP(A85,eligibilité!$A$15:$AG$515,10,TRUE)))","v":""},{"$f":"IF(A85=\"\",\"\",IF(VLOOKUP(A85,eligibilité!$A$15:$AG$515,30,FALSE)=0,\"\",VLOOKUP(A85,eligibilité!$A$15:$AG$515,30,FALSE)))","v":""},"","","","","","","",1305,"","","","","","","Temps restant : ",""]
[{"$f":"IF(eligibilité!AG88=\"\",\"\",eligibilité!A88)","v":""},{"$f":"IF(A86=\"\",\"\",IF(VLOOKUP(A86,eligibilité!$A$15:$J$515,2,TRUE)=\"\",\"\",VLOOKUP(A86,eligibilité!$A$15:$J$515,2,TRUE)))","v":""},{"$f":"IF(A86=\"\",\"\",IF(VLOOKUP(A86,eligibilité!$A$15:$AG$515,3,TRUE)=\"\",\"\",VLOOKUP(A86,eligibilité!$A$15:$AG$515,3,TRUE)))","v":""},{"$f":"IF(A86=\"\",\"\",IF(VLOOKUP(A86,eligibilité!$A$15:$AG$515,4,TRUE)=\"\",\"\",VLOOKUP(A86,eligibilité!$A$15:$AG$515,4,TRUE)))","v":""},{"$f":"IF(A86=\"\",\"\",IF(VLOOKUP(A86,eligibilité!$A$15:$AG$515,5,TRUE)=\"\",\"\",VLOOKUP(A86,eligibilité!$A$15:$AG$515,5,TRUE)))","v":""},{"$f":"IF(A86=\"\",\"\",IF(VLOOKUP(A86,eligibilité!$A$15:$AG$515,6,TRUE)=\"\",\"\",VLOOKUP(A86,eligibilité!$A$15:$AG$515,6,TRUE)))","v":""},{"$f":"IF(A86=\"\",\"\",IF(VLOOKUP(A86,eligibilité!$A$15:$AG$515,7,TRUE)=\"\",\"\",VLOOKUP(A86,eligibilité!$A$15:$AG$515,7,TRUE)))","v":""},{"$f":"IF(A86=\"\",\"\",IF(VLOOKUP(A86,eligibilité!$A$15:$AG$515,8,TRUE)=\"\",\"\",VLOOKUP(A86,eligibilité!$A$15:$AG$515,8,TRUE)))","v":""},{"$f":"IF(A86=\"\",\"\",IF(VLOOKUP(A86,eligibilité!$A$15:$AG$515,9,TRUE)=\"\",\"\",VLOOKUP(A86,eligibilité!$A$15:$AG$515,9,TRUE)))","v":""},{"$f":"IF(A86=\"\",\"\",IF(VLOOKUP(A86,eligibilité!$A$15:$AG$515,10,TRUE)=\"\",\"\",VLOOKUP(A86,eligibilité!$A$15:$AG$515,10,TRUE)))","v":""},{"$f":"IF(A86=\"\",\"\",IF(VLOOKUP(A86,eligibilité!$A$15:$AG$515,30,FALSE)=0,\"\",VLOOKUP(A86,eligibilité!$A$15:$AG$515,30,FALSE)))","v":""},"","","","","","","",1305,"","","","","","","Temps restant : ",""]
[{"$f":"IF(eligibilité!AG89=\"\",\"\",eligibilité!A89)","v":""},{"$f":"IF(A87=\"\",\"\",IF(VLOOKUP(A87,eligibilité!$A$15:$J$515,2,TRUE)=\"\",\"\",VLOOKUP(A87,eligibilité!$A$15:$J$515,2,TRUE)))","v":""},{"$f":"IF(A87=\"\",\"\",IF(VLOOKUP(A87,eligibilité!$A$15:$AG$515,3,TRUE)=\"\",\"\",VLOOKUP(A87,eligibilité!$A$15:$AG$515,3,TRUE)))","v":""},{"$f":"IF(A87=\"\",\"\",IF(VLOOKUP(A87,eligibilité!$A$15:$AG$515,4,TRUE)=\"\",\"\",VLOOKUP(A87,eligibilité!$A$15:$AG$515,4,TRUE)))","v":""},{"$f":"IF(A87=\"\",\"\",IF(VLOOKUP(A87,eligibilité!$A$15:$AG$515,5,TRUE)=\"\",\"\",VLOOKUP(A87,eligibilité!$A$15:$AG$515,5,TRUE)))","v":""},{"$f":"IF(A87=\"\",\"\",IF(VLOOKUP(A87,eligibilité!$A$15:$AG$515,6,TRUE)=\"\",\"\",VLOOKUP(A87,eligibilité!$A$15:$AG$515,6,TRUE)))","v":""},{"$f":"IF(A87=\"\",\"\",IF(VLOOKUP(A87,eligibilité!$A$15:$AG$515,7,TRUE)=\"\",\"\",VLOOKUP(A87,eligibilité!$A$15:$AG$515,7,TRUE)))","v":""},{"$f":"IF(A87=\"\",\"\",IF(VLOOKUP(A87,eligibilité!$A$15:$AG$515,8,TRUE)=\"\",\"\",VLOOKUP(A87,eligibilité!$A$15:$AG$515,8,TRUE)))","v":""},{"$f":"IF(A87=\"\",\"\",IF(VLOOKUP(A87,eligibilité!$A$15:$AG$515,9,TRUE)=\"\",\"\",VLOOKUP(A87,eligibilité!$A$15:$AG$515,9,TRUE)))","v":""},{"$f":"IF(A87=\"\",\"\",IF(VLOOKUP(A87,eligibilité!$A$15:$AG$515,10,TRUE)=\"\",\"\",VLOOKUP(A87,eligibilité!$A$15:$AG$515,10,TRUE)))","v":""},{"$f":"IF(A87=\"\",\"\",IF(VLOOKUP(A87,eligibilité!$A$15:$AG$515,30,FALSE)=0,\"\",VLOOKUP(A87,eligibilité!$A$15:$AG$515,30,FALSE)))","v":""},"","","","","","","",1305,"","","","","","","Temps restant : ",""]
[{"$f":"IF(eligibilité!AG90=\"\",\"\",eligibilité!A90)","v":""},{"$f":"IF(A88=\"\",\"\",IF(VLOOKUP(A88,eligibilité!$A$15:$J$515,2,TRUE)=\"\",\"\",VLOOKUP(A88,eligibilité!$A$15:$J$515,2,TRUE)))","v":""},{"$f":"IF(A88=\"\",\"\",IF(VLOOKUP(A88,eligibilité!$A$15:$AG$515,3,TRUE)=\"\",\"\",VLOOKUP(A88,eligibilité!$A$15:$AG$515,3,TRUE)))","v":""},{"$f":"IF(A88=\"\",\"\",IF(VLOOKUP(A88,eligibilité!$A$15:$AG$515,4,TRUE)=\"\",\"\",VLOOKUP(A88,eligibilité!$A$15:$AG$515,4,TRUE)))","v":""},{"$f":"IF(A88=\"\",\"\",IF(VLOOKUP(A88,eligibilité!$A$15:$AG$515,5,TRUE)=\"\",\"\",VLOOKUP(A88,eligibilité!$A$15:$AG$515,5,TRUE)))","v":""},{"$f":"IF(A88=\"\",\"\",IF(VLOOKUP(A88,eligibilité!$A$15:$AG$515,6,TRUE)=\"\",\"\",VLOOKUP(A88,eligibilité!$A$15:$AG$515,6,TRUE)))","v":""},{"$f":"IF(A88=\"\",\"\",IF(VLOOKUP(A88,eligibilité!$A$15:$AG$515,7,TRUE)=\"\",\"\",VLOOKUP(A88,eligibilité!$A$15:$AG$515,7,TRUE)))","v":""},{"$f":"IF(A88=\"\",\"\",IF(VLOOKUP(A88,eligibilité!$A$15:$AG$515,8,TRUE)=\"\",\"\",VLOOKUP(A88,eligibilité!$A$15:$AG$515,8,TRUE)))","v":""},{"$f":"IF(A88=\"\",\"\",IF(VLOOKUP(A88,eligibilité!$A$15:$AG$515,9,TRUE)=\"\",\"\",VLOOKUP(A88,eligibilité!$A$15:$AG$515,9,TRUE)))","v":""},{"$f":"IF(A88=\"\",\"\",IF(VLOOKUP(A88,eligibilité!$A$15:$AG$515,10,TRUE)=\"\",\"\",VLOOKUP(A88,eligibilité!$A$15:$AG$515,10,TRUE)))","v":""},{"$f":"IF(A88=\"\",\"\",IF(VLOOKUP(A88,eligibilité!$A$15:$AG$515,30,FALSE)=0,\"\",VLOOKUP(A88,eligibilité!$A$15:$AG$515,30,FALSE)))","v":""},"","","","","","","",1305,"","","","","","","Temps restant : ",""]
[{"$f":"IF(eligibilité!AG91=\"\",\"\",eligibilité!A91)","v":""},{"$f":"IF(A89=\"\",\"\",IF(VLOOKUP(A89,eligibilité!$A$15:$J$515,2,TRUE)=\"\",\"\",VLOOKUP(A89,eligibilité!$A$15:$J$515,2,TRUE)))","v":""},{"$f":"IF(A89=\"\",\"\",IF(VLOOKUP(A89,eligibilité!$A$15:$AG$515,3,TRUE)=\"\",\"\",VLOOKUP(A89,eligibilité!$A$15:$AG$515,3,TRUE)))","v":""},{"$f":"IF(A89=\"\",\"\",IF(VLOOKUP(A89,eligibilité!$A$15:$AG$515,4,TRUE)=\"\",\"\",VLOOKUP(A89,eligibilité!$A$15:$AG$515,4,TRUE)))","v":""},{"$f":"IF(A89=\"\",\"\",IF(VLOOKUP(A89,eligibilité!$A$15:$AG$515,5,TRUE)=\"\",\"\",VLOOKUP(A89,eligibilité!$A$15:$AG$515,5,TRUE)))","v":""},{"$f":"IF(A89=\"\",\"\",IF(VLOOKUP(A89,eligibilité!$A$15:$AG$515,6,TRUE)=\"\",\"\",VLOOKUP(A89,eligibilité!$A$15:$AG$515,6,TRUE)))","v":""},{"$f":"IF(A89=\"\",\"\",IF(VLOOKUP(A89,eligibilité!$A$15:$AG$515,7,TRUE)=\"\",\"\",VLOOKUP(A89,eligibilité!$A$15:$AG$515,7,TRUE)))","v":""},{"$f":"IF(A89=\"\",\"\",IF(VLOOKUP(A89,eligibilité!$A$15:$AG$515,8,TRUE)=\"\",\"\",VLOOKUP(A89,eligibilité!$A$15:$AG$515,8,TRUE)))","v":""},{"$f":"IF(A89=\"\",\"\",IF(VLOOKUP(A89,eligibilité!$A$15:$AG$515,9,TRUE)=\"\",\"\",VLOOKUP(A89,eligibilité!$A$15:$AG$515,9,TRUE)))","v":""},{"$f":"IF(A89=\"\",\"\",IF(VLOOKUP(A89,eligibilité!$A$15:$AG$515,10,TRUE)=\"\",\"\",VLOOKUP(A89,eligibilité!$A$15:$AG$515,10,TRUE)))","v":""},{"$f":"IF(A89=\"\",\"\",IF(VLOOKUP(A89,eligibilité!$A$15:$AG$515,30,FALSE)=0,\"\",VLOOKUP(A89,eligibilité!$A$15:$AG$515,30,FALSE)))","v":""},"","","","","","","",1305,"","","","","","","Temps restant : ",""]
[{"$f":"IF(eligibilité!AG92=\"\",\"\",eligibilité!A92)","v":""},{"$f":"IF(A90=\"\",\"\",IF(VLOOKUP(A90,eligibilité!$A$15:$J$515,2,TRUE)=\"\",\"\",VLOOKUP(A90,eligibilité!$A$15:$J$515,2,TRUE)))","v":""},{"$f":"IF(A90=\"\",\"\",IF(VLOOKUP(A90,eligibilité!$A$15:$AG$515,3,TRUE)=\"\",\"\",VLOOKUP(A90,eligibilité!$A$15:$AG$515,3,TRUE)))","v":""},{"$f":"IF(A90=\"\",\"\",IF(VLOOKUP(A90,eligibilité!$A$15:$AG$515,4,TRUE)=\"\",\"\",VLOOKUP(A90,eligibilité!$A$15:$AG$515,4,TRUE)))","v":""},{"$f":"IF(A90=\"\",\"\",IF(VLOOKUP(A90,eligibilité!$A$15:$AG$515,5,TRUE)=\"\",\"\",VLOOKUP(A90,eligibilité!$A$15:$AG$515,5,TRUE)))","v":""},{"$f":"IF(A90=\"\",\"\",IF(VLOOKUP(A90,eligibilité!$A$15:$AG$515,6,TRUE)=\"\",\"\",VLOOKUP(A90,eligibilité!$A$15:$AG$515,6,TRUE)))","v":""},{"$f":"IF(A90=\"\",\"\",IF(VLOOKUP(A90,eligibilité!$A$15:$AG$515,7,TRUE)=\"\",\"\",VLOOKUP(A90,eligibilité!$A$15:$AG$515,7,TRUE)))","v":""},{"$f":"IF(A90=\"\",\"\",IF(VLOOKUP(A90,eligibilité!$A$15:$AG$515,8,TRUE)=\"\",\"\",VLOOKUP(A90,eligibilité!$A$15:$AG$515,8,TRUE)))","v":""},{"$f":"IF(A90=\"\",\"\",IF(VLOOKUP(A90,eligibilité!$A$15:$AG$515,9,TRUE)=\"\",\"\",VLOOKUP(A90,eligibilité!$A$15:$AG$515,9,TRUE)))","v":""},{"$f":"IF(A90=\"\",\"\",IF(VLOOKUP(A90,eligibilité!$A$15:$AG$515,10,TRUE)=\"\",\"\",VLOOKUP(A90,eligibilité!$A$15:$AG$515,10,TRUE)))","v":""},{"$f":"IF(A90=\"\",\"\",IF(VLOOKUP(A90,eligibilité!$A$15:$AG$515,30,FALSE)=0,\"\",VLOOKUP(A90,eligibilité!$A$15:$AG$515,30,FALSE)))","v":""},"","","","","","","",1305,"","","","","","","Temps restant : ",""]
[{"$f":"IF(eligibilité!AG93=\"\",\"\",eligibilité!A93)","v":""},{"$f":"IF(A91=\"\",\"\",IF(VLOOKUP(A91,eligibilité!$A$15:$J$515,2,TRUE)=\"\",\"\",VLOOKUP(A91,eligibilité!$A$15:$J$515,2,TRUE)))","v":""},{"$f":"IF(A91=\"\",\"\",IF(VLOOKUP(A91,eligibilité!$A$15:$AG$515,3,TRUE)=\"\",\"\",VLOOKUP(A91,eligibilité!$A$15:$AG$515,3,TRUE)))","v":""},{"$f":"IF(A91=\"\",\"\",IF(VLOOKUP(A91,eligibilité!$A$15:$AG$515,4,TRUE)=\"\",\"\",VLOOKUP(A91,eligibilité!$A$15:$AG$515,4,TRUE)))","v":""},{"$f":"IF(A91=\"\",\"\",IF(VLOOKUP(A91,eligibilité!$A$15:$AG$515,5,TRUE)=\"\",\"\",VLOOKUP(A91,eligibilité!$A$15:$AG$515,5,TRUE)))","v":""},{"$f":"IF(A91=\"\",\"\",IF(VLOOKUP(A91,eligibilité!$A$15:$AG$515,6,TRUE)=\"\",\"\",VLOOKUP(A91,eligibilité!$A$15:$AG$515,6,TRUE)))","v":""},{"$f":"IF(A91=\"\",\"\",IF(VLOOKUP(A91,eligibilité!$A$15:$AG$515,7,TRUE)=\"\",\"\",VLOOKUP(A91,eligibilité!$A$15:$AG$515,7,TRUE)))","v":""},{"$f":"IF(A91=\"\",\"\",IF(VLOOKUP(A91,eligibilité!$A$15:$AG$515,8,TRUE)=\"\",\"\",VLOOKUP(A91,eligibilité!$A$15:$AG$515,8,TRUE)))","v":""},{"$f":"IF(A91=\"\",\"\",IF(VLOOKUP(A91,eligibilité!$A$15:$AG$515,9,TRUE)=\"\",\"\",VLOOKUP(A91,eligibilité!$A$15:$AG$515,9,TRUE)))","v":""},{"$f":"IF(A91=\"\",\"\",IF(VLOOKUP(A91,eligibilité!$A$15:$AG$515,10,TRUE)=\"\",\"\",VLOOKUP(A91,eligibilité!$A$15:$AG$515,10,TRUE)))","v":""},{"$f":"IF(A91=\"\",\"\",IF(VLOOKUP(A91,eligibilité!$A$15:$AG$515,30,FALSE)=0,\"\",VLOOKUP(A91,eligibilité!$A$15:$AG$515,30,FALSE)))","v":""},"","","","","","","",1305,"","","","","","","Temps restant : ",""]
[{"$f":"IF(eligibilité!AG94=\"\",\"\",eligibilité!A94)","v":""},{"$f":"IF(A92=\"\",\"\",IF(VLOOKUP(A92,eligibilité!$A$15:$J$515,2,TRUE)=\"\",\"\",VLOOKUP(A92,eligibilité!$A$15:$J$515,2,TRUE)))","v":""},{"$f":"IF(A92=\"\",\"\",IF(VLOOKUP(A92,eligibilité!$A$15:$AG$515,3,TRUE)=\"\",\"\",VLOOKUP(A92,eligibilité!$A$15:$AG$515,3,TRUE)))","v":""},{"$f":"IF(A92=\"\",\"\",IF(VLOOKUP(A92,eligibilité!$A$15:$AG$515,4,TRUE)=\"\",\"\",VLOOKUP(A92,eligibilité!$A$15:$AG$515,4,TRUE)))","v":""},{"$f":"IF(A92=\"\",\"\",IF(VLOOKUP(A92,eligibilité!$A$15:$AG$515,5,TRUE)=\"\",\"\",VLOOKUP(A92,eligibilité!$A$15:$AG$515,5,TRUE)))","v":""},{"$f":"IF(A92=\"\",\"\",IF(VLOOKUP(A92,eligibilité!$A$15:$AG$515,6,TRUE)=\"\",\"\",VLOOKUP(A92,eligibilité!$A$15:$AG$515,6,TRUE)))","v":""},{"$f":"IF(A92=\"\",\"\",IF(VLOOKUP(A92,eligibilité!$A$15:$AG$515,7,TRUE)=\"\",\"\",VLOOKUP(A92,eligibilité!$A$15:$AG$515,7,TRUE)))","v":""},{"$f":"IF(A92=\"\",\"\",IF(VLOOKUP(A92,eligibilité!$A$15:$AG$515,8,TRUE)=\"\",\"\",VLOOKUP(A92,eligibilité!$A$15:$AG$515,8,TRUE)))","v":""},{"$f":"IF(A92=\"\",\"\",IF(VLOOKUP(A92,eligibilité!$A$15:$AG$515,9,TRUE)=\"\",\"\",VLOOKUP(A92,eligibilité!$A$15:$AG$515,9,TRUE)))","v":""},{"$f":"IF(A92=\"\",\"\",IF(VLOOKUP(A92,eligibilité!$A$15:$AG$515,10,TRUE)=\"\",\"\",VLOOKUP(A92,eligibilité!$A$15:$AG$515,10,TRUE)))","v":""},{"$f":"IF(A92=\"\",\"\",IF(VLOOKUP(A92,eligibilité!$A$15:$AG$515,30,FALSE)=0,\"\",VLOOKUP(A92,eligibilité!$A$15:$AG$515,30,FALSE)))","v":""},"","","","","","","",1305,"","","","","","","Temps restant : ",""]
[{"$f":"IF(eligibilité!AG95=\"\",\"\",eligibilité!A95)","v":""},{"$f":"IF(A93=\"\",\"\",IF(VLOOKUP(A93,eligibilité!$A$15:$J$515,2,TRUE)=\"\",\"\",VLOOKUP(A93,eligibilité!$A$15:$J$515,2,TRUE)))","v":""},{"$f":"IF(A93=\"\",\"\",IF(VLOOKUP(A93,eligibilité!$A$15:$AG$515,3,TRUE)=\"\",\"\",VLOOKUP(A93,eligibilité!$A$15:$AG$515,3,TRUE)))","v":""},{"$f":"IF(A93=\"\",\"\",IF(VLOOKUP(A93,eligibilité!$A$15:$AG$515,4,TRUE)=\"\",\"\",VLOOKUP(A93,eligibilité!$A$15:$AG$515,4,TRUE)))","v":""},{"$f":"IF(A93=\"\",\"\",IF(VLOOKUP(A93,eligibilité!$A$15:$AG$515,5,TRUE)=\"\",\"\",VLOOKUP(A93,eligibilité!$A$15:$AG$515,5,TRUE)))","v":""},{"$f":"IF(A93=\"\",\"\",IF(VLOOKUP(A93,eligibilité!$A$15:$AG$515,6,TRUE)=\"\",\"\",VLOOKUP(A93,eligibilité!$A$15:$AG$515,6,TRUE)))","v":""},{"$f":"IF(A93=\"\",\"\",IF(VLOOKUP(A93,eligibilité!$A$15:$AG$515,7,TRUE)=\"\",\"\",VLOOKUP(A93,eligibilité!$A$15:$AG$515,7,TRUE)))","v":""},{"$f":"IF(A93=\"\",\"\",IF(VLOOKUP(A93,eligibilité!$A$15:$AG$515,8,TRUE)=\"\",\"\",VLOOKUP(A93,eligibilité!$A$15:$AG$515,8,TRUE)))","v":""},{"$f":"IF(A93=\"\",\"\",IF(VLOOKUP(A93,eligibilité!$A$15:$AG$515,9,TRUE)=\"\",\"\",VLOOKUP(A93,eligibilité!$A$15:$AG$515,9,TRUE)))","v":""},{"$f":"IF(A93=\"\",\"\",IF(VLOOKUP(A93,eligibilité!$A$15:$AG$515,10,TRUE)=\"\",\"\",VLOOKUP(A93,eligibilité!$A$15:$AG$515,10,TRUE)))","v":""},{"$f":"IF(A93=\"\",\"\",IF(VLOOKUP(A93,eligibilité!$A$15:$AG$515,30,FALSE)=0,\"\",VLOOKUP(A93,eligibilité!$A$15:$AG$515,30,FALSE)))","v":""},"","","","","","","",1305,"","","","","","","Temps restant : ",""]
[{"$f":"IF(eligibilité!AG96=\"\",\"\",eligibilité!A96)","v":""},{"$f":"IF(A94=\"\",\"\",IF(VLOOKUP(A94,eligibilité!$A$15:$J$515,2,TRUE)=\"\",\"\",VLOOKUP(A94,eligibilité!$A$15:$J$515,2,TRUE)))","v":""},{"$f":"IF(A94=\"\",\"\",IF(VLOOKUP(A94,eligibilité!$A$15:$AG$515,3,TRUE)=\"\",\"\",VLOOKUP(A94,eligibilité!$A$15:$AG$515,3,TRUE)))","v":""},{"$f":"IF(A94=\"\",\"\",IF(VLOOKUP(A94,eligibilité!$A$15:$AG$515,4,TRUE)=\"\",\"\",VLOOKUP(A94,eligibilité!$A$15:$AG$515,4,TRUE)))","v":""},{"$f":"IF(A94=\"\",\"\",IF(VLOOKUP(A94,eligibilité!$A$15:$AG$515,5,TRUE)=\"\",\"\",VLOOKUP(A94,eligibilité!$A$15:$AG$515,5,TRUE)))","v":""},{"$f":"IF(A94=\"\",\"\",IF(VLOOKUP(A94,eligibilité!$A$15:$AG$515,6,TRUE)=\"\",\"\",VLOOKUP(A94,eligibilité!$A$15:$AG$515,6,TRUE)))","v":""},{"$f":"IF(A94=\"\",\"\",IF(VLOOKUP(A94,eligibilité!$A$15:$AG$515,7,TRUE)=\"\",\"\",VLOOKUP(A94,eligibilité!$A$15:$AG$515,7,TRUE)))","v":""},{"$f":"IF(A94=\"\",\"\",IF(VLOOKUP(A94,eligibilité!$A$15:$AG$515,8,TRUE)=\"\",\"\",VLOOKUP(A94,eligibilité!$A$15:$AG$515,8,TRUE)))","v":""},{"$f":"IF(A94=\"\",\"\",IF(VLOOKUP(A94,eligibilité!$A$15:$AG$515,9,TRUE)=\"\",\"\",VLOOKUP(A94,eligibilité!$A$15:$AG$515,9,TRUE)))","v":""},{"$f":"IF(A94=\"\",\"\",IF(VLOOKUP(A94,eligibilité!$A$15:$AG$515,10,TRUE)=\"\",\"\",VLOOKUP(A94,eligibilité!$A$15:$AG$515,10,TRUE)))","v":""},{"$f":"IF(A94=\"\",\"\",IF(VLOOKUP(A94,eligibilité!$A$15:$AG$515,30,FALSE)=0,\"\",VLOOKUP(A94,eligibilité!$A$15:$AG$515,30,FALSE)))","v":""},"","","","","","","",1305,"","","","","","","Temps restant : ",""]
[{"$f":"IF(eligibilité!AG97=\"\",\"\",eligibilité!A97)","v":""},{"$f":"IF(A95=\"\",\"\",IF(VLOOKUP(A95,eligibilité!$A$15:$J$515,2,TRUE)=\"\",\"\",VLOOKUP(A95,eligibilité!$A$15:$J$515,2,TRUE)))","v":""},{"$f":"IF(A95=\"\",\"\",IF(VLOOKUP(A95,eligibilité!$A$15:$AG$515,3,TRUE)=\"\",\"\",VLOOKUP(A95,eligibilité!$A$15:$AG$515,3,TRUE)))","v":""},{"$f":"IF(A95=\"\",\"\",IF(VLOOKUP(A95,eligibilité!$A$15:$AG$515,4,TRUE)=\"\",\"\",VLOOKUP(A95,eligibilité!$A$15:$AG$515,4,TRUE)))","v":""},{"$f":"IF(A95=\"\",\"\",IF(VLOOKUP(A95,eligibilité!$A$15:$AG$515,5,TRUE)=\"\",\"\",VLOOKUP(A95,eligibilité!$A$15:$AG$515,5,TRUE)))","v":""},{"$f":"IF(A95=\"\",\"\",IF(VLOOKUP(A95,eligibilité!$A$15:$AG$515,6,TRUE)=\"\",\"\",VLOOKUP(A95,eligibilité!$A$15:$AG$515,6,TRUE)))","v":""},{"$f":"IF(A95=\"\",\"\",IF(VLOOKUP(A95,eligibilité!$A$15:$AG$515,7,TRUE)=\"\",\"\",VLOOKUP(A95,eligibilité!$A$15:$AG$515,7,TRUE)))","v":""},{"$f":"IF(A95=\"\",\"\",IF(VLOOKUP(A95,eligibilité!$A$15:$AG$515,8,TRUE)=\"\",\"\",VLOOKUP(A95,eligibilité!$A$15:$AG$515,8,TRUE)))","v":""},{"$f":"IF(A95=\"\",\"\",IF(VLOOKUP(A95,eligibilité!$A$15:$AG$515,9,TRUE)=\"\",\"\",VLOOKUP(A95,eligibilité!$A$15:$AG$515,9,TRUE)))","v":""},{"$f":"IF(A95=\"\",\"\",IF(VLOOKUP(A95,eligibilité!$A$15:$AG$515,10,TRUE)=\"\",\"\",VLOOKUP(A95,eligibilité!$A$15:$AG$515,10,TRUE)))","v":""},{"$f":"IF(A95=\"\",\"\",IF(VLOOKUP(A95,eligibilité!$A$15:$AG$515,30,FALSE)=0,\"\",VLOOKUP(A95,eligibilité!$A$15:$AG$515,30,FALSE)))","v":""},"","","","","","","",1305,"","","","","","","Temps restant : ",""]
[{"$f":"IF(eligibilité!AG98=\"\",\"\",eligibilité!A98)","v":""},{"$f":"IF(A96=\"\",\"\",IF(VLOOKUP(A96,eligibilité!$A$15:$J$515,2,TRUE)=\"\",\"\",VLOOKUP(A96,eligibilité!$A$15:$J$515,2,TRUE)))","v":""},{"$f":"IF(A96=\"\",\"\",IF(VLOOKUP(A96,eligibilité!$A$15:$AG$515,3,TRUE)=\"\",\"\",VLOOKUP(A96,eligibilité!$A$15:$AG$515,3,TRUE)))","v":""},{"$f":"IF(A96=\"\",\"\",IF(VLOOKUP(A96,eligibilité!$A$15:$AG$515,4,TRUE)=\"\",\"\",VLOOKUP(A96,eligibilité!$A$15:$AG$515,4,TRUE)))","v":""},{"$f":"IF(A96=\"\",\"\",IF(VLOOKUP(A96,eligibilité!$A$15:$AG$515,5,TRUE)=\"\",\"\",VLOOKUP(A96,eligibilité!$A$15:$AG$515,5,TRUE)))","v":""},{"$f":"IF(A96=\"\",\"\",IF(VLOOKUP(A96,eligibilité!$A$15:$AG$515,6,TRUE)=\"\",\"\",VLOOKUP(A96,eligibilité!$A$15:$AG$515,6,TRUE)))","v":""},{"$f":"IF(A96=\"\",\"\",IF(VLOOKUP(A96,eligibilité!$A$15:$AG$515,7,TRUE)=\"\",\"\",VLOOKUP(A96,eligibilité!$A$15:$AG$515,7,TRUE)))","v":""},{"$f":"IF(A96=\"\",\"\",IF(VLOOKUP(A96,eligibilité!$A$15:$AG$515,8,TRUE)=\"\",\"\",VLOOKUP(A96,eligibilité!$A$15:$AG$515,8,TRUE)))","v":""},{"$f":"IF(A96=\"\",\"\",IF(VLOOKUP(A96,eligibilité!$A$15:$AG$515,9,TRUE)=\"\",\"\",VLOOKUP(A96,eligibilité!$A$15:$AG$515,9,TRUE)))","v":""},{"$f":"IF(A96=\"\",\"\",IF(VLOOKUP(A96,eligibilité!$A$15:$AG$515,10,TRUE)=\"\",\"\",VLOOKUP(A96,eligibilité!$A$15:$AG$515,10,TRUE)))","v":""},{"$f":"IF(A96=\"\",\"\",IF(VLOOKUP(A96,eligibilité!$A$15:$AG$515,30,FALSE)=0,\"\",VLOOKUP(A96,eligibilité!$A$15:$AG$515,30,FALSE)))","v":""},"","","","","","","",1305,"","","","","","","Temps restant : ",""]
[{"$f":"IF(eligibilité!AG99=\"\",\"\",eligibilité!A99)","v":""},{"$f":"IF(A97=\"\",\"\",IF(VLOOKUP(A97,eligibilité!$A$15:$J$515,2,TRUE)=\"\",\"\",VLOOKUP(A97,eligibilité!$A$15:$J$515,2,TRUE)))","v":""},{"$f":"IF(A97=\"\",\"\",IF(VLOOKUP(A97,eligibilité!$A$15:$AG$515,3,TRUE)=\"\",\"\",VLOOKUP(A97,eligibilité!$A$15:$AG$515,3,TRUE)))","v":""},{"$f":"IF(A97=\"\",\"\",IF(VLOOKUP(A97,eligibilité!$A$15:$AG$515,4,TRUE)=\"\",\"\",VLOOKUP(A97,eligibilité!$A$15:$AG$515,4,TRUE)))","v":""},{"$f":"IF(A97=\"\",\"\",IF(VLOOKUP(A97,eligibilité!$A$15:$AG$515,5,TRUE)=\"\",\"\",VLOOKUP(A97,eligibilité!$A$15:$AG$515,5,TRUE)))","v":""},{"$f":"IF(A97=\"\",\"\",IF(VLOOKUP(A97,eligibilité!$A$15:$AG$515,6,TRUE)=\"\",\"\",VLOOKUP(A97,eligibilité!$A$15:$AG$515,6,TRUE)))","v":""},{"$f":"IF(A97=\"\",\"\",IF(VLOOKUP(A97,eligibilité!$A$15:$AG$515,7,TRUE)=\"\",\"\",VLOOKUP(A97,eligibilité!$A$15:$AG$515,7,TRUE)))","v":""},{"$f":"IF(A97=\"\",\"\",IF(VLOOKUP(A97,eligibilité!$A$15:$AG$515,8,TRUE)=\"\",\"\",VLOOKUP(A97,eligibilité!$A$15:$AG$515,8,TRUE)))","v":""},{"$f":"IF(A97=\"\",\"\",IF(VLOOKUP(A97,eligibilité!$A$15:$AG$515,9,TRUE)=\"\",\"\",VLOOKUP(A97,eligibilité!$A$15:$AG$515,9,TRUE)))","v":""},{"$f":"IF(A97=\"\",\"\",IF(VLOOKUP(A97,eligibilité!$A$15:$AG$515,10,TRUE)=\"\",\"\",VLOOKUP(A97,eligibilité!$A$15:$AG$515,10,TRUE)))","v":""},{"$f":"IF(A97=\"\",\"\",IF(VLOOKUP(A97,eligibilité!$A$15:$AG$515,30,FALSE)=0,\"\",VLOOKUP(A97,eligibilité!$A$15:$AG$515,30,FALSE)))","v":""},"","","","","","","",1305,"","","","","","","Temps restant : ",""]
[{"$f":"IF(eligibilité!AG100=\"\",\"\",eligibilité!A100)","v":""},{"$f":"IF(A98=\"\",\"\",IF(VLOOKUP(A98,eligibilité!$A$15:$J$515,2,TRUE)=\"\",\"\",VLOOKUP(A98,eligibilité!$A$15:$J$515,2,TRUE)))","v":""},{"$f":"IF(A98=\"\",\"\",IF(VLOOKUP(A98,eligibilité!$A$15:$AG$515,3,TRUE)=\"\",\"\",VLOOKUP(A98,eligibilité!$A$15:$AG$515,3,TRUE)))","v":""},{"$f":"IF(A98=\"\",\"\",IF(VLOOKUP(A98,eligibilité!$A$15:$AG$515,4,TRUE)=\"\",\"\",VLOOKUP(A98,eligibilité!$A$15:$AG$515,4,TRUE)))","v":""},{"$f":"IF(A98=\"\",\"\",IF(VLOOKUP(A98,eligibilité!$A$15:$AG$515,5,TRUE)=\"\",\"\",VLOOKUP(A98,eligibilité!$A$15:$AG$515,5,TRUE)))","v":""},{"$f":"IF(A98=\"\",\"\",IF(VLOOKUP(A98,eligibilité!$A$15:$AG$515,6,TRUE)=\"\",\"\",VLOOKUP(A98,eligibilité!$A$15:$AG$515,6,TRUE)))","v":""},{"$f":"IF(A98=\"\",\"\",IF(VLOOKUP(A98,eligibilité!$A$15:$AG$515,7,TRUE)=\"\",\"\",VLOOKUP(A98,eligibilité!$A$15:$AG$515,7,TRUE)))","v":""},{"$f":"IF(A98=\"\",\"\",IF(VLOOKUP(A98,eligibilité!$A$15:$AG$515,8,TRUE)=\"\",\"\",VLOOKUP(A98,eligibilité!$A$15:$AG$515,8,TRUE)))","v":""},{"$f":"IF(A98=\"\",\"\",IF(VLOOKUP(A98,eligibilité!$A$15:$AG$515,9,TRUE)=\"\",\"\",VLOOKUP(A98,eligibilité!$A$15:$AG$515,9,TRUE)))","v":""},{"$f":"IF(A98=\"\",\"\",IF(VLOOKUP(A98,eligibilité!$A$15:$AG$515,10,TRUE)=\"\",\"\",VLOOKUP(A98,eligibilité!$A$15:$AG$515,10,TRUE)))","v":""},{"$f":"IF(A98=\"\",\"\",IF(VLOOKUP(A98,eligibilité!$A$15:$AG$515,30,FALSE)=0,\"\",VLOOKUP(A98,eligibilité!$A$15:$AG$515,30,FALSE)))","v":""},"","","","","","","",1305,"","","","","","","Temps restant : ",""]
[{"$f":"IF(eligibilité!AG101=\"\",\"\",eligibilité!A101)","v":""},{"$f":"IF(A99=\"\",\"\",IF(VLOOKUP(A99,eligibilité!$A$15:$J$515,2,TRUE)=\"\",\"\",VLOOKUP(A99,eligibilité!$A$15:$J$515,2,TRUE)))","v":""},{"$f":"IF(A99=\"\",\"\",IF(VLOOKUP(A99,eligibilité!$A$15:$AG$515,3,TRUE)=\"\",\"\",VLOOKUP(A99,eligibilité!$A$15:$AG$515,3,TRUE)))","v":""},{"$f":"IF(A99=\"\",\"\",IF(VLOOKUP(A99,eligibilité!$A$15:$AG$515,4,TRUE)=\"\",\"\",VLOOKUP(A99,eligibilité!$A$15:$AG$515,4,TRUE)))","v":""},{"$f":"IF(A99=\"\",\"\",IF(VLOOKUP(A99,eligibilité!$A$15:$AG$515,5,TRUE)=\"\",\"\",VLOOKUP(A99,eligibilité!$A$15:$AG$515,5,TRUE)))","v":""},{"$f":"IF(A99=\"\",\"\",IF(VLOOKUP(A99,eligibilité!$A$15:$AG$515,6,TRUE)=\"\",\"\",VLOOKUP(A99,eligibilité!$A$15:$AG$515,6,TRUE)))","v":""},{"$f":"IF(A99=\"\",\"\",IF(VLOOKUP(A99,eligibilité!$A$15:$AG$515,7,TRUE)=\"\",\"\",VLOOKUP(A99,eligibilité!$A$15:$AG$515,7,TRUE)))","v":""},{"$f":"IF(A99=\"\",\"\",IF(VLOOKUP(A99,eligibilité!$A$15:$AG$515,8,TRUE)=\"\",\"\",VLOOKUP(A99,eligibilité!$A$15:$AG$515,8,TRUE)))","v":""},{"$f":"IF(A99=\"\",\"\",IF(VLOOKUP(A99,eligibilité!$A$15:$AG$515,9,TRUE)=\"\",\"\",VLOOKUP(A99,eligibilité!$A$15:$AG$515,9,TRUE)))","v":""},{"$f":"IF(A99=\"\",\"\",IF(VLOOKUP(A99,eligibilité!$A$15:$AG$515,10,TRUE)=\"\",\"\",VLOOKUP(A99,eligibilité!$A$15:$AG$515,10,TRUE)))","v":""},{"$f":"IF(A99=\"\",\"\",IF(VLOOKUP(A99,eligibilité!$A$15:$AG$515,30,FALSE)=0,\"\",VLOOKUP(A99,eligibilité!$A$15:$AG$515,30,FALSE)))","v":""},"","","","","","","",1305,"","","","","","","Temps restant : ",""]
[{"$f":"IF(eligibilité!AG102=\"\",\"\",eligibilité!A102)","v":""},{"$f":"IF(A100=\"\",\"\",IF(VLOOKUP(A100,eligibilité!$A$15:$J$515,2,TRUE)=\"\",\"\",VLOOKUP(A100,eligibilité!$A$15:$J$515,2,TRUE)))","v":""},{"$f":"IF(A100=\"\",\"\",IF(VLOOKUP(A100,eligibilité!$A$15:$AG$515,3,TRUE)=\"\",\"\",VLOOKUP(A100,eligibilité!$A$15:$AG$515,3,TRUE)))","v":""},{"$f":"IF(A100=\"\",\"\",IF(VLOOKUP(A100,eligibilité!$A$15:$AG$515,4,TRUE)=\"\",\"\",VLOOKUP(A100,eligibilité!$A$15:$AG$515,4,TRUE)))","v":""},{"$f":"IF(A100=\"\",\"\",IF(VLOOKUP(A100,eligibilité!$A$15:$AG$515,5,TRUE)=\"\",\"\",VLOOKUP(A100,eligibilité!$A$15:$AG$515,5,TRUE)))","v":""},{"$f":"IF(A100=\"\",\"\",IF(VLOOKUP(A100,eligibilité!$A$15:$AG$515,6,TRUE)=\"\",\"\",VLOOKUP(A100,eligibilité!$A$15:$AG$515,6,TRUE)))","v":""},{"$f":"IF(A100=\"\",\"\",IF(VLOOKUP(A100,eligibilité!$A$15:$AG$515,7,TRUE)=\"\",\"\",VLOOKUP(A100,eligibilité!$A$15:$AG$515,7,TRUE)))","v":""},{"$f":"IF(A100=\"\",\"\",IF(VLOOKUP(A100,eligibilité!$A$15:$AG$515,8,TRUE)=\"\",\"\",VLOOKUP(A100,eligibilité!$A$15:$AG$515,8,TRUE)))","v":""},{"$f":"IF(A100=\"\",\"\",IF(VLOOKUP(A100,eligibilité!$A$15:$AG$515,9,TRUE)=\"\",\"\",VLOOKUP(A100,eligibilité!$A$15:$AG$515,9,TRUE)))","v":""},{"$f":"IF(A100=\"\",\"\",IF(VLOOKUP(A100,eligibilité!$A$15:$AG$515,10,TRUE)=\"\",\"\",VLOOKUP(A100,eligibilité!$A$15:$AG$515,10,TRUE)))","v":""},{"$f":"IF(A100=\"\",\"\",IF(VLOOKUP(A100,eligibilité!$A$15:$AG$515,30,FALSE)=0,\"\",VLOOKUP(A100,eligibilité!$A$15:$AG$515,30,FALSE)))","v":""},"","","","","","","",1305,"","","","","","","Temps restant : ",""]
[{"$f":"IF(eligibilité!AG103=\"\",\"\",eligibilité!A103)","v":""},{"$f":"IF(A101=\"\",\"\",IF(VLOOKUP(A101,eligibilité!$A$15:$J$515,2,TRUE)=\"\",\"\",VLOOKUP(A101,eligibilité!$A$15:$J$515,2,TRUE)))","v":""},{"$f":"IF(A101=\"\",\"\",IF(VLOOKUP(A101,eligibilité!$A$15:$AG$515,3,TRUE)=\"\",\"\",VLOOKUP(A101,eligibilité!$A$15:$AG$515,3,TRUE)))","v":""},{"$f":"IF(A101=\"\",\"\",IF(VLOOKUP(A101,eligibilité!$A$15:$AG$515,4,TRUE)=\"\",\"\",VLOOKUP(A101,eligibilité!$A$15:$AG$515,4,TRUE)))","v":""},{"$f":"IF(A101=\"\",\"\",IF(VLOOKUP(A101,eligibilité!$A$15:$AG$515,5,TRUE)=\"\",\"\",VLOOKUP(A101,eligibilité!$A$15:$AG$515,5,TRUE)))","v":""},{"$f":"IF(A101=\"\",\"\",IF(VLOOKUP(A101,eligibilité!$A$15:$AG$515,6,TRUE)=\"\",\"\",VLOOKUP(A101,eligibilité!$A$15:$AG$515,6,TRUE)))","v":""},{"$f":"IF(A101=\"\",\"\",IF(VLOOKUP(A101,eligibilité!$A$15:$AG$515,7,TRUE)=\"\",\"\",VLOOKUP(A101,eligibilité!$A$15:$AG$515,7,TRUE)))","v":""},{"$f":"IF(A101=\"\",\"\",IF(VLOOKUP(A101,eligibilité!$A$15:$AG$515,8,TRUE)=\"\",\"\",VLOOKUP(A101,eligibilité!$A$15:$AG$515,8,TRUE)))","v":""},{"$f":"IF(A101=\"\",\"\",IF(VLOOKUP(A101,eligibilité!$A$15:$AG$515,9,TRUE)=\"\",\"\",VLOOKUP(A101,eligibilité!$A$15:$AG$515,9,TRUE)))","v":""},{"$f":"IF(A101=\"\",\"\",IF(VLOOKUP(A101,eligibilité!$A$15:$AG$515,10,TRUE)=\"\",\"\",VLOOKUP(A101,eligibilité!$A$15:$AG$515,10,TRUE)))","v":""},{"$f":"IF(A101=\"\",\"\",IF(VLOOKUP(A101,eligibilité!$A$15:$AG$515,30,FALSE)=0,\"\",VLOOKUP(A101,eligibilité!$A$15:$AG$515,30,FALSE)))","v":""},"","","","","","","",1305,"","","","","","","Temps restant : ",""]
[{"$f":"IF(eligibilité!AG104=\"\",\"\",eligibilité!A104)","v":""},{"$f":"IF(A102=\"\",\"\",IF(VLOOKUP(A102,eligibilité!$A$15:$J$515,2,TRUE)=\"\",\"\",VLOOKUP(A102,eligibilité!$A$15:$J$515,2,TRUE)))","v":""},{"$f":"IF(A102=\"\",\"\",IF(VLOOKUP(A102,eligibilité!$A$15:$AG$515,3,TRUE)=\"\",\"\",VLOOKUP(A102,eligibilité!$A$15:$AG$515,3,TRUE)))","v":""},{"$f":"IF(A102=\"\",\"\",IF(VLOOKUP(A102,eligibilité!$A$15:$AG$515,4,TRUE)=\"\",\"\",VLOOKUP(A102,eligibilité!$A$15:$AG$515,4,TRUE)))","v":""},{"$f":"IF(A102=\"\",\"\",IF(VLOOKUP(A102,eligibilité!$A$15:$AG$515,5,TRUE)=\"\",\"\",VLOOKUP(A102,eligibilité!$A$15:$AG$515,5,TRUE)))","v":""},{"$f":"IF(A102=\"\",\"\",IF(VLOOKUP(A102,eligibilité!$A$15:$AG$515,6,TRUE)=\"\",\"\",VLOOKUP(A102,eligibilité!$A$15:$AG$515,6,TRUE)))","v":""},{"$f":"IF(A102=\"\",\"\",IF(VLOOKUP(A102,eligibilité!$A$15:$AG$515,7,TRUE)=\"\",\"\",VLOOKUP(A102,eligibilité!$A$15:$AG$515,7,TRUE)))","v":""},{"$f":"IF(A102=\"\",\"\",IF(VLOOKUP(A102,eligibilité!$A$15:$AG$515,8,TRUE)=\"\",\"\",VLOOKUP(A102,eligibilité!$A$15:$AG$515,8,TRUE)))","v":""},{"$f":"IF(A102=\"\",\"\",IF(VLOOKUP(A102,eligibilité!$A$15:$AG$515,9,TRUE)=\"\",\"\",VLOOKUP(A102,eligibilité!$A$15:$AG$515,9,TRUE)))","v":""},{"$f":"IF(A102=\"\",\"\",IF(VLOOKUP(A102,eligibilité!$A$15:$AG$515,10,TRUE)=\"\",\"\",VLOOKUP(A102,eligibilité!$A$15:$AG$515,10,TRUE)))","v":""},{"$f":"IF(A102=\"\",\"\",IF(VLOOKUP(A102,eligibilité!$A$15:$AG$515,30,FALSE)=0,\"\",VLOOKUP(A102,eligibilité!$A$15:$AG$515,30,FALSE)))","v":""},"","","","","","","",1305,"","","","","","","Temps restant : ",""]
[{"$f":"IF(eligibilité!AG105=\"\",\"\",eligibilité!A105)","v":""},{"$f":"IF(A103=\"\",\"\",IF(VLOOKUP(A103,eligibilité!$A$15:$J$515,2,TRUE)=\"\",\"\",VLOOKUP(A103,eligibilité!$A$15:$J$515,2,TRUE)))","v":""},{"$f":"IF(A103=\"\",\"\",IF(VLOOKUP(A103,eligibilité!$A$15:$AG$515,3,TRUE)=\"\",\"\",VLOOKUP(A103,eligibilité!$A$15:$AG$515,3,TRUE)))","v":""},{"$f":"IF(A103=\"\",\"\",IF(VLOOKUP(A103,eligibilité!$A$15:$AG$515,4,TRUE)=\"\",\"\",VLOOKUP(A103,eligibilité!$A$15:$AG$515,4,TRUE)))","v":""},{"$f":"IF(A103=\"\",\"\",IF(VLOOKUP(A103,eligibilité!$A$15:$AG$515,5,TRUE)=\"\",\"\",VLOOKUP(A103,eligibilité!$A$15:$AG$515,5,TRUE)))","v":""},{"$f":"IF(A103=\"\",\"\",IF(VLOOKUP(A103,eligibilité!$A$15:$AG$515,6,TRUE)=\"\",\"\",VLOOKUP(A103,eligibilité!$A$15:$AG$515,6,TRUE)))","v":""},{"$f":"IF(A103=\"\",\"\",IF(VLOOKUP(A103,eligibilité!$A$15:$AG$515,7,TRUE)=\"\",\"\",VLOOKUP(A103,eligibilité!$A$15:$AG$515,7,TRUE)))","v":""},{"$f":"IF(A103=\"\",\"\",IF(VLOOKUP(A103,eligibilité!$A$15:$AG$515,8,TRUE)=\"\",\"\",VLOOKUP(A103,eligibilité!$A$15:$AG$515,8,TRUE)))","v":""},{"$f":"IF(A103=\"\",\"\",IF(VLOOKUP(A103,eligibilité!$A$15:$AG$515,9,TRUE)=\"\",\"\",VLOOKUP(A103,eligibilité!$A$15:$AG$515,9,TRUE)))","v":""},{"$f":"IF(A103=\"\",\"\",IF(VLOOKUP(A103,eligibilité!$A$15:$AG$515,10,TRUE)=\"\",\"\",VLOOKUP(A103,eligibilité!$A$15:$AG$515,10,TRUE)))","v":""},{"$f":"IF(A103=\"\",\"\",IF(VLOOKUP(A103,eligibilité!$A$15:$AG$515,30,FALSE)=0,\"\",VLOOKUP(A103,eligibilité!$A$15:$AG$515,30,FALSE)))","v":""},"","","","","","","",1305,"","","","","","","Temps restant : ",""]
[{"$f":"IF(eligibilité!AG106=\"\",\"\",eligibilité!A106)","v":""},{"$f":"IF(A104=\"\",\"\",IF(VLOOKUP(A104,eligibilité!$A$15:$J$515,2,TRUE)=\"\",\"\",VLOOKUP(A104,eligibilité!$A$15:$J$515,2,TRUE)))","v":""},{"$f":"IF(A104=\"\",\"\",IF(VLOOKUP(A104,eligibilité!$A$15:$AG$515,3,TRUE)=\"\",\"\",VLOOKUP(A104,eligibilité!$A$15:$AG$515,3,TRUE)))","v":""},{"$f":"IF(A104=\"\",\"\",IF(VLOOKUP(A104,eligibilité!$A$15:$AG$515,4,TRUE)=\"\",\"\",VLOOKUP(A104,eligibilité!$A$15:$AG$515,4,TRUE)))","v":""},{"$f":"IF(A104=\"\",\"\",IF(VLOOKUP(A104,eligibilité!$A$15:$AG$515,5,TRUE)=\"\",\"\",VLOOKUP(A104,eligibilité!$A$15:$AG$515,5,TRUE)))","v":""},{"$f":"IF(A104=\"\",\"\",IF(VLOOKUP(A104,eligibilité!$A$15:$AG$515,6,TRUE)=\"\",\"\",VLOOKUP(A104,eligibilité!$A$15:$AG$515,6,TRUE)))","v":""},{"$f":"IF(A104=\"\",\"\",IF(VLOOKUP(A104,eligibilité!$A$15:$AG$515,7,TRUE)=\"\",\"\",VLOOKUP(A104,eligibilité!$A$15:$AG$515,7,TRUE)))","v":""},{"$f":"IF(A104=\"\",\"\",IF(VLOOKUP(A104,eligibilité!$A$15:$AG$515,8,TRUE)=\"\",\"\",VLOOKUP(A104,eligibilité!$A$15:$AG$515,8,TRUE)))","v":""},{"$f":"IF(A104=\"\",\"\",IF(VLOOKUP(A104,eligibilité!$A$15:$AG$515,9,TRUE)=\"\",\"\",VLOOKUP(A104,eligibilité!$A$15:$AG$515,9,TRUE)))","v":""},{"$f":"IF(A104=\"\",\"\",IF(VLOOKUP(A104,eligibilité!$A$15:$AG$515,10,TRUE)=\"\",\"\",VLOOKUP(A104,eligibilité!$A$15:$AG$515,10,TRUE)))","v":""},{"$f":"IF(A104=\"\",\"\",IF(VLOOKUP(A104,eligibilité!$A$15:$AG$515,30,FALSE)=0,\"\",VLOOKUP(A104,eligibilité!$A$15:$AG$515,30,FALSE)))","v":""},"","","","","","","",1305,"","","","","","","Temps restant : ",""]
[{"$f":"IF(eligibilité!AG107=\"\",\"\",eligibilité!A107)","v":""},{"$f":"IF(A105=\"\",\"\",IF(VLOOKUP(A105,eligibilité!$A$15:$J$515,2,TRUE)=\"\",\"\",VLOOKUP(A105,eligibilité!$A$15:$J$515,2,TRUE)))","v":""},{"$f":"IF(A105=\"\",\"\",IF(VLOOKUP(A105,eligibilité!$A$15:$AG$515,3,TRUE)=\"\",\"\",VLOOKUP(A105,eligibilité!$A$15:$AG$515,3,TRUE)))","v":""},{"$f":"IF(A105=\"\",\"\",IF(VLOOKUP(A105,eligibilité!$A$15:$AG$515,4,TRUE)=\"\",\"\",VLOOKUP(A105,eligibilité!$A$15:$AG$515,4,TRUE)))","v":""},{"$f":"IF(A105=\"\",\"\",IF(VLOOKUP(A105,eligibilité!$A$15:$AG$515,5,TRUE)=\"\",\"\",VLOOKUP(A105,eligibilité!$A$15:$AG$515,5,TRUE)))","v":""},{"$f":"IF(A105=\"\",\"\",IF(VLOOKUP(A105,eligibilité!$A$15:$AG$515,6,TRUE)=\"\",\"\",VLOOKUP(A105,eligibilité!$A$15:$AG$515,6,TRUE)))","v":""},{"$f":"IF(A105=\"\",\"\",IF(VLOOKUP(A105,eligibilité!$A$15:$AG$515,7,TRUE)=\"\",\"\",VLOOKUP(A105,eligibilité!$A$15:$AG$515,7,TRUE)))","v":""},{"$f":"IF(A105=\"\",\"\",IF(VLOOKUP(A105,eligibilité!$A$15:$AG$515,8,TRUE)=\"\",\"\",VLOOKUP(A105,eligibilité!$A$15:$AG$515,8,TRUE)))","v":""},{"$f":"IF(A105=\"\",\"\",IF(VLOOKUP(A105,eligibilité!$A$15:$AG$515,9,TRUE)=\"\",\"\",VLOOKUP(A105,eligibilité!$A$15:$AG$515,9,TRUE)))","v":""},{"$f":"IF(A105=\"\",\"\",IF(VLOOKUP(A105,eligibilité!$A$15:$AG$515,10,TRUE)=\"\",\"\",VLOOKUP(A105,eligibilité!$A$15:$AG$515,10,TRUE)))","v":""},{"$f":"IF(A105=\"\",\"\",IF(VLOOKUP(A105,eligibilité!$A$15:$AG$515,30,FALSE)=0,\"\",VLOOKUP(A105,eligibilité!$A$15:$AG$515,30,FALSE)))","v":""},"","","","","","","",1305,"","","","","","","Temps restant : ",""]
[{"$f":"IF(eligibilité!AG108=\"\",\"\",eligibilité!A108)","v":""},{"$f":"IF(A106=\"\",\"\",IF(VLOOKUP(A106,eligibilité!$A$15:$J$515,2,TRUE)=\"\",\"\",VLOOKUP(A106,eligibilité!$A$15:$J$515,2,TRUE)))","v":""},{"$f":"IF(A106=\"\",\"\",IF(VLOOKUP(A106,eligibilité!$A$15:$AG$515,3,TRUE)=\"\",\"\",VLOOKUP(A106,eligibilité!$A$15:$AG$515,3,TRUE)))","v":""},{"$f":"IF(A106=\"\",\"\",IF(VLOOKUP(A106,eligibilité!$A$15:$AG$515,4,TRUE)=\"\",\"\",VLOOKUP(A106,eligibilité!$A$15:$AG$515,4,TRUE)))","v":""},{"$f":"IF(A106=\"\",\"\",IF(VLOOKUP(A106,eligibilité!$A$15:$AG$515,5,TRUE)=\"\",\"\",VLOOKUP(A106,eligibilité!$A$15:$AG$515,5,TRUE)))","v":""},{"$f":"IF(A106=\"\",\"\",IF(VLOOKUP(A106,eligibilité!$A$15:$AG$515,6,TRUE)=\"\",\"\",VLOOKUP(A106,eligibilité!$A$15:$AG$515,6,TRUE)))","v":""},{"$f":"IF(A106=\"\",\"\",IF(VLOOKUP(A106,eligibilité!$A$15:$AG$515,7,TRUE)=\"\",\"\",VLOOKUP(A106,eligibilité!$A$15:$AG$515,7,TRUE)))","v":""},{"$f":"IF(A106=\"\",\"\",IF(VLOOKUP(A106,eligibilité!$A$15:$AG$515,8,TRUE)=\"\",\"\",VLOOKUP(A106,eligibilité!$A$15:$AG$515,8,TRUE)))","v":""},{"$f":"IF(A106=\"\",\"\",IF(VLOOKUP(A106,eligibilité!$A$15:$AG$515,9,TRUE)=\"\",\"\",VLOOKUP(A106,eligibilité!$A$15:$AG$515,9,TRUE)))","v":""},{"$f":"IF(A106=\"\",\"\",IF(VLOOKUP(A106,eligibilité!$A$15:$AG$515,10,TRUE)=\"\",\"\",VLOOKUP(A106,eligibilité!$A$15:$AG$515,10,TRUE)))","v":""},{"$f":"IF(A106=\"\",\"\",IF(VLOOKUP(A106,eligibilité!$A$15:$AG$515,30,FALSE)=0,\"\",VLOOKUP(A106,eligibilité!$A$15:$AG$515,30,FALSE)))","v":""},"","","","","","","",1305,"","","","","","","Temps restant : ",""]
[{"$f":"IF(eligibilité!AG109=\"\",\"\",eligibilité!A109)","v":""},{"$f":"IF(A107=\"\",\"\",IF(VLOOKUP(A107,eligibilité!$A$15:$J$515,2,TRUE)=\"\",\"\",VLOOKUP(A107,eligibilité!$A$15:$J$515,2,TRUE)))","v":""},{"$f":"IF(A107=\"\",\"\",IF(VLOOKUP(A107,eligibilité!$A$15:$AG$515,3,TRUE)=\"\",\"\",VLOOKUP(A107,eligibilité!$A$15:$AG$515,3,TRUE)))","v":""},{"$f":"IF(A107=\"\",\"\",IF(VLOOKUP(A107,eligibilité!$A$15:$AG$515,4,TRUE)=\"\",\"\",VLOOKUP(A107,eligibilité!$A$15:$AG$515,4,TRUE)))","v":""},{"$f":"IF(A107=\"\",\"\",IF(VLOOKUP(A107,eligibilité!$A$15:$AG$515,5,TRUE)=\"\",\"\",VLOOKUP(A107,eligibilité!$A$15:$AG$515,5,TRUE)))","v":""},{"$f":"IF(A107=\"\",\"\",IF(VLOOKUP(A107,eligibilité!$A$15:$AG$515,6,TRUE)=\"\",\"\",VLOOKUP(A107,eligibilité!$A$15:$AG$515,6,TRUE)))","v":""},{"$f":"IF(A107=\"\",\"\",IF(VLOOKUP(A107,eligibilité!$A$15:$AG$515,7,TRUE)=\"\",\"\",VLOOKUP(A107,eligibilité!$A$15:$AG$515,7,TRUE)))","v":""},{"$f":"IF(A107=\"\",\"\",IF(VLOOKUP(A107,eligibilité!$A$15:$AG$515,8,TRUE)=\"\",\"\",VLOOKUP(A107,eligibilité!$A$15:$AG$515,8,TRUE)))","v":""},{"$f":"IF(A107=\"\",\"\",IF(VLOOKUP(A107,eligibilité!$A$15:$AG$515,9,TRUE)=\"\",\"\",VLOOKUP(A107,eligibilité!$A$15:$AG$515,9,TRUE)))","v":""},{"$f":"IF(A107=\"\",\"\",IF(VLOOKUP(A107,eligibilité!$A$15:$AG$515,10,TRUE)=\"\",\"\",VLOOKUP(A107,eligibilité!$A$15:$AG$515,10,TRUE)))","v":""},{"$f":"IF(A107=\"\",\"\",IF(VLOOKUP(A107,eligibilité!$A$15:$AG$515,30,FALSE)=0,\"\",VLOOKUP(A107,eligibilité!$A$15:$AG$515,30,FALSE)))","v":""},"","","","","","","",1305,"","","","","","","Temps restant : ",""]
[{"$f":"IF(eligibilité!AG110=\"\",\"\",eligibilité!A110)","v":""},{"$f":"IF(A108=\"\",\"\",IF(VLOOKUP(A108,eligibilité!$A$15:$J$515,2,TRUE)=\"\",\"\",VLOOKUP(A108,eligibilité!$A$15:$J$515,2,TRUE)))","v":""},{"$f":"IF(A108=\"\",\"\",IF(VLOOKUP(A108,eligibilité!$A$15:$AG$515,3,TRUE)=\"\",\"\",VLOOKUP(A108,eligibilité!$A$15:$AG$515,3,TRUE)))","v":""},{"$f":"IF(A108=\"\",\"\",IF(VLOOKUP(A108,eligibilité!$A$15:$AG$515,4,TRUE)=\"\",\"\",VLOOKUP(A108,eligibilité!$A$15:$AG$515,4,TRUE)))","v":""},{"$f":"IF(A108=\"\",\"\",IF(VLOOKUP(A108,eligibilité!$A$15:$AG$515,5,TRUE)=\"\",\"\",VLOOKUP(A108,eligibilité!$A$15:$AG$515,5,TRUE)))","v":""},{"$f":"IF(A108=\"\",\"\",IF(VLOOKUP(A108,eligibilité!$A$15:$AG$515,6,TRUE)=\"\",\"\",VLOOKUP(A108,eligibilité!$A$15:$AG$515,6,TRUE)))","v":""},{"$f":"IF(A108=\"\",\"\",IF(VLOOKUP(A108,eligibilité!$A$15:$AG$515,7,TRUE)=\"\",\"\",VLOOKUP(A108,eligibilité!$A$15:$AG$515,7,TRUE)))","v":""},{"$f":"IF(A108=\"\",\"\",IF(VLOOKUP(A108,eligibilité!$A$15:$AG$515,8,TRUE)=\"\",\"\",VLOOKUP(A108,eligibilité!$A$15:$AG$515,8,TRUE)))","v":""},{"$f":"IF(A108=\"\",\"\",IF(VLOOKUP(A108,eligibilité!$A$15:$AG$515,9,TRUE)=\"\",\"\",VLOOKUP(A108,eligibilité!$A$15:$AG$515,9,TRUE)))","v":""},{"$f":"IF(A108=\"\",\"\",IF(VLOOKUP(A108,eligibilité!$A$15:$AG$515,10,TRUE)=\"\",\"\",VLOOKUP(A108,eligibilité!$A$15:$AG$515,10,TRUE)))","v":""},{"$f":"IF(A108=\"\",\"\",IF(VLOOKUP(A108,eligibilité!$A$15:$AG$515,30,FALSE)=0,\"\",VLOOKUP(A108,eligibilité!$A$15:$AG$515,30,FALSE)))","v":""},"","","","","","","",1305,"","","","","","","Temps restant : ",""]
[{"$f":"IF(eligibilité!AG111=\"\",\"\",eligibilité!A111)","v":""},{"$f":"IF(A109=\"\",\"\",IF(VLOOKUP(A109,eligibilité!$A$15:$J$515,2,TRUE)=\"\",\"\",VLOOKUP(A109,eligibilité!$A$15:$J$515,2,TRUE)))","v":""},{"$f":"IF(A109=\"\",\"\",IF(VLOOKUP(A109,eligibilité!$A$15:$AG$515,3,TRUE)=\"\",\"\",VLOOKUP(A109,eligibilité!$A$15:$AG$515,3,TRUE)))","v":""},{"$f":"IF(A109=\"\",\"\",IF(VLOOKUP(A109,eligibilité!$A$15:$AG$515,4,TRUE)=\"\",\"\",VLOOKUP(A109,eligibilité!$A$15:$AG$515,4,TRUE)))","v":""},{"$f":"IF(A109=\"\",\"\",IF(VLOOKUP(A109,eligibilité!$A$15:$AG$515,5,TRUE)=\"\",\"\",VLOOKUP(A109,eligibilité!$A$15:$AG$515,5,TRUE)))","v":""},{"$f":"IF(A109=\"\",\"\",IF(VLOOKUP(A109,eligibilité!$A$15:$AG$515,6,TRUE)=\"\",\"\",VLOOKUP(A109,eligibilité!$A$15:$AG$515,6,TRUE)))","v":""},{"$f":"IF(A109=\"\",\"\",IF(VLOOKUP(A109,eligibilité!$A$15:$AG$515,7,TRUE)=\"\",\"\",VLOOKUP(A109,eligibilité!$A$15:$AG$515,7,TRUE)))","v":""},{"$f":"IF(A109=\"\",\"\",IF(VLOOKUP(A109,eligibilité!$A$15:$AG$515,8,TRUE)=\"\",\"\",VLOOKUP(A109,eligibilité!$A$15:$AG$515,8,TRUE)))","v":""},{"$f":"IF(A109=\"\",\"\",IF(VLOOKUP(A109,eligibilité!$A$15:$AG$515,9,TRUE)=\"\",\"\",VLOOKUP(A109,eligibilité!$A$15:$AG$515,9,TRUE)))","v":""},{"$f":"IF(A109=\"\",\"\",IF(VLOOKUP(A109,eligibilité!$A$15:$AG$515,10,TRUE)=\"\",\"\",VLOOKUP(A109,eligibilité!$A$15:$AG$515,10,TRUE)))","v":""},{"$f":"IF(A109=\"\",\"\",IF(VLOOKUP(A109,eligibilité!$A$15:$AG$515,30,FALSE)=0,\"\",VLOOKUP(A109,eligibilité!$A$15:$AG$515,30,FALSE)))","v":""},"","","","","","","",1305,"","","","","","","Temps restant : ",""]
[{"$f":"IF(eligibilité!AG112=\"\",\"\",eligibilité!A112)","v":""},{"$f":"IF(A110=\"\",\"\",IF(VLOOKUP(A110,eligibilité!$A$15:$J$515,2,TRUE)=\"\",\"\",VLOOKUP(A110,eligibilité!$A$15:$J$515,2,TRUE)))","v":""},{"$f":"IF(A110=\"\",\"\",IF(VLOOKUP(A110,eligibilité!$A$15:$AG$515,3,TRUE)=\"\",\"\",VLOOKUP(A110,eligibilité!$A$15:$AG$515,3,TRUE)))","v":""},{"$f":"IF(A110=\"\",\"\",IF(VLOOKUP(A110,eligibilité!$A$15:$AG$515,4,TRUE)=\"\",\"\",VLOOKUP(A110,eligibilité!$A$15:$AG$515,4,TRUE)))","v":""},{"$f":"IF(A110=\"\",\"\",IF(VLOOKUP(A110,eligibilité!$A$15:$AG$515,5,TRUE)=\"\",\"\",VLOOKUP(A110,eligibilité!$A$15:$AG$515,5,TRUE)))","v":""},{"$f":"IF(A110=\"\",\"\",IF(VLOOKUP(A110,eligibilité!$A$15:$AG$515,6,TRUE)=\"\",\"\",VLOOKUP(A110,eligibilité!$A$15:$AG$515,6,TRUE)))","v":""},{"$f":"IF(A110=\"\",\"\",IF(VLOOKUP(A110,eligibilité!$A$15:$AG$515,7,TRUE)=\"\",\"\",VLOOKUP(A110,eligibilité!$A$15:$AG$515,7,TRUE)))","v":""},{"$f":"IF(A110=\"\",\"\",IF(VLOOKUP(A110,eligibilité!$A$15:$AG$515,8,TRUE)=\"\",\"\",VLOOKUP(A110,eligibilité!$A$15:$AG$515,8,TRUE)))","v":""},{"$f":"IF(A110=\"\",\"\",IF(VLOOKUP(A110,eligibilité!$A$15:$AG$515,9,TRUE)=\"\",\"\",VLOOKUP(A110,eligibilité!$A$15:$AG$515,9,TRUE)))","v":""},{"$f":"IF(A110=\"\",\"\",IF(VLOOKUP(A110,eligibilité!$A$15:$AG$515,10,TRUE)=\"\",\"\",VLOOKUP(A110,eligibilité!$A$15:$AG$515,10,TRUE)))","v":""},{"$f":"IF(A110=\"\",\"\",IF(VLOOKUP(A110,eligibilité!$A$15:$AG$515,30,FALSE)=0,\"\",VLOOKUP(A110,eligibilité!$A$15:$AG$515,30,FALSE)))","v":""},"","","","","","","",1305,"","","","","","","Temps restant : ",""]
[{"$f":"IF(eligibilité!AG113=\"\",\"\",eligibilité!A113)","v":""},{"$f":"IF(A111=\"\",\"\",IF(VLOOKUP(A111,eligibilité!$A$15:$J$515,2,TRUE)=\"\",\"\",VLOOKUP(A111,eligibilité!$A$15:$J$515,2,TRUE)))","v":""},{"$f":"IF(A111=\"\",\"\",IF(VLOOKUP(A111,eligibilité!$A$15:$AG$515,3,TRUE)=\"\",\"\",VLOOKUP(A111,eligibilité!$A$15:$AG$515,3,TRUE)))","v":""},{"$f":"IF(A111=\"\",\"\",IF(VLOOKUP(A111,eligibilité!$A$15:$AG$515,4,TRUE)=\"\",\"\",VLOOKUP(A111,eligibilité!$A$15:$AG$515,4,TRUE)))","v":""},{"$f":"IF(A111=\"\",\"\",IF(VLOOKUP(A111,eligibilité!$A$15:$AG$515,5,TRUE)=\"\",\"\",VLOOKUP(A111,eligibilité!$A$15:$AG$515,5,TRUE)))","v":""},{"$f":"IF(A111=\"\",\"\",IF(VLOOKUP(A111,eligibilité!$A$15:$AG$515,6,TRUE)=\"\",\"\",VLOOKUP(A111,eligibilité!$A$15:$AG$515,6,TRUE)))","v":""},{"$f":"IF(A111=\"\",\"\",IF(VLOOKUP(A111,eligibilité!$A$15:$AG$515,7,TRUE)=\"\",\"\",VLOOKUP(A111,eligibilité!$A$15:$AG$515,7,TRUE)))","v":""},{"$f":"IF(A111=\"\",\"\",IF(VLOOKUP(A111,eligibilité!$A$15:$AG$515,8,TRUE)=\"\",\"\",VLOOKUP(A111,eligibilité!$A$15:$AG$515,8,TRUE)))","v":""},{"$f":"IF(A111=\"\",\"\",IF(VLOOKUP(A111,eligibilité!$A$15:$AG$515,9,TRUE)=\"\",\"\",VLOOKUP(A111,eligibilité!$A$15:$AG$515,9,TRUE)))","v":""},{"$f":"IF(A111=\"\",\"\",IF(VLOOKUP(A111,eligibilité!$A$15:$AG$515,10,TRUE)=\"\",\"\",VLOOKUP(A111,eligibilité!$A$15:$AG$515,10,TRUE)))","v":""},{"$f":"IF(A111=\"\",\"\",IF(VLOOKUP(A111,eligibilité!$A$15:$AG$515,30,FALSE)=0,\"\",VLOOKUP(A111,eligibilité!$A$15:$AG$515,30,FALSE)))","v":""},"","","","","","","",1305,"","","","","","","Temps restant : ",""]
[{"$f":"IF(eligibilité!AG114=\"\",\"\",eligibilité!A114)","v":""},{"$f":"IF(A112=\"\",\"\",IF(VLOOKUP(A112,eligibilité!$A$15:$J$515,2,TRUE)=\"\",\"\",VLOOKUP(A112,eligibilité!$A$15:$J$515,2,TRUE)))","v":""},{"$f":"IF(A112=\"\",\"\",IF(VLOOKUP(A112,eligibilité!$A$15:$AG$515,3,TRUE)=\"\",\"\",VLOOKUP(A112,eligibilité!$A$15:$AG$515,3,TRUE)))","v":""},{"$f":"IF(A112=\"\",\"\",IF(VLOOKUP(A112,eligibilité!$A$15:$AG$515,4,TRUE)=\"\",\"\",VLOOKUP(A112,eligibilité!$A$15:$AG$515,4,TRUE)))","v":""},{"$f":"IF(A112=\"\",\"\",IF(VLOOKUP(A112,eligibilité!$A$15:$AG$515,5,TRUE)=\"\",\"\",VLOOKUP(A112,eligibilité!$A$15:$AG$515,5,TRUE)))","v":""},{"$f":"IF(A112=\"\",\"\",IF(VLOOKUP(A112,eligibilité!$A$15:$AG$515,6,TRUE)=\"\",\"\",VLOOKUP(A112,eligibilité!$A$15:$AG$515,6,TRUE)))","v":""},{"$f":"IF(A112=\"\",\"\",IF(VLOOKUP(A112,eligibilité!$A$15:$AG$515,7,TRUE)=\"\",\"\",VLOOKUP(A112,eligibilité!$A$15:$AG$515,7,TRUE)))","v":""},{"$f":"IF(A112=\"\",\"\",IF(VLOOKUP(A112,eligibilité!$A$15:$AG$515,8,TRUE)=\"\",\"\",VLOOKUP(A112,eligibilité!$A$15:$AG$515,8,TRUE)))","v":""},{"$f":"IF(A112=\"\",\"\",IF(VLOOKUP(A112,eligibilité!$A$15:$AG$515,9,TRUE)=\"\",\"\",VLOOKUP(A112,eligibilité!$A$15:$AG$515,9,TRUE)))","v":""},{"$f":"IF(A112=\"\",\"\",IF(VLOOKUP(A112,eligibilité!$A$15:$AG$515,10,TRUE)=\"\",\"\",VLOOKUP(A112,eligibilité!$A$15:$AG$515,10,TRUE)))","v":""},{"$f":"IF(A112=\"\",\"\",IF(VLOOKUP(A112,eligibilité!$A$15:$AG$515,30,FALSE)=0,\"\",VLOOKUP(A112,eligibilité!$A$15:$AG$515,30,FALSE)))","v":""},"","","","","","","",1305,"","","","","","","Temps restant : ",""]
[{"$f":"IF(eligibilité!AG115=\"\",\"\",eligibilité!A115)","v":""},{"$f":"IF(A113=\"\",\"\",IF(VLOOKUP(A113,eligibilité!$A$15:$J$515,2,TRUE)=\"\",\"\",VLOOKUP(A113,eligibilité!$A$15:$J$515,2,TRUE)))","v":""},{"$f":"IF(A113=\"\",\"\",IF(VLOOKUP(A113,eligibilité!$A$15:$AG$515,3,TRUE)=\"\",\"\",VLOOKUP(A113,eligibilité!$A$15:$AG$515,3,TRUE)))","v":""},{"$f":"IF(A113=\"\",\"\",IF(VLOOKUP(A113,eligibilité!$A$15:$AG$515,4,TRUE)=\"\",\"\",VLOOKUP(A113,eligibilité!$A$15:$AG$515,4,TRUE)))","v":""},{"$f":"IF(A113=\"\",\"\",IF(VLOOKUP(A113,eligibilité!$A$15:$AG$515,5,TRUE)=\"\",\"\",VLOOKUP(A113,eligibilité!$A$15:$AG$515,5,TRUE)))","v":""},{"$f":"IF(A113=\"\",\"\",IF(VLOOKUP(A113,eligibilité!$A$15:$AG$515,6,TRUE)=\"\",\"\",VLOOKUP(A113,eligibilité!$A$15:$AG$515,6,TRUE)))","v":""},{"$f":"IF(A113=\"\",\"\",IF(VLOOKUP(A113,eligibilité!$A$15:$AG$515,7,TRUE)=\"\",\"\",VLOOKUP(A113,eligibilité!$A$15:$AG$515,7,TRUE)))","v":""},{"$f":"IF(A113=\"\",\"\",IF(VLOOKUP(A113,eligibilité!$A$15:$AG$515,8,TRUE)=\"\",\"\",VLOOKUP(A113,eligibilité!$A$15:$AG$515,8,TRUE)))","v":""},{"$f":"IF(A113=\"\",\"\",IF(VLOOKUP(A113,eligibilité!$A$15:$AG$515,9,TRUE)=\"\",\"\",VLOOKUP(A113,eligibilité!$A$15:$AG$515,9,TRUE)))","v":""},{"$f":"IF(A113=\"\",\"\",IF(VLOOKUP(A113,eligibilité!$A$15:$AG$515,10,TRUE)=\"\",\"\",VLOOKUP(A113,eligibilité!$A$15:$AG$515,10,TRUE)))","v":""},{"$f":"IF(A113=\"\",\"\",IF(VLOOKUP(A113,eligibilité!$A$15:$AG$515,30,FALSE)=0,\"\",VLOOKUP(A113,eligibilité!$A$15:$AG$515,30,FALSE)))","v":""},"","","","","","","",1305,"","","","","","","Temps restant : ",""]
[{"$f":"IF(eligibilité!AG116=\"\",\"\",eligibilité!A116)","v":""},{"$f":"IF(A114=\"\",\"\",IF(VLOOKUP(A114,eligibilité!$A$15:$J$515,2,TRUE)=\"\",\"\",VLOOKUP(A114,eligibilité!$A$15:$J$515,2,TRUE)))","v":""},{"$f":"IF(A114=\"\",\"\",IF(VLOOKUP(A114,eligibilité!$A$15:$AG$515,3,TRUE)=\"\",\"\",VLOOKUP(A114,eligibilité!$A$15:$AG$515,3,TRUE)))","v":""},{"$f":"IF(A114=\"\",\"\",IF(VLOOKUP(A114,eligibilité!$A$15:$AG$515,4,TRUE)=\"\",\"\",VLOOKUP(A114,eligibilité!$A$15:$AG$515,4,TRUE)))","v":""},{"$f":"IF(A114=\"\",\"\",IF(VLOOKUP(A114,eligibilité!$A$15:$AG$515,5,TRUE)=\"\",\"\",VLOOKUP(A114,eligibilité!$A$15:$AG$515,5,TRUE)))","v":""},{"$f":"IF(A114=\"\",\"\",IF(VLOOKUP(A114,eligibilité!$A$15:$AG$515,6,TRUE)=\"\",\"\",VLOOKUP(A114,eligibilité!$A$15:$AG$515,6,TRUE)))","v":""},{"$f":"IF(A114=\"\",\"\",IF(VLOOKUP(A114,eligibilité!$A$15:$AG$515,7,TRUE)=\"\",\"\",VLOOKUP(A114,eligibilité!$A$15:$AG$515,7,TRUE)))","v":""},{"$f":"IF(A114=\"\",\"\",IF(VLOOKUP(A114,eligibilité!$A$15:$AG$515,8,TRUE)=\"\",\"\",VLOOKUP(A114,eligibilité!$A$15:$AG$515,8,TRUE)))","v":""},{"$f":"IF(A114=\"\",\"\",IF(VLOOKUP(A114,eligibilité!$A$15:$AG$515,9,TRUE)=\"\",\"\",VLOOKUP(A114,eligibilité!$A$15:$AG$515,9,TRUE)))","v":""},{"$f":"IF(A114=\"\",\"\",IF(VLOOKUP(A114,eligibilité!$A$15:$AG$515,10,TRUE)=\"\",\"\",VLOOKUP(A114,eligibilité!$A$15:$AG$515,10,TRUE)))","v":""},{"$f":"IF(A114=\"\",\"\",IF(VLOOKUP(A114,eligibilité!$A$15:$AG$515,30,FALSE)=0,\"\",VLOOKUP(A114,eligibilité!$A$15:$AG$515,30,FALSE)))","v":""},"","","","","","","",1305,"","","","","","","Temps restant : ",""]
[{"$f":"IF(eligibilité!AG117=\"\",\"\",eligibilité!A117)","v":""},{"$f":"IF(A115=\"\",\"\",IF(VLOOKUP(A115,eligibilité!$A$15:$J$515,2,TRUE)=\"\",\"\",VLOOKUP(A115,eligibilité!$A$15:$J$515,2,TRUE)))","v":""},{"$f":"IF(A115=\"\",\"\",IF(VLOOKUP(A115,eligibilité!$A$15:$AG$515,3,TRUE)=\"\",\"\",VLOOKUP(A115,eligibilité!$A$15:$AG$515,3,TRUE)))","v":""},{"$f":"IF(A115=\"\",\"\",IF(VLOOKUP(A115,eligibilité!$A$15:$AG$515,4,TRUE)=\"\",\"\",VLOOKUP(A115,eligibilité!$A$15:$AG$515,4,TRUE)))","v":""},{"$f":"IF(A115=\"\",\"\",IF(VLOOKUP(A115,eligibilité!$A$15:$AG$515,5,TRUE)=\"\",\"\",VLOOKUP(A115,eligibilité!$A$15:$AG$515,5,TRUE)))","v":""},{"$f":"IF(A115=\"\",\"\",IF(VLOOKUP(A115,eligibilité!$A$15:$AG$515,6,TRUE)=\"\",\"\",VLOOKUP(A115,eligibilité!$A$15:$AG$515,6,TRUE)))","v":""},{"$f":"IF(A115=\"\",\"\",IF(VLOOKUP(A115,eligibilité!$A$15:$AG$515,7,TRUE)=\"\",\"\",VLOOKUP(A115,eligibilité!$A$15:$AG$515,7,TRUE)))","v":""},{"$f":"IF(A115=\"\",\"\",IF(VLOOKUP(A115,eligibilité!$A$15:$AG$515,8,TRUE)=\"\",\"\",VLOOKUP(A115,eligibilité!$A$15:$AG$515,8,TRUE)))","v":""},{"$f":"IF(A115=\"\",\"\",IF(VLOOKUP(A115,eligibilité!$A$15:$AG$515,9,TRUE)=\"\",\"\",VLOOKUP(A115,eligibilité!$A$15:$AG$515,9,TRUE)))","v":""},{"$f":"IF(A115=\"\",\"\",IF(VLOOKUP(A115,eligibilité!$A$15:$AG$515,10,TRUE)=\"\",\"\",VLOOKUP(A115,eligibilité!$A$15:$AG$515,10,TRUE)))","v":""},{"$f":"IF(A115=\"\",\"\",IF(VLOOKUP(A115,eligibilité!$A$15:$AG$515,30,FALSE)=0,\"\",VLOOKUP(A115,eligibilité!$A$15:$AG$515,30,FALSE)))","v":""},"","","","","","","",1305,"","","","","","","Temps restant : ",""]
[{"$f":"IF(eligibilité!AG118=\"\",\"\",eligibilité!A118)","v":""},{"$f":"IF(A116=\"\",\"\",IF(VLOOKUP(A116,eligibilité!$A$15:$J$515,2,TRUE)=\"\",\"\",VLOOKUP(A116,eligibilité!$A$15:$J$515,2,TRUE)))","v":""},{"$f":"IF(A116=\"\",\"\",IF(VLOOKUP(A116,eligibilité!$A$15:$AG$515,3,TRUE)=\"\",\"\",VLOOKUP(A116,eligibilité!$A$15:$AG$515,3,TRUE)))","v":""},{"$f":"IF(A116=\"\",\"\",IF(VLOOKUP(A116,eligibilité!$A$15:$AG$515,4,TRUE)=\"\",\"\",VLOOKUP(A116,eligibilité!$A$15:$AG$515,4,TRUE)))","v":""},{"$f":"IF(A116=\"\",\"\",IF(VLOOKUP(A116,eligibilité!$A$15:$AG$515,5,TRUE)=\"\",\"\",VLOOKUP(A116,eligibilité!$A$15:$AG$515,5,TRUE)))","v":""},{"$f":"IF(A116=\"\",\"\",IF(VLOOKUP(A116,eligibilité!$A$15:$AG$515,6,TRUE)=\"\",\"\",VLOOKUP(A116,eligibilité!$A$15:$AG$515,6,TRUE)))","v":""},{"$f":"IF(A116=\"\",\"\",IF(VLOOKUP(A116,eligibilité!$A$15:$AG$515,7,TRUE)=\"\",\"\",VLOOKUP(A116,eligibilité!$A$15:$AG$515,7,TRUE)))","v":""},{"$f":"IF(A116=\"\",\"\",IF(VLOOKUP(A116,eligibilité!$A$15:$AG$515,8,TRUE)=\"\",\"\",VLOOKUP(A116,eligibilité!$A$15:$AG$515,8,TRUE)))","v":""},{"$f":"IF(A116=\"\",\"\",IF(VLOOKUP(A116,eligibilité!$A$15:$AG$515,9,TRUE)=\"\",\"\",VLOOKUP(A116,eligibilité!$A$15:$AG$515,9,TRUE)))","v":""},{"$f":"IF(A116=\"\",\"\",IF(VLOOKUP(A116,eligibilité!$A$15:$AG$515,10,TRUE)=\"\",\"\",VLOOKUP(A116,eligibilité!$A$15:$AG$515,10,TRUE)))","v":""},{"$f":"IF(A116=\"\",\"\",IF(VLOOKUP(A116,eligibilité!$A$15:$AG$515,30,FALSE)=0,\"\",VLOOKUP(A116,eligibilité!$A$15:$AG$515,30,FALSE)))","v":""},"","","","","","","",1305,"","","","","","","Temps restant : ",""]
[{"$f":"IF(eligibilité!AG119=\"\",\"\",eligibilité!A119)","v":""},{"$f":"IF(A117=\"\",\"\",IF(VLOOKUP(A117,eligibilité!$A$15:$J$515,2,TRUE)=\"\",\"\",VLOOKUP(A117,eligibilité!$A$15:$J$515,2,TRUE)))","v":""},{"$f":"IF(A117=\"\",\"\",IF(VLOOKUP(A117,eligibilité!$A$15:$AG$515,3,TRUE)=\"\",\"\",VLOOKUP(A117,eligibilité!$A$15:$AG$515,3,TRUE)))","v":""},{"$f":"IF(A117=\"\",\"\",IF(VLOOKUP(A117,eligibilité!$A$15:$AG$515,4,TRUE)=\"\",\"\",VLOOKUP(A117,eligibilité!$A$15:$AG$515,4,TRUE)))","v":""},{"$f":"IF(A117=\"\",\"\",IF(VLOOKUP(A117,eligibilité!$A$15:$AG$515,5,TRUE)=\"\",\"\",VLOOKUP(A117,eligibilité!$A$15:$AG$515,5,TRUE)))","v":""},{"$f":"IF(A117=\"\",\"\",IF(VLOOKUP(A117,eligibilité!$A$15:$AG$515,6,TRUE)=\"\",\"\",VLOOKUP(A117,eligibilité!$A$15:$AG$515,6,TRUE)))","v":""},{"$f":"IF(A117=\"\",\"\",IF(VLOOKUP(A117,eligibilité!$A$15:$AG$515,7,TRUE)=\"\",\"\",VLOOKUP(A117,eligibilité!$A$15:$AG$515,7,TRUE)))","v":""},{"$f":"IF(A117=\"\",\"\",IF(VLOOKUP(A117,eligibilité!$A$15:$AG$515,8,TRUE)=\"\",\"\",VLOOKUP(A117,eligibilité!$A$15:$AG$515,8,TRUE)))","v":""},{"$f":"IF(A117=\"\",\"\",IF(VLOOKUP(A117,eligibilité!$A$15:$AG$515,9,TRUE)=\"\",\"\",VLOOKUP(A117,eligibilité!$A$15:$AG$515,9,TRUE)))","v":""},{"$f":"IF(A117=\"\",\"\",IF(VLOOKUP(A117,eligibilité!$A$15:$AG$515,10,TRUE)=\"\",\"\",VLOOKUP(A117,eligibilité!$A$15:$AG$515,10,TRUE)))","v":""},{"$f":"IF(A117=\"\",\"\",IF(VLOOKUP(A117,eligibilité!$A$15:$AG$515,30,FALSE)=0,\"\",VLOOKUP(A117,eligibilité!$A$15:$AG$515,30,FALSE)))","v":""},"","","","","","","",1305,"","","","","","","Temps restant : ",""]
[{"$f":"IF(eligibilité!AG120=\"\",\"\",eligibilité!A120)","v":""},{"$f":"IF(A118=\"\",\"\",IF(VLOOKUP(A118,eligibilité!$A$15:$J$515,2,TRUE)=\"\",\"\",VLOOKUP(A118,eligibilité!$A$15:$J$515,2,TRUE)))","v":""},{"$f":"IF(A118=\"\",\"\",IF(VLOOKUP(A118,eligibilité!$A$15:$AG$515,3,TRUE)=\"\",\"\",VLOOKUP(A118,eligibilité!$A$15:$AG$515,3,TRUE)))","v":""},{"$f":"IF(A118=\"\",\"\",IF(VLOOKUP(A118,eligibilité!$A$15:$AG$515,4,TRUE)=\"\",\"\",VLOOKUP(A118,eligibilité!$A$15:$AG$515,4,TRUE)))","v":""},{"$f":"IF(A118=\"\",\"\",IF(VLOOKUP(A118,eligibilité!$A$15:$AG$515,5,TRUE)=\"\",\"\",VLOOKUP(A118,eligibilité!$A$15:$AG$515,5,TRUE)))","v":""},{"$f":"IF(A118=\"\",\"\",IF(VLOOKUP(A118,eligibilité!$A$15:$AG$515,6,TRUE)=\"\",\"\",VLOOKUP(A118,eligibilité!$A$15:$AG$515,6,TRUE)))","v":""},{"$f":"IF(A118=\"\",\"\",IF(VLOOKUP(A118,eligibilité!$A$15:$AG$515,7,TRUE)=\"\",\"\",VLOOKUP(A118,eligibilité!$A$15:$AG$515,7,TRUE)))","v":""},{"$f":"IF(A118=\"\",\"\",IF(VLOOKUP(A118,eligibilité!$A$15:$AG$515,8,TRUE)=\"\",\"\",VLOOKUP(A118,eligibilité!$A$15:$AG$515,8,TRUE)))","v":""},{"$f":"IF(A118=\"\",\"\",IF(VLOOKUP(A118,eligibilité!$A$15:$AG$515,9,TRUE)=\"\",\"\",VLOOKUP(A118,eligibilité!$A$15:$AG$515,9,TRUE)))","v":""},{"$f":"IF(A118=\"\",\"\",IF(VLOOKUP(A118,eligibilité!$A$15:$AG$515,10,TRUE)=\"\",\"\",VLOOKUP(A118,eligibilité!$A$15:$AG$515,10,TRUE)))","v":""},{"$f":"IF(A118=\"\",\"\",IF(VLOOKUP(A118,eligibilité!$A$15:$AG$515,30,FALSE)=0,\"\",VLOOKUP(A118,eligibilité!$A$15:$AG$515,30,FALSE)))","v":""},"","","","","","","",1305,"","","","","","","Temps restant : ",""]
[{"$f":"IF(eligibilité!AG121=\"\",\"\",eligibilité!A121)","v":""},{"$f":"IF(A119=\"\",\"\",IF(VLOOKUP(A119,eligibilité!$A$15:$J$515,2,TRUE)=\"\",\"\",VLOOKUP(A119,eligibilité!$A$15:$J$515,2,TRUE)))","v":""},{"$f":"IF(A119=\"\",\"\",IF(VLOOKUP(A119,eligibilité!$A$15:$AG$515,3,TRUE)=\"\",\"\",VLOOKUP(A119,eligibilité!$A$15:$AG$515,3,TRUE)))","v":""},{"$f":"IF(A119=\"\",\"\",IF(VLOOKUP(A119,eligibilité!$A$15:$AG$515,4,TRUE)=\"\",\"\",VLOOKUP(A119,eligibilité!$A$15:$AG$515,4,TRUE)))","v":""},{"$f":"IF(A119=\"\",\"\",IF(VLOOKUP(A119,eligibilité!$A$15:$AG$515,5,TRUE)=\"\",\"\",VLOOKUP(A119,eligibilité!$A$15:$AG$515,5,TRUE)))","v":""},{"$f":"IF(A119=\"\",\"\",IF(VLOOKUP(A119,eligibilité!$A$15:$AG$515,6,TRUE)=\"\",\"\",VLOOKUP(A119,eligibilité!$A$15:$AG$515,6,TRUE)))","v":""},{"$f":"IF(A119=\"\",\"\",IF(VLOOKUP(A119,eligibilité!$A$15:$AG$515,7,TRUE)=\"\",\"\",VLOOKUP(A119,eligibilité!$A$15:$AG$515,7,TRUE)))","v":""},{"$f":"IF(A119=\"\",\"\",IF(VLOOKUP(A119,eligibilité!$A$15:$AG$515,8,TRUE)=\"\",\"\",VLOOKUP(A119,eligibilité!$A$15:$AG$515,8,TRUE)))","v":""},{"$f":"IF(A119=\"\",\"\",IF(VLOOKUP(A119,eligibilité!$A$15:$AG$515,9,TRUE)=\"\",\"\",VLOOKUP(A119,eligibilité!$A$15:$AG$515,9,TRUE)))","v":""},{"$f":"IF(A119=\"\",\"\",IF(VLOOKUP(A119,eligibilité!$A$15:$AG$515,10,TRUE)=\"\",\"\",VLOOKUP(A119,eligibilité!$A$15:$AG$515,10,TRUE)))","v":""},{"$f":"IF(A119=\"\",\"\",IF(VLOOKUP(A119,eligibilité!$A$15:$AG$515,30,FALSE)=0,\"\",VLOOKUP(A119,eligibilité!$A$15:$AG$515,30,FALSE)))","v":""},"","","","","","","",1305,"","","","","","","Temps restant : ",""]
[{"$f":"IF(eligibilité!AG122=\"\",\"\",eligibilité!A122)","v":""},{"$f":"IF(A120=\"\",\"\",IF(VLOOKUP(A120,eligibilité!$A$15:$J$515,2,TRUE)=\"\",\"\",VLOOKUP(A120,eligibilité!$A$15:$J$515,2,TRUE)))","v":""},{"$f":"IF(A120=\"\",\"\",IF(VLOOKUP(A120,eligibilité!$A$15:$AG$515,3,TRUE)=\"\",\"\",VLOOKUP(A120,eligibilité!$A$15:$AG$515,3,TRUE)))","v":""},{"$f":"IF(A120=\"\",\"\",IF(VLOOKUP(A120,eligibilité!$A$15:$AG$515,4,TRUE)=\"\",\"\",VLOOKUP(A120,eligibilité!$A$15:$AG$515,4,TRUE)))","v":""},{"$f":"IF(A120=\"\",\"\",IF(VLOOKUP(A120,eligibilité!$A$15:$AG$515,5,TRUE)=\"\",\"\",VLOOKUP(A120,eligibilité!$A$15:$AG$515,5,TRUE)))","v":""},{"$f":"IF(A120=\"\",\"\",IF(VLOOKUP(A120,eligibilité!$A$15:$AG$515,6,TRUE)=\"\",\"\",VLOOKUP(A120,eligibilité!$A$15:$AG$515,6,TRUE)))","v":""},{"$f":"IF(A120=\"\",\"\",IF(VLOOKUP(A120,eligibilité!$A$15:$AG$515,7,TRUE)=\"\",\"\",VLOOKUP(A120,eligibilité!$A$15:$AG$515,7,TRUE)))","v":""},{"$f":"IF(A120=\"\",\"\",IF(VLOOKUP(A120,eligibilité!$A$15:$AG$515,8,TRUE)=\"\",\"\",VLOOKUP(A120,eligibilité!$A$15:$AG$515,8,TRUE)))","v":""},{"$f":"IF(A120=\"\",\"\",IF(VLOOKUP(A120,eligibilité!$A$15:$AG$515,9,TRUE)=\"\",\"\",VLOOKUP(A120,eligibilité!$A$15:$AG$515,9,TRUE)))","v":""},{"$f":"IF(A120=\"\",\"\",IF(VLOOKUP(A120,eligibilité!$A$15:$AG$515,10,TRUE)=\"\",\"\",VLOOKUP(A120,eligibilité!$A$15:$AG$515,10,TRUE)))","v":""},{"$f":"IF(A120=\"\",\"\",IF(VLOOKUP(A120,eligibilité!$A$15:$AG$515,30,FALSE)=0,\"\",VLOOKUP(A120,eligibilité!$A$15:$AG$515,30,FALSE)))","v":""},"","","","","","","",1305,"","","","","","","Temps restant : ",""]
[{"$f":"IF(eligibilité!AG123=\"\",\"\",eligibilité!A123)","v":""},{"$f":"IF(A121=\"\",\"\",IF(VLOOKUP(A121,eligibilité!$A$15:$J$515,2,TRUE)=\"\",\"\",VLOOKUP(A121,eligibilité!$A$15:$J$515,2,TRUE)))","v":""},{"$f":"IF(A121=\"\",\"\",IF(VLOOKUP(A121,eligibilité!$A$15:$AG$515,3,TRUE)=\"\",\"\",VLOOKUP(A121,eligibilité!$A$15:$AG$515,3,TRUE)))","v":""},{"$f":"IF(A121=\"\",\"\",IF(VLOOKUP(A121,eligibilité!$A$15:$AG$515,4,TRUE)=\"\",\"\",VLOOKUP(A121,eligibilité!$A$15:$AG$515,4,TRUE)))","v":""},{"$f":"IF(A121=\"\",\"\",IF(VLOOKUP(A121,eligibilité!$A$15:$AG$515,5,TRUE)=\"\",\"\",VLOOKUP(A121,eligibilité!$A$15:$AG$515,5,TRUE)))","v":""},{"$f":"IF(A121=\"\",\"\",IF(VLOOKUP(A121,eligibilité!$A$15:$AG$515,6,TRUE)=\"\",\"\",VLOOKUP(A121,eligibilité!$A$15:$AG$515,6,TRUE)))","v":""},{"$f":"IF(A121=\"\",\"\",IF(VLOOKUP(A121,eligibilité!$A$15:$AG$515,7,TRUE)=\"\",\"\",VLOOKUP(A121,eligibilité!$A$15:$AG$515,7,TRUE)))","v":""},{"$f":"IF(A121=\"\",\"\",IF(VLOOKUP(A121,eligibilité!$A$15:$AG$515,8,TRUE)=\"\",\"\",VLOOKUP(A121,eligibilité!$A$15:$AG$515,8,TRUE)))","v":""},{"$f":"IF(A121=\"\",\"\",IF(VLOOKUP(A121,eligibilité!$A$15:$AG$515,9,TRUE)=\"\",\"\",VLOOKUP(A121,eligibilité!$A$15:$AG$515,9,TRUE)))","v":""},{"$f":"IF(A121=\"\",\"\",IF(VLOOKUP(A121,eligibilité!$A$15:$AG$515,10,TRUE)=\"\",\"\",VLOOKUP(A121,eligibilité!$A$15:$AG$515,10,TRUE)))","v":""},{"$f":"IF(A121=\"\",\"\",IF(VLOOKUP(A121,eligibilité!$A$15:$AG$515,30,FALSE)=0,\"\",VLOOKUP(A121,eligibilité!$A$15:$AG$515,30,FALSE)))","v":""},"","","","","","","",1305,"","","","","","","Temps restant : ",""]
[{"$f":"IF(eligibilité!AG124=\"\",\"\",eligibilité!A124)","v":""},{"$f":"IF(A122=\"\",\"\",IF(VLOOKUP(A122,eligibilité!$A$15:$J$515,2,TRUE)=\"\",\"\",VLOOKUP(A122,eligibilité!$A$15:$J$515,2,TRUE)))","v":""},{"$f":"IF(A122=\"\",\"\",IF(VLOOKUP(A122,eligibilité!$A$15:$AG$515,3,TRUE)=\"\",\"\",VLOOKUP(A122,eligibilité!$A$15:$AG$515,3,TRUE)))","v":""},{"$f":"IF(A122=\"\",\"\",IF(VLOOKUP(A122,eligibilité!$A$15:$AG$515,4,TRUE)=\"\",\"\",VLOOKUP(A122,eligibilité!$A$15:$AG$515,4,TRUE)))","v":""},{"$f":"IF(A122=\"\",\"\",IF(VLOOKUP(A122,eligibilité!$A$15:$AG$515,5,TRUE)=\"\",\"\",VLOOKUP(A122,eligibilité!$A$15:$AG$515,5,TRUE)))","v":""},{"$f":"IF(A122=\"\",\"\",IF(VLOOKUP(A122,eligibilité!$A$15:$AG$515,6,TRUE)=\"\",\"\",VLOOKUP(A122,eligibilité!$A$15:$AG$515,6,TRUE)))","v":""},{"$f":"IF(A122=\"\",\"\",IF(VLOOKUP(A122,eligibilité!$A$15:$AG$515,7,TRUE)=\"\",\"\",VLOOKUP(A122,eligibilité!$A$15:$AG$515,7,TRUE)))","v":""},{"$f":"IF(A122=\"\",\"\",IF(VLOOKUP(A122,eligibilité!$A$15:$AG$515,8,TRUE)=\"\",\"\",VLOOKUP(A122,eligibilité!$A$15:$AG$515,8,TRUE)))","v":""},{"$f":"IF(A122=\"\",\"\",IF(VLOOKUP(A122,eligibilité!$A$15:$AG$515,9,TRUE)=\"\",\"\",VLOOKUP(A122,eligibilité!$A$15:$AG$515,9,TRUE)))","v":""},{"$f":"IF(A122=\"\",\"\",IF(VLOOKUP(A122,eligibilité!$A$15:$AG$515,10,TRUE)=\"\",\"\",VLOOKUP(A122,eligibilité!$A$15:$AG$515,10,TRUE)))","v":""},{"$f":"IF(A122=\"\",\"\",IF(VLOOKUP(A122,eligibilité!$A$15:$AG$515,30,FALSE)=0,\"\",VLOOKUP(A122,eligibilité!$A$15:$AG$515,30,FALSE)))","v":""},"","","","","","","",1305,"","","","","","","Temps restant : ",""]
[{"$f":"IF(eligibilité!AG125=\"\",\"\",eligibilité!A125)","v":""},{"$f":"IF(A123=\"\",\"\",IF(VLOOKUP(A123,eligibilité!$A$15:$J$515,2,TRUE)=\"\",\"\",VLOOKUP(A123,eligibilité!$A$15:$J$515,2,TRUE)))","v":""},{"$f":"IF(A123=\"\",\"\",IF(VLOOKUP(A123,eligibilité!$A$15:$AG$515,3,TRUE)=\"\",\"\",VLOOKUP(A123,eligibilité!$A$15:$AG$515,3,TRUE)))","v":""},{"$f":"IF(A123=\"\",\"\",IF(VLOOKUP(A123,eligibilité!$A$15:$AG$515,4,TRUE)=\"\",\"\",VLOOKUP(A123,eligibilité!$A$15:$AG$515,4,TRUE)))","v":""},{"$f":"IF(A123=\"\",\"\",IF(VLOOKUP(A123,eligibilité!$A$15:$AG$515,5,TRUE)=\"\",\"\",VLOOKUP(A123,eligibilité!$A$15:$AG$515,5,TRUE)))","v":""},{"$f":"IF(A123=\"\",\"\",IF(VLOOKUP(A123,eligibilité!$A$15:$AG$515,6,TRUE)=\"\",\"\",VLOOKUP(A123,eligibilité!$A$15:$AG$515,6,TRUE)))","v":""},{"$f":"IF(A123=\"\",\"\",IF(VLOOKUP(A123,eligibilité!$A$15:$AG$515,7,TRUE)=\"\",\"\",VLOOKUP(A123,eligibilité!$A$15:$AG$515,7,TRUE)))","v":""},{"$f":"IF(A123=\"\",\"\",IF(VLOOKUP(A123,eligibilité!$A$15:$AG$515,8,TRUE)=\"\",\"\",VLOOKUP(A123,eligibilité!$A$15:$AG$515,8,TRUE)))","v":""},{"$f":"IF(A123=\"\",\"\",IF(VLOOKUP(A123,eligibilité!$A$15:$AG$515,9,TRUE)=\"\",\"\",VLOOKUP(A123,eligibilité!$A$15:$AG$515,9,TRUE)))","v":""},{"$f":"IF(A123=\"\",\"\",IF(VLOOKUP(A123,eligibilité!$A$15:$AG$515,10,TRUE)=\"\",\"\",VLOOKUP(A123,eligibilité!$A$15:$AG$515,10,TRUE)))","v":""},{"$f":"IF(A123=\"\",\"\",IF(VLOOKUP(A123,eligibilité!$A$15:$AG$515,30,FALSE)=0,\"\",VLOOKUP(A123,eligibilité!$A$15:$AG$515,30,FALSE)))","v":""},"","","","","","","",1305,"","","","","","","Temps restant : ",""]
[{"$f":"IF(eligibilité!AG126=\"\",\"\",eligibilité!A126)","v":""},{"$f":"IF(A124=\"\",\"\",IF(VLOOKUP(A124,eligibilité!$A$15:$J$515,2,TRUE)=\"\",\"\",VLOOKUP(A124,eligibilité!$A$15:$J$515,2,TRUE)))","v":""},{"$f":"IF(A124=\"\",\"\",IF(VLOOKUP(A124,eligibilité!$A$15:$AG$515,3,TRUE)=\"\",\"\",VLOOKUP(A124,eligibilité!$A$15:$AG$515,3,TRUE)))","v":""},{"$f":"IF(A124=\"\",\"\",IF(VLOOKUP(A124,eligibilité!$A$15:$AG$515,4,TRUE)=\"\",\"\",VLOOKUP(A124,eligibilité!$A$15:$AG$515,4,TRUE)))","v":""},{"$f":"IF(A124=\"\",\"\",IF(VLOOKUP(A124,eligibilité!$A$15:$AG$515,5,TRUE)=\"\",\"\",VLOOKUP(A124,eligibilité!$A$15:$AG$515,5,TRUE)))","v":""},{"$f":"IF(A124=\"\",\"\",IF(VLOOKUP(A124,eligibilité!$A$15:$AG$515,6,TRUE)=\"\",\"\",VLOOKUP(A124,eligibilité!$A$15:$AG$515,6,TRUE)))","v":""},{"$f":"IF(A124=\"\",\"\",IF(VLOOKUP(A124,eligibilité!$A$15:$AG$515,7,TRUE)=\"\",\"\",VLOOKUP(A124,eligibilité!$A$15:$AG$515,7,TRUE)))","v":""},{"$f":"IF(A124=\"\",\"\",IF(VLOOKUP(A124,eligibilité!$A$15:$AG$515,8,TRUE)=\"\",\"\",VLOOKUP(A124,eligibilité!$A$15:$AG$515,8,TRUE)))","v":""},{"$f":"IF(A124=\"\",\"\",IF(VLOOKUP(A124,eligibilité!$A$15:$AG$515,9,TRUE)=\"\",\"\",VLOOKUP(A124,eligibilité!$A$15:$AG$515,9,TRUE)))","v":""},{"$f":"IF(A124=\"\",\"\",IF(VLOOKUP(A124,eligibilité!$A$15:$AG$515,10,TRUE)=\"\",\"\",VLOOKUP(A124,eligibilité!$A$15:$AG$515,10,TRUE)))","v":""},{"$f":"IF(A124=\"\",\"\",IF(VLOOKUP(A124,eligibilité!$A$15:$AG$515,30,FALSE)=0,\"\",VLOOKUP(A124,eligibilité!$A$15:$AG$515,30,FALSE)))","v":""},"","","","","","","",1305,"","","","","","","Temps restant : ",""]
[{"$f":"IF(eligibilité!AG127=\"\",\"\",eligibilité!A127)","v":""},{"$f":"IF(A125=\"\",\"\",IF(VLOOKUP(A125,eligibilité!$A$15:$J$515,2,TRUE)=\"\",\"\",VLOOKUP(A125,eligibilité!$A$15:$J$515,2,TRUE)))","v":""},{"$f":"IF(A125=\"\",\"\",IF(VLOOKUP(A125,eligibilité!$A$15:$AG$515,3,TRUE)=\"\",\"\",VLOOKUP(A125,eligibilité!$A$15:$AG$515,3,TRUE)))","v":""},{"$f":"IF(A125=\"\",\"\",IF(VLOOKUP(A125,eligibilité!$A$15:$AG$515,4,TRUE)=\"\",\"\",VLOOKUP(A125,eligibilité!$A$15:$AG$515,4,TRUE)))","v":""},{"$f":"IF(A125=\"\",\"\",IF(VLOOKUP(A125,eligibilité!$A$15:$AG$515,5,TRUE)=\"\",\"\",VLOOKUP(A125,eligibilité!$A$15:$AG$515,5,TRUE)))","v":""},{"$f":"IF(A125=\"\",\"\",IF(VLOOKUP(A125,eligibilité!$A$15:$AG$515,6,TRUE)=\"\",\"\",VLOOKUP(A125,eligibilité!$A$15:$AG$515,6,TRUE)))","v":""},{"$f":"IF(A125=\"\",\"\",IF(VLOOKUP(A125,eligibilité!$A$15:$AG$515,7,TRUE)=\"\",\"\",VLOOKUP(A125,eligibilité!$A$15:$AG$515,7,TRUE)))","v":""},{"$f":"IF(A125=\"\",\"\",IF(VLOOKUP(A125,eligibilité!$A$15:$AG$515,8,TRUE)=\"\",\"\",VLOOKUP(A125,eligibilité!$A$15:$AG$515,8,TRUE)))","v":""},{"$f":"IF(A125=\"\",\"\",IF(VLOOKUP(A125,eligibilité!$A$15:$AG$515,9,TRUE)=\"\",\"\",VLOOKUP(A125,eligibilité!$A$15:$AG$515,9,TRUE)))","v":""},{"$f":"IF(A125=\"\",\"\",IF(VLOOKUP(A125,eligibilité!$A$15:$AG$515,10,TRUE)=\"\",\"\",VLOOKUP(A125,eligibilité!$A$15:$AG$515,10,TRUE)))","v":""},{"$f":"IF(A125=\"\",\"\",IF(VLOOKUP(A125,eligibilité!$A$15:$AG$515,30,FALSE)=0,\"\",VLOOKUP(A125,eligibilité!$A$15:$AG$515,30,FALSE)))","v":""},"","","","","","","",1305,"","","","","","","Temps restant : ",""]
[{"$f":"IF(eligibilité!AG128=\"\",\"\",eligibilité!A128)","v":""},{"$f":"IF(A126=\"\",\"\",IF(VLOOKUP(A126,eligibilité!$A$15:$J$515,2,TRUE)=\"\",\"\",VLOOKUP(A126,eligibilité!$A$15:$J$515,2,TRUE)))","v":""},{"$f":"IF(A126=\"\",\"\",IF(VLOOKUP(A126,eligibilité!$A$15:$AG$515,3,TRUE)=\"\",\"\",VLOOKUP(A126,eligibilité!$A$15:$AG$515,3,TRUE)))","v":""},{"$f":"IF(A126=\"\",\"\",IF(VLOOKUP(A126,eligibilité!$A$15:$AG$515,4,TRUE)=\"\",\"\",VLOOKUP(A126,eligibilité!$A$15:$AG$515,4,TRUE)))","v":""},{"$f":"IF(A126=\"\",\"\",IF(VLOOKUP(A126,eligibilité!$A$15:$AG$515,5,TRUE)=\"\",\"\",VLOOKUP(A126,eligibilité!$A$15:$AG$515,5,TRUE)))","v":""},{"$f":"IF(A126=\"\",\"\",IF(VLOOKUP(A126,eligibilité!$A$15:$AG$515,6,TRUE)=\"\",\"\",VLOOKUP(A126,eligibilité!$A$15:$AG$515,6,TRUE)))","v":""},{"$f":"IF(A126=\"\",\"\",IF(VLOOKUP(A126,eligibilité!$A$15:$AG$515,7,TRUE)=\"\",\"\",VLOOKUP(A126,eligibilité!$A$15:$AG$515,7,TRUE)))","v":""},{"$f":"IF(A126=\"\",\"\",IF(VLOOKUP(A126,eligibilité!$A$15:$AG$515,8,TRUE)=\"\",\"\",VLOOKUP(A126,eligibilité!$A$15:$AG$515,8,TRUE)))","v":""},{"$f":"IF(A126=\"\",\"\",IF(VLOOKUP(A126,eligibilité!$A$15:$AG$515,9,TRUE)=\"\",\"\",VLOOKUP(A126,eligibilité!$A$15:$AG$515,9,TRUE)))","v":""},{"$f":"IF(A126=\"\",\"\",IF(VLOOKUP(A126,eligibilité!$A$15:$AG$515,10,TRUE)=\"\",\"\",VLOOKUP(A126,eligibilité!$A$15:$AG$515,10,TRUE)))","v":""},{"$f":"IF(A126=\"\",\"\",IF(VLOOKUP(A126,eligibilité!$A$15:$AG$515,30,FALSE)=0,\"\",VLOOKUP(A126,eligibilité!$A$15:$AG$515,30,FALSE)))","v":""},"","","","","","","",1305,"","","","","","","Temps restant : ",""]
[{"$f":"IF(eligibilité!AG129=\"\",\"\",eligibilité!A129)","v":""},{"$f":"IF(A127=\"\",\"\",IF(VLOOKUP(A127,eligibilité!$A$15:$J$515,2,TRUE)=\"\",\"\",VLOOKUP(A127,eligibilité!$A$15:$J$515,2,TRUE)))","v":""},{"$f":"IF(A127=\"\",\"\",IF(VLOOKUP(A127,eligibilité!$A$15:$AG$515,3,TRUE)=\"\",\"\",VLOOKUP(A127,eligibilité!$A$15:$AG$515,3,TRUE)))","v":""},{"$f":"IF(A127=\"\",\"\",IF(VLOOKUP(A127,eligibilité!$A$15:$AG$515,4,TRUE)=\"\",\"\",VLOOKUP(A127,eligibilité!$A$15:$AG$515,4,TRUE)))","v":""},{"$f":"IF(A127=\"\",\"\",IF(VLOOKUP(A127,eligibilité!$A$15:$AG$515,5,TRUE)=\"\",\"\",VLOOKUP(A127,eligibilité!$A$15:$AG$515,5,TRUE)))","v":""},{"$f":"IF(A127=\"\",\"\",IF(VLOOKUP(A127,eligibilité!$A$15:$AG$515,6,TRUE)=\"\",\"\",VLOOKUP(A127,eligibilité!$A$15:$AG$515,6,TRUE)))","v":""},{"$f":"IF(A127=\"\",\"\",IF(VLOOKUP(A127,eligibilité!$A$15:$AG$515,7,TRUE)=\"\",\"\",VLOOKUP(A127,eligibilité!$A$15:$AG$515,7,TRUE)))","v":""},{"$f":"IF(A127=\"\",\"\",IF(VLOOKUP(A127,eligibilité!$A$15:$AG$515,8,TRUE)=\"\",\"\",VLOOKUP(A127,eligibilité!$A$15:$AG$515,8,TRUE)))","v":""},{"$f":"IF(A127=\"\",\"\",IF(VLOOKUP(A127,eligibilité!$A$15:$AG$515,9,TRUE)=\"\",\"\",VLOOKUP(A127,eligibilité!$A$15:$AG$515,9,TRUE)))","v":""},{"$f":"IF(A127=\"\",\"\",IF(VLOOKUP(A127,eligibilité!$A$15:$AG$515,10,TRUE)=\"\",\"\",VLOOKUP(A127,eligibilité!$A$15:$AG$515,10,TRUE)))","v":""},{"$f":"IF(A127=\"\",\"\",IF(VLOOKUP(A127,eligibilité!$A$15:$AG$515,30,FALSE)=0,\"\",VLOOKUP(A127,eligibilité!$A$15:$AG$515,30,FALSE)))","v":""},"","","","","","","",1305,"","","","","","","Temps restant : ",""]
[{"$f":"IF(eligibilité!AG130=\"\",\"\",eligibilité!A130)","v":""},{"$f":"IF(A128=\"\",\"\",IF(VLOOKUP(A128,eligibilité!$A$15:$J$515,2,TRUE)=\"\",\"\",VLOOKUP(A128,eligibilité!$A$15:$J$515,2,TRUE)))","v":""},{"$f":"IF(A128=\"\",\"\",IF(VLOOKUP(A128,eligibilité!$A$15:$AG$515,3,TRUE)=\"\",\"\",VLOOKUP(A128,eligibilité!$A$15:$AG$515,3,TRUE)))","v":""},{"$f":"IF(A128=\"\",\"\",IF(VLOOKUP(A128,eligibilité!$A$15:$AG$515,4,TRUE)=\"\",\"\",VLOOKUP(A128,eligibilité!$A$15:$AG$515,4,TRUE)))","v":""},{"$f":"IF(A128=\"\",\"\",IF(VLOOKUP(A128,eligibilité!$A$15:$AG$515,5,TRUE)=\"\",\"\",VLOOKUP(A128,eligibilité!$A$15:$AG$515,5,TRUE)))","v":""},{"$f":"IF(A128=\"\",\"\",IF(VLOOKUP(A128,eligibilité!$A$15:$AG$515,6,TRUE)=\"\",\"\",VLOOKUP(A128,eligibilité!$A$15:$AG$515,6,TRUE)))","v":""},{"$f":"IF(A128=\"\",\"\",IF(VLOOKUP(A128,eligibilité!$A$15:$AG$515,7,TRUE)=\"\",\"\",VLOOKUP(A128,eligibilité!$A$15:$AG$515,7,TRUE)))","v":""},{"$f":"IF(A128=\"\",\"\",IF(VLOOKUP(A128,eligibilité!$A$15:$AG$515,8,TRUE)=\"\",\"\",VLOOKUP(A128,eligibilité!$A$15:$AG$515,8,TRUE)))","v":""},{"$f":"IF(A128=\"\",\"\",IF(VLOOKUP(A128,eligibilité!$A$15:$AG$515,9,TRUE)=\"\",\"\",VLOOKUP(A128,eligibilité!$A$15:$AG$515,9,TRUE)))","v":""},{"$f":"IF(A128=\"\",\"\",IF(VLOOKUP(A128,eligibilité!$A$15:$AG$515,10,TRUE)=\"\",\"\",VLOOKUP(A128,eligibilité!$A$15:$AG$515,10,TRUE)))","v":""},{"$f":"IF(A128=\"\",\"\",IF(VLOOKUP(A128,eligibilité!$A$15:$AG$515,30,FALSE)=0,\"\",VLOOKUP(A128,eligibilité!$A$15:$AG$515,30,FALSE)))","v":""},"","","","","","","",1305,"","","","","","","Temps restant : ",""]
[{"$f":"IF(eligibilité!AG131=\"\",\"\",eligibilité!A131)","v":""},{"$f":"IF(A129=\"\",\"\",IF(VLOOKUP(A129,eligibilité!$A$15:$J$515,2,TRUE)=\"\",\"\",VLOOKUP(A129,eligibilité!$A$15:$J$515,2,TRUE)))","v":""},{"$f":"IF(A129=\"\",\"\",IF(VLOOKUP(A129,eligibilité!$A$15:$AG$515,3,TRUE)=\"\",\"\",VLOOKUP(A129,eligibilité!$A$15:$AG$515,3,TRUE)))","v":""},{"$f":"IF(A129=\"\",\"\",IF(VLOOKUP(A129,eligibilité!$A$15:$AG$515,4,TRUE)=\"\",\"\",VLOOKUP(A129,eligibilité!$A$15:$AG$515,4,TRUE)))","v":""},{"$f":"IF(A129=\"\",\"\",IF(VLOOKUP(A129,eligibilité!$A$15:$AG$515,5,TRUE)=\"\",\"\",VLOOKUP(A129,eligibilité!$A$15:$AG$515,5,TRUE)))","v":""},{"$f":"IF(A129=\"\",\"\",IF(VLOOKUP(A129,eligibilité!$A$15:$AG$515,6,TRUE)=\"\",\"\",VLOOKUP(A129,eligibilité!$A$15:$AG$515,6,TRUE)))","v":""},{"$f":"IF(A129=\"\",\"\",IF(VLOOKUP(A129,eligibilité!$A$15:$AG$515,7,TRUE)=\"\",\"\",VLOOKUP(A129,eligibilité!$A$15:$AG$515,7,TRUE)))","v":""},{"$f":"IF(A129=\"\",\"\",IF(VLOOKUP(A129,eligibilité!$A$15:$AG$515,8,TRUE)=\"\",\"\",VLOOKUP(A129,eligibilité!$A$15:$AG$515,8,TRUE)))","v":""},{"$f":"IF(A129=\"\",\"\",IF(VLOOKUP(A129,eligibilité!$A$15:$AG$515,9,TRUE)=\"\",\"\",VLOOKUP(A129,eligibilité!$A$15:$AG$515,9,TRUE)))","v":""},{"$f":"IF(A129=\"\",\"\",IF(VLOOKUP(A129,eligibilité!$A$15:$AG$515,10,TRUE)=\"\",\"\",VLOOKUP(A129,eligibilité!$A$15:$AG$515,10,TRUE)))","v":""},{"$f":"IF(A129=\"\",\"\",IF(VLOOKUP(A129,eligibilité!$A$15:$AG$515,30,FALSE)=0,\"\",VLOOKUP(A129,eligibilité!$A$15:$AG$515,30,FALSE)))","v":""},"","","","","","","",1305,"","","","","","","Temps restant : ",""]
[{"$f":"IF(eligibilité!AG132=\"\",\"\",eligibilité!A132)","v":""},{"$f":"IF(A130=\"\",\"\",IF(VLOOKUP(A130,eligibilité!$A$15:$J$515,2,TRUE)=\"\",\"\",VLOOKUP(A130,eligibilité!$A$15:$J$515,2,TRUE)))","v":""},{"$f":"IF(A130=\"\",\"\",IF(VLOOKUP(A130,eligibilité!$A$15:$AG$515,3,TRUE)=\"\",\"\",VLOOKUP(A130,eligibilité!$A$15:$AG$515,3,TRUE)))","v":""},{"$f":"IF(A130=\"\",\"\",IF(VLOOKUP(A130,eligibilité!$A$15:$AG$515,4,TRUE)=\"\",\"\",VLOOKUP(A130,eligibilité!$A$15:$AG$515,4,TRUE)))","v":""},{"$f":"IF(A130=\"\",\"\",IF(VLOOKUP(A130,eligibilité!$A$15:$AG$515,5,TRUE)=\"\",\"\",VLOOKUP(A130,eligibilité!$A$15:$AG$515,5,TRUE)))","v":""},{"$f":"IF(A130=\"\",\"\",IF(VLOOKUP(A130,eligibilité!$A$15:$AG$515,6,TRUE)=\"\",\"\",VLOOKUP(A130,eligibilité!$A$15:$AG$515,6,TRUE)))","v":""},{"$f":"IF(A130=\"\",\"\",IF(VLOOKUP(A130,eligibilité!$A$15:$AG$515,7,TRUE)=\"\",\"\",VLOOKUP(A130,eligibilité!$A$15:$AG$515,7,TRUE)))","v":""},{"$f":"IF(A130=\"\",\"\",IF(VLOOKUP(A130,eligibilité!$A$15:$AG$515,8,TRUE)=\"\",\"\",VLOOKUP(A130,eligibilité!$A$15:$AG$515,8,TRUE)))","v":""},{"$f":"IF(A130=\"\",\"\",IF(VLOOKUP(A130,eligibilité!$A$15:$AG$515,9,TRUE)=\"\",\"\",VLOOKUP(A130,eligibilité!$A$15:$AG$515,9,TRUE)))","v":""},{"$f":"IF(A130=\"\",\"\",IF(VLOOKUP(A130,eligibilité!$A$15:$AG$515,10,TRUE)=\"\",\"\",VLOOKUP(A130,eligibilité!$A$15:$AG$515,10,TRUE)))","v":""},{"$f":"IF(A130=\"\",\"\",IF(VLOOKUP(A130,eligibilité!$A$15:$AG$515,30,FALSE)=0,\"\",VLOOKUP(A130,eligibilité!$A$15:$AG$515,30,FALSE)))","v":""},"","","","","","","",1305,"","","","","","","Temps restant : ",""]
[{"$f":"IF(eligibilité!AG133=\"\",\"\",eligibilité!A133)","v":""},{"$f":"IF(A131=\"\",\"\",IF(VLOOKUP(A131,eligibilité!$A$15:$J$515,2,TRUE)=\"\",\"\",VLOOKUP(A131,eligibilité!$A$15:$J$515,2,TRUE)))","v":""},{"$f":"IF(A131=\"\",\"\",IF(VLOOKUP(A131,eligibilité!$A$15:$AG$515,3,TRUE)=\"\",\"\",VLOOKUP(A131,eligibilité!$A$15:$AG$515,3,TRUE)))","v":""},{"$f":"IF(A131=\"\",\"\",IF(VLOOKUP(A131,eligibilité!$A$15:$AG$515,4,TRUE)=\"\",\"\",VLOOKUP(A131,eligibilité!$A$15:$AG$515,4,TRUE)))","v":""},{"$f":"IF(A131=\"\",\"\",IF(VLOOKUP(A131,eligibilité!$A$15:$AG$515,5,TRUE)=\"\",\"\",VLOOKUP(A131,eligibilité!$A$15:$AG$515,5,TRUE)))","v":""},{"$f":"IF(A131=\"\",\"\",IF(VLOOKUP(A131,eligibilité!$A$15:$AG$515,6,TRUE)=\"\",\"\",VLOOKUP(A131,eligibilité!$A$15:$AG$515,6,TRUE)))","v":""},{"$f":"IF(A131=\"\",\"\",IF(VLOOKUP(A131,eligibilité!$A$15:$AG$515,7,TRUE)=\"\",\"\",VLOOKUP(A131,eligibilité!$A$15:$AG$515,7,TRUE)))","v":""},{"$f":"IF(A131=\"\",\"\",IF(VLOOKUP(A131,eligibilité!$A$15:$AG$515,8,TRUE)=\"\",\"\",VLOOKUP(A131,eligibilité!$A$15:$AG$515,8,TRUE)))","v":""},{"$f":"IF(A131=\"\",\"\",IF(VLOOKUP(A131,eligibilité!$A$15:$AG$515,9,TRUE)=\"\",\"\",VLOOKUP(A131,eligibilité!$A$15:$AG$515,9,TRUE)))","v":""},{"$f":"IF(A131=\"\",\"\",IF(VLOOKUP(A131,eligibilité!$A$15:$AG$515,10,TRUE)=\"\",\"\",VLOOKUP(A131,eligibilité!$A$15:$AG$515,10,TRUE)))","v":""},{"$f":"IF(A131=\"\",\"\",IF(VLOOKUP(A131,eligibilité!$A$15:$AG$515,30,FALSE)=0,\"\",VLOOKUP(A131,eligibilité!$A$15:$AG$515,30,FALSE)))","v":""},"","","","","","","",1305,"","","","","","","Temps restant : ",""]
[{"$f":"IF(eligibilité!AG134=\"\",\"\",eligibilité!A134)","v":""},{"$f":"IF(A132=\"\",\"\",IF(VLOOKUP(A132,eligibilité!$A$15:$J$515,2,TRUE)=\"\",\"\",VLOOKUP(A132,eligibilité!$A$15:$J$515,2,TRUE)))","v":""},{"$f":"IF(A132=\"\",\"\",IF(VLOOKUP(A132,eligibilité!$A$15:$AG$515,3,TRUE)=\"\",\"\",VLOOKUP(A132,eligibilité!$A$15:$AG$515,3,TRUE)))","v":""},{"$f":"IF(A132=\"\",\"\",IF(VLOOKUP(A132,eligibilité!$A$15:$AG$515,4,TRUE)=\"\",\"\",VLOOKUP(A132,eligibilité!$A$15:$AG$515,4,TRUE)))","v":""},{"$f":"IF(A132=\"\",\"\",IF(VLOOKUP(A132,eligibilité!$A$15:$AG$515,5,TRUE)=\"\",\"\",VLOOKUP(A132,eligibilité!$A$15:$AG$515,5,TRUE)))","v":""},{"$f":"IF(A132=\"\",\"\",IF(VLOOKUP(A132,eligibilité!$A$15:$AG$515,6,TRUE)=\"\",\"\",VLOOKUP(A132,eligibilité!$A$15:$AG$515,6,TRUE)))","v":""},{"$f":"IF(A132=\"\",\"\",IF(VLOOKUP(A132,eligibilité!$A$15:$AG$515,7,TRUE)=\"\",\"\",VLOOKUP(A132,eligibilité!$A$15:$AG$515,7,TRUE)))","v":""},{"$f":"IF(A132=\"\",\"\",IF(VLOOKUP(A132,eligibilité!$A$15:$AG$515,8,TRUE)=\"\",\"\",VLOOKUP(A132,eligibilité!$A$15:$AG$515,8,TRUE)))","v":""},{"$f":"IF(A132=\"\",\"\",IF(VLOOKUP(A132,eligibilité!$A$15:$AG$515,9,TRUE)=\"\",\"\",VLOOKUP(A132,eligibilité!$A$15:$AG$515,9,TRUE)))","v":""},{"$f":"IF(A132=\"\",\"\",IF(VLOOKUP(A132,eligibilité!$A$15:$AG$515,10,TRUE)=\"\",\"\",VLOOKUP(A132,eligibilité!$A$15:$AG$515,10,TRUE)))","v":""},{"$f":"IF(A132=\"\",\"\",IF(VLOOKUP(A132,eligibilité!$A$15:$AG$515,30,FALSE)=0,\"\",VLOOKUP(A132,eligibilité!$A$15:$AG$515,30,FALSE)))","v":""},"","","","","","","",1305,"","","","","","","Temps restant : ",""]
[{"$f":"IF(eligibilité!AG135=\"\",\"\",eligibilité!A135)","v":""},{"$f":"IF(A133=\"\",\"\",IF(VLOOKUP(A133,eligibilité!$A$15:$J$515,2,TRUE)=\"\",\"\",VLOOKUP(A133,eligibilité!$A$15:$J$515,2,TRUE)))","v":""},{"$f":"IF(A133=\"\",\"\",IF(VLOOKUP(A133,eligibilité!$A$15:$AG$515,3,TRUE)=\"\",\"\",VLOOKUP(A133,eligibilité!$A$15:$AG$515,3,TRUE)))","v":""},{"$f":"IF(A133=\"\",\"\",IF(VLOOKUP(A133,eligibilité!$A$15:$AG$515,4,TRUE)=\"\",\"\",VLOOKUP(A133,eligibilité!$A$15:$AG$515,4,TRUE)))","v":""},{"$f":"IF(A133=\"\",\"\",IF(VLOOKUP(A133,eligibilité!$A$15:$AG$515,5,TRUE)=\"\",\"\",VLOOKUP(A133,eligibilité!$A$15:$AG$515,5,TRUE)))","v":""},{"$f":"IF(A133=\"\",\"\",IF(VLOOKUP(A133,eligibilité!$A$15:$AG$515,6,TRUE)=\"\",\"\",VLOOKUP(A133,eligibilité!$A$15:$AG$515,6,TRUE)))","v":""},{"$f":"IF(A133=\"\",\"\",IF(VLOOKUP(A133,eligibilité!$A$15:$AG$515,7,TRUE)=\"\",\"\",VLOOKUP(A133,eligibilité!$A$15:$AG$515,7,TRUE)))","v":""},{"$f":"IF(A133=\"\",\"\",IF(VLOOKUP(A133,eligibilité!$A$15:$AG$515,8,TRUE)=\"\",\"\",VLOOKUP(A133,eligibilité!$A$15:$AG$515,8,TRUE)))","v":""},{"$f":"IF(A133=\"\",\"\",IF(VLOOKUP(A133,eligibilité!$A$15:$AG$515,9,TRUE)=\"\",\"\",VLOOKUP(A133,eligibilité!$A$15:$AG$515,9,TRUE)))","v":""},{"$f":"IF(A133=\"\",\"\",IF(VLOOKUP(A133,eligibilité!$A$15:$AG$515,10,TRUE)=\"\",\"\",VLOOKUP(A133,eligibilité!$A$15:$AG$515,10,TRUE)))","v":""},{"$f":"IF(A133=\"\",\"\",IF(VLOOKUP(A133,eligibilité!$A$15:$AG$515,30,FALSE)=0,\"\",VLOOKUP(A133,eligibilité!$A$15:$AG$515,30,FALSE)))","v":""},"","","","","","","",1305,"","","","","","","Temps restant : ",""]
[{"$f":"IF(eligibilité!AG136=\"\",\"\",eligibilité!A136)","v":""},{"$f":"IF(A134=\"\",\"\",IF(VLOOKUP(A134,eligibilité!$A$15:$J$515,2,TRUE)=\"\",\"\",VLOOKUP(A134,eligibilité!$A$15:$J$515,2,TRUE)))","v":""},{"$f":"IF(A134=\"\",\"\",IF(VLOOKUP(A134,eligibilité!$A$15:$AG$515,3,TRUE)=\"\",\"\",VLOOKUP(A134,eligibilité!$A$15:$AG$515,3,TRUE)))","v":""},{"$f":"IF(A134=\"\",\"\",IF(VLOOKUP(A134,eligibilité!$A$15:$AG$515,4,TRUE)=\"\",\"\",VLOOKUP(A134,eligibilité!$A$15:$AG$515,4,TRUE)))","v":""},{"$f":"IF(A134=\"\",\"\",IF(VLOOKUP(A134,eligibilité!$A$15:$AG$515,5,TRUE)=\"\",\"\",VLOOKUP(A134,eligibilité!$A$15:$AG$515,5,TRUE)))","v":""},{"$f":"IF(A134=\"\",\"\",IF(VLOOKUP(A134,eligibilité!$A$15:$AG$515,6,TRUE)=\"\",\"\",VLOOKUP(A134,eligibilité!$A$15:$AG$515,6,TRUE)))","v":""},{"$f":"IF(A134=\"\",\"\",IF(VLOOKUP(A134,eligibilité!$A$15:$AG$515,7,TRUE)=\"\",\"\",VLOOKUP(A134,eligibilité!$A$15:$AG$515,7,TRUE)))","v":""},{"$f":"IF(A134=\"\",\"\",IF(VLOOKUP(A134,eligibilité!$A$15:$AG$515,8,TRUE)=\"\",\"\",VLOOKUP(A134,eligibilité!$A$15:$AG$515,8,TRUE)))","v":""},{"$f":"IF(A134=\"\",\"\",IF(VLOOKUP(A134,eligibilité!$A$15:$AG$515,9,TRUE)=\"\",\"\",VLOOKUP(A134,eligibilité!$A$15:$AG$515,9,TRUE)))","v":""},{"$f":"IF(A134=\"\",\"\",IF(VLOOKUP(A134,eligibilité!$A$15:$AG$515,10,TRUE)=\"\",\"\",VLOOKUP(A134,eligibilité!$A$15:$AG$515,10,TRUE)))","v":""},{"$f":"IF(A134=\"\",\"\",IF(VLOOKUP(A134,eligibilité!$A$15:$AG$515,30,FALSE)=0,\"\",VLOOKUP(A134,eligibilité!$A$15:$AG$515,30,FALSE)))","v":""},"","","","","","","",1305,"","","","","","","Temps restant : ",""]
[{"$f":"IF(eligibilité!AG137=\"\",\"\",eligibilité!A137)","v":""},{"$f":"IF(A135=\"\",\"\",IF(VLOOKUP(A135,eligibilité!$A$15:$J$515,2,TRUE)=\"\",\"\",VLOOKUP(A135,eligibilité!$A$15:$J$515,2,TRUE)))","v":""},{"$f":"IF(A135=\"\",\"\",IF(VLOOKUP(A135,eligibilité!$A$15:$AG$515,3,TRUE)=\"\",\"\",VLOOKUP(A135,eligibilité!$A$15:$AG$515,3,TRUE)))","v":""},{"$f":"IF(A135=\"\",\"\",IF(VLOOKUP(A135,eligibilité!$A$15:$AG$515,4,TRUE)=\"\",\"\",VLOOKUP(A135,eligibilité!$A$15:$AG$515,4,TRUE)))","v":""},{"$f":"IF(A135=\"\",\"\",IF(VLOOKUP(A135,eligibilité!$A$15:$AG$515,5,TRUE)=\"\",\"\",VLOOKUP(A135,eligibilité!$A$15:$AG$515,5,TRUE)))","v":""},{"$f":"IF(A135=\"\",\"\",IF(VLOOKUP(A135,eligibilité!$A$15:$AG$515,6,TRUE)=\"\",\"\",VLOOKUP(A135,eligibilité!$A$15:$AG$515,6,TRUE)))","v":""},{"$f":"IF(A135=\"\",\"\",IF(VLOOKUP(A135,eligibilité!$A$15:$AG$515,7,TRUE)=\"\",\"\",VLOOKUP(A135,eligibilité!$A$15:$AG$515,7,TRUE)))","v":""},{"$f":"IF(A135=\"\",\"\",IF(VLOOKUP(A135,eligibilité!$A$15:$AG$515,8,TRUE)=\"\",\"\",VLOOKUP(A135,eligibilité!$A$15:$AG$515,8,TRUE)))","v":""},{"$f":"IF(A135=\"\",\"\",IF(VLOOKUP(A135,eligibilité!$A$15:$AG$515,9,TRUE)=\"\",\"\",VLOOKUP(A135,eligibilité!$A$15:$AG$515,9,TRUE)))","v":""},{"$f":"IF(A135=\"\",\"\",IF(VLOOKUP(A135,eligibilité!$A$15:$AG$515,10,TRUE)=\"\",\"\",VLOOKUP(A135,eligibilité!$A$15:$AG$515,10,TRUE)))","v":""},{"$f":"IF(A135=\"\",\"\",IF(VLOOKUP(A135,eligibilité!$A$15:$AG$515,30,FALSE)=0,\"\",VLOOKUP(A135,eligibilité!$A$15:$AG$515,30,FALSE)))","v":""},"","","","","","","",1305,"","","","","","","Temps restant : ",""]
[{"$f":"IF(eligibilité!AG138=\"\",\"\",eligibilité!A138)","v":""},{"$f":"IF(A136=\"\",\"\",IF(VLOOKUP(A136,eligibilité!$A$15:$J$515,2,TRUE)=\"\",\"\",VLOOKUP(A136,eligibilité!$A$15:$J$515,2,TRUE)))","v":""},{"$f":"IF(A136=\"\",\"\",IF(VLOOKUP(A136,eligibilité!$A$15:$AG$515,3,TRUE)=\"\",\"\",VLOOKUP(A136,eligibilité!$A$15:$AG$515,3,TRUE)))","v":""},{"$f":"IF(A136=\"\",\"\",IF(VLOOKUP(A136,eligibilité!$A$15:$AG$515,4,TRUE)=\"\",\"\",VLOOKUP(A136,eligibilité!$A$15:$AG$515,4,TRUE)))","v":""},{"$f":"IF(A136=\"\",\"\",IF(VLOOKUP(A136,eligibilité!$A$15:$AG$515,5,TRUE)=\"\",\"\",VLOOKUP(A136,eligibilité!$A$15:$AG$515,5,TRUE)))","v":""},{"$f":"IF(A136=\"\",\"\",IF(VLOOKUP(A136,eligibilité!$A$15:$AG$515,6,TRUE)=\"\",\"\",VLOOKUP(A136,eligibilité!$A$15:$AG$515,6,TRUE)))","v":""},{"$f":"IF(A136=\"\",\"\",IF(VLOOKUP(A136,eligibilité!$A$15:$AG$515,7,TRUE)=\"\",\"\",VLOOKUP(A136,eligibilité!$A$15:$AG$515,7,TRUE)))","v":""},{"$f":"IF(A136=\"\",\"\",IF(VLOOKUP(A136,eligibilité!$A$15:$AG$515,8,TRUE)=\"\",\"\",VLOOKUP(A136,eligibilité!$A$15:$AG$515,8,TRUE)))","v":""},{"$f":"IF(A136=\"\",\"\",IF(VLOOKUP(A136,eligibilité!$A$15:$AG$515,9,TRUE)=\"\",\"\",VLOOKUP(A136,eligibilité!$A$15:$AG$515,9,TRUE)))","v":""},{"$f":"IF(A136=\"\",\"\",IF(VLOOKUP(A136,eligibilité!$A$15:$AG$515,10,TRUE)=\"\",\"\",VLOOKUP(A136,eligibilité!$A$15:$AG$515,10,TRUE)))","v":""},{"$f":"IF(A136=\"\",\"\",IF(VLOOKUP(A136,eligibilité!$A$15:$AG$515,30,FALSE)=0,\"\",VLOOKUP(A136,eligibilité!$A$15:$AG$515,30,FALSE)))","v":""},"","","","","","","",1305,"","","","","","","Temps restant : ",""]
[{"$f":"IF(eligibilité!AG139=\"\",\"\",eligibilité!A139)","v":""},{"$f":"IF(A137=\"\",\"\",IF(VLOOKUP(A137,eligibilité!$A$15:$J$515,2,TRUE)=\"\",\"\",VLOOKUP(A137,eligibilité!$A$15:$J$515,2,TRUE)))","v":""},{"$f":"IF(A137=\"\",\"\",IF(VLOOKUP(A137,eligibilité!$A$15:$AG$515,3,TRUE)=\"\",\"\",VLOOKUP(A137,eligibilité!$A$15:$AG$515,3,TRUE)))","v":""},{"$f":"IF(A137=\"\",\"\",IF(VLOOKUP(A137,eligibilité!$A$15:$AG$515,4,TRUE)=\"\",\"\",VLOOKUP(A137,eligibilité!$A$15:$AG$515,4,TRUE)))","v":""},{"$f":"IF(A137=\"\",\"\",IF(VLOOKUP(A137,eligibilité!$A$15:$AG$515,5,TRUE)=\"\",\"\",VLOOKUP(A137,eligibilité!$A$15:$AG$515,5,TRUE)))","v":""},{"$f":"IF(A137=\"\",\"\",IF(VLOOKUP(A137,eligibilité!$A$15:$AG$515,6,TRUE)=\"\",\"\",VLOOKUP(A137,eligibilité!$A$15:$AG$515,6,TRUE)))","v":""},{"$f":"IF(A137=\"\",\"\",IF(VLOOKUP(A137,eligibilité!$A$15:$AG$515,7,TRUE)=\"\",\"\",VLOOKUP(A137,eligibilité!$A$15:$AG$515,7,TRUE)))","v":""},{"$f":"IF(A137=\"\",\"\",IF(VLOOKUP(A137,eligibilité!$A$15:$AG$515,8,TRUE)=\"\",\"\",VLOOKUP(A137,eligibilité!$A$15:$AG$515,8,TRUE)))","v":""},{"$f":"IF(A137=\"\",\"\",IF(VLOOKUP(A137,eligibilité!$A$15:$AG$515,9,TRUE)=\"\",\"\",VLOOKUP(A137,eligibilité!$A$15:$AG$515,9,TRUE)))","v":""},{"$f":"IF(A137=\"\",\"\",IF(VLOOKUP(A137,eligibilité!$A$15:$AG$515,10,TRUE)=\"\",\"\",VLOOKUP(A137,eligibilité!$A$15:$AG$515,10,TRUE)))","v":""},{"$f":"IF(A137=\"\",\"\",IF(VLOOKUP(A137,eligibilité!$A$15:$AG$515,30,FALSE)=0,\"\",VLOOKUP(A137,eligibilité!$A$15:$AG$515,30,FALSE)))","v":""},"","","","","","","",1305,"","","","","","","Temps restant : ",""]
[{"$f":"IF(eligibilité!AG140=\"\",\"\",eligibilité!A140)","v":""},{"$f":"IF(A138=\"\",\"\",IF(VLOOKUP(A138,eligibilité!$A$15:$J$515,2,TRUE)=\"\",\"\",VLOOKUP(A138,eligibilité!$A$15:$J$515,2,TRUE)))","v":""},{"$f":"IF(A138=\"\",\"\",IF(VLOOKUP(A138,eligibilité!$A$15:$AG$515,3,TRUE)=\"\",\"\",VLOOKUP(A138,eligibilité!$A$15:$AG$515,3,TRUE)))","v":""},{"$f":"IF(A138=\"\",\"\",IF(VLOOKUP(A138,eligibilité!$A$15:$AG$515,4,TRUE)=\"\",\"\",VLOOKUP(A138,eligibilité!$A$15:$AG$515,4,TRUE)))","v":""},{"$f":"IF(A138=\"\",\"\",IF(VLOOKUP(A138,eligibilité!$A$15:$AG$515,5,TRUE)=\"\",\"\",VLOOKUP(A138,eligibilité!$A$15:$AG$515,5,TRUE)))","v":""},{"$f":"IF(A138=\"\",\"\",IF(VLOOKUP(A138,eligibilité!$A$15:$AG$515,6,TRUE)=\"\",\"\",VLOOKUP(A138,eligibilité!$A$15:$AG$515,6,TRUE)))","v":""},{"$f":"IF(A138=\"\",\"\",IF(VLOOKUP(A138,eligibilité!$A$15:$AG$515,7,TRUE)=\"\",\"\",VLOOKUP(A138,eligibilité!$A$15:$AG$515,7,TRUE)))","v":""},{"$f":"IF(A138=\"\",\"\",IF(VLOOKUP(A138,eligibilité!$A$15:$AG$515,8,TRUE)=\"\",\"\",VLOOKUP(A138,eligibilité!$A$15:$AG$515,8,TRUE)))","v":""},{"$f":"IF(A138=\"\",\"\",IF(VLOOKUP(A138,eligibilité!$A$15:$AG$515,9,TRUE)=\"\",\"\",VLOOKUP(A138,eligibilité!$A$15:$AG$515,9,TRUE)))","v":""},{"$f":"IF(A138=\"\",\"\",IF(VLOOKUP(A138,eligibilité!$A$15:$AG$515,10,TRUE)=\"\",\"\",VLOOKUP(A138,eligibilité!$A$15:$AG$515,10,TRUE)))","v":""},{"$f":"IF(A138=\"\",\"\",IF(VLOOKUP(A138,eligibilité!$A$15:$AG$515,30,FALSE)=0,\"\",VLOOKUP(A138,eligibilité!$A$15:$AG$515,30,FALSE)))","v":""},"","","","","","","",1305,"","","","","","","Temps restant : ",""]
[{"$f":"IF(eligibilité!AG141=\"\",\"\",eligibilité!A141)","v":""},{"$f":"IF(A139=\"\",\"\",IF(VLOOKUP(A139,eligibilité!$A$15:$J$515,2,TRUE)=\"\",\"\",VLOOKUP(A139,eligibilité!$A$15:$J$515,2,TRUE)))","v":""},{"$f":"IF(A139=\"\",\"\",IF(VLOOKUP(A139,eligibilité!$A$15:$AG$515,3,TRUE)=\"\",\"\",VLOOKUP(A139,eligibilité!$A$15:$AG$515,3,TRUE)))","v":""},{"$f":"IF(A139=\"\",\"\",IF(VLOOKUP(A139,eligibilité!$A$15:$AG$515,4,TRUE)=\"\",\"\",VLOOKUP(A139,eligibilité!$A$15:$AG$515,4,TRUE)))","v":""},{"$f":"IF(A139=\"\",\"\",IF(VLOOKUP(A139,eligibilité!$A$15:$AG$515,5,TRUE)=\"\",\"\",VLOOKUP(A139,eligibilité!$A$15:$AG$515,5,TRUE)))","v":""},{"$f":"IF(A139=\"\",\"\",IF(VLOOKUP(A139,eligibilité!$A$15:$AG$515,6,TRUE)=\"\",\"\",VLOOKUP(A139,eligibilité!$A$15:$AG$515,6,TRUE)))","v":""},{"$f":"IF(A139=\"\",\"\",IF(VLOOKUP(A139,eligibilité!$A$15:$AG$515,7,TRUE)=\"\",\"\",VLOOKUP(A139,eligibilité!$A$15:$AG$515,7,TRUE)))","v":""},{"$f":"IF(A139=\"\",\"\",IF(VLOOKUP(A139,eligibilité!$A$15:$AG$515,8,TRUE)=\"\",\"\",VLOOKUP(A139,eligibilité!$A$15:$AG$515,8,TRUE)))","v":""},{"$f":"IF(A139=\"\",\"\",IF(VLOOKUP(A139,eligibilité!$A$15:$AG$515,9,TRUE)=\"\",\"\",VLOOKUP(A139,eligibilité!$A$15:$AG$515,9,TRUE)))","v":""},{"$f":"IF(A139=\"\",\"\",IF(VLOOKUP(A139,eligibilité!$A$15:$AG$515,10,TRUE)=\"\",\"\",VLOOKUP(A139,eligibilité!$A$15:$AG$515,10,TRUE)))","v":""},{"$f":"IF(A139=\"\",\"\",IF(VLOOKUP(A139,eligibilité!$A$15:$AG$515,30,FALSE)=0,\"\",VLOOKUP(A139,eligibilité!$A$15:$AG$515,30,FALSE)))","v":""},"","","","","","","",1305,"","","","","","","Temps restant : ",""]
[{"$f":"IF(eligibilité!AG142=\"\",\"\",eligibilité!A142)","v":""},{"$f":"IF(A140=\"\",\"\",IF(VLOOKUP(A140,eligibilité!$A$15:$J$515,2,TRUE)=\"\",\"\",VLOOKUP(A140,eligibilité!$A$15:$J$515,2,TRUE)))","v":""},{"$f":"IF(A140=\"\",\"\",IF(VLOOKUP(A140,eligibilité!$A$15:$AG$515,3,TRUE)=\"\",\"\",VLOOKUP(A140,eligibilité!$A$15:$AG$515,3,TRUE)))","v":""},{"$f":"IF(A140=\"\",\"\",IF(VLOOKUP(A140,eligibilité!$A$15:$AG$515,4,TRUE)=\"\",\"\",VLOOKUP(A140,eligibilité!$A$15:$AG$515,4,TRUE)))","v":""},{"$f":"IF(A140=\"\",\"\",IF(VLOOKUP(A140,eligibilité!$A$15:$AG$515,5,TRUE)=\"\",\"\",VLOOKUP(A140,eligibilité!$A$15:$AG$515,5,TRUE)))","v":""},{"$f":"IF(A140=\"\",\"\",IF(VLOOKUP(A140,eligibilité!$A$15:$AG$515,6,TRUE)=\"\",\"\",VLOOKUP(A140,eligibilité!$A$15:$AG$515,6,TRUE)))","v":""},{"$f":"IF(A140=\"\",\"\",IF(VLOOKUP(A140,eligibilité!$A$15:$AG$515,7,TRUE)=\"\",\"\",VLOOKUP(A140,eligibilité!$A$15:$AG$515,7,TRUE)))","v":""},{"$f":"IF(A140=\"\",\"\",IF(VLOOKUP(A140,eligibilité!$A$15:$AG$515,8,TRUE)=\"\",\"\",VLOOKUP(A140,eligibilité!$A$15:$AG$515,8,TRUE)))","v":""},{"$f":"IF(A140=\"\",\"\",IF(VLOOKUP(A140,eligibilité!$A$15:$AG$515,9,TRUE)=\"\",\"\",VLOOKUP(A140,eligibilité!$A$15:$AG$515,9,TRUE)))","v":""},{"$f":"IF(A140=\"\",\"\",IF(VLOOKUP(A140,eligibilité!$A$15:$AG$515,10,TRUE)=\"\",\"\",VLOOKUP(A140,eligibilité!$A$15:$AG$515,10,TRUE)))","v":""},{"$f":"IF(A140=\"\",\"\",IF(VLOOKUP(A140,eligibilité!$A$15:$AG$515,30,FALSE)=0,\"\",VLOOKUP(A140,eligibilité!$A$15:$AG$515,30,FALSE)))","v":""},"","","","","","","",1305,"","","","","","","Temps restant : ",""]
[{"$f":"IF(eligibilité!AG143=\"\",\"\",eligibilité!A143)","v":""},{"$f":"IF(A141=\"\",\"\",IF(VLOOKUP(A141,eligibilité!$A$15:$J$515,2,TRUE)=\"\",\"\",VLOOKUP(A141,eligibilité!$A$15:$J$515,2,TRUE)))","v":""},{"$f":"IF(A141=\"\",\"\",IF(VLOOKUP(A141,eligibilité!$A$15:$AG$515,3,TRUE)=\"\",\"\",VLOOKUP(A141,eligibilité!$A$15:$AG$515,3,TRUE)))","v":""},{"$f":"IF(A141=\"\",\"\",IF(VLOOKUP(A141,eligibilité!$A$15:$AG$515,4,TRUE)=\"\",\"\",VLOOKUP(A141,eligibilité!$A$15:$AG$515,4,TRUE)))","v":""},{"$f":"IF(A141=\"\",\"\",IF(VLOOKUP(A141,eligibilité!$A$15:$AG$515,5,TRUE)=\"\",\"\",VLOOKUP(A141,eligibilité!$A$15:$AG$515,5,TRUE)))","v":""},{"$f":"IF(A141=\"\",\"\",IF(VLOOKUP(A141,eligibilité!$A$15:$AG$515,6,TRUE)=\"\",\"\",VLOOKUP(A141,eligibilité!$A$15:$AG$515,6,TRUE)))","v":""},{"$f":"IF(A141=\"\",\"\",IF(VLOOKUP(A141,eligibilité!$A$15:$AG$515,7,TRUE)=\"\",\"\",VLOOKUP(A141,eligibilité!$A$15:$AG$515,7,TRUE)))","v":""},{"$f":"IF(A141=\"\",\"\",IF(VLOOKUP(A141,eligibilité!$A$15:$AG$515,8,TRUE)=\"\",\"\",VLOOKUP(A141,eligibilité!$A$15:$AG$515,8,TRUE)))","v":""},{"$f":"IF(A141=\"\",\"\",IF(VLOOKUP(A141,eligibilité!$A$15:$AG$515,9,TRUE)=\"\",\"\",VLOOKUP(A141,eligibilité!$A$15:$AG$515,9,TRUE)))","v":""},{"$f":"IF(A141=\"\",\"\",IF(VLOOKUP(A141,eligibilité!$A$15:$AG$515,10,TRUE)=\"\",\"\",VLOOKUP(A141,eligibilité!$A$15:$AG$515,10,TRUE)))","v":""},{"$f":"IF(A141=\"\",\"\",IF(VLOOKUP(A141,eligibilité!$A$15:$AG$515,30,FALSE)=0,\"\",VLOOKUP(A141,eligibilité!$A$15:$AG$515,30,FALSE)))","v":""},"","","","","","","",1305,"","","","","","","Temps restant : ",""]
[{"$f":"IF(eligibilité!AG144=\"\",\"\",eligibilité!A144)","v":""},{"$f":"IF(A142=\"\",\"\",IF(VLOOKUP(A142,eligibilité!$A$15:$J$515,2,TRUE)=\"\",\"\",VLOOKUP(A142,eligibilité!$A$15:$J$515,2,TRUE)))","v":""},{"$f":"IF(A142=\"\",\"\",IF(VLOOKUP(A142,eligibilité!$A$15:$AG$515,3,TRUE)=\"\",\"\",VLOOKUP(A142,eligibilité!$A$15:$AG$515,3,TRUE)))","v":""},{"$f":"IF(A142=\"\",\"\",IF(VLOOKUP(A142,eligibilité!$A$15:$AG$515,4,TRUE)=\"\",\"\",VLOOKUP(A142,eligibilité!$A$15:$AG$515,4,TRUE)))","v":""},{"$f":"IF(A142=\"\",\"\",IF(VLOOKUP(A142,eligibilité!$A$15:$AG$515,5,TRUE)=\"\",\"\",VLOOKUP(A142,eligibilité!$A$15:$AG$515,5,TRUE)))","v":""},{"$f":"IF(A142=\"\",\"\",IF(VLOOKUP(A142,eligibilité!$A$15:$AG$515,6,TRUE)=\"\",\"\",VLOOKUP(A142,eligibilité!$A$15:$AG$515,6,TRUE)))","v":""},{"$f":"IF(A142=\"\",\"\",IF(VLOOKUP(A142,eligibilité!$A$15:$AG$515,7,TRUE)=\"\",\"\",VLOOKUP(A142,eligibilité!$A$15:$AG$515,7,TRUE)))","v":""},{"$f":"IF(A142=\"\",\"\",IF(VLOOKUP(A142,eligibilité!$A$15:$AG$515,8,TRUE)=\"\",\"\",VLOOKUP(A142,eligibilité!$A$15:$AG$515,8,TRUE)))","v":""},{"$f":"IF(A142=\"\",\"\",IF(VLOOKUP(A142,eligibilité!$A$15:$AG$515,9,TRUE)=\"\",\"\",VLOOKUP(A142,eligibilité!$A$15:$AG$515,9,TRUE)))","v":""},{"$f":"IF(A142=\"\",\"\",IF(VLOOKUP(A142,eligibilité!$A$15:$AG$515,10,TRUE)=\"\",\"\",VLOOKUP(A142,eligibilité!$A$15:$AG$515,10,TRUE)))","v":""},{"$f":"IF(A142=\"\",\"\",IF(VLOOKUP(A142,eligibilité!$A$15:$AG$515,30,FALSE)=0,\"\",VLOOKUP(A142,eligibilité!$A$15:$AG$515,30,FALSE)))","v":""},{"$f":"IF(K142=\"\",\"\",48-K142)","v":""},{"$f":"IF(L142=\"\",\"\",INT(L142/12))","v":""},{"$f":"IF(L142=\"\",\"\",(L142-M142*12))","v":""},{"$f":"IF(L142=\"\",\"\",INT(N142))","v":""},{"$f":"IF(L142=\"\",\"\",ROUNDDOWN((N142-O142)*30.44,0))","v":""},{"$f":"IF(K142=\"\",\"\",CONCATENATE(M142,\" an(s) \",O142,\" mois \",P142,\" jour(s)\"))","v":""},{"$f":"IF(K142=\"\",\"\",M142*365.25+O142*30.44+P142)","v":""},1305,{"$f":"IF(R142=\"\",\"\",R142-S142)","v":""},{"$f":"IF(L142=\"\",\"\",IF(T142<=365.25,0,INT(T142/365.25)))","v":""},{"$f":"IF(T142=\"\",\"\",T142-U142)","v":""},{"$f":"IF(L142=\"\",\"\",IF(U142=0,(T142/30.44),(T142/30.44)-12))","v":""},{"$f":"IF(W142=\"\",\"\",ABS(ROUNDDOWN(W142,0)))","v":""},{"$f":"IF(T142=\"\",\"\",ROUNDDOWN(ABS(W142-ROUNDDOWN(W142,0))*30.44,0))","v":""},{"$f":"IF(T142<=0,\"Temps écoulé depuis : \",\"Temps restant : \")","v":"Temps restant : "},{"$f":"IF(L142=\"\",\"\",CONCATENATE(Z142,U142,\" an(s) \",X142,\" mois \",Y142,\" jour(s) \"))","v":""}]
[{"$f":"IF(eligibilité!AG145=\"\",\"\",eligibilité!A145)","v":""},{"$f":"IF(A143=\"\",\"\",IF(VLOOKUP(A143,eligibilité!$A$15:$J$515,2,TRUE)=\"\",\"\",VLOOKUP(A143,eligibilité!$A$15:$J$515,2,TRUE)))","v":""},{"$f":"IF(A143=\"\",\"\",IF(VLOOKUP(A143,eligibilité!$A$15:$AG$515,3,TRUE)=\"\",\"\",VLOOKUP(A143,eligibilité!$A$15:$AG$515,3,TRUE)))","v":""},{"$f":"IF(A143=\"\",\"\",IF(VLOOKUP(A143,eligibilité!$A$15:$AG$515,4,TRUE)=\"\",\"\",VLOOKUP(A143,eligibilité!$A$15:$AG$515,4,TRUE)))","v":""},{"$f":"IF(A143=\"\",\"\",IF(VLOOKUP(A143,eligibilité!$A$15:$AG$515,5,TRUE)=\"\",\"\",VLOOKUP(A143,eligibilité!$A$15:$AG$515,5,TRUE)))","v":""},{"$f":"IF(A143=\"\",\"\",IF(VLOOKUP(A143,eligibilité!$A$15:$AG$515,6,TRUE)=\"\",\"\",VLOOKUP(A143,eligibilité!$A$15:$AG$515,6,TRUE)))","v":""},{"$f":"IF(A143=\"\",\"\",IF(VLOOKUP(A143,eligibilité!$A$15:$AG$515,7,TRUE)=\"\",\"\",VLOOKUP(A143,eligibilité!$A$15:$AG$515,7,TRUE)))","v":""},{"$f":"IF(A143=\"\",\"\",IF(VLOOKUP(A143,eligibilité!$A$15:$AG$515,8,TRUE)=\"\",\"\",VLOOKUP(A143,eligibilité!$A$15:$AG$515,8,TRUE)))","v":""},{"$f":"IF(A143=\"\",\"\",IF(VLOOKUP(A143,eligibilité!$A$15:$AG$515,9,TRUE)=\"\",\"\",VLOOKUP(A143,eligibilité!$A$15:$AG$515,9,TRUE)))","v":""},{"$f":"IF(A143=\"\",\"\",IF(VLOOKUP(A143,eligibilité!$A$15:$AG$515,10,TRUE)=\"\",\"\",VLOOKUP(A143,eligibilité!$A$15:$AG$515,10,TRUE)))","v":""},{"$f":"IF(A143=\"\",\"\",IF(VLOOKUP(A143,eligibilité!$A$15:$AG$515,30,FALSE)=0,\"\",VLOOKUP(A143,eligibilité!$A$15:$AG$515,30,FALSE)))","v":""},"","","","","","","",{"$f":"TODAY()-DATE(2013,4,1)","v":1305},"","","","","","","Temps restant : ",""]
[{"$f":"IF(eligibilité!AG146=\"\",\"\",eligibilité!A146)","v":""},{"$f":"IF(A144=\"\",\"\",IF(VLOOKUP(A144,eligibilité!$A$15:$J$515,2,TRUE)=\"\",\"\",VLOOKUP(A144,eligibilité!$A$15:$J$515,2,TRUE)))","v":""},{"$f":"IF(A144=\"\",\"\",IF(VLOOKUP(A144,eligibilité!$A$15:$AG$515,3,TRUE)=\"\",\"\",VLOOKUP(A144,eligibilité!$A$15:$AG$515,3,TRUE)))","v":""},{"$f":"IF(A144=\"\",\"\",IF(VLOOKUP(A144,eligibilité!$A$15:$AG$515,4,TRUE)=\"\",\"\",VLOOKUP(A144,eligibilité!$A$15:$AG$515,4,TRUE)))","v":""},{"$f":"IF(A144=\"\",\"\",IF(VLOOKUP(A144,eligibilité!$A$15:$AG$515,5,TRUE)=\"\",\"\",VLOOKUP(A144,eligibilité!$A$15:$AG$515,5,TRUE)))","v":""},{"$f":"IF(A144=\"\",\"\",IF(VLOOKUP(A144,eligibilité!$A$15:$AG$515,6,TRUE)=\"\",\"\",VLOOKUP(A144,eligibilité!$A$15:$AG$515,6,TRUE)))","v":""},{"$f":"IF(A144=\"\",\"\",IF(VLOOKUP(A144,eligibilité!$A$15:$AG$515,7,TRUE)=\"\",\"\",VLOOKUP(A144,eligibilité!$A$15:$AG$515,7,TRUE)))","v":""},{"$f":"IF(A144=\"\",\"\",IF(VLOOKUP(A144,eligibilité!$A$15:$AG$515,8,TRUE)=\"\",\"\",VLOOKUP(A144,eligibilité!$A$15:$AG$515,8,TRUE)))","v":""},{"$f":"IF(A144=\"\",\"\",IF(VLOOKUP(A144,eligibilité!$A$15:$AG$515,9,TRUE)=\"\",\"\",VLOOKUP(A144,eligibilité!$A$15:$AG$515,9,TRUE)))","v":""},{"$f":"IF(A144=\"\",\"\",IF(VLOOKUP(A144,eligibilité!$A$15:$AG$515,10,TRUE)=\"\",\"\",VLOOKUP(A144,eligibilité!$A$15:$AG$515,10,TRUE)))","v":""},{"$f":"IF(A144=\"\",\"\",IF(VLOOKUP(A144,eligibilité!$A$15:$AG$515,30,FALSE)=0,\"\",VLOOKUP(A144,eligibilité!$A$15:$AG$515,30,FALSE)))","v":""},"","","","","","","",1305,"","","","","","","Temps restant : ",""]
[{"$f":"IF(eligibilité!AG147=\"\",\"\",eligibilité!A147)","v":""},{"$f":"IF(A145=\"\",\"\",IF(VLOOKUP(A145,eligibilité!$A$15:$J$515,2,TRUE)=\"\",\"\",VLOOKUP(A145,eligibilité!$A$15:$J$515,2,TRUE)))","v":""},{"$f":"IF(A145=\"\",\"\",IF(VLOOKUP(A145,eligibilité!$A$15:$AG$515,3,TRUE)=\"\",\"\",VLOOKUP(A145,eligibilité!$A$15:$AG$515,3,TRUE)))","v":""},{"$f":"IF(A145=\"\",\"\",IF(VLOOKUP(A145,eligibilité!$A$15:$AG$515,4,TRUE)=\"\",\"\",VLOOKUP(A145,eligibilité!$A$15:$AG$515,4,TRUE)))","v":""},{"$f":"IF(A145=\"\",\"\",IF(VLOOKUP(A145,eligibilité!$A$15:$AG$515,5,TRUE)=\"\",\"\",VLOOKUP(A145,eligibilité!$A$15:$AG$515,5,TRUE)))","v":""},{"$f":"IF(A145=\"\",\"\",IF(VLOOKUP(A145,eligibilité!$A$15:$AG$515,6,TRUE)=\"\",\"\",VLOOKUP(A145,eligibilité!$A$15:$AG$515,6,TRUE)))","v":""},{"$f":"IF(A145=\"\",\"\",IF(VLOOKUP(A145,eligibilité!$A$15:$AG$515,7,TRUE)=\"\",\"\",VLOOKUP(A145,eligibilité!$A$15:$AG$515,7,TRUE)))","v":""},{"$f":"IF(A145=\"\",\"\",IF(VLOOKUP(A145,eligibilité!$A$15:$AG$515,8,TRUE)=\"\",\"\",VLOOKUP(A145,eligibilité!$A$15:$AG$515,8,TRUE)))","v":""},{"$f":"IF(A145=\"\",\"\",IF(VLOOKUP(A145,eligibilité!$A$15:$AG$515,9,TRUE)=\"\",\"\",VLOOKUP(A145,eligibilité!$A$15:$AG$515,9,TRUE)))","v":""},{"$f":"IF(A145=\"\",\"\",IF(VLOOKUP(A145,eligibilité!$A$15:$AG$515,10,TRUE)=\"\",\"\",VLOOKUP(A145,eligibilité!$A$15:$AG$515,10,TRUE)))","v":""},{"$f":"IF(A145=\"\",\"\",IF(VLOOKUP(A145,eligibilité!$A$15:$AG$515,30,FALSE)=0,\"\",VLOOKUP(A145,eligibilité!$A$15:$AG$515,30,FALSE)))","v":""},"","","","","","","",1305,"","","","","","","Temps restant : ",""]
[{"$f":"IF(eligibilité!AG148=\"\",\"\",eligibilité!A148)","v":""},{"$f":"IF(A146=\"\",\"\",IF(VLOOKUP(A146,eligibilité!$A$15:$J$515,2,TRUE)=\"\",\"\",VLOOKUP(A146,eligibilité!$A$15:$J$515,2,TRUE)))","v":""},{"$f":"IF(A146=\"\",\"\",IF(VLOOKUP(A146,eligibilité!$A$15:$AG$515,3,TRUE)=\"\",\"\",VLOOKUP(A146,eligibilité!$A$15:$AG$515,3,TRUE)))","v":""},{"$f":"IF(A146=\"\",\"\",IF(VLOOKUP(A146,eligibilité!$A$15:$AG$515,4,TRUE)=\"\",\"\",VLOOKUP(A146,eligibilité!$A$15:$AG$515,4,TRUE)))","v":""},{"$f":"IF(A146=\"\",\"\",IF(VLOOKUP(A146,eligibilité!$A$15:$AG$515,5,TRUE)=\"\",\"\",VLOOKUP(A146,eligibilité!$A$15:$AG$515,5,TRUE)))","v":""},{"$f":"IF(A146=\"\",\"\",IF(VLOOKUP(A146,eligibilité!$A$15:$AG$515,6,TRUE)=\"\",\"\",VLOOKUP(A146,eligibilité!$A$15:$AG$515,6,TRUE)))","v":""},{"$f":"IF(A146=\"\",\"\",IF(VLOOKUP(A146,eligibilité!$A$15:$AG$515,7,TRUE)=\"\",\"\",VLOOKUP(A146,eligibilité!$A$15:$AG$515,7,TRUE)))","v":""},{"$f":"IF(A146=\"\",\"\",IF(VLOOKUP(A146,eligibilité!$A$15:$AG$515,8,TRUE)=\"\",\"\",VLOOKUP(A146,eligibilité!$A$15:$AG$515,8,TRUE)))","v":""},{"$f":"IF(A146=\"\",\"\",IF(VLOOKUP(A146,eligibilité!$A$15:$AG$515,9,TRUE)=\"\",\"\",VLOOKUP(A146,eligibilité!$A$15:$AG$515,9,TRUE)))","v":""},{"$f":"IF(A146=\"\",\"\",IF(VLOOKUP(A146,eligibilité!$A$15:$AG$515,10,TRUE)=\"\",\"\",VLOOKUP(A146,eligibilité!$A$15:$AG$515,10,TRUE)))","v":""},{"$f":"IF(A146=\"\",\"\",IF(VLOOKUP(A146,eligibilité!$A$15:$AG$515,30,FALSE)=0,\"\",VLOOKUP(A146,eligibilité!$A$15:$AG$515,30,FALSE)))","v":""},"","","","","","","",1305,"","","","","","","Temps restant : ",""]
[{"$f":"IF(eligibilité!AG149=\"\",\"\",eligibilité!A149)","v":""},{"$f":"IF(A147=\"\",\"\",IF(VLOOKUP(A147,eligibilité!$A$15:$J$515,2,TRUE)=\"\",\"\",VLOOKUP(A147,eligibilité!$A$15:$J$515,2,TRUE)))","v":""},{"$f":"IF(A147=\"\",\"\",IF(VLOOKUP(A147,eligibilité!$A$15:$AG$515,3,TRUE)=\"\",\"\",VLOOKUP(A147,eligibilité!$A$15:$AG$515,3,TRUE)))","v":""},{"$f":"IF(A147=\"\",\"\",IF(VLOOKUP(A147,eligibilité!$A$15:$AG$515,4,TRUE)=\"\",\"\",VLOOKUP(A147,eligibilité!$A$15:$AG$515,4,TRUE)))","v":""},{"$f":"IF(A147=\"\",\"\",IF(VLOOKUP(A147,eligibilité!$A$15:$AG$515,5,TRUE)=\"\",\"\",VLOOKUP(A147,eligibilité!$A$15:$AG$515,5,TRUE)))","v":""},{"$f":"IF(A147=\"\",\"\",IF(VLOOKUP(A147,eligibilité!$A$15:$AG$515,6,TRUE)=\"\",\"\",VLOOKUP(A147,eligibilité!$A$15:$AG$515,6,TRUE)))","v":""},{"$f":"IF(A147=\"\",\"\",IF(VLOOKUP(A147,eligibilité!$A$15:$AG$515,7,TRUE)=\"\",\"\",VLOOKUP(A147,eligibilité!$A$15:$AG$515,7,TRUE)))","v":""},{"$f":"IF(A147=\"\",\"\",IF(VLOOKUP(A147,eligibilité!$A$15:$AG$515,8,TRUE)=\"\",\"\",VLOOKUP(A147,eligibilité!$A$15:$AG$515,8,TRUE)))","v":""},{"$f":"IF(A147=\"\",\"\",IF(VLOOKUP(A147,eligibilité!$A$15:$AG$515,9,TRUE)=\"\",\"\",VLOOKUP(A147,eligibilité!$A$15:$AG$515,9,TRUE)))","v":""},{"$f":"IF(A147=\"\",\"\",IF(VLOOKUP(A147,eligibilité!$A$15:$AG$515,10,TRUE)=\"\",\"\",VLOOKUP(A147,eligibilité!$A$15:$AG$515,10,TRUE)))","v":""},{"$f":"IF(A147=\"\",\"\",IF(VLOOKUP(A147,eligibilité!$A$15:$AG$515,30,FALSE)=0,\"\",VLOOKUP(A147,eligibilité!$A$15:$AG$515,30,FALSE)))","v":""},"","","","","","","",1305,"","","","","","","Temps restant : ",""]
[{"$f":"IF(eligibilité!AG150=\"\",\"\",eligibilité!A150)","v":""},{"$f":"IF(A148=\"\",\"\",IF(VLOOKUP(A148,eligibilité!$A$15:$J$515,2,TRUE)=\"\",\"\",VLOOKUP(A148,eligibilité!$A$15:$J$515,2,TRUE)))","v":""},{"$f":"IF(A148=\"\",\"\",IF(VLOOKUP(A148,eligibilité!$A$15:$AG$515,3,TRUE)=\"\",\"\",VLOOKUP(A148,eligibilité!$A$15:$AG$515,3,TRUE)))","v":""},{"$f":"IF(A148=\"\",\"\",IF(VLOOKUP(A148,eligibilité!$A$15:$AG$515,4,TRUE)=\"\",\"\",VLOOKUP(A148,eligibilité!$A$15:$AG$515,4,TRUE)))","v":""},{"$f":"IF(A148=\"\",\"\",IF(VLOOKUP(A148,eligibilité!$A$15:$AG$515,5,TRUE)=\"\",\"\",VLOOKUP(A148,eligibilité!$A$15:$AG$515,5,TRUE)))","v":""},{"$f":"IF(A148=\"\",\"\",IF(VLOOKUP(A148,eligibilité!$A$15:$AG$515,6,TRUE)=\"\",\"\",VLOOKUP(A148,eligibilité!$A$15:$AG$515,6,TRUE)))","v":""},{"$f":"IF(A148=\"\",\"\",IF(VLOOKUP(A148,eligibilité!$A$15:$AG$515,7,TRUE)=\"\",\"\",VLOOKUP(A148,eligibilité!$A$15:$AG$515,7,TRUE)))","v":""},{"$f":"IF(A148=\"\",\"\",IF(VLOOKUP(A148,eligibilité!$A$15:$AG$515,8,TRUE)=\"\",\"\",VLOOKUP(A148,eligibilité!$A$15:$AG$515,8,TRUE)))","v":""},{"$f":"IF(A148=\"\",\"\",IF(VLOOKUP(A148,eligibilité!$A$15:$AG$515,9,TRUE)=\"\",\"\",VLOOKUP(A148,eligibilité!$A$15:$AG$515,9,TRUE)))","v":""},{"$f":"IF(A148=\"\",\"\",IF(VLOOKUP(A148,eligibilité!$A$15:$AG$515,10,TRUE)=\"\",\"\",VLOOKUP(A148,eligibilité!$A$15:$AG$515,10,TRUE)))","v":""},{"$f":"IF(A148=\"\",\"\",IF(VLOOKUP(A148,eligibilité!$A$15:$AG$515,30,FALSE)=0,\"\",VLOOKUP(A148,eligibilité!$A$15:$AG$515,30,FALSE)))","v":""},"","","","","","","",1305,"","","","","","","Temps restant : ",""]
[{"$f":"IF(eligibilité!AG151=\"\",\"\",eligibilité!A151)","v":""},{"$f":"IF(A149=\"\",\"\",IF(VLOOKUP(A149,eligibilité!$A$15:$J$515,2,TRUE)=\"\",\"\",VLOOKUP(A149,eligibilité!$A$15:$J$515,2,TRUE)))","v":""},{"$f":"IF(A149=\"\",\"\",IF(VLOOKUP(A149,eligibilité!$A$15:$AG$515,3,TRUE)=\"\",\"\",VLOOKUP(A149,eligibilité!$A$15:$AG$515,3,TRUE)))","v":""},{"$f":"IF(A149=\"\",\"\",IF(VLOOKUP(A149,eligibilité!$A$15:$AG$515,4,TRUE)=\"\",\"\",VLOOKUP(A149,eligibilité!$A$15:$AG$515,4,TRUE)))","v":""},{"$f":"IF(A149=\"\",\"\",IF(VLOOKUP(A149,eligibilité!$A$15:$AG$515,5,TRUE)=\"\",\"\",VLOOKUP(A149,eligibilité!$A$15:$AG$515,5,TRUE)))","v":""},{"$f":"IF(A149=\"\",\"\",IF(VLOOKUP(A149,eligibilité!$A$15:$AG$515,6,TRUE)=\"\",\"\",VLOOKUP(A149,eligibilité!$A$15:$AG$515,6,TRUE)))","v":""},{"$f":"IF(A149=\"\",\"\",IF(VLOOKUP(A149,eligibilité!$A$15:$AG$515,7,TRUE)=\"\",\"\",VLOOKUP(A149,eligibilité!$A$15:$AG$515,7,TRUE)))","v":""},{"$f":"IF(A149=\"\",\"\",IF(VLOOKUP(A149,eligibilité!$A$15:$AG$515,8,TRUE)=\"\",\"\",VLOOKUP(A149,eligibilité!$A$15:$AG$515,8,TRUE)))","v":""},{"$f":"IF(A149=\"\",\"\",IF(VLOOKUP(A149,eligibilité!$A$15:$AG$515,9,TRUE)=\"\",\"\",VLOOKUP(A149,eligibilité!$A$15:$AG$515,9,TRUE)))","v":""},{"$f":"IF(A149=\"\",\"\",IF(VLOOKUP(A149,eligibilité!$A$15:$AG$515,10,TRUE)=\"\",\"\",VLOOKUP(A149,eligibilité!$A$15:$AG$515,10,TRUE)))","v":""},{"$f":"IF(A149=\"\",\"\",IF(VLOOKUP(A149,eligibilité!$A$15:$AG$515,30,FALSE)=0,\"\",VLOOKUP(A149,eligibilité!$A$15:$AG$515,30,FALSE)))","v":""},"","","","","","","",1305,"","","","","","","Temps restant : ",""]
[{"$f":"IF(eligibilité!AG152=\"\",\"\",eligibilité!A152)","v":""},{"$f":"IF(A150=\"\",\"\",IF(VLOOKUP(A150,eligibilité!$A$15:$J$515,2,TRUE)=\"\",\"\",VLOOKUP(A150,eligibilité!$A$15:$J$515,2,TRUE)))","v":""},{"$f":"IF(A150=\"\",\"\",IF(VLOOKUP(A150,eligibilité!$A$15:$AG$515,3,TRUE)=\"\",\"\",VLOOKUP(A150,eligibilité!$A$15:$AG$515,3,TRUE)))","v":""},{"$f":"IF(A150=\"\",\"\",IF(VLOOKUP(A150,eligibilité!$A$15:$AG$515,4,TRUE)=\"\",\"\",VLOOKUP(A150,eligibilité!$A$15:$AG$515,4,TRUE)))","v":""},{"$f":"IF(A150=\"\",\"\",IF(VLOOKUP(A150,eligibilité!$A$15:$AG$515,5,TRUE)=\"\",\"\",VLOOKUP(A150,eligibilité!$A$15:$AG$515,5,TRUE)))","v":""},{"$f":"IF(A150=\"\",\"\",IF(VLOOKUP(A150,eligibilité!$A$15:$AG$515,6,TRUE)=\"\",\"\",VLOOKUP(A150,eligibilité!$A$15:$AG$515,6,TRUE)))","v":""},{"$f":"IF(A150=\"\",\"\",IF(VLOOKUP(A150,eligibilité!$A$15:$AG$515,7,TRUE)=\"\",\"\",VLOOKUP(A150,eligibilité!$A$15:$AG$515,7,TRUE)))","v":""},{"$f":"IF(A150=\"\",\"\",IF(VLOOKUP(A150,eligibilité!$A$15:$AG$515,8,TRUE)=\"\",\"\",VLOOKUP(A150,eligibilité!$A$15:$AG$515,8,TRUE)))","v":""},{"$f":"IF(A150=\"\",\"\",IF(VLOOKUP(A150,eligibilité!$A$15:$AG$515,9,TRUE)=\"\",\"\",VLOOKUP(A150,eligibilité!$A$15:$AG$515,9,TRUE)))","v":""},{"$f":"IF(A150=\"\",\"\",IF(VLOOKUP(A150,eligibilité!$A$15:$AG$515,10,TRUE)=\"\",\"\",VLOOKUP(A150,eligibilité!$A$15:$AG$515,10,TRUE)))","v":""},{"$f":"IF(A150=\"\",\"\",IF(VLOOKUP(A150,eligibilité!$A$15:$AG$515,30,FALSE)=0,\"\",VLOOKUP(A150,eligibilité!$A$15:$AG$515,30,FALSE)))","v":""},"","","","","","","",1305,"","","","","","","Temps restant : ",""]
[{"$f":"IF(eligibilité!AG153=\"\",\"\",eligibilité!A153)","v":""},{"$f":"IF(A151=\"\",\"\",IF(VLOOKUP(A151,eligibilité!$A$15:$J$515,2,TRUE)=\"\",\"\",VLOOKUP(A151,eligibilité!$A$15:$J$515,2,TRUE)))","v":""},{"$f":"IF(A151=\"\",\"\",IF(VLOOKUP(A151,eligibilité!$A$15:$AG$515,3,TRUE)=\"\",\"\",VLOOKUP(A151,eligibilité!$A$15:$AG$515,3,TRUE)))","v":""},{"$f":"IF(A151=\"\",\"\",IF(VLOOKUP(A151,eligibilité!$A$15:$AG$515,4,TRUE)=\"\",\"\",VLOOKUP(A151,eligibilité!$A$15:$AG$515,4,TRUE)))","v":""},{"$f":"IF(A151=\"\",\"\",IF(VLOOKUP(A151,eligibilité!$A$15:$AG$515,5,TRUE)=\"\",\"\",VLOOKUP(A151,eligibilité!$A$15:$AG$515,5,TRUE)))","v":""},{"$f":"IF(A151=\"\",\"\",IF(VLOOKUP(A151,eligibilité!$A$15:$AG$515,6,TRUE)=\"\",\"\",VLOOKUP(A151,eligibilité!$A$15:$AG$515,6,TRUE)))","v":""},{"$f":"IF(A151=\"\",\"\",IF(VLOOKUP(A151,eligibilité!$A$15:$AG$515,7,TRUE)=\"\",\"\",VLOOKUP(A151,eligibilité!$A$15:$AG$515,7,TRUE)))","v":""},{"$f":"IF(A151=\"\",\"\",IF(VLOOKUP(A151,eligibilité!$A$15:$AG$515,8,TRUE)=\"\",\"\",VLOOKUP(A151,eligibilité!$A$15:$AG$515,8,TRUE)))","v":""},{"$f":"IF(A151=\"\",\"\",IF(VLOOKUP(A151,eligibilité!$A$15:$AG$515,9,TRUE)=\"\",\"\",VLOOKUP(A151,eligibilité!$A$15:$AG$515,9,TRUE)))","v":""},{"$f":"IF(A151=\"\",\"\",IF(VLOOKUP(A151,eligibilité!$A$15:$AG$515,10,TRUE)=\"\",\"\",VLOOKUP(A151,eligibilité!$A$15:$AG$515,10,TRUE)))","v":""},{"$f":"IF(A151=\"\",\"\",IF(VLOOKUP(A151,eligibilité!$A$15:$AG$515,30,FALSE)=0,\"\",VLOOKUP(A151,eligibilité!$A$15:$AG$515,30,FALSE)))","v":""},"","","","","","","",1305,"","","","","","","Temps restant : ",""]
[{"$f":"IF(eligibilité!AG154=\"\",\"\",eligibilité!A154)","v":""},{"$f":"IF(A152=\"\",\"\",IF(VLOOKUP(A152,eligibilité!$A$15:$J$515,2,TRUE)=\"\",\"\",VLOOKUP(A152,eligibilité!$A$15:$J$515,2,TRUE)))","v":""},{"$f":"IF(A152=\"\",\"\",IF(VLOOKUP(A152,eligibilité!$A$15:$AG$515,3,TRUE)=\"\",\"\",VLOOKUP(A152,eligibilité!$A$15:$AG$515,3,TRUE)))","v":""},{"$f":"IF(A152=\"\",\"\",IF(VLOOKUP(A152,eligibilité!$A$15:$AG$515,4,TRUE)=\"\",\"\",VLOOKUP(A152,eligibilité!$A$15:$AG$515,4,TRUE)))","v":""},{"$f":"IF(A152=\"\",\"\",IF(VLOOKUP(A152,eligibilité!$A$15:$AG$515,5,TRUE)=\"\",\"\",VLOOKUP(A152,eligibilité!$A$15:$AG$515,5,TRUE)))","v":""},{"$f":"IF(A152=\"\",\"\",IF(VLOOKUP(A152,eligibilité!$A$15:$AG$515,6,TRUE)=\"\",\"\",VLOOKUP(A152,eligibilité!$A$15:$AG$515,6,TRUE)))","v":""},{"$f":"IF(A152=\"\",\"\",IF(VLOOKUP(A152,eligibilité!$A$15:$AG$515,7,TRUE)=\"\",\"\",VLOOKUP(A152,eligibilité!$A$15:$AG$515,7,TRUE)))","v":""},{"$f":"IF(A152=\"\",\"\",IF(VLOOKUP(A152,eligibilité!$A$15:$AG$515,8,TRUE)=\"\",\"\",VLOOKUP(A152,eligibilité!$A$15:$AG$515,8,TRUE)))","v":""},{"$f":"IF(A152=\"\",\"\",IF(VLOOKUP(A152,eligibilité!$A$15:$AG$515,9,TRUE)=\"\",\"\",VLOOKUP(A152,eligibilité!$A$15:$AG$515,9,TRUE)))","v":""},{"$f":"IF(A152=\"\",\"\",IF(VLOOKUP(A152,eligibilité!$A$15:$AG$515,10,TRUE)=\"\",\"\",VLOOKUP(A152,eligibilité!$A$15:$AG$515,10,TRUE)))","v":""},{"$f":"IF(A152=\"\",\"\",IF(VLOOKUP(A152,eligibilité!$A$15:$AG$515,30,FALSE)=0,\"\",VLOOKUP(A152,eligibilité!$A$15:$AG$515,30,FALSE)))","v":""},"","","","","","","",1305,"","","","","","","Temps restant : ",""]
[{"$f":"IF(eligibilité!AG155=\"\",\"\",eligibilité!A155)","v":""},{"$f":"IF(A153=\"\",\"\",IF(VLOOKUP(A153,eligibilité!$A$15:$J$515,2,TRUE)=\"\",\"\",VLOOKUP(A153,eligibilité!$A$15:$J$515,2,TRUE)))","v":""},{"$f":"IF(A153=\"\",\"\",IF(VLOOKUP(A153,eligibilité!$A$15:$AG$515,3,TRUE)=\"\",\"\",VLOOKUP(A153,eligibilité!$A$15:$AG$515,3,TRUE)))","v":""},{"$f":"IF(A153=\"\",\"\",IF(VLOOKUP(A153,eligibilité!$A$15:$AG$515,4,TRUE)=\"\",\"\",VLOOKUP(A153,eligibilité!$A$15:$AG$515,4,TRUE)))","v":""},{"$f":"IF(A153=\"\",\"\",IF(VLOOKUP(A153,eligibilité!$A$15:$AG$515,5,TRUE)=\"\",\"\",VLOOKUP(A153,eligibilité!$A$15:$AG$515,5,TRUE)))","v":""},{"$f":"IF(A153=\"\",\"\",IF(VLOOKUP(A153,eligibilité!$A$15:$AG$515,6,TRUE)=\"\",\"\",VLOOKUP(A153,eligibilité!$A$15:$AG$515,6,TRUE)))","v":""},{"$f":"IF(A153=\"\",\"\",IF(VLOOKUP(A153,eligibilité!$A$15:$AG$515,7,TRUE)=\"\",\"\",VLOOKUP(A153,eligibilité!$A$15:$AG$515,7,TRUE)))","v":""},{"$f":"IF(A153=\"\",\"\",IF(VLOOKUP(A153,eligibilité!$A$15:$AG$515,8,TRUE)=\"\",\"\",VLOOKUP(A153,eligibilité!$A$15:$AG$515,8,TRUE)))","v":""},{"$f":"IF(A153=\"\",\"\",IF(VLOOKUP(A153,eligibilité!$A$15:$AG$515,9,TRUE)=\"\",\"\",VLOOKUP(A153,eligibilité!$A$15:$AG$515,9,TRUE)))","v":""},{"$f":"IF(A153=\"\",\"\",IF(VLOOKUP(A153,eligibilité!$A$15:$AG$515,10,TRUE)=\"\",\"\",VLOOKUP(A153,eligibilité!$A$15:$AG$515,10,TRUE)))","v":""},{"$f":"IF(A153=\"\",\"\",IF(VLOOKUP(A153,eligibilité!$A$15:$AG$515,30,FALSE)=0,\"\",VLOOKUP(A153,eligibilité!$A$15:$AG$515,30,FALSE)))","v":""},"","","","","","","",1305,"","","","","","","Temps restant : ",""]
[{"$f":"IF(eligibilité!AG156=\"\",\"\",eligibilité!A156)","v":""},{"$f":"IF(A154=\"\",\"\",IF(VLOOKUP(A154,eligibilité!$A$15:$J$515,2,TRUE)=\"\",\"\",VLOOKUP(A154,eligibilité!$A$15:$J$515,2,TRUE)))","v":""},{"$f":"IF(A154=\"\",\"\",IF(VLOOKUP(A154,eligibilité!$A$15:$AG$515,3,TRUE)=\"\",\"\",VLOOKUP(A154,eligibilité!$A$15:$AG$515,3,TRUE)))","v":""},{"$f":"IF(A154=\"\",\"\",IF(VLOOKUP(A154,eligibilité!$A$15:$AG$515,4,TRUE)=\"\",\"\",VLOOKUP(A154,eligibilité!$A$15:$AG$515,4,TRUE)))","v":""},{"$f":"IF(A154=\"\",\"\",IF(VLOOKUP(A154,eligibilité!$A$15:$AG$515,5,TRUE)=\"\",\"\",VLOOKUP(A154,eligibilité!$A$15:$AG$515,5,TRUE)))","v":""},{"$f":"IF(A154=\"\",\"\",IF(VLOOKUP(A154,eligibilité!$A$15:$AG$515,6,TRUE)=\"\",\"\",VLOOKUP(A154,eligibilité!$A$15:$AG$515,6,TRUE)))","v":""},{"$f":"IF(A154=\"\",\"\",IF(VLOOKUP(A154,eligibilité!$A$15:$AG$515,7,TRUE)=\"\",\"\",VLOOKUP(A154,eligibilité!$A$15:$AG$515,7,TRUE)))","v":""},{"$f":"IF(A154=\"\",\"\",IF(VLOOKUP(A154,eligibilité!$A$15:$AG$515,8,TRUE)=\"\",\"\",VLOOKUP(A154,eligibilité!$A$15:$AG$515,8,TRUE)))","v":""},{"$f":"IF(A154=\"\",\"\",IF(VLOOKUP(A154,eligibilité!$A$15:$AG$515,9,TRUE)=\"\",\"\",VLOOKUP(A154,eligibilité!$A$15:$AG$515,9,TRUE)))","v":""},{"$f":"IF(A154=\"\",\"\",IF(VLOOKUP(A154,eligibilité!$A$15:$AG$515,10,TRUE)=\"\",\"\",VLOOKUP(A154,eligibilité!$A$15:$AG$515,10,TRUE)))","v":""},{"$f":"IF(A154=\"\",\"\",IF(VLOOKUP(A154,eligibilité!$A$15:$AG$515,30,FALSE)=0,\"\",VLOOKUP(A154,eligibilité!$A$15:$AG$515,30,FALSE)))","v":""},"","","","","","","",1305,"","","","","","","Temps restant : ",""]
[{"$f":"IF(eligibilité!AG157=\"\",\"\",eligibilité!A157)","v":""},{"$f":"IF(A155=\"\",\"\",IF(VLOOKUP(A155,eligibilité!$A$15:$J$515,2,TRUE)=\"\",\"\",VLOOKUP(A155,eligibilité!$A$15:$J$515,2,TRUE)))","v":""},{"$f":"IF(A155=\"\",\"\",IF(VLOOKUP(A155,eligibilité!$A$15:$AG$515,3,TRUE)=\"\",\"\",VLOOKUP(A155,eligibilité!$A$15:$AG$515,3,TRUE)))","v":""},{"$f":"IF(A155=\"\",\"\",IF(VLOOKUP(A155,eligibilité!$A$15:$AG$515,4,TRUE)=\"\",\"\",VLOOKUP(A155,eligibilité!$A$15:$AG$515,4,TRUE)))","v":""},{"$f":"IF(A155=\"\",\"\",IF(VLOOKUP(A155,eligibilité!$A$15:$AG$515,5,TRUE)=\"\",\"\",VLOOKUP(A155,eligibilité!$A$15:$AG$515,5,TRUE)))","v":""},{"$f":"IF(A155=\"\",\"\",IF(VLOOKUP(A155,eligibilité!$A$15:$AG$515,6,TRUE)=\"\",\"\",VLOOKUP(A155,eligibilité!$A$15:$AG$515,6,TRUE)))","v":""},{"$f":"IF(A155=\"\",\"\",IF(VLOOKUP(A155,eligibilité!$A$15:$AG$515,7,TRUE)=\"\",\"\",VLOOKUP(A155,eligibilité!$A$15:$AG$515,7,TRUE)))","v":""},{"$f":"IF(A155=\"\",\"\",IF(VLOOKUP(A155,eligibilité!$A$15:$AG$515,8,TRUE)=\"\",\"\",VLOOKUP(A155,eligibilité!$A$15:$AG$515,8,TRUE)))","v":""},{"$f":"IF(A155=\"\",\"\",IF(VLOOKUP(A155,eligibilité!$A$15:$AG$515,9,TRUE)=\"\",\"\",VLOOKUP(A155,eligibilité!$A$15:$AG$515,9,TRUE)))","v":""},{"$f":"IF(A155=\"\",\"\",IF(VLOOKUP(A155,eligibilité!$A$15:$AG$515,10,TRUE)=\"\",\"\",VLOOKUP(A155,eligibilité!$A$15:$AG$515,10,TRUE)))","v":""},{"$f":"IF(A155=\"\",\"\",IF(VLOOKUP(A155,eligibilité!$A$15:$AG$515,30,FALSE)=0,\"\",VLOOKUP(A155,eligibilité!$A$15:$AG$515,30,FALSE)))","v":""},"","","","","","","",1305,"","","","","","","Temps restant : ",""]
[{"$f":"IF(eligibilité!AG158=\"\",\"\",eligibilité!A158)","v":""},{"$f":"IF(A156=\"\",\"\",IF(VLOOKUP(A156,eligibilité!$A$15:$J$515,2,TRUE)=\"\",\"\",VLOOKUP(A156,eligibilité!$A$15:$J$515,2,TRUE)))","v":""},{"$f":"IF(A156=\"\",\"\",IF(VLOOKUP(A156,eligibilité!$A$15:$AG$515,3,TRUE)=\"\",\"\",VLOOKUP(A156,eligibilité!$A$15:$AG$515,3,TRUE)))","v":""},{"$f":"IF(A156=\"\",\"\",IF(VLOOKUP(A156,eligibilité!$A$15:$AG$515,4,TRUE)=\"\",\"\",VLOOKUP(A156,eligibilité!$A$15:$AG$515,4,TRUE)))","v":""},{"$f":"IF(A156=\"\",\"\",IF(VLOOKUP(A156,eligibilité!$A$15:$AG$515,5,TRUE)=\"\",\"\",VLOOKUP(A156,eligibilité!$A$15:$AG$515,5,TRUE)))","v":""},{"$f":"IF(A156=\"\",\"\",IF(VLOOKUP(A156,eligibilité!$A$15:$AG$515,6,TRUE)=\"\",\"\",VLOOKUP(A156,eligibilité!$A$15:$AG$515,6,TRUE)))","v":""},{"$f":"IF(A156=\"\",\"\",IF(VLOOKUP(A156,eligibilité!$A$15:$AG$515,7,TRUE)=\"\",\"\",VLOOKUP(A156,eligibilité!$A$15:$AG$515,7,TRUE)))","v":""},{"$f":"IF(A156=\"\",\"\",IF(VLOOKUP(A156,eligibilité!$A$15:$AG$515,8,TRUE)=\"\",\"\",VLOOKUP(A156,eligibilité!$A$15:$AG$515,8,TRUE)))","v":""},{"$f":"IF(A156=\"\",\"\",IF(VLOOKUP(A156,eligibilité!$A$15:$AG$515,9,TRUE)=\"\",\"\",VLOOKUP(A156,eligibilité!$A$15:$AG$515,9,TRUE)))","v":""},{"$f":"IF(A156=\"\",\"\",IF(VLOOKUP(A156,eligibilité!$A$15:$AG$515,10,TRUE)=\"\",\"\",VLOOKUP(A156,eligibilité!$A$15:$AG$515,10,TRUE)))","v":""},{"$f":"IF(A156=\"\",\"\",IF(VLOOKUP(A156,eligibilité!$A$15:$AG$515,30,FALSE)=0,\"\",VLOOKUP(A156,eligibilité!$A$15:$AG$515,30,FALSE)))","v":""},"","","","","","","",1305,"","","","","","","Temps restant : ",""]
[{"$f":"IF(eligibilité!AG159=\"\",\"\",eligibilité!A159)","v":""},{"$f":"IF(A157=\"\",\"\",IF(VLOOKUP(A157,eligibilité!$A$15:$J$515,2,TRUE)=\"\",\"\",VLOOKUP(A157,eligibilité!$A$15:$J$515,2,TRUE)))","v":""},{"$f":"IF(A157=\"\",\"\",IF(VLOOKUP(A157,eligibilité!$A$15:$AG$515,3,TRUE)=\"\",\"\",VLOOKUP(A157,eligibilité!$A$15:$AG$515,3,TRUE)))","v":""},{"$f":"IF(A157=\"\",\"\",IF(VLOOKUP(A157,eligibilité!$A$15:$AG$515,4,TRUE)=\"\",\"\",VLOOKUP(A157,eligibilité!$A$15:$AG$515,4,TRUE)))","v":""},{"$f":"IF(A157=\"\",\"\",IF(VLOOKUP(A157,eligibilité!$A$15:$AG$515,5,TRUE)=\"\",\"\",VLOOKUP(A157,eligibilité!$A$15:$AG$515,5,TRUE)))","v":""},{"$f":"IF(A157=\"\",\"\",IF(VLOOKUP(A157,eligibilité!$A$15:$AG$515,6,TRUE)=\"\",\"\",VLOOKUP(A157,eligibilité!$A$15:$AG$515,6,TRUE)))","v":""},{"$f":"IF(A157=\"\",\"\",IF(VLOOKUP(A157,eligibilité!$A$15:$AG$515,7,TRUE)=\"\",\"\",VLOOKUP(A157,eligibilité!$A$15:$AG$515,7,TRUE)))","v":""},{"$f":"IF(A157=\"\",\"\",IF(VLOOKUP(A157,eligibilité!$A$15:$AG$515,8,TRUE)=\"\",\"\",VLOOKUP(A157,eligibilité!$A$15:$AG$515,8,TRUE)))","v":""},{"$f":"IF(A157=\"\",\"\",IF(VLOOKUP(A157,eligibilité!$A$15:$AG$515,9,TRUE)=\"\",\"\",VLOOKUP(A157,eligibilité!$A$15:$AG$515,9,TRUE)))","v":""},{"$f":"IF(A157=\"\",\"\",IF(VLOOKUP(A157,eligibilité!$A$15:$AG$515,10,TRUE)=\"\",\"\",VLOOKUP(A157,eligibilité!$A$15:$AG$515,10,TRUE)))","v":""},{"$f":"IF(A157=\"\",\"\",IF(VLOOKUP(A157,eligibilité!$A$15:$AG$515,30,FALSE)=0,\"\",VLOOKUP(A157,eligibilité!$A$15:$AG$515,30,FALSE)))","v":""},"","","","","","","",1305,"","","","","","","Temps restant : ",""]
[{"$f":"IF(eligibilité!AG160=\"\",\"\",eligibilité!A160)","v":""},{"$f":"IF(A158=\"\",\"\",IF(VLOOKUP(A158,eligibilité!$A$15:$J$515,2,TRUE)=\"\",\"\",VLOOKUP(A158,eligibilité!$A$15:$J$515,2,TRUE)))","v":""},{"$f":"IF(A158=\"\",\"\",IF(VLOOKUP(A158,eligibilité!$A$15:$AG$515,3,TRUE)=\"\",\"\",VLOOKUP(A158,eligibilité!$A$15:$AG$515,3,TRUE)))","v":""},{"$f":"IF(A158=\"\",\"\",IF(VLOOKUP(A158,eligibilité!$A$15:$AG$515,4,TRUE)=\"\",\"\",VLOOKUP(A158,eligibilité!$A$15:$AG$515,4,TRUE)))","v":""},{"$f":"IF(A158=\"\",\"\",IF(VLOOKUP(A158,eligibilité!$A$15:$AG$515,5,TRUE)=\"\",\"\",VLOOKUP(A158,eligibilité!$A$15:$AG$515,5,TRUE)))","v":""},{"$f":"IF(A158=\"\",\"\",IF(VLOOKUP(A158,eligibilité!$A$15:$AG$515,6,TRUE)=\"\",\"\",VLOOKUP(A158,eligibilité!$A$15:$AG$515,6,TRUE)))","v":""},{"$f":"IF(A158=\"\",\"\",IF(VLOOKUP(A158,eligibilité!$A$15:$AG$515,7,TRUE)=\"\",\"\",VLOOKUP(A158,eligibilité!$A$15:$AG$515,7,TRUE)))","v":""},{"$f":"IF(A158=\"\",\"\",IF(VLOOKUP(A158,eligibilité!$A$15:$AG$515,8,TRUE)=\"\",\"\",VLOOKUP(A158,eligibilité!$A$15:$AG$515,8,TRUE)))","v":""},{"$f":"IF(A158=\"\",\"\",IF(VLOOKUP(A158,eligibilité!$A$15:$AG$515,9,TRUE)=\"\",\"\",VLOOKUP(A158,eligibilité!$A$15:$AG$515,9,TRUE)))","v":""},{"$f":"IF(A158=\"\",\"\",IF(VLOOKUP(A158,eligibilité!$A$15:$AG$515,10,TRUE)=\"\",\"\",VLOOKUP(A158,eligibilité!$A$15:$AG$515,10,TRUE)))","v":""},{"$f":"IF(A158=\"\",\"\",IF(VLOOKUP(A158,eligibilité!$A$15:$AG$515,30,FALSE)=0,\"\",VLOOKUP(A158,eligibilité!$A$15:$AG$515,30,FALSE)))","v":""},"","","","","","","",1305,"","","","","","","Temps restant : ",""]
[{"$f":"IF(eligibilité!AG161=\"\",\"\",eligibilité!A161)","v":""},{"$f":"IF(A159=\"\",\"\",IF(VLOOKUP(A159,eligibilité!$A$15:$J$515,2,TRUE)=\"\",\"\",VLOOKUP(A159,eligibilité!$A$15:$J$515,2,TRUE)))","v":""},{"$f":"IF(A159=\"\",\"\",IF(VLOOKUP(A159,eligibilité!$A$15:$AG$515,3,TRUE)=\"\",\"\",VLOOKUP(A159,eligibilité!$A$15:$AG$515,3,TRUE)))","v":""},{"$f":"IF(A159=\"\",\"\",IF(VLOOKUP(A159,eligibilité!$A$15:$AG$515,4,TRUE)=\"\",\"\",VLOOKUP(A159,eligibilité!$A$15:$AG$515,4,TRUE)))","v":""},{"$f":"IF(A159=\"\",\"\",IF(VLOOKUP(A159,eligibilité!$A$15:$AG$515,5,TRUE)=\"\",\"\",VLOOKUP(A159,eligibilité!$A$15:$AG$515,5,TRUE)))","v":""},{"$f":"IF(A159=\"\",\"\",IF(VLOOKUP(A159,eligibilité!$A$15:$AG$515,6,TRUE)=\"\",\"\",VLOOKUP(A159,eligibilité!$A$15:$AG$515,6,TRUE)))","v":""},{"$f":"IF(A159=\"\",\"\",IF(VLOOKUP(A159,eligibilité!$A$15:$AG$515,7,TRUE)=\"\",\"\",VLOOKUP(A159,eligibilité!$A$15:$AG$515,7,TRUE)))","v":""},{"$f":"IF(A159=\"\",\"\",IF(VLOOKUP(A159,eligibilité!$A$15:$AG$515,8,TRUE)=\"\",\"\",VLOOKUP(A159,eligibilité!$A$15:$AG$515,8,TRUE)))","v":""},{"$f":"IF(A159=\"\",\"\",IF(VLOOKUP(A159,eligibilité!$A$15:$AG$515,9,TRUE)=\"\",\"\",VLOOKUP(A159,eligibilité!$A$15:$AG$515,9,TRUE)))","v":""},{"$f":"IF(A159=\"\",\"\",IF(VLOOKUP(A159,eligibilité!$A$15:$AG$515,10,TRUE)=\"\",\"\",VLOOKUP(A159,eligibilité!$A$15:$AG$515,10,TRUE)))","v":""},{"$f":"IF(A159=\"\",\"\",IF(VLOOKUP(A159,eligibilité!$A$15:$AG$515,30,FALSE)=0,\"\",VLOOKUP(A159,eligibilité!$A$15:$AG$515,30,FALSE)))","v":""},"","","","","","","",1305,"","","","","","","Temps restant : ",""]
[{"$f":"IF(eligibilité!AG162=\"\",\"\",eligibilité!A162)","v":""},{"$f":"IF(A160=\"\",\"\",IF(VLOOKUP(A160,eligibilité!$A$15:$J$515,2,TRUE)=\"\",\"\",VLOOKUP(A160,eligibilité!$A$15:$J$515,2,TRUE)))","v":""},{"$f":"IF(A160=\"\",\"\",IF(VLOOKUP(A160,eligibilité!$A$15:$AG$515,3,TRUE)=\"\",\"\",VLOOKUP(A160,eligibilité!$A$15:$AG$515,3,TRUE)))","v":""},{"$f":"IF(A160=\"\",\"\",IF(VLOOKUP(A160,eligibilité!$A$15:$AG$515,4,TRUE)=\"\",\"\",VLOOKUP(A160,eligibilité!$A$15:$AG$515,4,TRUE)))","v":""},{"$f":"IF(A160=\"\",\"\",IF(VLOOKUP(A160,eligibilité!$A$15:$AG$515,5,TRUE)=\"\",\"\",VLOOKUP(A160,eligibilité!$A$15:$AG$515,5,TRUE)))","v":""},{"$f":"IF(A160=\"\",\"\",IF(VLOOKUP(A160,eligibilité!$A$15:$AG$515,6,TRUE)=\"\",\"\",VLOOKUP(A160,eligibilité!$A$15:$AG$515,6,TRUE)))","v":""},{"$f":"IF(A160=\"\",\"\",IF(VLOOKUP(A160,eligibilité!$A$15:$AG$515,7,TRUE)=\"\",\"\",VLOOKUP(A160,eligibilité!$A$15:$AG$515,7,TRUE)))","v":""},{"$f":"IF(A160=\"\",\"\",IF(VLOOKUP(A160,eligibilité!$A$15:$AG$515,8,TRUE)=\"\",\"\",VLOOKUP(A160,eligibilité!$A$15:$AG$515,8,TRUE)))","v":""},{"$f":"IF(A160=\"\",\"\",IF(VLOOKUP(A160,eligibilité!$A$15:$AG$515,9,TRUE)=\"\",\"\",VLOOKUP(A160,eligibilité!$A$15:$AG$515,9,TRUE)))","v":""},{"$f":"IF(A160=\"\",\"\",IF(VLOOKUP(A160,eligibilité!$A$15:$AG$515,10,TRUE)=\"\",\"\",VLOOKUP(A160,eligibilité!$A$15:$AG$515,10,TRUE)))","v":""},{"$f":"IF(A160=\"\",\"\",IF(VLOOKUP(A160,eligibilité!$A$15:$AG$515,30,FALSE)=0,\"\",VLOOKUP(A160,eligibilité!$A$15:$AG$515,30,FALSE)))","v":""},"","","","","","","",1305,"","","","","","","Temps restant : ",""]
[{"$f":"IF(eligibilité!AG163=\"\",\"\",eligibilité!A163)","v":""},{"$f":"IF(A161=\"\",\"\",IF(VLOOKUP(A161,eligibilité!$A$15:$J$515,2,TRUE)=\"\",\"\",VLOOKUP(A161,eligibilité!$A$15:$J$515,2,TRUE)))","v":""},{"$f":"IF(A161=\"\",\"\",IF(VLOOKUP(A161,eligibilité!$A$15:$AG$515,3,TRUE)=\"\",\"\",VLOOKUP(A161,eligibilité!$A$15:$AG$515,3,TRUE)))","v":""},{"$f":"IF(A161=\"\",\"\",IF(VLOOKUP(A161,eligibilité!$A$15:$AG$515,4,TRUE)=\"\",\"\",VLOOKUP(A161,eligibilité!$A$15:$AG$515,4,TRUE)))","v":""},{"$f":"IF(A161=\"\",\"\",IF(VLOOKUP(A161,eligibilité!$A$15:$AG$515,5,TRUE)=\"\",\"\",VLOOKUP(A161,eligibilité!$A$15:$AG$515,5,TRUE)))","v":""},{"$f":"IF(A161=\"\",\"\",IF(VLOOKUP(A161,eligibilité!$A$15:$AG$515,6,TRUE)=\"\",\"\",VLOOKUP(A161,eligibilité!$A$15:$AG$515,6,TRUE)))","v":""},{"$f":"IF(A161=\"\",\"\",IF(VLOOKUP(A161,eligibilité!$A$15:$AG$515,7,TRUE)=\"\",\"\",VLOOKUP(A161,eligibilité!$A$15:$AG$515,7,TRUE)))","v":""},{"$f":"IF(A161=\"\",\"\",IF(VLOOKUP(A161,eligibilité!$A$15:$AG$515,8,TRUE)=\"\",\"\",VLOOKUP(A161,eligibilité!$A$15:$AG$515,8,TRUE)))","v":""},{"$f":"IF(A161=\"\",\"\",IF(VLOOKUP(A161,eligibilité!$A$15:$AG$515,9,TRUE)=\"\",\"\",VLOOKUP(A161,eligibilité!$A$15:$AG$515,9,TRUE)))","v":""},{"$f":"IF(A161=\"\",\"\",IF(VLOOKUP(A161,eligibilité!$A$15:$AG$515,10,TRUE)=\"\",\"\",VLOOKUP(A161,eligibilité!$A$15:$AG$515,10,TRUE)))","v":""},{"$f":"IF(A161=\"\",\"\",IF(VLOOKUP(A161,eligibilité!$A$15:$AG$515,30,FALSE)=0,\"\",VLOOKUP(A161,eligibilité!$A$15:$AG$515,30,FALSE)))","v":""},"","","","","","","",1305,"","","","","","","Temps restant : ",""]
[{"$f":"IF(eligibilité!AG164=\"\",\"\",eligibilité!A164)","v":""},{"$f":"IF(A162=\"\",\"\",IF(VLOOKUP(A162,eligibilité!$A$15:$J$515,2,TRUE)=\"\",\"\",VLOOKUP(A162,eligibilité!$A$15:$J$515,2,TRUE)))","v":""},{"$f":"IF(A162=\"\",\"\",IF(VLOOKUP(A162,eligibilité!$A$15:$AG$515,3,TRUE)=\"\",\"\",VLOOKUP(A162,eligibilité!$A$15:$AG$515,3,TRUE)))","v":""},{"$f":"IF(A162=\"\",\"\",IF(VLOOKUP(A162,eligibilité!$A$15:$AG$515,4,TRUE)=\"\",\"\",VLOOKUP(A162,eligibilité!$A$15:$AG$515,4,TRUE)))","v":""},{"$f":"IF(A162=\"\",\"\",IF(VLOOKUP(A162,eligibilité!$A$15:$AG$515,5,TRUE)=\"\",\"\",VLOOKUP(A162,eligibilité!$A$15:$AG$515,5,TRUE)))","v":""},{"$f":"IF(A162=\"\",\"\",IF(VLOOKUP(A162,eligibilité!$A$15:$AG$515,6,TRUE)=\"\",\"\",VLOOKUP(A162,eligibilité!$A$15:$AG$515,6,TRUE)))","v":""},{"$f":"IF(A162=\"\",\"\",IF(VLOOKUP(A162,eligibilité!$A$15:$AG$515,7,TRUE)=\"\",\"\",VLOOKUP(A162,eligibilité!$A$15:$AG$515,7,TRUE)))","v":""},{"$f":"IF(A162=\"\",\"\",IF(VLOOKUP(A162,eligibilité!$A$15:$AG$515,8,TRUE)=\"\",\"\",VLOOKUP(A162,eligibilité!$A$15:$AG$515,8,TRUE)))","v":""},{"$f":"IF(A162=\"\",\"\",IF(VLOOKUP(A162,eligibilité!$A$15:$AG$515,9,TRUE)=\"\",\"\",VLOOKUP(A162,eligibilité!$A$15:$AG$515,9,TRUE)))","v":""},{"$f":"IF(A162=\"\",\"\",IF(VLOOKUP(A162,eligibilité!$A$15:$AG$515,10,TRUE)=\"\",\"\",VLOOKUP(A162,eligibilité!$A$15:$AG$515,10,TRUE)))","v":""},{"$f":"IF(A162=\"\",\"\",IF(VLOOKUP(A162,eligibilité!$A$15:$AG$515,30,FALSE)=0,\"\",VLOOKUP(A162,eligibilité!$A$15:$AG$515,30,FALSE)))","v":""},"","","","","","","",1305,"","","","","","","Temps restant : ",""]
[{"$f":"IF(eligibilité!AG165=\"\",\"\",eligibilité!A165)","v":""},{"$f":"IF(A163=\"\",\"\",IF(VLOOKUP(A163,eligibilité!$A$15:$J$515,2,TRUE)=\"\",\"\",VLOOKUP(A163,eligibilité!$A$15:$J$515,2,TRUE)))","v":""},{"$f":"IF(A163=\"\",\"\",IF(VLOOKUP(A163,eligibilité!$A$15:$AG$515,3,TRUE)=\"\",\"\",VLOOKUP(A163,eligibilité!$A$15:$AG$515,3,TRUE)))","v":""},{"$f":"IF(A163=\"\",\"\",IF(VLOOKUP(A163,eligibilité!$A$15:$AG$515,4,TRUE)=\"\",\"\",VLOOKUP(A163,eligibilité!$A$15:$AG$515,4,TRUE)))","v":""},{"$f":"IF(A163=\"\",\"\",IF(VLOOKUP(A163,eligibilité!$A$15:$AG$515,5,TRUE)=\"\",\"\",VLOOKUP(A163,eligibilité!$A$15:$AG$515,5,TRUE)))","v":""},{"$f":"IF(A163=\"\",\"\",IF(VLOOKUP(A163,eligibilité!$A$15:$AG$515,6,TRUE)=\"\",\"\",VLOOKUP(A163,eligibilité!$A$15:$AG$515,6,TRUE)))","v":""},{"$f":"IF(A163=\"\",\"\",IF(VLOOKUP(A163,eligibilité!$A$15:$AG$515,7,TRUE)=\"\",\"\",VLOOKUP(A163,eligibilité!$A$15:$AG$515,7,TRUE)))","v":""},{"$f":"IF(A163=\"\",\"\",IF(VLOOKUP(A163,eligibilité!$A$15:$AG$515,8,TRUE)=\"\",\"\",VLOOKUP(A163,eligibilité!$A$15:$AG$515,8,TRUE)))","v":""},{"$f":"IF(A163=\"\",\"\",IF(VLOOKUP(A163,eligibilité!$A$15:$AG$515,9,TRUE)=\"\",\"\",VLOOKUP(A163,eligibilité!$A$15:$AG$515,9,TRUE)))","v":""},{"$f":"IF(A163=\"\",\"\",IF(VLOOKUP(A163,eligibilité!$A$15:$AG$515,10,TRUE)=\"\",\"\",VLOOKUP(A163,eligibilité!$A$15:$AG$515,10,TRUE)))","v":""},{"$f":"IF(A163=\"\",\"\",IF(VLOOKUP(A163,eligibilité!$A$15:$AG$515,30,FALSE)=0,\"\",VLOOKUP(A163,eligibilité!$A$15:$AG$515,30,FALSE)))","v":""},"","","","","","","",1305,"","","","","","","Temps restant : ",""]
[{"$f":"IF(eligibilité!AG166=\"\",\"\",eligibilité!A166)","v":""},{"$f":"IF(A164=\"\",\"\",IF(VLOOKUP(A164,eligibilité!$A$15:$J$515,2,TRUE)=\"\",\"\",VLOOKUP(A164,eligibilité!$A$15:$J$515,2,TRUE)))","v":""},{"$f":"IF(A164=\"\",\"\",IF(VLOOKUP(A164,eligibilité!$A$15:$AG$515,3,TRUE)=\"\",\"\",VLOOKUP(A164,eligibilité!$A$15:$AG$515,3,TRUE)))","v":""},{"$f":"IF(A164=\"\",\"\",IF(VLOOKUP(A164,eligibilité!$A$15:$AG$515,4,TRUE)=\"\",\"\",VLOOKUP(A164,eligibilité!$A$15:$AG$515,4,TRUE)))","v":""},{"$f":"IF(A164=\"\",\"\",IF(VLOOKUP(A164,eligibilité!$A$15:$AG$515,5,TRUE)=\"\",\"\",VLOOKUP(A164,eligibilité!$A$15:$AG$515,5,TRUE)))","v":""},{"$f":"IF(A164=\"\",\"\",IF(VLOOKUP(A164,eligibilité!$A$15:$AG$515,6,TRUE)=\"\",\"\",VLOOKUP(A164,eligibilité!$A$15:$AG$515,6,TRUE)))","v":""},{"$f":"IF(A164=\"\",\"\",IF(VLOOKUP(A164,eligibilité!$A$15:$AG$515,7,TRUE)=\"\",\"\",VLOOKUP(A164,eligibilité!$A$15:$AG$515,7,TRUE)))","v":""},{"$f":"IF(A164=\"\",\"\",IF(VLOOKUP(A164,eligibilité!$A$15:$AG$515,8,TRUE)=\"\",\"\",VLOOKUP(A164,eligibilité!$A$15:$AG$515,8,TRUE)))","v":""},{"$f":"IF(A164=\"\",\"\",IF(VLOOKUP(A164,eligibilité!$A$15:$AG$515,9,TRUE)=\"\",\"\",VLOOKUP(A164,eligibilité!$A$15:$AG$515,9,TRUE)))","v":""},{"$f":"IF(A164=\"\",\"\",IF(VLOOKUP(A164,eligibilité!$A$15:$AG$515,10,TRUE)=\"\",\"\",VLOOKUP(A164,eligibilité!$A$15:$AG$515,10,TRUE)))","v":""},{"$f":"IF(A164=\"\",\"\",IF(VLOOKUP(A164,eligibilité!$A$15:$AG$515,30,FALSE)=0,\"\",VLOOKUP(A164,eligibilité!$A$15:$AG$515,30,FALSE)))","v":""},"","","","","","","",1305,"","","","","","","Temps restant : ",""]
[{"$f":"IF(eligibilité!AG167=\"\",\"\",eligibilité!A167)","v":""},{"$f":"IF(A165=\"\",\"\",IF(VLOOKUP(A165,eligibilité!$A$15:$J$515,2,TRUE)=\"\",\"\",VLOOKUP(A165,eligibilité!$A$15:$J$515,2,TRUE)))","v":""},{"$f":"IF(A165=\"\",\"\",IF(VLOOKUP(A165,eligibilité!$A$15:$AG$515,3,TRUE)=\"\",\"\",VLOOKUP(A165,eligibilité!$A$15:$AG$515,3,TRUE)))","v":""},{"$f":"IF(A165=\"\",\"\",IF(VLOOKUP(A165,eligibilité!$A$15:$AG$515,4,TRUE)=\"\",\"\",VLOOKUP(A165,eligibilité!$A$15:$AG$515,4,TRUE)))","v":""},{"$f":"IF(A165=\"\",\"\",IF(VLOOKUP(A165,eligibilité!$A$15:$AG$515,5,TRUE)=\"\",\"\",VLOOKUP(A165,eligibilité!$A$15:$AG$515,5,TRUE)))","v":""},{"$f":"IF(A165=\"\",\"\",IF(VLOOKUP(A165,eligibilité!$A$15:$AG$515,6,TRUE)=\"\",\"\",VLOOKUP(A165,eligibilité!$A$15:$AG$515,6,TRUE)))","v":""},{"$f":"IF(A165=\"\",\"\",IF(VLOOKUP(A165,eligibilité!$A$15:$AG$515,7,TRUE)=\"\",\"\",VLOOKUP(A165,eligibilité!$A$15:$AG$515,7,TRUE)))","v":""},{"$f":"IF(A165=\"\",\"\",IF(VLOOKUP(A165,eligibilité!$A$15:$AG$515,8,TRUE)=\"\",\"\",VLOOKUP(A165,eligibilité!$A$15:$AG$515,8,TRUE)))","v":""},{"$f":"IF(A165=\"\",\"\",IF(VLOOKUP(A165,eligibilité!$A$15:$AG$515,9,TRUE)=\"\",\"\",VLOOKUP(A165,eligibilité!$A$15:$AG$515,9,TRUE)))","v":""},{"$f":"IF(A165=\"\",\"\",IF(VLOOKUP(A165,eligibilité!$A$15:$AG$515,10,TRUE)=\"\",\"\",VLOOKUP(A165,eligibilité!$A$15:$AG$515,10,TRUE)))","v":""},{"$f":"IF(A165=\"\",\"\",IF(VLOOKUP(A165,eligibilité!$A$15:$AG$515,30,FALSE)=0,\"\",VLOOKUP(A165,eligibilité!$A$15:$AG$515,30,FALSE)))","v":""},"","","","","","","",1305,"","","","","","","Temps restant : ",""]
[{"$f":"IF(eligibilité!AG168=\"\",\"\",eligibilité!A168)","v":""},{"$f":"IF(A166=\"\",\"\",IF(VLOOKUP(A166,eligibilité!$A$15:$J$515,2,TRUE)=\"\",\"\",VLOOKUP(A166,eligibilité!$A$15:$J$515,2,TRUE)))","v":""},{"$f":"IF(A166=\"\",\"\",IF(VLOOKUP(A166,eligibilité!$A$15:$AG$515,3,TRUE)=\"\",\"\",VLOOKUP(A166,eligibilité!$A$15:$AG$515,3,TRUE)))","v":""},{"$f":"IF(A166=\"\",\"\",IF(VLOOKUP(A166,eligibilité!$A$15:$AG$515,4,TRUE)=\"\",\"\",VLOOKUP(A166,eligibilité!$A$15:$AG$515,4,TRUE)))","v":""},{"$f":"IF(A166=\"\",\"\",IF(VLOOKUP(A166,eligibilité!$A$15:$AG$515,5,TRUE)=\"\",\"\",VLOOKUP(A166,eligibilité!$A$15:$AG$515,5,TRUE)))","v":""},{"$f":"IF(A166=\"\",\"\",IF(VLOOKUP(A166,eligibilité!$A$15:$AG$515,6,TRUE)=\"\",\"\",VLOOKUP(A166,eligibilité!$A$15:$AG$515,6,TRUE)))","v":""},{"$f":"IF(A166=\"\",\"\",IF(VLOOKUP(A166,eligibilité!$A$15:$AG$515,7,TRUE)=\"\",\"\",VLOOKUP(A166,eligibilité!$A$15:$AG$515,7,TRUE)))","v":""},{"$f":"IF(A166=\"\",\"\",IF(VLOOKUP(A166,eligibilité!$A$15:$AG$515,8,TRUE)=\"\",\"\",VLOOKUP(A166,eligibilité!$A$15:$AG$515,8,TRUE)))","v":""},{"$f":"IF(A166=\"\",\"\",IF(VLOOKUP(A166,eligibilité!$A$15:$AG$515,9,TRUE)=\"\",\"\",VLOOKUP(A166,eligibilité!$A$15:$AG$515,9,TRUE)))","v":""},{"$f":"IF(A166=\"\",\"\",IF(VLOOKUP(A166,eligibilité!$A$15:$AG$515,10,TRUE)=\"\",\"\",VLOOKUP(A166,eligibilité!$A$15:$AG$515,10,TRUE)))","v":""},{"$f":"IF(A166=\"\",\"\",IF(VLOOKUP(A166,eligibilité!$A$15:$AG$515,30,FALSE)=0,\"\",VLOOKUP(A166,eligibilité!$A$15:$AG$515,30,FALSE)))","v":""},"","","","","","","",1305,"","","","","","","Temps restant : ",""]
[{"$f":"IF(eligibilité!AG169=\"\",\"\",eligibilité!A169)","v":""},{"$f":"IF(A167=\"\",\"\",IF(VLOOKUP(A167,eligibilité!$A$15:$J$515,2,TRUE)=\"\",\"\",VLOOKUP(A167,eligibilité!$A$15:$J$515,2,TRUE)))","v":""},{"$f":"IF(A167=\"\",\"\",IF(VLOOKUP(A167,eligibilité!$A$15:$AG$515,3,TRUE)=\"\",\"\",VLOOKUP(A167,eligibilité!$A$15:$AG$515,3,TRUE)))","v":""},{"$f":"IF(A167=\"\",\"\",IF(VLOOKUP(A167,eligibilité!$A$15:$AG$515,4,TRUE)=\"\",\"\",VLOOKUP(A167,eligibilité!$A$15:$AG$515,4,TRUE)))","v":""},{"$f":"IF(A167=\"\",\"\",IF(VLOOKUP(A167,eligibilité!$A$15:$AG$515,5,TRUE)=\"\",\"\",VLOOKUP(A167,eligibilité!$A$15:$AG$515,5,TRUE)))","v":""},{"$f":"IF(A167=\"\",\"\",IF(VLOOKUP(A167,eligibilité!$A$15:$AG$515,6,TRUE)=\"\",\"\",VLOOKUP(A167,eligibilité!$A$15:$AG$515,6,TRUE)))","v":""},{"$f":"IF(A167=\"\",\"\",IF(VLOOKUP(A167,eligibilité!$A$15:$AG$515,7,TRUE)=\"\",\"\",VLOOKUP(A167,eligibilité!$A$15:$AG$515,7,TRUE)))","v":""},{"$f":"IF(A167=\"\",\"\",IF(VLOOKUP(A167,eligibilité!$A$15:$AG$515,8,TRUE)=\"\",\"\",VLOOKUP(A167,eligibilité!$A$15:$AG$515,8,TRUE)))","v":""},{"$f":"IF(A167=\"\",\"\",IF(VLOOKUP(A167,eligibilité!$A$15:$AG$515,9,TRUE)=\"\",\"\",VLOOKUP(A167,eligibilité!$A$15:$AG$515,9,TRUE)))","v":""},{"$f":"IF(A167=\"\",\"\",IF(VLOOKUP(A167,eligibilité!$A$15:$AG$515,10,TRUE)=\"\",\"\",VLOOKUP(A167,eligibilité!$A$15:$AG$515,10,TRUE)))","v":""},{"$f":"IF(A167=\"\",\"\",IF(VLOOKUP(A167,eligibilité!$A$15:$AG$515,30,FALSE)=0,\"\",VLOOKUP(A167,eligibilité!$A$15:$AG$515,30,FALSE)))","v":""},"","","","","","","",1305,"","","","","","","Temps restant : ",""]
[{"$f":"IF(eligibilité!AG170=\"\",\"\",eligibilité!A170)","v":""},{"$f":"IF(A168=\"\",\"\",IF(VLOOKUP(A168,eligibilité!$A$15:$J$515,2,TRUE)=\"\",\"\",VLOOKUP(A168,eligibilité!$A$15:$J$515,2,TRUE)))","v":""},{"$f":"IF(A168=\"\",\"\",IF(VLOOKUP(A168,eligibilité!$A$15:$AG$515,3,TRUE)=\"\",\"\",VLOOKUP(A168,eligibilité!$A$15:$AG$515,3,TRUE)))","v":""},{"$f":"IF(A168=\"\",\"\",IF(VLOOKUP(A168,eligibilité!$A$15:$AG$515,4,TRUE)=\"\",\"\",VLOOKUP(A168,eligibilité!$A$15:$AG$515,4,TRUE)))","v":""},{"$f":"IF(A168=\"\",\"\",IF(VLOOKUP(A168,eligibilité!$A$15:$AG$515,5,TRUE)=\"\",\"\",VLOOKUP(A168,eligibilité!$A$15:$AG$515,5,TRUE)))","v":""},{"$f":"IF(A168=\"\",\"\",IF(VLOOKUP(A168,eligibilité!$A$15:$AG$515,6,TRUE)=\"\",\"\",VLOOKUP(A168,eligibilité!$A$15:$AG$515,6,TRUE)))","v":""},{"$f":"IF(A168=\"\",\"\",IF(VLOOKUP(A168,eligibilité!$A$15:$AG$515,7,TRUE)=\"\",\"\",VLOOKUP(A168,eligibilité!$A$15:$AG$515,7,TRUE)))","v":""},{"$f":"IF(A168=\"\",\"\",IF(VLOOKUP(A168,eligibilité!$A$15:$AG$515,8,TRUE)=\"\",\"\",VLOOKUP(A168,eligibilité!$A$15:$AG$515,8,TRUE)))","v":""},{"$f":"IF(A168=\"\",\"\",IF(VLOOKUP(A168,eligibilité!$A$15:$AG$515,9,TRUE)=\"\",\"\",VLOOKUP(A168,eligibilité!$A$15:$AG$515,9,TRUE)))","v":""},{"$f":"IF(A168=\"\",\"\",IF(VLOOKUP(A168,eligibilité!$A$15:$AG$515,10,TRUE)=\"\",\"\",VLOOKUP(A168,eligibilité!$A$15:$AG$515,10,TRUE)))","v":""},{"$f":"IF(A168=\"\",\"\",IF(VLOOKUP(A168,eligibilité!$A$15:$AG$515,30,FALSE)=0,\"\",VLOOKUP(A168,eligibilité!$A$15:$AG$515,30,FALSE)))","v":""},"","","","","","","",1305,"","","","","","","Temps restant : ",""]
[{"$f":"IF(eligibilité!AG171=\"\",\"\",eligibilité!A171)","v":""},{"$f":"IF(A169=\"\",\"\",IF(VLOOKUP(A169,eligibilité!$A$15:$J$515,2,TRUE)=\"\",\"\",VLOOKUP(A169,eligibilité!$A$15:$J$515,2,TRUE)))","v":""},{"$f":"IF(A169=\"\",\"\",IF(VLOOKUP(A169,eligibilité!$A$15:$AG$515,3,TRUE)=\"\",\"\",VLOOKUP(A169,eligibilité!$A$15:$AG$515,3,TRUE)))","v":""},{"$f":"IF(A169=\"\",\"\",IF(VLOOKUP(A169,eligibilité!$A$15:$AG$515,4,TRUE)=\"\",\"\",VLOOKUP(A169,eligibilité!$A$15:$AG$515,4,TRUE)))","v":""},{"$f":"IF(A169=\"\",\"\",IF(VLOOKUP(A169,eligibilité!$A$15:$AG$515,5,TRUE)=\"\",\"\",VLOOKUP(A169,eligibilité!$A$15:$AG$515,5,TRUE)))","v":""},{"$f":"IF(A169=\"\",\"\",IF(VLOOKUP(A169,eligibilité!$A$15:$AG$515,6,TRUE)=\"\",\"\",VLOOKUP(A169,eligibilité!$A$15:$AG$515,6,TRUE)))","v":""},{"$f":"IF(A169=\"\",\"\",IF(VLOOKUP(A169,eligibilité!$A$15:$AG$515,7,TRUE)=\"\",\"\",VLOOKUP(A169,eligibilité!$A$15:$AG$515,7,TRUE)))","v":""},{"$f":"IF(A169=\"\",\"\",IF(VLOOKUP(A169,eligibilité!$A$15:$AG$515,8,TRUE)=\"\",\"\",VLOOKUP(A169,eligibilité!$A$15:$AG$515,8,TRUE)))","v":""},{"$f":"IF(A169=\"\",\"\",IF(VLOOKUP(A169,eligibilité!$A$15:$AG$515,9,TRUE)=\"\",\"\",VLOOKUP(A169,eligibilité!$A$15:$AG$515,9,TRUE)))","v":""},{"$f":"IF(A169=\"\",\"\",IF(VLOOKUP(A169,eligibilité!$A$15:$AG$515,10,TRUE)=\"\",\"\",VLOOKUP(A169,eligibilité!$A$15:$AG$515,10,TRUE)))","v":""},{"$f":"IF(A169=\"\",\"\",IF(VLOOKUP(A169,eligibilité!$A$15:$AG$515,30,FALSE)=0,\"\",VLOOKUP(A169,eligibilité!$A$15:$AG$515,30,FALSE)))","v":""},"","","","","","","",1305,"","","","","","","Temps restant : ",""]
[{"$f":"IF(eligibilité!AG172=\"\",\"\",eligibilité!A172)","v":""},{"$f":"IF(A170=\"\",\"\",IF(VLOOKUP(A170,eligibilité!$A$15:$J$515,2,TRUE)=\"\",\"\",VLOOKUP(A170,eligibilité!$A$15:$J$515,2,TRUE)))","v":""},{"$f":"IF(A170=\"\",\"\",IF(VLOOKUP(A170,eligibilité!$A$15:$AG$515,3,TRUE)=\"\",\"\",VLOOKUP(A170,eligibilité!$A$15:$AG$515,3,TRUE)))","v":""},{"$f":"IF(A170=\"\",\"\",IF(VLOOKUP(A170,eligibilité!$A$15:$AG$515,4,TRUE)=\"\",\"\",VLOOKUP(A170,eligibilité!$A$15:$AG$515,4,TRUE)))","v":""},{"$f":"IF(A170=\"\",\"\",IF(VLOOKUP(A170,eligibilité!$A$15:$AG$515,5,TRUE)=\"\",\"\",VLOOKUP(A170,eligibilité!$A$15:$AG$515,5,TRUE)))","v":""},{"$f":"IF(A170=\"\",\"\",IF(VLOOKUP(A170,eligibilité!$A$15:$AG$515,6,TRUE)=\"\",\"\",VLOOKUP(A170,eligibilité!$A$15:$AG$515,6,TRUE)))","v":""},{"$f":"IF(A170=\"\",\"\",IF(VLOOKUP(A170,eligibilité!$A$15:$AG$515,7,TRUE)=\"\",\"\",VLOOKUP(A170,eligibilité!$A$15:$AG$515,7,TRUE)))","v":""},{"$f":"IF(A170=\"\",\"\",IF(VLOOKUP(A170,eligibilité!$A$15:$AG$515,8,TRUE)=\"\",\"\",VLOOKUP(A170,eligibilité!$A$15:$AG$515,8,TRUE)))","v":""},{"$f":"IF(A170=\"\",\"\",IF(VLOOKUP(A170,eligibilité!$A$15:$AG$515,9,TRUE)=\"\",\"\",VLOOKUP(A170,eligibilité!$A$15:$AG$515,9,TRUE)))","v":""},{"$f":"IF(A170=\"\",\"\",IF(VLOOKUP(A170,eligibilité!$A$15:$AG$515,10,TRUE)=\"\",\"\",VLOOKUP(A170,eligibilité!$A$15:$AG$515,10,TRUE)))","v":""},{"$f":"IF(A170=\"\",\"\",IF(VLOOKUP(A170,eligibilité!$A$15:$AG$515,30,FALSE)=0,\"\",VLOOKUP(A170,eligibilité!$A$15:$AG$515,30,FALSE)))","v":""},"","","","","","","",1305,"","","","","","","Temps restant : ",""]
[{"$f":"IF(eligibilité!AG173=\"\",\"\",eligibilité!A173)","v":""},{"$f":"IF(A171=\"\",\"\",IF(VLOOKUP(A171,eligibilité!$A$15:$J$515,2,TRUE)=\"\",\"\",VLOOKUP(A171,eligibilité!$A$15:$J$515,2,TRUE)))","v":""},{"$f":"IF(A171=\"\",\"\",IF(VLOOKUP(A171,eligibilité!$A$15:$AG$515,3,TRUE)=\"\",\"\",VLOOKUP(A171,eligibilité!$A$15:$AG$515,3,TRUE)))","v":""},{"$f":"IF(A171=\"\",\"\",IF(VLOOKUP(A171,eligibilité!$A$15:$AG$515,4,TRUE)=\"\",\"\",VLOOKUP(A171,eligibilité!$A$15:$AG$515,4,TRUE)))","v":""},{"$f":"IF(A171=\"\",\"\",IF(VLOOKUP(A171,eligibilité!$A$15:$AG$515,5,TRUE)=\"\",\"\",VLOOKUP(A171,eligibilité!$A$15:$AG$515,5,TRUE)))","v":""},{"$f":"IF(A171=\"\",\"\",IF(VLOOKUP(A171,eligibilité!$A$15:$AG$515,6,TRUE)=\"\",\"\",VLOOKUP(A171,eligibilité!$A$15:$AG$515,6,TRUE)))","v":""},{"$f":"IF(A171=\"\",\"\",IF(VLOOKUP(A171,eligibilité!$A$15:$AG$515,7,TRUE)=\"\",\"\",VLOOKUP(A171,eligibilité!$A$15:$AG$515,7,TRUE)))","v":""},{"$f":"IF(A171=\"\",\"\",IF(VLOOKUP(A171,eligibilité!$A$15:$AG$515,8,TRUE)=\"\",\"\",VLOOKUP(A171,eligibilité!$A$15:$AG$515,8,TRUE)))","v":""},{"$f":"IF(A171=\"\",\"\",IF(VLOOKUP(A171,eligibilité!$A$15:$AG$515,9,TRUE)=\"\",\"\",VLOOKUP(A171,eligibilité!$A$15:$AG$515,9,TRUE)))","v":""},{"$f":"IF(A171=\"\",\"\",IF(VLOOKUP(A171,eligibilité!$A$15:$AG$515,10,TRUE)=\"\",\"\",VLOOKUP(A171,eligibilité!$A$15:$AG$515,10,TRUE)))","v":""},{"$f":"IF(A171=\"\",\"\",IF(VLOOKUP(A171,eligibilité!$A$15:$AG$515,30,FALSE)=0,\"\",VLOOKUP(A171,eligibilité!$A$15:$AG$515,30,FALSE)))","v":""},"","","","","","","",1305,"","","","","","","Temps restant : ",""]
[{"$f":"IF(eligibilité!AG174=\"\",\"\",eligibilité!A174)","v":""},{"$f":"IF(A172=\"\",\"\",IF(VLOOKUP(A172,eligibilité!$A$15:$J$515,2,TRUE)=\"\",\"\",VLOOKUP(A172,eligibilité!$A$15:$J$515,2,TRUE)))","v":""},{"$f":"IF(A172=\"\",\"\",IF(VLOOKUP(A172,eligibilité!$A$15:$AG$515,3,TRUE)=\"\",\"\",VLOOKUP(A172,eligibilité!$A$15:$AG$515,3,TRUE)))","v":""},{"$f":"IF(A172=\"\",\"\",IF(VLOOKUP(A172,eligibilité!$A$15:$AG$515,4,TRUE)=\"\",\"\",VLOOKUP(A172,eligibilité!$A$15:$AG$515,4,TRUE)))","v":""},{"$f":"IF(A172=\"\",\"\",IF(VLOOKUP(A172,eligibilité!$A$15:$AG$515,5,TRUE)=\"\",\"\",VLOOKUP(A172,eligibilité!$A$15:$AG$515,5,TRUE)))","v":""},{"$f":"IF(A172=\"\",\"\",IF(VLOOKUP(A172,eligibilité!$A$15:$AG$515,6,TRUE)=\"\",\"\",VLOOKUP(A172,eligibilité!$A$15:$AG$515,6,TRUE)))","v":""},{"$f":"IF(A172=\"\",\"\",IF(VLOOKUP(A172,eligibilité!$A$15:$AG$515,7,TRUE)=\"\",\"\",VLOOKUP(A172,eligibilité!$A$15:$AG$515,7,TRUE)))","v":""},{"$f":"IF(A172=\"\",\"\",IF(VLOOKUP(A172,eligibilité!$A$15:$AG$515,8,TRUE)=\"\",\"\",VLOOKUP(A172,eligibilité!$A$15:$AG$515,8,TRUE)))","v":""},{"$f":"IF(A172=\"\",\"\",IF(VLOOKUP(A172,eligibilité!$A$15:$AG$515,9,TRUE)=\"\",\"\",VLOOKUP(A172,eligibilité!$A$15:$AG$515,9,TRUE)))","v":""},{"$f":"IF(A172=\"\",\"\",IF(VLOOKUP(A172,eligibilité!$A$15:$AG$515,10,TRUE)=\"\",\"\",VLOOKUP(A172,eligibilité!$A$15:$AG$515,10,TRUE)))","v":""},{"$f":"IF(A172=\"\",\"\",IF(VLOOKUP(A172,eligibilité!$A$15:$AG$515,30,FALSE)=0,\"\",VLOOKUP(A172,eligibilité!$A$15:$AG$515,30,FALSE)))","v":""},"","","","","","","",1305,"","","","","","","Temps restant : ",""]
[{"$f":"IF(eligibilité!AG175=\"\",\"\",eligibilité!A175)","v":""},{"$f":"IF(A173=\"\",\"\",IF(VLOOKUP(A173,eligibilité!$A$15:$J$515,2,TRUE)=\"\",\"\",VLOOKUP(A173,eligibilité!$A$15:$J$515,2,TRUE)))","v":""},{"$f":"IF(A173=\"\",\"\",IF(VLOOKUP(A173,eligibilité!$A$15:$AG$515,3,TRUE)=\"\",\"\",VLOOKUP(A173,eligibilité!$A$15:$AG$515,3,TRUE)))","v":""},{"$f":"IF(A173=\"\",\"\",IF(VLOOKUP(A173,eligibilité!$A$15:$AG$515,4,TRUE)=\"\",\"\",VLOOKUP(A173,eligibilité!$A$15:$AG$515,4,TRUE)))","v":""},{"$f":"IF(A173=\"\",\"\",IF(VLOOKUP(A173,eligibilité!$A$15:$AG$515,5,TRUE)=\"\",\"\",VLOOKUP(A173,eligibilité!$A$15:$AG$515,5,TRUE)))","v":""},{"$f":"IF(A173=\"\",\"\",IF(VLOOKUP(A173,eligibilité!$A$15:$AG$515,6,TRUE)=\"\",\"\",VLOOKUP(A173,eligibilité!$A$15:$AG$515,6,TRUE)))","v":""},{"$f":"IF(A173=\"\",\"\",IF(VLOOKUP(A173,eligibilité!$A$15:$AG$515,7,TRUE)=\"\",\"\",VLOOKUP(A173,eligibilité!$A$15:$AG$515,7,TRUE)))","v":""},{"$f":"IF(A173=\"\",\"\",IF(VLOOKUP(A173,eligibilité!$A$15:$AG$515,8,TRUE)=\"\",\"\",VLOOKUP(A173,eligibilité!$A$15:$AG$515,8,TRUE)))","v":""},{"$f":"IF(A173=\"\",\"\",IF(VLOOKUP(A173,eligibilité!$A$15:$AG$515,9,TRUE)=\"\",\"\",VLOOKUP(A173,eligibilité!$A$15:$AG$515,9,TRUE)))","v":""},{"$f":"IF(A173=\"\",\"\",IF(VLOOKUP(A173,eligibilité!$A$15:$AG$515,10,TRUE)=\"\",\"\",VLOOKUP(A173,eligibilité!$A$15:$AG$515,10,TRUE)))","v":""},{"$f":"IF(A173=\"\",\"\",IF(VLOOKUP(A173,eligibilité!$A$15:$AG$515,30,FALSE)=0,\"\",VLOOKUP(A173,eligibilité!$A$15:$AG$515,30,FALSE)))","v":""},"","","","","","","",1305,"","","","","","","Temps restant : ",""]
[{"$f":"IF(eligibilité!AG176=\"\",\"\",eligibilité!A176)","v":""},{"$f":"IF(A174=\"\",\"\",IF(VLOOKUP(A174,eligibilité!$A$15:$J$515,2,TRUE)=\"\",\"\",VLOOKUP(A174,eligibilité!$A$15:$J$515,2,TRUE)))","v":""},{"$f":"IF(A174=\"\",\"\",IF(VLOOKUP(A174,eligibilité!$A$15:$AG$515,3,TRUE)=\"\",\"\",VLOOKUP(A174,eligibilité!$A$15:$AG$515,3,TRUE)))","v":""},{"$f":"IF(A174=\"\",\"\",IF(VLOOKUP(A174,eligibilité!$A$15:$AG$515,4,TRUE)=\"\",\"\",VLOOKUP(A174,eligibilité!$A$15:$AG$515,4,TRUE)))","v":""},{"$f":"IF(A174=\"\",\"\",IF(VLOOKUP(A174,eligibilité!$A$15:$AG$515,5,TRUE)=\"\",\"\",VLOOKUP(A174,eligibilité!$A$15:$AG$515,5,TRUE)))","v":""},{"$f":"IF(A174=\"\",\"\",IF(VLOOKUP(A174,eligibilité!$A$15:$AG$515,6,TRUE)=\"\",\"\",VLOOKUP(A174,eligibilité!$A$15:$AG$515,6,TRUE)))","v":""},{"$f":"IF(A174=\"\",\"\",IF(VLOOKUP(A174,eligibilité!$A$15:$AG$515,7,TRUE)=\"\",\"\",VLOOKUP(A174,eligibilité!$A$15:$AG$515,7,TRUE)))","v":""},{"$f":"IF(A174=\"\",\"\",IF(VLOOKUP(A174,eligibilité!$A$15:$AG$515,8,TRUE)=\"\",\"\",VLOOKUP(A174,eligibilité!$A$15:$AG$515,8,TRUE)))","v":""},{"$f":"IF(A174=\"\",\"\",IF(VLOOKUP(A174,eligibilité!$A$15:$AG$515,9,TRUE)=\"\",\"\",VLOOKUP(A174,eligibilité!$A$15:$AG$515,9,TRUE)))","v":""},{"$f":"IF(A174=\"\",\"\",IF(VLOOKUP(A174,eligibilité!$A$15:$AG$515,10,TRUE)=\"\",\"\",VLOOKUP(A174,eligibilité!$A$15:$AG$515,10,TRUE)))","v":""},{"$f":"IF(A174=\"\",\"\",IF(VLOOKUP(A174,eligibilité!$A$15:$AG$515,30,FALSE)=0,\"\",VLOOKUP(A174,eligibilité!$A$15:$AG$515,30,FALSE)))","v":""},"","","","","","","",1305,"","","","","","","Temps restant : ",""]
[{"$f":"IF(eligibilité!AG177=\"\",\"\",eligibilité!A177)","v":""},{"$f":"IF(A175=\"\",\"\",IF(VLOOKUP(A175,eligibilité!$A$15:$J$515,2,TRUE)=\"\",\"\",VLOOKUP(A175,eligibilité!$A$15:$J$515,2,TRUE)))","v":""},{"$f":"IF(A175=\"\",\"\",IF(VLOOKUP(A175,eligibilité!$A$15:$AG$515,3,TRUE)=\"\",\"\",VLOOKUP(A175,eligibilité!$A$15:$AG$515,3,TRUE)))","v":""},{"$f":"IF(A175=\"\",\"\",IF(VLOOKUP(A175,eligibilité!$A$15:$AG$515,4,TRUE)=\"\",\"\",VLOOKUP(A175,eligibilité!$A$15:$AG$515,4,TRUE)))","v":""},{"$f":"IF(A175=\"\",\"\",IF(VLOOKUP(A175,eligibilité!$A$15:$AG$515,5,TRUE)=\"\",\"\",VLOOKUP(A175,eligibilité!$A$15:$AG$515,5,TRUE)))","v":""},{"$f":"IF(A175=\"\",\"\",IF(VLOOKUP(A175,eligibilité!$A$15:$AG$515,6,TRUE)=\"\",\"\",VLOOKUP(A175,eligibilité!$A$15:$AG$515,6,TRUE)))","v":""},{"$f":"IF(A175=\"\",\"\",IF(VLOOKUP(A175,eligibilité!$A$15:$AG$515,7,TRUE)=\"\",\"\",VLOOKUP(A175,eligibilité!$A$15:$AG$515,7,TRUE)))","v":""},{"$f":"IF(A175=\"\",\"\",IF(VLOOKUP(A175,eligibilité!$A$15:$AG$515,8,TRUE)=\"\",\"\",VLOOKUP(A175,eligibilité!$A$15:$AG$515,8,TRUE)))","v":""},{"$f":"IF(A175=\"\",\"\",IF(VLOOKUP(A175,eligibilité!$A$15:$AG$515,9,TRUE)=\"\",\"\",VLOOKUP(A175,eligibilité!$A$15:$AG$515,9,TRUE)))","v":""},{"$f":"IF(A175=\"\",\"\",IF(VLOOKUP(A175,eligibilité!$A$15:$AG$515,10,TRUE)=\"\",\"\",VLOOKUP(A175,eligibilité!$A$15:$AG$515,10,TRUE)))","v":""},{"$f":"IF(A175=\"\",\"\",IF(VLOOKUP(A175,eligibilité!$A$15:$AG$515,30,FALSE)=0,\"\",VLOOKUP(A175,eligibilité!$A$15:$AG$515,30,FALSE)))","v":""},"","","","","","","",1305,"","","","","","","Temps restant : ",""]
[{"$f":"IF(eligibilité!AG178=\"\",\"\",eligibilité!A178)","v":""},{"$f":"IF(A176=\"\",\"\",IF(VLOOKUP(A176,eligibilité!$A$15:$J$515,2,TRUE)=\"\",\"\",VLOOKUP(A176,eligibilité!$A$15:$J$515,2,TRUE)))","v":""},{"$f":"IF(A176=\"\",\"\",IF(VLOOKUP(A176,eligibilité!$A$15:$AG$515,3,TRUE)=\"\",\"\",VLOOKUP(A176,eligibilité!$A$15:$AG$515,3,TRUE)))","v":""},{"$f":"IF(A176=\"\",\"\",IF(VLOOKUP(A176,eligibilité!$A$15:$AG$515,4,TRUE)=\"\",\"\",VLOOKUP(A176,eligibilité!$A$15:$AG$515,4,TRUE)))","v":""},{"$f":"IF(A176=\"\",\"\",IF(VLOOKUP(A176,eligibilité!$A$15:$AG$515,5,TRUE)=\"\",\"\",VLOOKUP(A176,eligibilité!$A$15:$AG$515,5,TRUE)))","v":""},{"$f":"IF(A176=\"\",\"\",IF(VLOOKUP(A176,eligibilité!$A$15:$AG$515,6,TRUE)=\"\",\"\",VLOOKUP(A176,eligibilité!$A$15:$AG$515,6,TRUE)))","v":""},{"$f":"IF(A176=\"\",\"\",IF(VLOOKUP(A176,eligibilité!$A$15:$AG$515,7,TRUE)=\"\",\"\",VLOOKUP(A176,eligibilité!$A$15:$AG$515,7,TRUE)))","v":""},{"$f":"IF(A176=\"\",\"\",IF(VLOOKUP(A176,eligibilité!$A$15:$AG$515,8,TRUE)=\"\",\"\",VLOOKUP(A176,eligibilité!$A$15:$AG$515,8,TRUE)))","v":""},{"$f":"IF(A176=\"\",\"\",IF(VLOOKUP(A176,eligibilité!$A$15:$AG$515,9,TRUE)=\"\",\"\",VLOOKUP(A176,eligibilité!$A$15:$AG$515,9,TRUE)))","v":""},{"$f":"IF(A176=\"\",\"\",IF(VLOOKUP(A176,eligibilité!$A$15:$AG$515,10,TRUE)=\"\",\"\",VLOOKUP(A176,eligibilité!$A$15:$AG$515,10,TRUE)))","v":""},{"$f":"IF(A176=\"\",\"\",IF(VLOOKUP(A176,eligibilité!$A$15:$AG$515,30,FALSE)=0,\"\",VLOOKUP(A176,eligibilité!$A$15:$AG$515,30,FALSE)))","v":""},"","","","","","","",1305,"","","","","","","Temps restant : ",""]
[{"$f":"IF(eligibilité!AG179=\"\",\"\",eligibilité!A179)","v":""},{"$f":"IF(A177=\"\",\"\",IF(VLOOKUP(A177,eligibilité!$A$15:$J$515,2,TRUE)=\"\",\"\",VLOOKUP(A177,eligibilité!$A$15:$J$515,2,TRUE)))","v":""},{"$f":"IF(A177=\"\",\"\",IF(VLOOKUP(A177,eligibilité!$A$15:$AG$515,3,TRUE)=\"\",\"\",VLOOKUP(A177,eligibilité!$A$15:$AG$515,3,TRUE)))","v":""},{"$f":"IF(A177=\"\",\"\",IF(VLOOKUP(A177,eligibilité!$A$15:$AG$515,4,TRUE)=\"\",\"\",VLOOKUP(A177,eligibilité!$A$15:$AG$515,4,TRUE)))","v":""},{"$f":"IF(A177=\"\",\"\",IF(VLOOKUP(A177,eligibilité!$A$15:$AG$515,5,TRUE)=\"\",\"\",VLOOKUP(A177,eligibilité!$A$15:$AG$515,5,TRUE)))","v":""},{"$f":"IF(A177=\"\",\"\",IF(VLOOKUP(A177,eligibilité!$A$15:$AG$515,6,TRUE)=\"\",\"\",VLOOKUP(A177,eligibilité!$A$15:$AG$515,6,TRUE)))","v":""},{"$f":"IF(A177=\"\",\"\",IF(VLOOKUP(A177,eligibilité!$A$15:$AG$515,7,TRUE)=\"\",\"\",VLOOKUP(A177,eligibilité!$A$15:$AG$515,7,TRUE)))","v":""},{"$f":"IF(A177=\"\",\"\",IF(VLOOKUP(A177,eligibilité!$A$15:$AG$515,8,TRUE)=\"\",\"\",VLOOKUP(A177,eligibilité!$A$15:$AG$515,8,TRUE)))","v":""},{"$f":"IF(A177=\"\",\"\",IF(VLOOKUP(A177,eligibilité!$A$15:$AG$515,9,TRUE)=\"\",\"\",VLOOKUP(A177,eligibilité!$A$15:$AG$515,9,TRUE)))","v":""},{"$f":"IF(A177=\"\",\"\",IF(VLOOKUP(A177,eligibilité!$A$15:$AG$515,10,TRUE)=\"\",\"\",VLOOKUP(A177,eligibilité!$A$15:$AG$515,10,TRUE)))","v":""},{"$f":"IF(A177=\"\",\"\",IF(VLOOKUP(A177,eligibilité!$A$15:$AG$515,30,FALSE)=0,\"\",VLOOKUP(A177,eligibilité!$A$15:$AG$515,30,FALSE)))","v":""},"","","","","","","",1305,"","","","","","","Temps restant : ",""]
[{"$f":"IF(eligibilité!AG180=\"\",\"\",eligibilité!A180)","v":""},{"$f":"IF(A178=\"\",\"\",IF(VLOOKUP(A178,eligibilité!$A$15:$J$515,2,TRUE)=\"\",\"\",VLOOKUP(A178,eligibilité!$A$15:$J$515,2,TRUE)))","v":""},{"$f":"IF(A178=\"\",\"\",IF(VLOOKUP(A178,eligibilité!$A$15:$AG$515,3,TRUE)=\"\",\"\",VLOOKUP(A178,eligibilité!$A$15:$AG$515,3,TRUE)))","v":""},{"$f":"IF(A178=\"\",\"\",IF(VLOOKUP(A178,eligibilité!$A$15:$AG$515,4,TRUE)=\"\",\"\",VLOOKUP(A178,eligibilité!$A$15:$AG$515,4,TRUE)))","v":""},{"$f":"IF(A178=\"\",\"\",IF(VLOOKUP(A178,eligibilité!$A$15:$AG$515,5,TRUE)=\"\",\"\",VLOOKUP(A178,eligibilité!$A$15:$AG$515,5,TRUE)))","v":""},{"$f":"IF(A178=\"\",\"\",IF(VLOOKUP(A178,eligibilité!$A$15:$AG$515,6,TRUE)=\"\",\"\",VLOOKUP(A178,eligibilité!$A$15:$AG$515,6,TRUE)))","v":""},{"$f":"IF(A178=\"\",\"\",IF(VLOOKUP(A178,eligibilité!$A$15:$AG$515,7,TRUE)=\"\",\"\",VLOOKUP(A178,eligibilité!$A$15:$AG$515,7,TRUE)))","v":""},{"$f":"IF(A178=\"\",\"\",IF(VLOOKUP(A178,eligibilité!$A$15:$AG$515,8,TRUE)=\"\",\"\",VLOOKUP(A178,eligibilité!$A$15:$AG$515,8,TRUE)))","v":""},{"$f":"IF(A178=\"\",\"\",IF(VLOOKUP(A178,eligibilité!$A$15:$AG$515,9,TRUE)=\"\",\"\",VLOOKUP(A178,eligibilité!$A$15:$AG$515,9,TRUE)))","v":""},{"$f":"IF(A178=\"\",\"\",IF(VLOOKUP(A178,eligibilité!$A$15:$AG$515,10,TRUE)=\"\",\"\",VLOOKUP(A178,eligibilité!$A$15:$AG$515,10,TRUE)))","v":""},{"$f":"IF(A178=\"\",\"\",IF(VLOOKUP(A178,eligibilité!$A$15:$AG$515,30,FALSE)=0,\"\",VLOOKUP(A178,eligibilité!$A$15:$AG$515,30,FALSE)))","v":""},"","","","","","","",1305,"","","","","","","Temps restant : ",""]
[{"$f":"IF(eligibilité!AG181=\"\",\"\",eligibilité!A181)","v":""},{"$f":"IF(A179=\"\",\"\",IF(VLOOKUP(A179,eligibilité!$A$15:$J$515,2,TRUE)=\"\",\"\",VLOOKUP(A179,eligibilité!$A$15:$J$515,2,TRUE)))","v":""},{"$f":"IF(A179=\"\",\"\",IF(VLOOKUP(A179,eligibilité!$A$15:$AG$515,3,TRUE)=\"\",\"\",VLOOKUP(A179,eligibilité!$A$15:$AG$515,3,TRUE)))","v":""},{"$f":"IF(A179=\"\",\"\",IF(VLOOKUP(A179,eligibilité!$A$15:$AG$515,4,TRUE)=\"\",\"\",VLOOKUP(A179,eligibilité!$A$15:$AG$515,4,TRUE)))","v":""},{"$f":"IF(A179=\"\",\"\",IF(VLOOKUP(A179,eligibilité!$A$15:$AG$515,5,TRUE)=\"\",\"\",VLOOKUP(A179,eligibilité!$A$15:$AG$515,5,TRUE)))","v":""},{"$f":"IF(A179=\"\",\"\",IF(VLOOKUP(A179,eligibilité!$A$15:$AG$515,6,TRUE)=\"\",\"\",VLOOKUP(A179,eligibilité!$A$15:$AG$515,6,TRUE)))","v":""},{"$f":"IF(A179=\"\",\"\",IF(VLOOKUP(A179,eligibilité!$A$15:$AG$515,7,TRUE)=\"\",\"\",VLOOKUP(A179,eligibilité!$A$15:$AG$515,7,TRUE)))","v":""},{"$f":"IF(A179=\"\",\"\",IF(VLOOKUP(A179,eligibilité!$A$15:$AG$515,8,TRUE)=\"\",\"\",VLOOKUP(A179,eligibilité!$A$15:$AG$515,8,TRUE)))","v":""},{"$f":"IF(A179=\"\",\"\",IF(VLOOKUP(A179,eligibilité!$A$15:$AG$515,9,TRUE)=\"\",\"\",VLOOKUP(A179,eligibilité!$A$15:$AG$515,9,TRUE)))","v":""},{"$f":"IF(A179=\"\",\"\",IF(VLOOKUP(A179,eligibilité!$A$15:$AG$515,10,TRUE)=\"\",\"\",VLOOKUP(A179,eligibilité!$A$15:$AG$515,10,TRUE)))","v":""},{"$f":"IF(A179=\"\",\"\",IF(VLOOKUP(A179,eligibilité!$A$15:$AG$515,30,FALSE)=0,\"\",VLOOKUP(A179,eligibilité!$A$15:$AG$515,30,FALSE)))","v":""},"","","","","","","",1305,"","","","","","","Temps restant : ",""]
[{"$f":"IF(eligibilité!AG182=\"\",\"\",eligibilité!A182)","v":""},{"$f":"IF(A180=\"\",\"\",IF(VLOOKUP(A180,eligibilité!$A$15:$J$515,2,TRUE)=\"\",\"\",VLOOKUP(A180,eligibilité!$A$15:$J$515,2,TRUE)))","v":""},{"$f":"IF(A180=\"\",\"\",IF(VLOOKUP(A180,eligibilité!$A$15:$AG$515,3,TRUE)=\"\",\"\",VLOOKUP(A180,eligibilité!$A$15:$AG$515,3,TRUE)))","v":""},{"$f":"IF(A180=\"\",\"\",IF(VLOOKUP(A180,eligibilité!$A$15:$AG$515,4,TRUE)=\"\",\"\",VLOOKUP(A180,eligibilité!$A$15:$AG$515,4,TRUE)))","v":""},{"$f":"IF(A180=\"\",\"\",IF(VLOOKUP(A180,eligibilité!$A$15:$AG$515,5,TRUE)=\"\",\"\",VLOOKUP(A180,eligibilité!$A$15:$AG$515,5,TRUE)))","v":""},{"$f":"IF(A180=\"\",\"\",IF(VLOOKUP(A180,eligibilité!$A$15:$AG$515,6,TRUE)=\"\",\"\",VLOOKUP(A180,eligibilité!$A$15:$AG$515,6,TRUE)))","v":""},{"$f":"IF(A180=\"\",\"\",IF(VLOOKUP(A180,eligibilité!$A$15:$AG$515,7,TRUE)=\"\",\"\",VLOOKUP(A180,eligibilité!$A$15:$AG$515,7,TRUE)))","v":""},{"$f":"IF(A180=\"\",\"\",IF(VLOOKUP(A180,eligibilité!$A$15:$AG$515,8,TRUE)=\"\",\"\",VLOOKUP(A180,eligibilité!$A$15:$AG$515,8,TRUE)))","v":""},{"$f":"IF(A180=\"\",\"\",IF(VLOOKUP(A180,eligibilité!$A$15:$AG$515,9,TRUE)=\"\",\"\",VLOOKUP(A180,eligibilité!$A$15:$AG$515,9,TRUE)))","v":""},{"$f":"IF(A180=\"\",\"\",IF(VLOOKUP(A180,eligibilité!$A$15:$AG$515,10,TRUE)=\"\",\"\",VLOOKUP(A180,eligibilité!$A$15:$AG$515,10,TRUE)))","v":""},{"$f":"IF(A180=\"\",\"\",IF(VLOOKUP(A180,eligibilité!$A$15:$AG$515,30,FALSE)=0,\"\",VLOOKUP(A180,eligibilité!$A$15:$AG$515,30,FALSE)))","v":""},"","","","","","","",1305,"","","","","","","Temps restant : ",""]
[{"$f":"IF(eligibilité!AG183=\"\",\"\",eligibilité!A183)","v":""},{"$f":"IF(A181=\"\",\"\",IF(VLOOKUP(A181,eligibilité!$A$15:$J$515,2,TRUE)=\"\",\"\",VLOOKUP(A181,eligibilité!$A$15:$J$515,2,TRUE)))","v":""},{"$f":"IF(A181=\"\",\"\",IF(VLOOKUP(A181,eligibilité!$A$15:$AG$515,3,TRUE)=\"\",\"\",VLOOKUP(A181,eligibilité!$A$15:$AG$515,3,TRUE)))","v":""},{"$f":"IF(A181=\"\",\"\",IF(VLOOKUP(A181,eligibilité!$A$15:$AG$515,4,TRUE)=\"\",\"\",VLOOKUP(A181,eligibilité!$A$15:$AG$515,4,TRUE)))","v":""},{"$f":"IF(A181=\"\",\"\",IF(VLOOKUP(A181,eligibilité!$A$15:$AG$515,5,TRUE)=\"\",\"\",VLOOKUP(A181,eligibilité!$A$15:$AG$515,5,TRUE)))","v":""},{"$f":"IF(A181=\"\",\"\",IF(VLOOKUP(A181,eligibilité!$A$15:$AG$515,6,TRUE)=\"\",\"\",VLOOKUP(A181,eligibilité!$A$15:$AG$515,6,TRUE)))","v":""},{"$f":"IF(A181=\"\",\"\",IF(VLOOKUP(A181,eligibilité!$A$15:$AG$515,7,TRUE)=\"\",\"\",VLOOKUP(A181,eligibilité!$A$15:$AG$515,7,TRUE)))","v":""},{"$f":"IF(A181=\"\",\"\",IF(VLOOKUP(A181,eligibilité!$A$15:$AG$515,8,TRUE)=\"\",\"\",VLOOKUP(A181,eligibilité!$A$15:$AG$515,8,TRUE)))","v":""},{"$f":"IF(A181=\"\",\"\",IF(VLOOKUP(A181,eligibilité!$A$15:$AG$515,9,TRUE)=\"\",\"\",VLOOKUP(A181,eligibilité!$A$15:$AG$515,9,TRUE)))","v":""},{"$f":"IF(A181=\"\",\"\",IF(VLOOKUP(A181,eligibilité!$A$15:$AG$515,10,TRUE)=\"\",\"\",VLOOKUP(A181,eligibilité!$A$15:$AG$515,10,TRUE)))","v":""},{"$f":"IF(A181=\"\",\"\",IF(VLOOKUP(A181,eligibilité!$A$15:$AG$515,30,FALSE)=0,\"\",VLOOKUP(A181,eligibilité!$A$15:$AG$515,30,FALSE)))","v":""},"","","","","","","",1305,"","","","","","","Temps restant : ",""]
[{"$f":"IF(eligibilité!AG184=\"\",\"\",eligibilité!A184)","v":""},{"$f":"IF(A182=\"\",\"\",IF(VLOOKUP(A182,eligibilité!$A$15:$J$515,2,TRUE)=\"\",\"\",VLOOKUP(A182,eligibilité!$A$15:$J$515,2,TRUE)))","v":""},{"$f":"IF(A182=\"\",\"\",IF(VLOOKUP(A182,eligibilité!$A$15:$AG$515,3,TRUE)=\"\",\"\",VLOOKUP(A182,eligibilité!$A$15:$AG$515,3,TRUE)))","v":""},{"$f":"IF(A182=\"\",\"\",IF(VLOOKUP(A182,eligibilité!$A$15:$AG$515,4,TRUE)=\"\",\"\",VLOOKUP(A182,eligibilité!$A$15:$AG$515,4,TRUE)))","v":""},{"$f":"IF(A182=\"\",\"\",IF(VLOOKUP(A182,eligibilité!$A$15:$AG$515,5,TRUE)=\"\",\"\",VLOOKUP(A182,eligibilité!$A$15:$AG$515,5,TRUE)))","v":""},{"$f":"IF(A182=\"\",\"\",IF(VLOOKUP(A182,eligibilité!$A$15:$AG$515,6,TRUE)=\"\",\"\",VLOOKUP(A182,eligibilité!$A$15:$AG$515,6,TRUE)))","v":""},{"$f":"IF(A182=\"\",\"\",IF(VLOOKUP(A182,eligibilité!$A$15:$AG$515,7,TRUE)=\"\",\"\",VLOOKUP(A182,eligibilité!$A$15:$AG$515,7,TRUE)))","v":""},{"$f":"IF(A182=\"\",\"\",IF(VLOOKUP(A182,eligibilité!$A$15:$AG$515,8,TRUE)=\"\",\"\",VLOOKUP(A182,eligibilité!$A$15:$AG$515,8,TRUE)))","v":""},{"$f":"IF(A182=\"\",\"\",IF(VLOOKUP(A182,eligibilité!$A$15:$AG$515,9,TRUE)=\"\",\"\",VLOOKUP(A182,eligibilité!$A$15:$AG$515,9,TRUE)))","v":""},{"$f":"IF(A182=\"\",\"\",IF(VLOOKUP(A182,eligibilité!$A$15:$AG$515,10,TRUE)=\"\",\"\",VLOOKUP(A182,eligibilité!$A$15:$AG$515,10,TRUE)))","v":""},{"$f":"IF(A182=\"\",\"\",IF(VLOOKUP(A182,eligibilité!$A$15:$AG$515,30,FALSE)=0,\"\",VLOOKUP(A182,eligibilité!$A$15:$AG$515,30,FALSE)))","v":""},"","","","","","","",1305,"","","","","","","Temps restant : ",""]
[{"$f":"IF(eligibilité!AG185=\"\",\"\",eligibilité!A185)","v":""},{"$f":"IF(A183=\"\",\"\",IF(VLOOKUP(A183,eligibilité!$A$15:$J$515,2,TRUE)=\"\",\"\",VLOOKUP(A183,eligibilité!$A$15:$J$515,2,TRUE)))","v":""},{"$f":"IF(A183=\"\",\"\",IF(VLOOKUP(A183,eligibilité!$A$15:$AG$515,3,TRUE)=\"\",\"\",VLOOKUP(A183,eligibilité!$A$15:$AG$515,3,TRUE)))","v":""},{"$f":"IF(A183=\"\",\"\",IF(VLOOKUP(A183,eligibilité!$A$15:$AG$515,4,TRUE)=\"\",\"\",VLOOKUP(A183,eligibilité!$A$15:$AG$515,4,TRUE)))","v":""},{"$f":"IF(A183=\"\",\"\",IF(VLOOKUP(A183,eligibilité!$A$15:$AG$515,5,TRUE)=\"\",\"\",VLOOKUP(A183,eligibilité!$A$15:$AG$515,5,TRUE)))","v":""},{"$f":"IF(A183=\"\",\"\",IF(VLOOKUP(A183,eligibilité!$A$15:$AG$515,6,TRUE)=\"\",\"\",VLOOKUP(A183,eligibilité!$A$15:$AG$515,6,TRUE)))","v":""},{"$f":"IF(A183=\"\",\"\",IF(VLOOKUP(A183,eligibilité!$A$15:$AG$515,7,TRUE)=\"\",\"\",VLOOKUP(A183,eligibilité!$A$15:$AG$515,7,TRUE)))","v":""},{"$f":"IF(A183=\"\",\"\",IF(VLOOKUP(A183,eligibilité!$A$15:$AG$515,8,TRUE)=\"\",\"\",VLOOKUP(A183,eligibilité!$A$15:$AG$515,8,TRUE)))","v":""},{"$f":"IF(A183=\"\",\"\",IF(VLOOKUP(A183,eligibilité!$A$15:$AG$515,9,TRUE)=\"\",\"\",VLOOKUP(A183,eligibilité!$A$15:$AG$515,9,TRUE)))","v":""},{"$f":"IF(A183=\"\",\"\",IF(VLOOKUP(A183,eligibilité!$A$15:$AG$515,10,TRUE)=\"\",\"\",VLOOKUP(A183,eligibilité!$A$15:$AG$515,10,TRUE)))","v":""},{"$f":"IF(A183=\"\",\"\",IF(VLOOKUP(A183,eligibilité!$A$15:$AG$515,30,FALSE)=0,\"\",VLOOKUP(A183,eligibilité!$A$15:$AG$515,30,FALSE)))","v":""},"","","","","","","",1305,"","","","","","","Temps restant : ",""]
[{"$f":"IF(eligibilité!AG186=\"\",\"\",eligibilité!A186)","v":""},{"$f":"IF(A184=\"\",\"\",IF(VLOOKUP(A184,eligibilité!$A$15:$J$515,2,TRUE)=\"\",\"\",VLOOKUP(A184,eligibilité!$A$15:$J$515,2,TRUE)))","v":""},{"$f":"IF(A184=\"\",\"\",IF(VLOOKUP(A184,eligibilité!$A$15:$AG$515,3,TRUE)=\"\",\"\",VLOOKUP(A184,eligibilité!$A$15:$AG$515,3,TRUE)))","v":""},{"$f":"IF(A184=\"\",\"\",IF(VLOOKUP(A184,eligibilité!$A$15:$AG$515,4,TRUE)=\"\",\"\",VLOOKUP(A184,eligibilité!$A$15:$AG$515,4,TRUE)))","v":""},{"$f":"IF(A184=\"\",\"\",IF(VLOOKUP(A184,eligibilité!$A$15:$AG$515,5,TRUE)=\"\",\"\",VLOOKUP(A184,eligibilité!$A$15:$AG$515,5,TRUE)))","v":""},{"$f":"IF(A184=\"\",\"\",IF(VLOOKUP(A184,eligibilité!$A$15:$AG$515,6,TRUE)=\"\",\"\",VLOOKUP(A184,eligibilité!$A$15:$AG$515,6,TRUE)))","v":""},{"$f":"IF(A184=\"\",\"\",IF(VLOOKUP(A184,eligibilité!$A$15:$AG$515,7,TRUE)=\"\",\"\",VLOOKUP(A184,eligibilité!$A$15:$AG$515,7,TRUE)))","v":""},{"$f":"IF(A184=\"\",\"\",IF(VLOOKUP(A184,eligibilité!$A$15:$AG$515,8,TRUE)=\"\",\"\",VLOOKUP(A184,eligibilité!$A$15:$AG$515,8,TRUE)))","v":""},{"$f":"IF(A184=\"\",\"\",IF(VLOOKUP(A184,eligibilité!$A$15:$AG$515,9,TRUE)=\"\",\"\",VLOOKUP(A184,eligibilité!$A$15:$AG$515,9,TRUE)))","v":""},{"$f":"IF(A184=\"\",\"\",IF(VLOOKUP(A184,eligibilité!$A$15:$AG$515,10,TRUE)=\"\",\"\",VLOOKUP(A184,eligibilité!$A$15:$AG$515,10,TRUE)))","v":""},{"$f":"IF(A184=\"\",\"\",IF(VLOOKUP(A184,eligibilité!$A$15:$AG$515,30,FALSE)=0,\"\",VLOOKUP(A184,eligibilité!$A$15:$AG$515,30,FALSE)))","v":""},"","","","","","","",1305,"","","","","","","Temps restant : ",""]
[{"$f":"IF(eligibilité!AG187=\"\",\"\",eligibilité!A187)","v":""},{"$f":"IF(A185=\"\",\"\",IF(VLOOKUP(A185,eligibilité!$A$15:$J$515,2,TRUE)=\"\",\"\",VLOOKUP(A185,eligibilité!$A$15:$J$515,2,TRUE)))","v":""},{"$f":"IF(A185=\"\",\"\",IF(VLOOKUP(A185,eligibilité!$A$15:$AG$515,3,TRUE)=\"\",\"\",VLOOKUP(A185,eligibilité!$A$15:$AG$515,3,TRUE)))","v":""},{"$f":"IF(A185=\"\",\"\",IF(VLOOKUP(A185,eligibilité!$A$15:$AG$515,4,TRUE)=\"\",\"\",VLOOKUP(A185,eligibilité!$A$15:$AG$515,4,TRUE)))","v":""},{"$f":"IF(A185=\"\",\"\",IF(VLOOKUP(A185,eligibilité!$A$15:$AG$515,5,TRUE)=\"\",\"\",VLOOKUP(A185,eligibilité!$A$15:$AG$515,5,TRUE)))","v":""},{"$f":"IF(A185=\"\",\"\",IF(VLOOKUP(A185,eligibilité!$A$15:$AG$515,6,TRUE)=\"\",\"\",VLOOKUP(A185,eligibilité!$A$15:$AG$515,6,TRUE)))","v":""},{"$f":"IF(A185=\"\",\"\",IF(VLOOKUP(A185,eligibilité!$A$15:$AG$515,7,TRUE)=\"\",\"\",VLOOKUP(A185,eligibilité!$A$15:$AG$515,7,TRUE)))","v":""},{"$f":"IF(A185=\"\",\"\",IF(VLOOKUP(A185,eligibilité!$A$15:$AG$515,8,TRUE)=\"\",\"\",VLOOKUP(A185,eligibilité!$A$15:$AG$515,8,TRUE)))","v":""},{"$f":"IF(A185=\"\",\"\",IF(VLOOKUP(A185,eligibilité!$A$15:$AG$515,9,TRUE)=\"\",\"\",VLOOKUP(A185,eligibilité!$A$15:$AG$515,9,TRUE)))","v":""},{"$f":"IF(A185=\"\",\"\",IF(VLOOKUP(A185,eligibilité!$A$15:$AG$515,10,TRUE)=\"\",\"\",VLOOKUP(A185,eligibilité!$A$15:$AG$515,10,TRUE)))","v":""},{"$f":"IF(A185=\"\",\"\",IF(VLOOKUP(A185,eligibilité!$A$15:$AG$515,30,FALSE)=0,\"\",VLOOKUP(A185,eligibilité!$A$15:$AG$515,30,FALSE)))","v":""},"","","","","","","",1305,"","","","","","","Temps restant : ",""]
[{"$f":"IF(eligibilité!AG188=\"\",\"\",eligibilité!A188)","v":""},{"$f":"IF(A186=\"\",\"\",IF(VLOOKUP(A186,eligibilité!$A$15:$J$515,2,TRUE)=\"\",\"\",VLOOKUP(A186,eligibilité!$A$15:$J$515,2,TRUE)))","v":""},{"$f":"IF(A186=\"\",\"\",IF(VLOOKUP(A186,eligibilité!$A$15:$AG$515,3,TRUE)=\"\",\"\",VLOOKUP(A186,eligibilité!$A$15:$AG$515,3,TRUE)))","v":""},{"$f":"IF(A186=\"\",\"\",IF(VLOOKUP(A186,eligibilité!$A$15:$AG$515,4,TRUE)=\"\",\"\",VLOOKUP(A186,eligibilité!$A$15:$AG$515,4,TRUE)))","v":""},{"$f":"IF(A186=\"\",\"\",IF(VLOOKUP(A186,eligibilité!$A$15:$AG$515,5,TRUE)=\"\",\"\",VLOOKUP(A186,eligibilité!$A$15:$AG$515,5,TRUE)))","v":""},{"$f":"IF(A186=\"\",\"\",IF(VLOOKUP(A186,eligibilité!$A$15:$AG$515,6,TRUE)=\"\",\"\",VLOOKUP(A186,eligibilité!$A$15:$AG$515,6,TRUE)))","v":""},{"$f":"IF(A186=\"\",\"\",IF(VLOOKUP(A186,eligibilité!$A$15:$AG$515,7,TRUE)=\"\",\"\",VLOOKUP(A186,eligibilité!$A$15:$AG$515,7,TRUE)))","v":""},{"$f":"IF(A186=\"\",\"\",IF(VLOOKUP(A186,eligibilité!$A$15:$AG$515,8,TRUE)=\"\",\"\",VLOOKUP(A186,eligibilité!$A$15:$AG$515,8,TRUE)))","v":""},{"$f":"IF(A186=\"\",\"\",IF(VLOOKUP(A186,eligibilité!$A$15:$AG$515,9,TRUE)=\"\",\"\",VLOOKUP(A186,eligibilité!$A$15:$AG$515,9,TRUE)))","v":""},{"$f":"IF(A186=\"\",\"\",IF(VLOOKUP(A186,eligibilité!$A$15:$AG$515,10,TRUE)=\"\",\"\",VLOOKUP(A186,eligibilité!$A$15:$AG$515,10,TRUE)))","v":""},{"$f":"IF(A186=\"\",\"\",IF(VLOOKUP(A186,eligibilité!$A$15:$AG$515,30,FALSE)=0,\"\",VLOOKUP(A186,eligibilité!$A$15:$AG$515,30,FALSE)))","v":""},"","","","","","","",1305,"","","","","","","Temps restant : ",""]
[{"$f":"IF(eligibilité!AG189=\"\",\"\",eligibilité!A189)","v":""},{"$f":"IF(A187=\"\",\"\",IF(VLOOKUP(A187,eligibilité!$A$15:$J$515,2,TRUE)=\"\",\"\",VLOOKUP(A187,eligibilité!$A$15:$J$515,2,TRUE)))","v":""},{"$f":"IF(A187=\"\",\"\",IF(VLOOKUP(A187,eligibilité!$A$15:$AG$515,3,TRUE)=\"\",\"\",VLOOKUP(A187,eligibilité!$A$15:$AG$515,3,TRUE)))","v":""},{"$f":"IF(A187=\"\",\"\",IF(VLOOKUP(A187,eligibilité!$A$15:$AG$515,4,TRUE)=\"\",\"\",VLOOKUP(A187,eligibilité!$A$15:$AG$515,4,TRUE)))","v":""},{"$f":"IF(A187=\"\",\"\",IF(VLOOKUP(A187,eligibilité!$A$15:$AG$515,5,TRUE)=\"\",\"\",VLOOKUP(A187,eligibilité!$A$15:$AG$515,5,TRUE)))","v":""},{"$f":"IF(A187=\"\",\"\",IF(VLOOKUP(A187,eligibilité!$A$15:$AG$515,6,TRUE)=\"\",\"\",VLOOKUP(A187,eligibilité!$A$15:$AG$515,6,TRUE)))","v":""},{"$f":"IF(A187=\"\",\"\",IF(VLOOKUP(A187,eligibilité!$A$15:$AG$515,7,TRUE)=\"\",\"\",VLOOKUP(A187,eligibilité!$A$15:$AG$515,7,TRUE)))","v":""},{"$f":"IF(A187=\"\",\"\",IF(VLOOKUP(A187,eligibilité!$A$15:$AG$515,8,TRUE)=\"\",\"\",VLOOKUP(A187,eligibilité!$A$15:$AG$515,8,TRUE)))","v":""},{"$f":"IF(A187=\"\",\"\",IF(VLOOKUP(A187,eligibilité!$A$15:$AG$515,9,TRUE)=\"\",\"\",VLOOKUP(A187,eligibilité!$A$15:$AG$515,9,TRUE)))","v":""},{"$f":"IF(A187=\"\",\"\",IF(VLOOKUP(A187,eligibilité!$A$15:$AG$515,10,TRUE)=\"\",\"\",VLOOKUP(A187,eligibilité!$A$15:$AG$515,10,TRUE)))","v":""},{"$f":"IF(A187=\"\",\"\",IF(VLOOKUP(A187,eligibilité!$A$15:$AG$515,30,FALSE)=0,\"\",VLOOKUP(A187,eligibilité!$A$15:$AG$515,30,FALSE)))","v":""},"","","","","","","",1305,"","","","","","","Temps restant : ",""]
[{"$f":"IF(eligibilité!AG190=\"\",\"\",eligibilité!A190)","v":""},{"$f":"IF(A188=\"\",\"\",IF(VLOOKUP(A188,eligibilité!$A$15:$J$515,2,TRUE)=\"\",\"\",VLOOKUP(A188,eligibilité!$A$15:$J$515,2,TRUE)))","v":""},{"$f":"IF(A188=\"\",\"\",IF(VLOOKUP(A188,eligibilité!$A$15:$AG$515,3,TRUE)=\"\",\"\",VLOOKUP(A188,eligibilité!$A$15:$AG$515,3,TRUE)))","v":""},{"$f":"IF(A188=\"\",\"\",IF(VLOOKUP(A188,eligibilité!$A$15:$AG$515,4,TRUE)=\"\",\"\",VLOOKUP(A188,eligibilité!$A$15:$AG$515,4,TRUE)))","v":""},{"$f":"IF(A188=\"\",\"\",IF(VLOOKUP(A188,eligibilité!$A$15:$AG$515,5,TRUE)=\"\",\"\",VLOOKUP(A188,eligibilité!$A$15:$AG$515,5,TRUE)))","v":""},{"$f":"IF(A188=\"\",\"\",IF(VLOOKUP(A188,eligibilité!$A$15:$AG$515,6,TRUE)=\"\",\"\",VLOOKUP(A188,eligibilité!$A$15:$AG$515,6,TRUE)))","v":""},{"$f":"IF(A188=\"\",\"\",IF(VLOOKUP(A188,eligibilité!$A$15:$AG$515,7,TRUE)=\"\",\"\",VLOOKUP(A188,eligibilité!$A$15:$AG$515,7,TRUE)))","v":""},{"$f":"IF(A188=\"\",\"\",IF(VLOOKUP(A188,eligibilité!$A$15:$AG$515,8,TRUE)=\"\",\"\",VLOOKUP(A188,eligibilité!$A$15:$AG$515,8,TRUE)))","v":""},{"$f":"IF(A188=\"\",\"\",IF(VLOOKUP(A188,eligibilité!$A$15:$AG$515,9,TRUE)=\"\",\"\",VLOOKUP(A188,eligibilité!$A$15:$AG$515,9,TRUE)))","v":""},{"$f":"IF(A188=\"\",\"\",IF(VLOOKUP(A188,eligibilité!$A$15:$AG$515,10,TRUE)=\"\",\"\",VLOOKUP(A188,eligibilité!$A$15:$AG$515,10,TRUE)))","v":""},{"$f":"IF(A188=\"\",\"\",IF(VLOOKUP(A188,eligibilité!$A$15:$AG$515,30,FALSE)=0,\"\",VLOOKUP(A188,eligibilité!$A$15:$AG$515,30,FALSE)))","v":""},"","","","","","","",1305,"","","","","","","Temps restant : ",""]
[{"$f":"IF(eligibilité!AG191=\"\",\"\",eligibilité!A191)","v":""},{"$f":"IF(A189=\"\",\"\",IF(VLOOKUP(A189,eligibilité!$A$15:$J$515,2,TRUE)=\"\",\"\",VLOOKUP(A189,eligibilité!$A$15:$J$515,2,TRUE)))","v":""},{"$f":"IF(A189=\"\",\"\",IF(VLOOKUP(A189,eligibilité!$A$15:$AG$515,3,TRUE)=\"\",\"\",VLOOKUP(A189,eligibilité!$A$15:$AG$515,3,TRUE)))","v":""},{"$f":"IF(A189=\"\",\"\",IF(VLOOKUP(A189,eligibilité!$A$15:$AG$515,4,TRUE)=\"\",\"\",VLOOKUP(A189,eligibilité!$A$15:$AG$515,4,TRUE)))","v":""},{"$f":"IF(A189=\"\",\"\",IF(VLOOKUP(A189,eligibilité!$A$15:$AG$515,5,TRUE)=\"\",\"\",VLOOKUP(A189,eligibilité!$A$15:$AG$515,5,TRUE)))","v":""},{"$f":"IF(A189=\"\",\"\",IF(VLOOKUP(A189,eligibilité!$A$15:$AG$515,6,TRUE)=\"\",\"\",VLOOKUP(A189,eligibilité!$A$15:$AG$515,6,TRUE)))","v":""},{"$f":"IF(A189=\"\",\"\",IF(VLOOKUP(A189,eligibilité!$A$15:$AG$515,7,TRUE)=\"\",\"\",VLOOKUP(A189,eligibilité!$A$15:$AG$515,7,TRUE)))","v":""},{"$f":"IF(A189=\"\",\"\",IF(VLOOKUP(A189,eligibilité!$A$15:$AG$515,8,TRUE)=\"\",\"\",VLOOKUP(A189,eligibilité!$A$15:$AG$515,8,TRUE)))","v":""},{"$f":"IF(A189=\"\",\"\",IF(VLOOKUP(A189,eligibilité!$A$15:$AG$515,9,TRUE)=\"\",\"\",VLOOKUP(A189,eligibilité!$A$15:$AG$515,9,TRUE)))","v":""},{"$f":"IF(A189=\"\",\"\",IF(VLOOKUP(A189,eligibilité!$A$15:$AG$515,10,TRUE)=\"\",\"\",VLOOKUP(A189,eligibilité!$A$15:$AG$515,10,TRUE)))","v":""},{"$f":"IF(A189=\"\",\"\",IF(VLOOKUP(A189,eligibilité!$A$15:$AG$515,30,FALSE)=0,\"\",VLOOKUP(A189,eligibilité!$A$15:$AG$515,30,FALSE)))","v":""},"","","","","","","",1305,"","","","","","","Temps restant : ",""]
[{"$f":"IF(eligibilité!AG192=\"\",\"\",eligibilité!A192)","v":""},{"$f":"IF(A190=\"\",\"\",IF(VLOOKUP(A190,eligibilité!$A$15:$J$515,2,TRUE)=\"\",\"\",VLOOKUP(A190,eligibilité!$A$15:$J$515,2,TRUE)))","v":""},{"$f":"IF(A190=\"\",\"\",IF(VLOOKUP(A190,eligibilité!$A$15:$AG$515,3,TRUE)=\"\",\"\",VLOOKUP(A190,eligibilité!$A$15:$AG$515,3,TRUE)))","v":""},{"$f":"IF(A190=\"\",\"\",IF(VLOOKUP(A190,eligibilité!$A$15:$AG$515,4,TRUE)=\"\",\"\",VLOOKUP(A190,eligibilité!$A$15:$AG$515,4,TRUE)))","v":""},{"$f":"IF(A190=\"\",\"\",IF(VLOOKUP(A190,eligibilité!$A$15:$AG$515,5,TRUE)=\"\",\"\",VLOOKUP(A190,eligibilité!$A$15:$AG$515,5,TRUE)))","v":""},{"$f":"IF(A190=\"\",\"\",IF(VLOOKUP(A190,eligibilité!$A$15:$AG$515,6,TRUE)=\"\",\"\",VLOOKUP(A190,eligibilité!$A$15:$AG$515,6,TRUE)))","v":""},{"$f":"IF(A190=\"\",\"\",IF(VLOOKUP(A190,eligibilité!$A$15:$AG$515,7,TRUE)=\"\",\"\",VLOOKUP(A190,eligibilité!$A$15:$AG$515,7,TRUE)))","v":""},{"$f":"IF(A190=\"\",\"\",IF(VLOOKUP(A190,eligibilité!$A$15:$AG$515,8,TRUE)=\"\",\"\",VLOOKUP(A190,eligibilité!$A$15:$AG$515,8,TRUE)))","v":""},{"$f":"IF(A190=\"\",\"\",IF(VLOOKUP(A190,eligibilité!$A$15:$AG$515,9,TRUE)=\"\",\"\",VLOOKUP(A190,eligibilité!$A$15:$AG$515,9,TRUE)))","v":""},{"$f":"IF(A190=\"\",\"\",IF(VLOOKUP(A190,eligibilité!$A$15:$AG$515,10,TRUE)=\"\",\"\",VLOOKUP(A190,eligibilité!$A$15:$AG$515,10,TRUE)))","v":""},{"$f":"IF(A190=\"\",\"\",IF(VLOOKUP(A190,eligibilité!$A$15:$AG$515,30,FALSE)=0,\"\",VLOOKUP(A190,eligibilité!$A$15:$AG$515,30,FALSE)))","v":""},"","","","","","","",1305,"","","","","","","Temps restant : ",""]
[{"$f":"IF(eligibilité!AG193=\"\",\"\",eligibilité!A193)","v":""},{"$f":"IF(A191=\"\",\"\",IF(VLOOKUP(A191,eligibilité!$A$15:$J$515,2,TRUE)=\"\",\"\",VLOOKUP(A191,eligibilité!$A$15:$J$515,2,TRUE)))","v":""},{"$f":"IF(A191=\"\",\"\",IF(VLOOKUP(A191,eligibilité!$A$15:$AG$515,3,TRUE)=\"\",\"\",VLOOKUP(A191,eligibilité!$A$15:$AG$515,3,TRUE)))","v":""},{"$f":"IF(A191=\"\",\"\",IF(VLOOKUP(A191,eligibilité!$A$15:$AG$515,4,TRUE)=\"\",\"\",VLOOKUP(A191,eligibilité!$A$15:$AG$515,4,TRUE)))","v":""},{"$f":"IF(A191=\"\",\"\",IF(VLOOKUP(A191,eligibilité!$A$15:$AG$515,5,TRUE)=\"\",\"\",VLOOKUP(A191,eligibilité!$A$15:$AG$515,5,TRUE)))","v":""},{"$f":"IF(A191=\"\",\"\",IF(VLOOKUP(A191,eligibilité!$A$15:$AG$515,6,TRUE)=\"\",\"\",VLOOKUP(A191,eligibilité!$A$15:$AG$515,6,TRUE)))","v":""},{"$f":"IF(A191=\"\",\"\",IF(VLOOKUP(A191,eligibilité!$A$15:$AG$515,7,TRUE)=\"\",\"\",VLOOKUP(A191,eligibilité!$A$15:$AG$515,7,TRUE)))","v":""},{"$f":"IF(A191=\"\",\"\",IF(VLOOKUP(A191,eligibilité!$A$15:$AG$515,8,TRUE)=\"\",\"\",VLOOKUP(A191,eligibilité!$A$15:$AG$515,8,TRUE)))","v":""},{"$f":"IF(A191=\"\",\"\",IF(VLOOKUP(A191,eligibilité!$A$15:$AG$515,9,TRUE)=\"\",\"\",VLOOKUP(A191,eligibilité!$A$15:$AG$515,9,TRUE)))","v":""},{"$f":"IF(A191=\"\",\"\",IF(VLOOKUP(A191,eligibilité!$A$15:$AG$515,10,TRUE)=\"\",\"\",VLOOKUP(A191,eligibilité!$A$15:$AG$515,10,TRUE)))","v":""},{"$f":"IF(A191=\"\",\"\",IF(VLOOKUP(A191,eligibilité!$A$15:$AG$515,30,FALSE)=0,\"\",VLOOKUP(A191,eligibilité!$A$15:$AG$515,30,FALSE)))","v":""},"","","","","","","",1305,"","","","","","","Temps restant : ",""]
[{"$f":"IF(eligibilité!AG194=\"\",\"\",eligibilité!A194)","v":""},{"$f":"IF(A192=\"\",\"\",IF(VLOOKUP(A192,eligibilité!$A$15:$J$515,2,TRUE)=\"\",\"\",VLOOKUP(A192,eligibilité!$A$15:$J$515,2,TRUE)))","v":""},{"$f":"IF(A192=\"\",\"\",IF(VLOOKUP(A192,eligibilité!$A$15:$AG$515,3,TRUE)=\"\",\"\",VLOOKUP(A192,eligibilité!$A$15:$AG$515,3,TRUE)))","v":""},{"$f":"IF(A192=\"\",\"\",IF(VLOOKUP(A192,eligibilité!$A$15:$AG$515,4,TRUE)=\"\",\"\",VLOOKUP(A192,eligibilité!$A$15:$AG$515,4,TRUE)))","v":""},{"$f":"IF(A192=\"\",\"\",IF(VLOOKUP(A192,eligibilité!$A$15:$AG$515,5,TRUE)=\"\",\"\",VLOOKUP(A192,eligibilité!$A$15:$AG$515,5,TRUE)))","v":""},{"$f":"IF(A192=\"\",\"\",IF(VLOOKUP(A192,eligibilité!$A$15:$AG$515,6,TRUE)=\"\",\"\",VLOOKUP(A192,eligibilité!$A$15:$AG$515,6,TRUE)))","v":""},{"$f":"IF(A192=\"\",\"\",IF(VLOOKUP(A192,eligibilité!$A$15:$AG$515,7,TRUE)=\"\",\"\",VLOOKUP(A192,eligibilité!$A$15:$AG$515,7,TRUE)))","v":""},{"$f":"IF(A192=\"\",\"\",IF(VLOOKUP(A192,eligibilité!$A$15:$AG$515,8,TRUE)=\"\",\"\",VLOOKUP(A192,eligibilité!$A$15:$AG$515,8,TRUE)))","v":""},{"$f":"IF(A192=\"\",\"\",IF(VLOOKUP(A192,eligibilité!$A$15:$AG$515,9,TRUE)=\"\",\"\",VLOOKUP(A192,eligibilité!$A$15:$AG$515,9,TRUE)))","v":""},{"$f":"IF(A192=\"\",\"\",IF(VLOOKUP(A192,eligibilité!$A$15:$AG$515,10,TRUE)=\"\",\"\",VLOOKUP(A192,eligibilité!$A$15:$AG$515,10,TRUE)))","v":""},{"$f":"IF(A192=\"\",\"\",IF(VLOOKUP(A192,eligibilité!$A$15:$AG$515,30,FALSE)=0,\"\",VLOOKUP(A192,eligibilité!$A$15:$AG$515,30,FALSE)))","v":""},"","","","","","","",1305,"","","","","","","Temps restant : ",""]
[{"$f":"IF(eligibilité!AG195=\"\",\"\",eligibilité!A195)","v":""},{"$f":"IF(A193=\"\",\"\",IF(VLOOKUP(A193,eligibilité!$A$15:$J$515,2,TRUE)=\"\",\"\",VLOOKUP(A193,eligibilité!$A$15:$J$515,2,TRUE)))","v":""},{"$f":"IF(A193=\"\",\"\",IF(VLOOKUP(A193,eligibilité!$A$15:$AG$515,3,TRUE)=\"\",\"\",VLOOKUP(A193,eligibilité!$A$15:$AG$515,3,TRUE)))","v":""},{"$f":"IF(A193=\"\",\"\",IF(VLOOKUP(A193,eligibilité!$A$15:$AG$515,4,TRUE)=\"\",\"\",VLOOKUP(A193,eligibilité!$A$15:$AG$515,4,TRUE)))","v":""},{"$f":"IF(A193=\"\",\"\",IF(VLOOKUP(A193,eligibilité!$A$15:$AG$515,5,TRUE)=\"\",\"\",VLOOKUP(A193,eligibilité!$A$15:$AG$515,5,TRUE)))","v":""},{"$f":"IF(A193=\"\",\"\",IF(VLOOKUP(A193,eligibilité!$A$15:$AG$515,6,TRUE)=\"\",\"\",VLOOKUP(A193,eligibilité!$A$15:$AG$515,6,TRUE)))","v":""},{"$f":"IF(A193=\"\",\"\",IF(VLOOKUP(A193,eligibilité!$A$15:$AG$515,7,TRUE)=\"\",\"\",VLOOKUP(A193,eligibilité!$A$15:$AG$515,7,TRUE)))","v":""},{"$f":"IF(A193=\"\",\"\",IF(VLOOKUP(A193,eligibilité!$A$15:$AG$515,8,TRUE)=\"\",\"\",VLOOKUP(A193,eligibilité!$A$15:$AG$515,8,TRUE)))","v":""},{"$f":"IF(A193=\"\",\"\",IF(VLOOKUP(A193,eligibilité!$A$15:$AG$515,9,TRUE)=\"\",\"\",VLOOKUP(A193,eligibilité!$A$15:$AG$515,9,TRUE)))","v":""},{"$f":"IF(A193=\"\",\"\",IF(VLOOKUP(A193,eligibilité!$A$15:$AG$515,10,TRUE)=\"\",\"\",VLOOKUP(A193,eligibilité!$A$15:$AG$515,10,TRUE)))","v":""},{"$f":"IF(A193=\"\",\"\",IF(VLOOKUP(A193,eligibilité!$A$15:$AG$515,30,FALSE)=0,\"\",VLOOKUP(A193,eligibilité!$A$15:$AG$515,30,FALSE)))","v":""},"","","","","","","",1305,"","","","","","","Temps restant : ",""]
[{"$f":"IF(eligibilité!AG196=\"\",\"\",eligibilité!A196)","v":""},{"$f":"IF(A194=\"\",\"\",IF(VLOOKUP(A194,eligibilité!$A$15:$J$515,2,TRUE)=\"\",\"\",VLOOKUP(A194,eligibilité!$A$15:$J$515,2,TRUE)))","v":""},{"$f":"IF(A194=\"\",\"\",IF(VLOOKUP(A194,eligibilité!$A$15:$AG$515,3,TRUE)=\"\",\"\",VLOOKUP(A194,eligibilité!$A$15:$AG$515,3,TRUE)))","v":""},{"$f":"IF(A194=\"\",\"\",IF(VLOOKUP(A194,eligibilité!$A$15:$AG$515,4,TRUE)=\"\",\"\",VLOOKUP(A194,eligibilité!$A$15:$AG$515,4,TRUE)))","v":""},{"$f":"IF(A194=\"\",\"\",IF(VLOOKUP(A194,eligibilité!$A$15:$AG$515,5,TRUE)=\"\",\"\",VLOOKUP(A194,eligibilité!$A$15:$AG$515,5,TRUE)))","v":""},{"$f":"IF(A194=\"\",\"\",IF(VLOOKUP(A194,eligibilité!$A$15:$AG$515,6,TRUE)=\"\",\"\",VLOOKUP(A194,eligibilité!$A$15:$AG$515,6,TRUE)))","v":""},{"$f":"IF(A194=\"\",\"\",IF(VLOOKUP(A194,eligibilité!$A$15:$AG$515,7,TRUE)=\"\",\"\",VLOOKUP(A194,eligibilité!$A$15:$AG$515,7,TRUE)))","v":""},{"$f":"IF(A194=\"\",\"\",IF(VLOOKUP(A194,eligibilité!$A$15:$AG$515,8,TRUE)=\"\",\"\",VLOOKUP(A194,eligibilité!$A$15:$AG$515,8,TRUE)))","v":""},{"$f":"IF(A194=\"\",\"\",IF(VLOOKUP(A194,eligibilité!$A$15:$AG$515,9,TRUE)=\"\",\"\",VLOOKUP(A194,eligibilité!$A$15:$AG$515,9,TRUE)))","v":""},{"$f":"IF(A194=\"\",\"\",IF(VLOOKUP(A194,eligibilité!$A$15:$AG$515,10,TRUE)=\"\",\"\",VLOOKUP(A194,eligibilité!$A$15:$AG$515,10,TRUE)))","v":""},{"$f":"IF(A194=\"\",\"\",IF(VLOOKUP(A194,eligibilité!$A$15:$AG$515,30,FALSE)=0,\"\",VLOOKUP(A194,eligibilité!$A$15:$AG$515,30,FALSE)))","v":""},"","","","","","","",1305,"","","","","","","Temps restant : ",""]
[{"$f":"IF(eligibilité!AG197=\"\",\"\",eligibilité!A197)","v":""},{"$f":"IF(A195=\"\",\"\",IF(VLOOKUP(A195,eligibilité!$A$15:$J$515,2,TRUE)=\"\",\"\",VLOOKUP(A195,eligibilité!$A$15:$J$515,2,TRUE)))","v":""},{"$f":"IF(A195=\"\",\"\",IF(VLOOKUP(A195,eligibilité!$A$15:$AG$515,3,TRUE)=\"\",\"\",VLOOKUP(A195,eligibilité!$A$15:$AG$515,3,TRUE)))","v":""},{"$f":"IF(A195=\"\",\"\",IF(VLOOKUP(A195,eligibilité!$A$15:$AG$515,4,TRUE)=\"\",\"\",VLOOKUP(A195,eligibilité!$A$15:$AG$515,4,TRUE)))","v":""},{"$f":"IF(A195=\"\",\"\",IF(VLOOKUP(A195,eligibilité!$A$15:$AG$515,5,TRUE)=\"\",\"\",VLOOKUP(A195,eligibilité!$A$15:$AG$515,5,TRUE)))","v":""},{"$f":"IF(A195=\"\",\"\",IF(VLOOKUP(A195,eligibilité!$A$15:$AG$515,6,TRUE)=\"\",\"\",VLOOKUP(A195,eligibilité!$A$15:$AG$515,6,TRUE)))","v":""},{"$f":"IF(A195=\"\",\"\",IF(VLOOKUP(A195,eligibilité!$A$15:$AG$515,7,TRUE)=\"\",\"\",VLOOKUP(A195,eligibilité!$A$15:$AG$515,7,TRUE)))","v":""},{"$f":"IF(A195=\"\",\"\",IF(VLOOKUP(A195,eligibilité!$A$15:$AG$515,8,TRUE)=\"\",\"\",VLOOKUP(A195,eligibilité!$A$15:$AG$515,8,TRUE)))","v":""},{"$f":"IF(A195=\"\",\"\",IF(VLOOKUP(A195,eligibilité!$A$15:$AG$515,9,TRUE)=\"\",\"\",VLOOKUP(A195,eligibilité!$A$15:$AG$515,9,TRUE)))","v":""},{"$f":"IF(A195=\"\",\"\",IF(VLOOKUP(A195,eligibilité!$A$15:$AG$515,10,TRUE)=\"\",\"\",VLOOKUP(A195,eligibilité!$A$15:$AG$515,10,TRUE)))","v":""},{"$f":"IF(A195=\"\",\"\",IF(VLOOKUP(A195,eligibilité!$A$15:$AG$515,30,FALSE)=0,\"\",VLOOKUP(A195,eligibilité!$A$15:$AG$515,30,FALSE)))","v":""},"","","","","","","",1305,"","","","","","","Temps restant : ",""]
[{"$f":"IF(eligibilité!AG198=\"\",\"\",eligibilité!A198)","v":""},{"$f":"IF(A196=\"\",\"\",IF(VLOOKUP(A196,eligibilité!$A$15:$J$515,2,TRUE)=\"\",\"\",VLOOKUP(A196,eligibilité!$A$15:$J$515,2,TRUE)))","v":""},{"$f":"IF(A196=\"\",\"\",IF(VLOOKUP(A196,eligibilité!$A$15:$AG$515,3,TRUE)=\"\",\"\",VLOOKUP(A196,eligibilité!$A$15:$AG$515,3,TRUE)))","v":""},{"$f":"IF(A196=\"\",\"\",IF(VLOOKUP(A196,eligibilité!$A$15:$AG$515,4,TRUE)=\"\",\"\",VLOOKUP(A196,eligibilité!$A$15:$AG$515,4,TRUE)))","v":""},{"$f":"IF(A196=\"\",\"\",IF(VLOOKUP(A196,eligibilité!$A$15:$AG$515,5,TRUE)=\"\",\"\",VLOOKUP(A196,eligibilité!$A$15:$AG$515,5,TRUE)))","v":""},{"$f":"IF(A196=\"\",\"\",IF(VLOOKUP(A196,eligibilité!$A$15:$AG$515,6,TRUE)=\"\",\"\",VLOOKUP(A196,eligibilité!$A$15:$AG$515,6,TRUE)))","v":""},{"$f":"IF(A196=\"\",\"\",IF(VLOOKUP(A196,eligibilité!$A$15:$AG$515,7,TRUE)=\"\",\"\",VLOOKUP(A196,eligibilité!$A$15:$AG$515,7,TRUE)))","v":""},{"$f":"IF(A196=\"\",\"\",IF(VLOOKUP(A196,eligibilité!$A$15:$AG$515,8,TRUE)=\"\",\"\",VLOOKUP(A196,eligibilité!$A$15:$AG$515,8,TRUE)))","v":""},{"$f":"IF(A196=\"\",\"\",IF(VLOOKUP(A196,eligibilité!$A$15:$AG$515,9,TRUE)=\"\",\"\",VLOOKUP(A196,eligibilité!$A$15:$AG$515,9,TRUE)))","v":""},{"$f":"IF(A196=\"\",\"\",IF(VLOOKUP(A196,eligibilité!$A$15:$AG$515,10,TRUE)=\"\",\"\",VLOOKUP(A196,eligibilité!$A$15:$AG$515,10,TRUE)))","v":""},{"$f":"IF(A196=\"\",\"\",IF(VLOOKUP(A196,eligibilité!$A$15:$AG$515,30,FALSE)=0,\"\",VLOOKUP(A196,eligibilité!$A$15:$AG$515,30,FALSE)))","v":""},"","","","","","","",1305,"","","","","","","Temps restant : ",""]
[{"$f":"IF(eligibilité!AG199=\"\",\"\",eligibilité!A199)","v":""},{"$f":"IF(A197=\"\",\"\",IF(VLOOKUP(A197,eligibilité!$A$15:$J$515,2,TRUE)=\"\",\"\",VLOOKUP(A197,eligibilité!$A$15:$J$515,2,TRUE)))","v":""},{"$f":"IF(A197=\"\",\"\",IF(VLOOKUP(A197,eligibilité!$A$15:$AG$515,3,TRUE)=\"\",\"\",VLOOKUP(A197,eligibilité!$A$15:$AG$515,3,TRUE)))","v":""},{"$f":"IF(A197=\"\",\"\",IF(VLOOKUP(A197,eligibilité!$A$15:$AG$515,4,TRUE)=\"\",\"\",VLOOKUP(A197,eligibilité!$A$15:$AG$515,4,TRUE)))","v":""},{"$f":"IF(A197=\"\",\"\",IF(VLOOKUP(A197,eligibilité!$A$15:$AG$515,5,TRUE)=\"\",\"\",VLOOKUP(A197,eligibilité!$A$15:$AG$515,5,TRUE)))","v":""},{"$f":"IF(A197=\"\",\"\",IF(VLOOKUP(A197,eligibilité!$A$15:$AG$515,6,TRUE)=\"\",\"\",VLOOKUP(A197,eligibilité!$A$15:$AG$515,6,TRUE)))","v":""},{"$f":"IF(A197=\"\",\"\",IF(VLOOKUP(A197,eligibilité!$A$15:$AG$515,7,TRUE)=\"\",\"\",VLOOKUP(A197,eligibilité!$A$15:$AG$515,7,TRUE)))","v":""},{"$f":"IF(A197=\"\",\"\",IF(VLOOKUP(A197,eligibilité!$A$15:$AG$515,8,TRUE)=\"\",\"\",VLOOKUP(A197,eligibilité!$A$15:$AG$515,8,TRUE)))","v":""},{"$f":"IF(A197=\"\",\"\",IF(VLOOKUP(A197,eligibilité!$A$15:$AG$515,9,TRUE)=\"\",\"\",VLOOKUP(A197,eligibilité!$A$15:$AG$515,9,TRUE)))","v":""},{"$f":"IF(A197=\"\",\"\",IF(VLOOKUP(A197,eligibilité!$A$15:$AG$515,10,TRUE)=\"\",\"\",VLOOKUP(A197,eligibilité!$A$15:$AG$515,10,TRUE)))","v":""},{"$f":"IF(A197=\"\",\"\",IF(VLOOKUP(A197,eligibilité!$A$15:$AG$515,30,FALSE)=0,\"\",VLOOKUP(A197,eligibilité!$A$15:$AG$515,30,FALSE)))","v":""},"","","","","","","",1305,"","","","","","","Temps restant : ",""]
[{"$f":"IF(eligibilité!AG200=\"\",\"\",eligibilité!A200)","v":""},{"$f":"IF(A198=\"\",\"\",IF(VLOOKUP(A198,eligibilité!$A$15:$J$515,2,TRUE)=\"\",\"\",VLOOKUP(A198,eligibilité!$A$15:$J$515,2,TRUE)))","v":""},{"$f":"IF(A198=\"\",\"\",IF(VLOOKUP(A198,eligibilité!$A$15:$AG$515,3,TRUE)=\"\",\"\",VLOOKUP(A198,eligibilité!$A$15:$AG$515,3,TRUE)))","v":""},{"$f":"IF(A198=\"\",\"\",IF(VLOOKUP(A198,eligibilité!$A$15:$AG$515,4,TRUE)=\"\",\"\",VLOOKUP(A198,eligibilité!$A$15:$AG$515,4,TRUE)))","v":""},{"$f":"IF(A198=\"\",\"\",IF(VLOOKUP(A198,eligibilité!$A$15:$AG$515,5,TRUE)=\"\",\"\",VLOOKUP(A198,eligibilité!$A$15:$AG$515,5,TRUE)))","v":""},{"$f":"IF(A198=\"\",\"\",IF(VLOOKUP(A198,eligibilité!$A$15:$AG$515,6,TRUE)=\"\",\"\",VLOOKUP(A198,eligibilité!$A$15:$AG$515,6,TRUE)))","v":""},{"$f":"IF(A198=\"\",\"\",IF(VLOOKUP(A198,eligibilité!$A$15:$AG$515,7,TRUE)=\"\",\"\",VLOOKUP(A198,eligibilité!$A$15:$AG$515,7,TRUE)))","v":""},{"$f":"IF(A198=\"\",\"\",IF(VLOOKUP(A198,eligibilité!$A$15:$AG$515,8,TRUE)=\"\",\"\",VLOOKUP(A198,eligibilité!$A$15:$AG$515,8,TRUE)))","v":""},{"$f":"IF(A198=\"\",\"\",IF(VLOOKUP(A198,eligibilité!$A$15:$AG$515,9,TRUE)=\"\",\"\",VLOOKUP(A198,eligibilité!$A$15:$AG$515,9,TRUE)))","v":""},{"$f":"IF(A198=\"\",\"\",IF(VLOOKUP(A198,eligibilité!$A$15:$AG$515,10,TRUE)=\"\",\"\",VLOOKUP(A198,eligibilité!$A$15:$AG$515,10,TRUE)))","v":""},{"$f":"IF(A198=\"\",\"\",IF(VLOOKUP(A198,eligibilité!$A$15:$AG$515,30,FALSE)=0,\"\",VLOOKUP(A198,eligibilité!$A$15:$AG$515,30,FALSE)))","v":""},"","","","","","","",1305,"","","","","","","Temps restant : ",""]
[{"$f":"IF(eligibilité!AG201=\"\",\"\",eligibilité!A201)","v":""},{"$f":"IF(A199=\"\",\"\",IF(VLOOKUP(A199,eligibilité!$A$15:$J$515,2,TRUE)=\"\",\"\",VLOOKUP(A199,eligibilité!$A$15:$J$515,2,TRUE)))","v":""},{"$f":"IF(A199=\"\",\"\",IF(VLOOKUP(A199,eligibilité!$A$15:$AG$515,3,TRUE)=\"\",\"\",VLOOKUP(A199,eligibilité!$A$15:$AG$515,3,TRUE)))","v":""},{"$f":"IF(A199=\"\",\"\",IF(VLOOKUP(A199,eligibilité!$A$15:$AG$515,4,TRUE)=\"\",\"\",VLOOKUP(A199,eligibilité!$A$15:$AG$515,4,TRUE)))","v":""},{"$f":"IF(A199=\"\",\"\",IF(VLOOKUP(A199,eligibilité!$A$15:$AG$515,5,TRUE)=\"\",\"\",VLOOKUP(A199,eligibilité!$A$15:$AG$515,5,TRUE)))","v":""},{"$f":"IF(A199=\"\",\"\",IF(VLOOKUP(A199,eligibilité!$A$15:$AG$515,6,TRUE)=\"\",\"\",VLOOKUP(A199,eligibilité!$A$15:$AG$515,6,TRUE)))","v":""},{"$f":"IF(A199=\"\",\"\",IF(VLOOKUP(A199,eligibilité!$A$15:$AG$515,7,TRUE)=\"\",\"\",VLOOKUP(A199,eligibilité!$A$15:$AG$515,7,TRUE)))","v":""},{"$f":"IF(A199=\"\",\"\",IF(VLOOKUP(A199,eligibilité!$A$15:$AG$515,8,TRUE)=\"\",\"\",VLOOKUP(A199,eligibilité!$A$15:$AG$515,8,TRUE)))","v":""},{"$f":"IF(A199=\"\",\"\",IF(VLOOKUP(A199,eligibilité!$A$15:$AG$515,9,TRUE)=\"\",\"\",VLOOKUP(A199,eligibilité!$A$15:$AG$515,9,TRUE)))","v":""},{"$f":"IF(A199=\"\",\"\",IF(VLOOKUP(A199,eligibilité!$A$15:$AG$515,10,TRUE)=\"\",\"\",VLOOKUP(A199,eligibilité!$A$15:$AG$515,10,TRUE)))","v":""},{"$f":"IF(A199=\"\",\"\",IF(VLOOKUP(A199,eligibilité!$A$15:$AG$515,30,FALSE)=0,\"\",VLOOKUP(A199,eligibilité!$A$15:$AG$515,30,FALSE)))","v":""},"","","","","","","",1305,"","","","","","","Temps restant : ",""]
[{"$f":"IF(eligibilité!AG202=\"\",\"\",eligibilité!A202)","v":""},{"$f":"IF(A200=\"\",\"\",IF(VLOOKUP(A200,eligibilité!$A$15:$J$515,2,TRUE)=\"\",\"\",VLOOKUP(A200,eligibilité!$A$15:$J$515,2,TRUE)))","v":""},{"$f":"IF(A200=\"\",\"\",IF(VLOOKUP(A200,eligibilité!$A$15:$AG$515,3,TRUE)=\"\",\"\",VLOOKUP(A200,eligibilité!$A$15:$AG$515,3,TRUE)))","v":""},{"$f":"IF(A200=\"\",\"\",IF(VLOOKUP(A200,eligibilité!$A$15:$AG$515,4,TRUE)=\"\",\"\",VLOOKUP(A200,eligibilité!$A$15:$AG$515,4,TRUE)))","v":""},{"$f":"IF(A200=\"\",\"\",IF(VLOOKUP(A200,eligibilité!$A$15:$AG$515,5,TRUE)=\"\",\"\",VLOOKUP(A200,eligibilité!$A$15:$AG$515,5,TRUE)))","v":""},{"$f":"IF(A200=\"\",\"\",IF(VLOOKUP(A200,eligibilité!$A$15:$AG$515,6,TRUE)=\"\",\"\",VLOOKUP(A200,eligibilité!$A$15:$AG$515,6,TRUE)))","v":""},{"$f":"IF(A200=\"\",\"\",IF(VLOOKUP(A200,eligibilité!$A$15:$AG$515,7,TRUE)=\"\",\"\",VLOOKUP(A200,eligibilité!$A$15:$AG$515,7,TRUE)))","v":""},{"$f":"IF(A200=\"\",\"\",IF(VLOOKUP(A200,eligibilité!$A$15:$AG$515,8,TRUE)=\"\",\"\",VLOOKUP(A200,eligibilité!$A$15:$AG$515,8,TRUE)))","v":""},{"$f":"IF(A200=\"\",\"\",IF(VLOOKUP(A200,eligibilité!$A$15:$AG$515,9,TRUE)=\"\",\"\",VLOOKUP(A200,eligibilité!$A$15:$AG$515,9,TRUE)))","v":""},{"$f":"IF(A200=\"\",\"\",IF(VLOOKUP(A200,eligibilité!$A$15:$AG$515,10,TRUE)=\"\",\"\",VLOOKUP(A200,eligibilité!$A$15:$AG$515,10,TRUE)))","v":""},{"$f":"IF(A200=\"\",\"\",IF(VLOOKUP(A200,eligibilité!$A$15:$AG$515,30,FALSE)=0,\"\",VLOOKUP(A200,eligibilité!$A$15:$AG$515,30,FALSE)))","v":""},"","","","","","","",1305,"","","","","","","Temps restant : ",""]
[{"$f":"IF(eligibilité!AG203=\"\",\"\",eligibilité!A203)","v":""},{"$f":"IF(A201=\"\",\"\",IF(VLOOKUP(A201,eligibilité!$A$15:$J$515,2,TRUE)=\"\",\"\",VLOOKUP(A201,eligibilité!$A$15:$J$515,2,TRUE)))","v":""},{"$f":"IF(A201=\"\",\"\",IF(VLOOKUP(A201,eligibilité!$A$15:$AG$515,3,TRUE)=\"\",\"\",VLOOKUP(A201,eligibilité!$A$15:$AG$515,3,TRUE)))","v":""},{"$f":"IF(A201=\"\",\"\",IF(VLOOKUP(A201,eligibilité!$A$15:$AG$515,4,TRUE)=\"\",\"\",VLOOKUP(A201,eligibilité!$A$15:$AG$515,4,TRUE)))","v":""},{"$f":"IF(A201=\"\",\"\",IF(VLOOKUP(A201,eligibilité!$A$15:$AG$515,5,TRUE)=\"\",\"\",VLOOKUP(A201,eligibilité!$A$15:$AG$515,5,TRUE)))","v":""},{"$f":"IF(A201=\"\",\"\",IF(VLOOKUP(A201,eligibilité!$A$15:$AG$515,6,TRUE)=\"\",\"\",VLOOKUP(A201,eligibilité!$A$15:$AG$515,6,TRUE)))","v":""},{"$f":"IF(A201=\"\",\"\",IF(VLOOKUP(A201,eligibilité!$A$15:$AG$515,7,TRUE)=\"\",\"\",VLOOKUP(A201,eligibilité!$A$15:$AG$515,7,TRUE)))","v":""},{"$f":"IF(A201=\"\",\"\",IF(VLOOKUP(A201,eligibilité!$A$15:$AG$515,8,TRUE)=\"\",\"\",VLOOKUP(A201,eligibilité!$A$15:$AG$515,8,TRUE)))","v":""},{"$f":"IF(A201=\"\",\"\",IF(VLOOKUP(A201,eligibilité!$A$15:$AG$515,9,TRUE)=\"\",\"\",VLOOKUP(A201,eligibilité!$A$15:$AG$515,9,TRUE)))","v":""},{"$f":"IF(A201=\"\",\"\",IF(VLOOKUP(A201,eligibilité!$A$15:$AG$515,10,TRUE)=\"\",\"\",VLOOKUP(A201,eligibilité!$A$15:$AG$515,10,TRUE)))","v":""},{"$f":"IF(A201=\"\",\"\",IF(VLOOKUP(A201,eligibilité!$A$15:$AG$515,30,FALSE)=0,\"\",VLOOKUP(A201,eligibilité!$A$15:$AG$515,30,FALSE)))","v":""},"","","","","","","",1305,"","","","","","","Temps restant : ",""]
[{"$f":"IF(eligibilité!AG204=\"\",\"\",eligibilité!A204)","v":""},{"$f":"IF(A202=\"\",\"\",IF(VLOOKUP(A202,eligibilité!$A$15:$J$515,2,TRUE)=\"\",\"\",VLOOKUP(A202,eligibilité!$A$15:$J$515,2,TRUE)))","v":""},{"$f":"IF(A202=\"\",\"\",IF(VLOOKUP(A202,eligibilité!$A$15:$AG$515,3,TRUE)=\"\",\"\",VLOOKUP(A202,eligibilité!$A$15:$AG$515,3,TRUE)))","v":""},{"$f":"IF(A202=\"\",\"\",IF(VLOOKUP(A202,eligibilité!$A$15:$AG$515,4,TRUE)=\"\",\"\",VLOOKUP(A202,eligibilité!$A$15:$AG$515,4,TRUE)))","v":""},{"$f":"IF(A202=\"\",\"\",IF(VLOOKUP(A202,eligibilité!$A$15:$AG$515,5,TRUE)=\"\",\"\",VLOOKUP(A202,eligibilité!$A$15:$AG$515,5,TRUE)))","v":""},{"$f":"IF(A202=\"\",\"\",IF(VLOOKUP(A202,eligibilité!$A$15:$AG$515,6,TRUE)=\"\",\"\",VLOOKUP(A202,eligibilité!$A$15:$AG$515,6,TRUE)))","v":""},{"$f":"IF(A202=\"\",\"\",IF(VLOOKUP(A202,eligibilité!$A$15:$AG$515,7,TRUE)=\"\",\"\",VLOOKUP(A202,eligibilité!$A$15:$AG$515,7,TRUE)))","v":""},{"$f":"IF(A202=\"\",\"\",IF(VLOOKUP(A202,eligibilité!$A$15:$AG$515,8,TRUE)=\"\",\"\",VLOOKUP(A202,eligibilité!$A$15:$AG$515,8,TRUE)))","v":""},{"$f":"IF(A202=\"\",\"\",IF(VLOOKUP(A202,eligibilité!$A$15:$AG$515,9,TRUE)=\"\",\"\",VLOOKUP(A202,eligibilité!$A$15:$AG$515,9,TRUE)))","v":""},{"$f":"IF(A202=\"\",\"\",IF(VLOOKUP(A202,eligibilité!$A$15:$AG$515,10,TRUE)=\"\",\"\",VLOOKUP(A202,eligibilité!$A$15:$AG$515,10,TRUE)))","v":""},{"$f":"IF(A202=\"\",\"\",IF(VLOOKUP(A202,eligibilité!$A$15:$AG$515,30,FALSE)=0,\"\",VLOOKUP(A202,eligibilité!$A$15:$AG$515,30,FALSE)))","v":""},"","","","","","","",1305,"","","","","","","Temps restant : ",""]
[{"$f":"IF(eligibilité!AG205=\"\",\"\",eligibilité!A205)","v":""},{"$f":"IF(A203=\"\",\"\",IF(VLOOKUP(A203,eligibilité!$A$15:$J$515,2,TRUE)=\"\",\"\",VLOOKUP(A203,eligibilité!$A$15:$J$515,2,TRUE)))","v":""},{"$f":"IF(A203=\"\",\"\",IF(VLOOKUP(A203,eligibilité!$A$15:$AG$515,3,TRUE)=\"\",\"\",VLOOKUP(A203,eligibilité!$A$15:$AG$515,3,TRUE)))","v":""},{"$f":"IF(A203=\"\",\"\",IF(VLOOKUP(A203,eligibilité!$A$15:$AG$515,4,TRUE)=\"\",\"\",VLOOKUP(A203,eligibilité!$A$15:$AG$515,4,TRUE)))","v":""},{"$f":"IF(A203=\"\",\"\",IF(VLOOKUP(A203,eligibilité!$A$15:$AG$515,5,TRUE)=\"\",\"\",VLOOKUP(A203,eligibilité!$A$15:$AG$515,5,TRUE)))","v":""},{"$f":"IF(A203=\"\",\"\",IF(VLOOKUP(A203,eligibilité!$A$15:$AG$515,6,TRUE)=\"\",\"\",VLOOKUP(A203,eligibilité!$A$15:$AG$515,6,TRUE)))","v":""},{"$f":"IF(A203=\"\",\"\",IF(VLOOKUP(A203,eligibilité!$A$15:$AG$515,7,TRUE)=\"\",\"\",VLOOKUP(A203,eligibilité!$A$15:$AG$515,7,TRUE)))","v":""},{"$f":"IF(A203=\"\",\"\",IF(VLOOKUP(A203,eligibilité!$A$15:$AG$515,8,TRUE)=\"\",\"\",VLOOKUP(A203,eligibilité!$A$15:$AG$515,8,TRUE)))","v":""},{"$f":"IF(A203=\"\",\"\",IF(VLOOKUP(A203,eligibilité!$A$15:$AG$515,9,TRUE)=\"\",\"\",VLOOKUP(A203,eligibilité!$A$15:$AG$515,9,TRUE)))","v":""},{"$f":"IF(A203=\"\",\"\",IF(VLOOKUP(A203,eligibilité!$A$15:$AG$515,10,TRUE)=\"\",\"\",VLOOKUP(A203,eligibilité!$A$15:$AG$515,10,TRUE)))","v":""},{"$f":"IF(A203=\"\",\"\",IF(VLOOKUP(A203,eligibilité!$A$15:$AG$515,30,FALSE)=0,\"\",VLOOKUP(A203,eligibilité!$A$15:$AG$515,30,FALSE)))","v":""},"","","","","","","",1305,"","","","","","","Temps restant : ",""]
[{"$f":"IF(eligibilité!AG206=\"\",\"\",eligibilité!A206)","v":""},{"$f":"IF(A204=\"\",\"\",IF(VLOOKUP(A204,eligibilité!$A$15:$J$515,2,TRUE)=\"\",\"\",VLOOKUP(A204,eligibilité!$A$15:$J$515,2,TRUE)))","v":""},{"$f":"IF(A204=\"\",\"\",IF(VLOOKUP(A204,eligibilité!$A$15:$AG$515,3,TRUE)=\"\",\"\",VLOOKUP(A204,eligibilité!$A$15:$AG$515,3,TRUE)))","v":""},{"$f":"IF(A204=\"\",\"\",IF(VLOOKUP(A204,eligibilité!$A$15:$AG$515,4,TRUE)=\"\",\"\",VLOOKUP(A204,eligibilité!$A$15:$AG$515,4,TRUE)))","v":""},{"$f":"IF(A204=\"\",\"\",IF(VLOOKUP(A204,eligibilité!$A$15:$AG$515,5,TRUE)=\"\",\"\",VLOOKUP(A204,eligibilité!$A$15:$AG$515,5,TRUE)))","v":""},{"$f":"IF(A204=\"\",\"\",IF(VLOOKUP(A204,eligibilité!$A$15:$AG$515,6,TRUE)=\"\",\"\",VLOOKUP(A204,eligibilité!$A$15:$AG$515,6,TRUE)))","v":""},{"$f":"IF(A204=\"\",\"\",IF(VLOOKUP(A204,eligibilité!$A$15:$AG$515,7,TRUE)=\"\",\"\",VLOOKUP(A204,eligibilité!$A$15:$AG$515,7,TRUE)))","v":""},{"$f":"IF(A204=\"\",\"\",IF(VLOOKUP(A204,eligibilité!$A$15:$AG$515,8,TRUE)=\"\",\"\",VLOOKUP(A204,eligibilité!$A$15:$AG$515,8,TRUE)))","v":""},{"$f":"IF(A204=\"\",\"\",IF(VLOOKUP(A204,eligibilité!$A$15:$AG$515,9,TRUE)=\"\",\"\",VLOOKUP(A204,eligibilité!$A$15:$AG$515,9,TRUE)))","v":""},{"$f":"IF(A204=\"\",\"\",IF(VLOOKUP(A204,eligibilité!$A$15:$AG$515,10,TRUE)=\"\",\"\",VLOOKUP(A204,eligibilité!$A$15:$AG$515,10,TRUE)))","v":""},{"$f":"IF(A204=\"\",\"\",IF(VLOOKUP(A204,eligibilité!$A$15:$AG$515,30,FALSE)=0,\"\",VLOOKUP(A204,eligibilité!$A$15:$AG$515,30,FALSE)))","v":""},"","","","","","","",1305,"","","","","","","Temps restant : ",""]
[{"$f":"IF(eligibilité!AG207=\"\",\"\",eligibilité!A207)","v":""},{"$f":"IF(A205=\"\",\"\",IF(VLOOKUP(A205,eligibilité!$A$15:$J$515,2,TRUE)=\"\",\"\",VLOOKUP(A205,eligibilité!$A$15:$J$515,2,TRUE)))","v":""},{"$f":"IF(A205=\"\",\"\",IF(VLOOKUP(A205,eligibilité!$A$15:$AG$515,3,TRUE)=\"\",\"\",VLOOKUP(A205,eligibilité!$A$15:$AG$515,3,TRUE)))","v":""},{"$f":"IF(A205=\"\",\"\",IF(VLOOKUP(A205,eligibilité!$A$15:$AG$515,4,TRUE)=\"\",\"\",VLOOKUP(A205,eligibilité!$A$15:$AG$515,4,TRUE)))","v":""},{"$f":"IF(A205=\"\",\"\",IF(VLOOKUP(A205,eligibilité!$A$15:$AG$515,5,TRUE)=\"\",\"\",VLOOKUP(A205,eligibilité!$A$15:$AG$515,5,TRUE)))","v":""},{"$f":"IF(A205=\"\",\"\",IF(VLOOKUP(A205,eligibilité!$A$15:$AG$515,6,TRUE)=\"\",\"\",VLOOKUP(A205,eligibilité!$A$15:$AG$515,6,TRUE)))","v":""},{"$f":"IF(A205=\"\",\"\",IF(VLOOKUP(A205,eligibilité!$A$15:$AG$515,7,TRUE)=\"\",\"\",VLOOKUP(A205,eligibilité!$A$15:$AG$515,7,TRUE)))","v":""},{"$f":"IF(A205=\"\",\"\",IF(VLOOKUP(A205,eligibilité!$A$15:$AG$515,8,TRUE)=\"\",\"\",VLOOKUP(A205,eligibilité!$A$15:$AG$515,8,TRUE)))","v":""},{"$f":"IF(A205=\"\",\"\",IF(VLOOKUP(A205,eligibilité!$A$15:$AG$515,9,TRUE)=\"\",\"\",VLOOKUP(A205,eligibilité!$A$15:$AG$515,9,TRUE)))","v":""},{"$f":"IF(A205=\"\",\"\",IF(VLOOKUP(A205,eligibilité!$A$15:$AG$515,10,TRUE)=\"\",\"\",VLOOKUP(A205,eligibilité!$A$15:$AG$515,10,TRUE)))","v":""},{"$f":"IF(A205=\"\",\"\",IF(VLOOKUP(A205,eligibilité!$A$15:$AG$515,30,FALSE)=0,\"\",VLOOKUP(A205,eligibilité!$A$15:$AG$515,30,FALSE)))","v":""},"","","","","","","",1305,"","","","","","","Temps restant : ",""]
[{"$f":"IF(eligibilité!AG208=\"\",\"\",eligibilité!A208)","v":""},{"$f":"IF(A206=\"\",\"\",IF(VLOOKUP(A206,eligibilité!$A$15:$J$515,2,TRUE)=\"\",\"\",VLOOKUP(A206,eligibilité!$A$15:$J$515,2,TRUE)))","v":""},{"$f":"IF(A206=\"\",\"\",IF(VLOOKUP(A206,eligibilité!$A$15:$AG$515,3,TRUE)=\"\",\"\",VLOOKUP(A206,eligibilité!$A$15:$AG$515,3,TRUE)))","v":""},{"$f":"IF(A206=\"\",\"\",IF(VLOOKUP(A206,eligibilité!$A$15:$AG$515,4,TRUE)=\"\",\"\",VLOOKUP(A206,eligibilité!$A$15:$AG$515,4,TRUE)))","v":""},{"$f":"IF(A206=\"\",\"\",IF(VLOOKUP(A206,eligibilité!$A$15:$AG$515,5,TRUE)=\"\",\"\",VLOOKUP(A206,eligibilité!$A$15:$AG$515,5,TRUE)))","v":""},{"$f":"IF(A206=\"\",\"\",IF(VLOOKUP(A206,eligibilité!$A$15:$AG$515,6,TRUE)=\"\",\"\",VLOOKUP(A206,eligibilité!$A$15:$AG$515,6,TRUE)))","v":""},{"$f":"IF(A206=\"\",\"\",IF(VLOOKUP(A206,eligibilité!$A$15:$AG$515,7,TRUE)=\"\",\"\",VLOOKUP(A206,eligibilité!$A$15:$AG$515,7,TRUE)))","v":""},{"$f":"IF(A206=\"\",\"\",IF(VLOOKUP(A206,eligibilité!$A$15:$AG$515,8,TRUE)=\"\",\"\",VLOOKUP(A206,eligibilité!$A$15:$AG$515,8,TRUE)))","v":""},{"$f":"IF(A206=\"\",\"\",IF(VLOOKUP(A206,eligibilité!$A$15:$AG$515,9,TRUE)=\"\",\"\",VLOOKUP(A206,eligibilité!$A$15:$AG$515,9,TRUE)))","v":""},{"$f":"IF(A206=\"\",\"\",IF(VLOOKUP(A206,eligibilité!$A$15:$AG$515,10,TRUE)=\"\",\"\",VLOOKUP(A206,eligibilité!$A$15:$AG$515,10,TRUE)))","v":""},{"$f":"IF(A206=\"\",\"\",IF(VLOOKUP(A206,eligibilité!$A$15:$AG$515,30,FALSE)=0,\"\",VLOOKUP(A206,eligibilité!$A$15:$AG$515,30,FALSE)))","v":""},{"$f":"IF(K206=\"\",\"\",48-K206)","v":""},{"$f":"IF(L206=\"\",\"\",INT(L206/12))","v":""},{"$f":"IF(L206=\"\",\"\",(L206-M206*12))","v":""},{"$f":"IF(L206=\"\",\"\",INT(N206))","v":""},{"$f":"IF(L206=\"\",\"\",ROUNDDOWN((N206-O206)*30.44,0))","v":""},{"$f":"IF(K206=\"\",\"\",CONCATENATE(M206,\" an(s) \",O206,\" mois \",P206,\" jour(s)\"))","v":""},{"$f":"IF(K206=\"\",\"\",M206*365.25+O206*30.44+P206)","v":""},1305,{"$f":"IF(R206=\"\",\"\",R206-S206)","v":""},{"$f":"IF(L206=\"\",\"\",IF(T206<=365.25,0,INT(T206/365.25)))","v":""},{"$f":"IF(T206=\"\",\"\",T206-U206)","v":""},{"$f":"IF(L206=\"\",\"\",IF(U206=0,(T206/30.44),(T206/30.44)-12))","v":""},{"$f":"IF(W206=\"\",\"\",ABS(ROUNDDOWN(W206,0)))","v":""},{"$f":"IF(T206=\"\",\"\",ROUNDDOWN(ABS(W206-ROUNDDOWN(W206,0))*30.44,0))","v":""},{"$f":"IF(T206<=0,\"Temps écoulé depuis : \",\"Temps restant : \")","v":"Temps restant : "},{"$f":"IF(L206=\"\",\"\",CONCATENATE(Z206,U206,\" an(s) \",X206,\" mois \",Y206,\" jour(s) \"))","v":""}]
[{"$f":"IF(eligibilité!AG209=\"\",\"\",eligibilité!A209)","v":""},{"$f":"IF(A207=\"\",\"\",IF(VLOOKUP(A207,eligibilité!$A$15:$J$515,2,TRUE)=\"\",\"\",VLOOKUP(A207,eligibilité!$A$15:$J$515,2,TRUE)))","v":""},{"$f":"IF(A207=\"\",\"\",IF(VLOOKUP(A207,eligibilité!$A$15:$AG$515,3,TRUE)=\"\",\"\",VLOOKUP(A207,eligibilité!$A$15:$AG$515,3,TRUE)))","v":""},{"$f":"IF(A207=\"\",\"\",IF(VLOOKUP(A207,eligibilité!$A$15:$AG$515,4,TRUE)=\"\",\"\",VLOOKUP(A207,eligibilité!$A$15:$AG$515,4,TRUE)))","v":""},{"$f":"IF(A207=\"\",\"\",IF(VLOOKUP(A207,eligibilité!$A$15:$AG$515,5,TRUE)=\"\",\"\",VLOOKUP(A207,eligibilité!$A$15:$AG$515,5,TRUE)))","v":""},{"$f":"IF(A207=\"\",\"\",IF(VLOOKUP(A207,eligibilité!$A$15:$AG$515,6,TRUE)=\"\",\"\",VLOOKUP(A207,eligibilité!$A$15:$AG$515,6,TRUE)))","v":""},{"$f":"IF(A207=\"\",\"\",IF(VLOOKUP(A207,eligibilité!$A$15:$AG$515,7,TRUE)=\"\",\"\",VLOOKUP(A207,eligibilité!$A$15:$AG$515,7,TRUE)))","v":""},{"$f":"IF(A207=\"\",\"\",IF(VLOOKUP(A207,eligibilité!$A$15:$AG$515,8,TRUE)=\"\",\"\",VLOOKUP(A207,eligibilité!$A$15:$AG$515,8,TRUE)))","v":""},{"$f":"IF(A207=\"\",\"\",IF(VLOOKUP(A207,eligibilité!$A$15:$AG$515,9,TRUE)=\"\",\"\",VLOOKUP(A207,eligibilité!$A$15:$AG$515,9,TRUE)))","v":""},{"$f":"IF(A207=\"\",\"\",IF(VLOOKUP(A207,eligibilité!$A$15:$AG$515,10,TRUE)=\"\",\"\",VLOOKUP(A207,eligibilité!$A$15:$AG$515,10,TRUE)))","v":""},{"$f":"IF(A207=\"\",\"\",IF(VLOOKUP(A207,eligibilité!$A$15:$AG$515,30,FALSE)=0,\"\",VLOOKUP(A207,eligibilité!$A$15:$AG$515,30,FALSE)))","v":""},"","","","","","","",{"$f":"TODAY()-DATE(2013,4,1)","v":1305},"","","","","","","Temps restant : ",""]
[{"$f":"IF(eligibilité!AG210=\"\",\"\",eligibilité!A210)","v":""},{"$f":"IF(A208=\"\",\"\",IF(VLOOKUP(A208,eligibilité!$A$15:$J$515,2,TRUE)=\"\",\"\",VLOOKUP(A208,eligibilité!$A$15:$J$515,2,TRUE)))","v":""},{"$f":"IF(A208=\"\",\"\",IF(VLOOKUP(A208,eligibilité!$A$15:$AG$515,3,TRUE)=\"\",\"\",VLOOKUP(A208,eligibilité!$A$15:$AG$515,3,TRUE)))","v":""},{"$f":"IF(A208=\"\",\"\",IF(VLOOKUP(A208,eligibilité!$A$15:$AG$515,4,TRUE)=\"\",\"\",VLOOKUP(A208,eligibilité!$A$15:$AG$515,4,TRUE)))","v":""},{"$f":"IF(A208=\"\",\"\",IF(VLOOKUP(A208,eligibilité!$A$15:$AG$515,5,TRUE)=\"\",\"\",VLOOKUP(A208,eligibilité!$A$15:$AG$515,5,TRUE)))","v":""},{"$f":"IF(A208=\"\",\"\",IF(VLOOKUP(A208,eligibilité!$A$15:$AG$515,6,TRUE)=\"\",\"\",VLOOKUP(A208,eligibilité!$A$15:$AG$515,6,TRUE)))","v":""},{"$f":"IF(A208=\"\",\"\",IF(VLOOKUP(A208,eligibilité!$A$15:$AG$515,7,TRUE)=\"\",\"\",VLOOKUP(A208,eligibilité!$A$15:$AG$515,7,TRUE)))","v":""},{"$f":"IF(A208=\"\",\"\",IF(VLOOKUP(A208,eligibilité!$A$15:$AG$515,8,TRUE)=\"\",\"\",VLOOKUP(A208,eligibilité!$A$15:$AG$515,8,TRUE)))","v":""},{"$f":"IF(A208=\"\",\"\",IF(VLOOKUP(A208,eligibilité!$A$15:$AG$515,9,TRUE)=\"\",\"\",VLOOKUP(A208,eligibilité!$A$15:$AG$515,9,TRUE)))","v":""},{"$f":"IF(A208=\"\",\"\",IF(VLOOKUP(A208,eligibilité!$A$15:$AG$515,10,TRUE)=\"\",\"\",VLOOKUP(A208,eligibilité!$A$15:$AG$515,10,TRUE)))","v":""},{"$f":"IF(A208=\"\",\"\",IF(VLOOKUP(A208,eligibilité!$A$15:$AG$515,30,FALSE)=0,\"\",VLOOKUP(A208,eligibilité!$A$15:$AG$515,30,FALSE)))","v":""},"","","","","","","",1305,"","","","","","","Temps restant : ",""]
[{"$f":"IF(eligibilité!AG211=\"\",\"\",eligibilité!A211)","v":""},{"$f":"IF(A209=\"\",\"\",IF(VLOOKUP(A209,eligibilité!$A$15:$J$515,2,TRUE)=\"\",\"\",VLOOKUP(A209,eligibilité!$A$15:$J$515,2,TRUE)))","v":""},{"$f":"IF(A209=\"\",\"\",IF(VLOOKUP(A209,eligibilité!$A$15:$AG$515,3,TRUE)=\"\",\"\",VLOOKUP(A209,eligibilité!$A$15:$AG$515,3,TRUE)))","v":""},{"$f":"IF(A209=\"\",\"\",IF(VLOOKUP(A209,eligibilité!$A$15:$AG$515,4,TRUE)=\"\",\"\",VLOOKUP(A209,eligibilité!$A$15:$AG$515,4,TRUE)))","v":""},{"$f":"IF(A209=\"\",\"\",IF(VLOOKUP(A209,eligibilité!$A$15:$AG$515,5,TRUE)=\"\",\"\",VLOOKUP(A209,eligibilité!$A$15:$AG$515,5,TRUE)))","v":""},{"$f":"IF(A209=\"\",\"\",IF(VLOOKUP(A209,eligibilité!$A$15:$AG$515,6,TRUE)=\"\",\"\",VLOOKUP(A209,eligibilité!$A$15:$AG$515,6,TRUE)))","v":""},{"$f":"IF(A209=\"\",\"\",IF(VLOOKUP(A209,eligibilité!$A$15:$AG$515,7,TRUE)=\"\",\"\",VLOOKUP(A209,eligibilité!$A$15:$AG$515,7,TRUE)))","v":""},{"$f":"IF(A209=\"\",\"\",IF(VLOOKUP(A209,eligibilité!$A$15:$AG$515,8,TRUE)=\"\",\"\",VLOOKUP(A209,eligibilité!$A$15:$AG$515,8,TRUE)))","v":""},{"$f":"IF(A209=\"\",\"\",IF(VLOOKUP(A209,eligibilité!$A$15:$AG$515,9,TRUE)=\"\",\"\",VLOOKUP(A209,eligibilité!$A$15:$AG$515,9,TRUE)))","v":""},{"$f":"IF(A209=\"\",\"\",IF(VLOOKUP(A209,eligibilité!$A$15:$AG$515,10,TRUE)=\"\",\"\",VLOOKUP(A209,eligibilité!$A$15:$AG$515,10,TRUE)))","v":""},{"$f":"IF(A209=\"\",\"\",IF(VLOOKUP(A209,eligibilité!$A$15:$AG$515,30,FALSE)=0,\"\",VLOOKUP(A209,eligibilité!$A$15:$AG$515,30,FALSE)))","v":""},"","","","","","","",1305,"","","","","","","Temps restant : ",""]
[{"$f":"IF(eligibilité!AG212=\"\",\"\",eligibilité!A212)","v":""},{"$f":"IF(A210=\"\",\"\",IF(VLOOKUP(A210,eligibilité!$A$15:$J$515,2,TRUE)=\"\",\"\",VLOOKUP(A210,eligibilité!$A$15:$J$515,2,TRUE)))","v":""},{"$f":"IF(A210=\"\",\"\",IF(VLOOKUP(A210,eligibilité!$A$15:$AG$515,3,TRUE)=\"\",\"\",VLOOKUP(A210,eligibilité!$A$15:$AG$515,3,TRUE)))","v":""},{"$f":"IF(A210=\"\",\"\",IF(VLOOKUP(A210,eligibilité!$A$15:$AG$515,4,TRUE)=\"\",\"\",VLOOKUP(A210,eligibilité!$A$15:$AG$515,4,TRUE)))","v":""},{"$f":"IF(A210=\"\",\"\",IF(VLOOKUP(A210,eligibilité!$A$15:$AG$515,5,TRUE)=\"\",\"\",VLOOKUP(A210,eligibilité!$A$15:$AG$515,5,TRUE)))","v":""},{"$f":"IF(A210=\"\",\"\",IF(VLOOKUP(A210,eligibilité!$A$15:$AG$515,6,TRUE)=\"\",\"\",VLOOKUP(A210,eligibilité!$A$15:$AG$515,6,TRUE)))","v":""},{"$f":"IF(A210=\"\",\"\",IF(VLOOKUP(A210,eligibilité!$A$15:$AG$515,7,TRUE)=\"\",\"\",VLOOKUP(A210,eligibilité!$A$15:$AG$515,7,TRUE)))","v":""},{"$f":"IF(A210=\"\",\"\",IF(VLOOKUP(A210,eligibilité!$A$15:$AG$515,8,TRUE)=\"\",\"\",VLOOKUP(A210,eligibilité!$A$15:$AG$515,8,TRUE)))","v":""},{"$f":"IF(A210=\"\",\"\",IF(VLOOKUP(A210,eligibilité!$A$15:$AG$515,9,TRUE)=\"\",\"\",VLOOKUP(A210,eligibilité!$A$15:$AG$515,9,TRUE)))","v":""},{"$f":"IF(A210=\"\",\"\",IF(VLOOKUP(A210,eligibilité!$A$15:$AG$515,10,TRUE)=\"\",\"\",VLOOKUP(A210,eligibilité!$A$15:$AG$515,10,TRUE)))","v":""},{"$f":"IF(A210=\"\",\"\",IF(VLOOKUP(A210,eligibilité!$A$15:$AG$515,30,FALSE)=0,\"\",VLOOKUP(A210,eligibilité!$A$15:$AG$515,30,FALSE)))","v":""},"","","","","","","",1305,"","","","","","","Temps restant : ",""]
[{"$f":"IF(eligibilité!AG213=\"\",\"\",eligibilité!A213)","v":""},{"$f":"IF(A211=\"\",\"\",IF(VLOOKUP(A211,eligibilité!$A$15:$J$515,2,TRUE)=\"\",\"\",VLOOKUP(A211,eligibilité!$A$15:$J$515,2,TRUE)))","v":""},{"$f":"IF(A211=\"\",\"\",IF(VLOOKUP(A211,eligibilité!$A$15:$AG$515,3,TRUE)=\"\",\"\",VLOOKUP(A211,eligibilité!$A$15:$AG$515,3,TRUE)))","v":""},{"$f":"IF(A211=\"\",\"\",IF(VLOOKUP(A211,eligibilité!$A$15:$AG$515,4,TRUE)=\"\",\"\",VLOOKUP(A211,eligibilité!$A$15:$AG$515,4,TRUE)))","v":""},{"$f":"IF(A211=\"\",\"\",IF(VLOOKUP(A211,eligibilité!$A$15:$AG$515,5,TRUE)=\"\",\"\",VLOOKUP(A211,eligibilité!$A$15:$AG$515,5,TRUE)))","v":""},{"$f":"IF(A211=\"\",\"\",IF(VLOOKUP(A211,eligibilité!$A$15:$AG$515,6,TRUE)=\"\",\"\",VLOOKUP(A211,eligibilité!$A$15:$AG$515,6,TRUE)))","v":""},{"$f":"IF(A211=\"\",\"\",IF(VLOOKUP(A211,eligibilité!$A$15:$AG$515,7,TRUE)=\"\",\"\",VLOOKUP(A211,eligibilité!$A$15:$AG$515,7,TRUE)))","v":""},{"$f":"IF(A211=\"\",\"\",IF(VLOOKUP(A211,eligibilité!$A$15:$AG$515,8,TRUE)=\"\",\"\",VLOOKUP(A211,eligibilité!$A$15:$AG$515,8,TRUE)))","v":""},{"$f":"IF(A211=\"\",\"\",IF(VLOOKUP(A211,eligibilité!$A$15:$AG$515,9,TRUE)=\"\",\"\",VLOOKUP(A211,eligibilité!$A$15:$AG$515,9,TRUE)))","v":""},{"$f":"IF(A211=\"\",\"\",IF(VLOOKUP(A211,eligibilité!$A$15:$AG$515,10,TRUE)=\"\",\"\",VLOOKUP(A211,eligibilité!$A$15:$AG$515,10,TRUE)))","v":""},{"$f":"IF(A211=\"\",\"\",IF(VLOOKUP(A211,eligibilité!$A$15:$AG$515,30,FALSE)=0,\"\",VLOOKUP(A211,eligibilité!$A$15:$AG$515,30,FALSE)))","v":""},"","","","","","","",1305,"","","","","","","Temps restant : ",""]
[{"$f":"IF(eligibilité!AG214=\"\",\"\",eligibilité!A214)","v":""},{"$f":"IF(A212=\"\",\"\",IF(VLOOKUP(A212,eligibilité!$A$15:$J$515,2,TRUE)=\"\",\"\",VLOOKUP(A212,eligibilité!$A$15:$J$515,2,TRUE)))","v":""},{"$f":"IF(A212=\"\",\"\",IF(VLOOKUP(A212,eligibilité!$A$15:$AG$515,3,TRUE)=\"\",\"\",VLOOKUP(A212,eligibilité!$A$15:$AG$515,3,TRUE)))","v":""},{"$f":"IF(A212=\"\",\"\",IF(VLOOKUP(A212,eligibilité!$A$15:$AG$515,4,TRUE)=\"\",\"\",VLOOKUP(A212,eligibilité!$A$15:$AG$515,4,TRUE)))","v":""},{"$f":"IF(A212=\"\",\"\",IF(VLOOKUP(A212,eligibilité!$A$15:$AG$515,5,TRUE)=\"\",\"\",VLOOKUP(A212,eligibilité!$A$15:$AG$515,5,TRUE)))","v":""},{"$f":"IF(A212=\"\",\"\",IF(VLOOKUP(A212,eligibilité!$A$15:$AG$515,6,TRUE)=\"\",\"\",VLOOKUP(A212,eligibilité!$A$15:$AG$515,6,TRUE)))","v":""},{"$f":"IF(A212=\"\",\"\",IF(VLOOKUP(A212,eligibilité!$A$15:$AG$515,7,TRUE)=\"\",\"\",VLOOKUP(A212,eligibilité!$A$15:$AG$515,7,TRUE)))","v":""},{"$f":"IF(A212=\"\",\"\",IF(VLOOKUP(A212,eligibilité!$A$15:$AG$515,8,TRUE)=\"\",\"\",VLOOKUP(A212,eligibilité!$A$15:$AG$515,8,TRUE)))","v":""},{"$f":"IF(A212=\"\",\"\",IF(VLOOKUP(A212,eligibilité!$A$15:$AG$515,9,TRUE)=\"\",\"\",VLOOKUP(A212,eligibilité!$A$15:$AG$515,9,TRUE)))","v":""},{"$f":"IF(A212=\"\",\"\",IF(VLOOKUP(A212,eligibilité!$A$15:$AG$515,10,TRUE)=\"\",\"\",VLOOKUP(A212,eligibilité!$A$15:$AG$515,10,TRUE)))","v":""},{"$f":"IF(A212=\"\",\"\",IF(VLOOKUP(A212,eligibilité!$A$15:$AG$515,30,FALSE)=0,\"\",VLOOKUP(A212,eligibilité!$A$15:$AG$515,30,FALSE)))","v":""},"","","","","","","",1305,"","","","","","","Temps restant : ",""]
[{"$f":"IF(eligibilité!AG215=\"\",\"\",eligibilité!A215)","v":""},{"$f":"IF(A213=\"\",\"\",IF(VLOOKUP(A213,eligibilité!$A$15:$J$515,2,TRUE)=\"\",\"\",VLOOKUP(A213,eligibilité!$A$15:$J$515,2,TRUE)))","v":""},{"$f":"IF(A213=\"\",\"\",IF(VLOOKUP(A213,eligibilité!$A$15:$AG$515,3,TRUE)=\"\",\"\",VLOOKUP(A213,eligibilité!$A$15:$AG$515,3,TRUE)))","v":""},{"$f":"IF(A213=\"\",\"\",IF(VLOOKUP(A213,eligibilité!$A$15:$AG$515,4,TRUE)=\"\",\"\",VLOOKUP(A213,eligibilité!$A$15:$AG$515,4,TRUE)))","v":""},{"$f":"IF(A213=\"\",\"\",IF(VLOOKUP(A213,eligibilité!$A$15:$AG$515,5,TRUE)=\"\",\"\",VLOOKUP(A213,eligibilité!$A$15:$AG$515,5,TRUE)))","v":""},{"$f":"IF(A213=\"\",\"\",IF(VLOOKUP(A213,eligibilité!$A$15:$AG$515,6,TRUE)=\"\",\"\",VLOOKUP(A213,eligibilité!$A$15:$AG$515,6,TRUE)))","v":""},{"$f":"IF(A213=\"\",\"\",IF(VLOOKUP(A213,eligibilité!$A$15:$AG$515,7,TRUE)=\"\",\"\",VLOOKUP(A213,eligibilité!$A$15:$AG$515,7,TRUE)))","v":""},{"$f":"IF(A213=\"\",\"\",IF(VLOOKUP(A213,eligibilité!$A$15:$AG$515,8,TRUE)=\"\",\"\",VLOOKUP(A213,eligibilité!$A$15:$AG$515,8,TRUE)))","v":""},{"$f":"IF(A213=\"\",\"\",IF(VLOOKUP(A213,eligibilité!$A$15:$AG$515,9,TRUE)=\"\",\"\",VLOOKUP(A213,eligibilité!$A$15:$AG$515,9,TRUE)))","v":""},{"$f":"IF(A213=\"\",\"\",IF(VLOOKUP(A213,eligibilité!$A$15:$AG$515,10,TRUE)=\"\",\"\",VLOOKUP(A213,eligibilité!$A$15:$AG$515,10,TRUE)))","v":""},{"$f":"IF(A213=\"\",\"\",IF(VLOOKUP(A213,eligibilité!$A$15:$AG$515,30,FALSE)=0,\"\",VLOOKUP(A213,eligibilité!$A$15:$AG$515,30,FALSE)))","v":""},"","","","","","","",1305,"","","","","","","Temps restant : ",""]
[{"$f":"IF(eligibilité!AG216=\"\",\"\",eligibilité!A216)","v":""},{"$f":"IF(A214=\"\",\"\",IF(VLOOKUP(A214,eligibilité!$A$15:$J$515,2,TRUE)=\"\",\"\",VLOOKUP(A214,eligibilité!$A$15:$J$515,2,TRUE)))","v":""},{"$f":"IF(A214=\"\",\"\",IF(VLOOKUP(A214,eligibilité!$A$15:$AG$515,3,TRUE)=\"\",\"\",VLOOKUP(A214,eligibilité!$A$15:$AG$515,3,TRUE)))","v":""},{"$f":"IF(A214=\"\",\"\",IF(VLOOKUP(A214,eligibilité!$A$15:$AG$515,4,TRUE)=\"\",\"\",VLOOKUP(A214,eligibilité!$A$15:$AG$515,4,TRUE)))","v":""},{"$f":"IF(A214=\"\",\"\",IF(VLOOKUP(A214,eligibilité!$A$15:$AG$515,5,TRUE)=\"\",\"\",VLOOKUP(A214,eligibilité!$A$15:$AG$515,5,TRUE)))","v":""},{"$f":"IF(A214=\"\",\"\",IF(VLOOKUP(A214,eligibilité!$A$15:$AG$515,6,TRUE)=\"\",\"\",VLOOKUP(A214,eligibilité!$A$15:$AG$515,6,TRUE)))","v":""},{"$f":"IF(A214=\"\",\"\",IF(VLOOKUP(A214,eligibilité!$A$15:$AG$515,7,TRUE)=\"\",\"\",VLOOKUP(A214,eligibilité!$A$15:$AG$515,7,TRUE)))","v":""},{"$f":"IF(A214=\"\",\"\",IF(VLOOKUP(A214,eligibilité!$A$15:$AG$515,8,TRUE)=\"\",\"\",VLOOKUP(A214,eligibilité!$A$15:$AG$515,8,TRUE)))","v":""},{"$f":"IF(A214=\"\",\"\",IF(VLOOKUP(A214,eligibilité!$A$15:$AG$515,9,TRUE)=\"\",\"\",VLOOKUP(A214,eligibilité!$A$15:$AG$515,9,TRUE)))","v":""},{"$f":"IF(A214=\"\",\"\",IF(VLOOKUP(A214,eligibilité!$A$15:$AG$515,10,TRUE)=\"\",\"\",VLOOKUP(A214,eligibilité!$A$15:$AG$515,10,TRUE)))","v":""},{"$f":"IF(A214=\"\",\"\",IF(VLOOKUP(A214,eligibilité!$A$15:$AG$515,30,FALSE)=0,\"\",VLOOKUP(A214,eligibilité!$A$15:$AG$515,30,FALSE)))","v":""},"","","","","","","",1305,"","","","","","","Temps restant : ",""]
[{"$f":"IF(eligibilité!AG217=\"\",\"\",eligibilité!A217)","v":""},{"$f":"IF(A215=\"\",\"\",IF(VLOOKUP(A215,eligibilité!$A$15:$J$515,2,TRUE)=\"\",\"\",VLOOKUP(A215,eligibilité!$A$15:$J$515,2,TRUE)))","v":""},{"$f":"IF(A215=\"\",\"\",IF(VLOOKUP(A215,eligibilité!$A$15:$AG$515,3,TRUE)=\"\",\"\",VLOOKUP(A215,eligibilité!$A$15:$AG$515,3,TRUE)))","v":""},{"$f":"IF(A215=\"\",\"\",IF(VLOOKUP(A215,eligibilité!$A$15:$AG$515,4,TRUE)=\"\",\"\",VLOOKUP(A215,eligibilité!$A$15:$AG$515,4,TRUE)))","v":""},{"$f":"IF(A215=\"\",\"\",IF(VLOOKUP(A215,eligibilité!$A$15:$AG$515,5,TRUE)=\"\",\"\",VLOOKUP(A215,eligibilité!$A$15:$AG$515,5,TRUE)))","v":""},{"$f":"IF(A215=\"\",\"\",IF(VLOOKUP(A215,eligibilité!$A$15:$AG$515,6,TRUE)=\"\",\"\",VLOOKUP(A215,eligibilité!$A$15:$AG$515,6,TRUE)))","v":""},{"$f":"IF(A215=\"\",\"\",IF(VLOOKUP(A215,eligibilité!$A$15:$AG$515,7,TRUE)=\"\",\"\",VLOOKUP(A215,eligibilité!$A$15:$AG$515,7,TRUE)))","v":""},{"$f":"IF(A215=\"\",\"\",IF(VLOOKUP(A215,eligibilité!$A$15:$AG$515,8,TRUE)=\"\",\"\",VLOOKUP(A215,eligibilité!$A$15:$AG$515,8,TRUE)))","v":""},{"$f":"IF(A215=\"\",\"\",IF(VLOOKUP(A215,eligibilité!$A$15:$AG$515,9,TRUE)=\"\",\"\",VLOOKUP(A215,eligibilité!$A$15:$AG$515,9,TRUE)))","v":""},{"$f":"IF(A215=\"\",\"\",IF(VLOOKUP(A215,eligibilité!$A$15:$AG$515,10,TRUE)=\"\",\"\",VLOOKUP(A215,eligibilité!$A$15:$AG$515,10,TRUE)))","v":""},{"$f":"IF(A215=\"\",\"\",IF(VLOOKUP(A215,eligibilité!$A$15:$AG$515,30,FALSE)=0,\"\",VLOOKUP(A215,eligibilité!$A$15:$AG$515,30,FALSE)))","v":""},"","","","","","","",1305,"","","","","","","Temps restant : ",""]
[{"$f":"IF(eligibilité!AG218=\"\",\"\",eligibilité!A218)","v":""},{"$f":"IF(A216=\"\",\"\",IF(VLOOKUP(A216,eligibilité!$A$15:$J$515,2,TRUE)=\"\",\"\",VLOOKUP(A216,eligibilité!$A$15:$J$515,2,TRUE)))","v":""},{"$f":"IF(A216=\"\",\"\",IF(VLOOKUP(A216,eligibilité!$A$15:$AG$515,3,TRUE)=\"\",\"\",VLOOKUP(A216,eligibilité!$A$15:$AG$515,3,TRUE)))","v":""},{"$f":"IF(A216=\"\",\"\",IF(VLOOKUP(A216,eligibilité!$A$15:$AG$515,4,TRUE)=\"\",\"\",VLOOKUP(A216,eligibilité!$A$15:$AG$515,4,TRUE)))","v":""},{"$f":"IF(A216=\"\",\"\",IF(VLOOKUP(A216,eligibilité!$A$15:$AG$515,5,TRUE)=\"\",\"\",VLOOKUP(A216,eligibilité!$A$15:$AG$515,5,TRUE)))","v":""},{"$f":"IF(A216=\"\",\"\",IF(VLOOKUP(A216,eligibilité!$A$15:$AG$515,6,TRUE)=\"\",\"\",VLOOKUP(A216,eligibilité!$A$15:$AG$515,6,TRUE)))","v":""},{"$f":"IF(A216=\"\",\"\",IF(VLOOKUP(A216,eligibilité!$A$15:$AG$515,7,TRUE)=\"\",\"\",VLOOKUP(A216,eligibilité!$A$15:$AG$515,7,TRUE)))","v":""},{"$f":"IF(A216=\"\",\"\",IF(VLOOKUP(A216,eligibilité!$A$15:$AG$515,8,TRUE)=\"\",\"\",VLOOKUP(A216,eligibilité!$A$15:$AG$515,8,TRUE)))","v":""},{"$f":"IF(A216=\"\",\"\",IF(VLOOKUP(A216,eligibilité!$A$15:$AG$515,9,TRUE)=\"\",\"\",VLOOKUP(A216,eligibilité!$A$15:$AG$515,9,TRUE)))","v":""},{"$f":"IF(A216=\"\",\"\",IF(VLOOKUP(A216,eligibilité!$A$15:$AG$515,10,TRUE)=\"\",\"\",VLOOKUP(A216,eligibilité!$A$15:$AG$515,10,TRUE)))","v":""},{"$f":"IF(A216=\"\",\"\",IF(VLOOKUP(A216,eligibilité!$A$15:$AG$515,30,FALSE)=0,\"\",VLOOKUP(A216,eligibilité!$A$15:$AG$515,30,FALSE)))","v":""},"","","","","","","",1305,"","","","","","","Temps restant : ",""]
[{"$f":"IF(eligibilité!AG219=\"\",\"\",eligibilité!A219)","v":""},{"$f":"IF(A217=\"\",\"\",IF(VLOOKUP(A217,eligibilité!$A$15:$J$515,2,TRUE)=\"\",\"\",VLOOKUP(A217,eligibilité!$A$15:$J$515,2,TRUE)))","v":""},{"$f":"IF(A217=\"\",\"\",IF(VLOOKUP(A217,eligibilité!$A$15:$AG$515,3,TRUE)=\"\",\"\",VLOOKUP(A217,eligibilité!$A$15:$AG$515,3,TRUE)))","v":""},{"$f":"IF(A217=\"\",\"\",IF(VLOOKUP(A217,eligibilité!$A$15:$AG$515,4,TRUE)=\"\",\"\",VLOOKUP(A217,eligibilité!$A$15:$AG$515,4,TRUE)))","v":""},{"$f":"IF(A217=\"\",\"\",IF(VLOOKUP(A217,eligibilité!$A$15:$AG$515,5,TRUE)=\"\",\"\",VLOOKUP(A217,eligibilité!$A$15:$AG$515,5,TRUE)))","v":""},{"$f":"IF(A217=\"\",\"\",IF(VLOOKUP(A217,eligibilité!$A$15:$AG$515,6,TRUE)=\"\",\"\",VLOOKUP(A217,eligibilité!$A$15:$AG$515,6,TRUE)))","v":""},{"$f":"IF(A217=\"\",\"\",IF(VLOOKUP(A217,eligibilité!$A$15:$AG$515,7,TRUE)=\"\",\"\",VLOOKUP(A217,eligibilité!$A$15:$AG$515,7,TRUE)))","v":""},{"$f":"IF(A217=\"\",\"\",IF(VLOOKUP(A217,eligibilité!$A$15:$AG$515,8,TRUE)=\"\",\"\",VLOOKUP(A217,eligibilité!$A$15:$AG$515,8,TRUE)))","v":""},{"$f":"IF(A217=\"\",\"\",IF(VLOOKUP(A217,eligibilité!$A$15:$AG$515,9,TRUE)=\"\",\"\",VLOOKUP(A217,eligibilité!$A$15:$AG$515,9,TRUE)))","v":""},{"$f":"IF(A217=\"\",\"\",IF(VLOOKUP(A217,eligibilité!$A$15:$AG$515,10,TRUE)=\"\",\"\",VLOOKUP(A217,eligibilité!$A$15:$AG$515,10,TRUE)))","v":""},{"$f":"IF(A217=\"\",\"\",IF(VLOOKUP(A217,eligibilité!$A$15:$AG$515,30,FALSE)=0,\"\",VLOOKUP(A217,eligibilité!$A$15:$AG$515,30,FALSE)))","v":""},"","","","","","","",1305,"","","","","","","Temps restant : ",""]
[{"$f":"IF(eligibilité!AG220=\"\",\"\",eligibilité!A220)","v":""},{"$f":"IF(A218=\"\",\"\",IF(VLOOKUP(A218,eligibilité!$A$15:$J$515,2,TRUE)=\"\",\"\",VLOOKUP(A218,eligibilité!$A$15:$J$515,2,TRUE)))","v":""},{"$f":"IF(A218=\"\",\"\",IF(VLOOKUP(A218,eligibilité!$A$15:$AG$515,3,TRUE)=\"\",\"\",VLOOKUP(A218,eligibilité!$A$15:$AG$515,3,TRUE)))","v":""},{"$f":"IF(A218=\"\",\"\",IF(VLOOKUP(A218,eligibilité!$A$15:$AG$515,4,TRUE)=\"\",\"\",VLOOKUP(A218,eligibilité!$A$15:$AG$515,4,TRUE)))","v":""},{"$f":"IF(A218=\"\",\"\",IF(VLOOKUP(A218,eligibilité!$A$15:$AG$515,5,TRUE)=\"\",\"\",VLOOKUP(A218,eligibilité!$A$15:$AG$515,5,TRUE)))","v":""},{"$f":"IF(A218=\"\",\"\",IF(VLOOKUP(A218,eligibilité!$A$15:$AG$515,6,TRUE)=\"\",\"\",VLOOKUP(A218,eligibilité!$A$15:$AG$515,6,TRUE)))","v":""},{"$f":"IF(A218=\"\",\"\",IF(VLOOKUP(A218,eligibilité!$A$15:$AG$515,7,TRUE)=\"\",\"\",VLOOKUP(A218,eligibilité!$A$15:$AG$515,7,TRUE)))","v":""},{"$f":"IF(A218=\"\",\"\",IF(VLOOKUP(A218,eligibilité!$A$15:$AG$515,8,TRUE)=\"\",\"\",VLOOKUP(A218,eligibilité!$A$15:$AG$515,8,TRUE)))","v":""},{"$f":"IF(A218=\"\",\"\",IF(VLOOKUP(A218,eligibilité!$A$15:$AG$515,9,TRUE)=\"\",\"\",VLOOKUP(A218,eligibilité!$A$15:$AG$515,9,TRUE)))","v":""},{"$f":"IF(A218=\"\",\"\",IF(VLOOKUP(A218,eligibilité!$A$15:$AG$515,10,TRUE)=\"\",\"\",VLOOKUP(A218,eligibilité!$A$15:$AG$515,10,TRUE)))","v":""},{"$f":"IF(A218=\"\",\"\",IF(VLOOKUP(A218,eligibilité!$A$15:$AG$515,30,FALSE)=0,\"\",VLOOKUP(A218,eligibilité!$A$15:$AG$515,30,FALSE)))","v":""},"","","","","","","",1305,"","","","","","","Temps restant : ",""]
[{"$f":"IF(eligibilité!AG221=\"\",\"\",eligibilité!A221)","v":""},{"$f":"IF(A219=\"\",\"\",IF(VLOOKUP(A219,eligibilité!$A$15:$J$515,2,TRUE)=\"\",\"\",VLOOKUP(A219,eligibilité!$A$15:$J$515,2,TRUE)))","v":""},{"$f":"IF(A219=\"\",\"\",IF(VLOOKUP(A219,eligibilité!$A$15:$AG$515,3,TRUE)=\"\",\"\",VLOOKUP(A219,eligibilité!$A$15:$AG$515,3,TRUE)))","v":""},{"$f":"IF(A219=\"\",\"\",IF(VLOOKUP(A219,eligibilité!$A$15:$AG$515,4,TRUE)=\"\",\"\",VLOOKUP(A219,eligibilité!$A$15:$AG$515,4,TRUE)))","v":""},{"$f":"IF(A219=\"\",\"\",IF(VLOOKUP(A219,eligibilité!$A$15:$AG$515,5,TRUE)=\"\",\"\",VLOOKUP(A219,eligibilité!$A$15:$AG$515,5,TRUE)))","v":""},{"$f":"IF(A219=\"\",\"\",IF(VLOOKUP(A219,eligibilité!$A$15:$AG$515,6,TRUE)=\"\",\"\",VLOOKUP(A219,eligibilité!$A$15:$AG$515,6,TRUE)))","v":""},{"$f":"IF(A219=\"\",\"\",IF(VLOOKUP(A219,eligibilité!$A$15:$AG$515,7,TRUE)=\"\",\"\",VLOOKUP(A219,eligibilité!$A$15:$AG$515,7,TRUE)))","v":""},{"$f":"IF(A219=\"\",\"\",IF(VLOOKUP(A219,eligibilité!$A$15:$AG$515,8,TRUE)=\"\",\"\",VLOOKUP(A219,eligibilité!$A$15:$AG$515,8,TRUE)))","v":""},{"$f":"IF(A219=\"\",\"\",IF(VLOOKUP(A219,eligibilité!$A$15:$AG$515,9,TRUE)=\"\",\"\",VLOOKUP(A219,eligibilité!$A$15:$AG$515,9,TRUE)))","v":""},{"$f":"IF(A219=\"\",\"\",IF(VLOOKUP(A219,eligibilité!$A$15:$AG$515,10,TRUE)=\"\",\"\",VLOOKUP(A219,eligibilité!$A$15:$AG$515,10,TRUE)))","v":""},{"$f":"IF(A219=\"\",\"\",IF(VLOOKUP(A219,eligibilité!$A$15:$AG$515,30,FALSE)=0,\"\",VLOOKUP(A219,eligibilité!$A$15:$AG$515,30,FALSE)))","v":""},"","","","","","","",1305,"","","","","","","Temps restant : ",""]
[{"$f":"IF(eligibilité!AG222=\"\",\"\",eligibilité!A222)","v":""},{"$f":"IF(A220=\"\",\"\",IF(VLOOKUP(A220,eligibilité!$A$15:$J$515,2,TRUE)=\"\",\"\",VLOOKUP(A220,eligibilité!$A$15:$J$515,2,TRUE)))","v":""},{"$f":"IF(A220=\"\",\"\",IF(VLOOKUP(A220,eligibilité!$A$15:$AG$515,3,TRUE)=\"\",\"\",VLOOKUP(A220,eligibilité!$A$15:$AG$515,3,TRUE)))","v":""},{"$f":"IF(A220=\"\",\"\",IF(VLOOKUP(A220,eligibilité!$A$15:$AG$515,4,TRUE)=\"\",\"\",VLOOKUP(A220,eligibilité!$A$15:$AG$515,4,TRUE)))","v":""},{"$f":"IF(A220=\"\",\"\",IF(VLOOKUP(A220,eligibilité!$A$15:$AG$515,5,TRUE)=\"\",\"\",VLOOKUP(A220,eligibilité!$A$15:$AG$515,5,TRUE)))","v":""},{"$f":"IF(A220=\"\",\"\",IF(VLOOKUP(A220,eligibilité!$A$15:$AG$515,6,TRUE)=\"\",\"\",VLOOKUP(A220,eligibilité!$A$15:$AG$515,6,TRUE)))","v":""},{"$f":"IF(A220=\"\",\"\",IF(VLOOKUP(A220,eligibilité!$A$15:$AG$515,7,TRUE)=\"\",\"\",VLOOKUP(A220,eligibilité!$A$15:$AG$515,7,TRUE)))","v":""},{"$f":"IF(A220=\"\",\"\",IF(VLOOKUP(A220,eligibilité!$A$15:$AG$515,8,TRUE)=\"\",\"\",VLOOKUP(A220,eligibilité!$A$15:$AG$515,8,TRUE)))","v":""},{"$f":"IF(A220=\"\",\"\",IF(VLOOKUP(A220,eligibilité!$A$15:$AG$515,9,TRUE)=\"\",\"\",VLOOKUP(A220,eligibilité!$A$15:$AG$515,9,TRUE)))","v":""},{"$f":"IF(A220=\"\",\"\",IF(VLOOKUP(A220,eligibilité!$A$15:$AG$515,10,TRUE)=\"\",\"\",VLOOKUP(A220,eligibilité!$A$15:$AG$515,10,TRUE)))","v":""},{"$f":"IF(A220=\"\",\"\",IF(VLOOKUP(A220,eligibilité!$A$15:$AG$515,30,FALSE)=0,\"\",VLOOKUP(A220,eligibilité!$A$15:$AG$515,30,FALSE)))","v":""},"","","","","","","",1305,"","","","","","","Temps restant : ",""]
[{"$f":"IF(eligibilité!AG223=\"\",\"\",eligibilité!A223)","v":""},{"$f":"IF(A221=\"\",\"\",IF(VLOOKUP(A221,eligibilité!$A$15:$J$515,2,TRUE)=\"\",\"\",VLOOKUP(A221,eligibilité!$A$15:$J$515,2,TRUE)))","v":""},{"$f":"IF(A221=\"\",\"\",IF(VLOOKUP(A221,eligibilité!$A$15:$AG$515,3,TRUE)=\"\",\"\",VLOOKUP(A221,eligibilité!$A$15:$AG$515,3,TRUE)))","v":""},{"$f":"IF(A221=\"\",\"\",IF(VLOOKUP(A221,eligibilité!$A$15:$AG$515,4,TRUE)=\"\",\"\",VLOOKUP(A221,eligibilité!$A$15:$AG$515,4,TRUE)))","v":""},{"$f":"IF(A221=\"\",\"\",IF(VLOOKUP(A221,eligibilité!$A$15:$AG$515,5,TRUE)=\"\",\"\",VLOOKUP(A221,eligibilité!$A$15:$AG$515,5,TRUE)))","v":""},{"$f":"IF(A221=\"\",\"\",IF(VLOOKUP(A221,eligibilité!$A$15:$AG$515,6,TRUE)=\"\",\"\",VLOOKUP(A221,eligibilité!$A$15:$AG$515,6,TRUE)))","v":""},{"$f":"IF(A221=\"\",\"\",IF(VLOOKUP(A221,eligibilité!$A$15:$AG$515,7,TRUE)=\"\",\"\",VLOOKUP(A221,eligibilité!$A$15:$AG$515,7,TRUE)))","v":""},{"$f":"IF(A221=\"\",\"\",IF(VLOOKUP(A221,eligibilité!$A$15:$AG$515,8,TRUE)=\"\",\"\",VLOOKUP(A221,eligibilité!$A$15:$AG$515,8,TRUE)))","v":""},{"$f":"IF(A221=\"\",\"\",IF(VLOOKUP(A221,eligibilité!$A$15:$AG$515,9,TRUE)=\"\",\"\",VLOOKUP(A221,eligibilité!$A$15:$AG$515,9,TRUE)))","v":""},{"$f":"IF(A221=\"\",\"\",IF(VLOOKUP(A221,eligibilité!$A$15:$AG$515,10,TRUE)=\"\",\"\",VLOOKUP(A221,eligibilité!$A$15:$AG$515,10,TRUE)))","v":""},{"$f":"IF(A221=\"\",\"\",IF(VLOOKUP(A221,eligibilité!$A$15:$AG$515,30,FALSE)=0,\"\",VLOOKUP(A221,eligibilité!$A$15:$AG$515,30,FALSE)))","v":""},"","","","","","","",1305,"","","","","","","Temps restant : ",""]
[{"$f":"IF(eligibilité!AG224=\"\",\"\",eligibilité!A224)","v":""},{"$f":"IF(A222=\"\",\"\",IF(VLOOKUP(A222,eligibilité!$A$15:$J$515,2,TRUE)=\"\",\"\",VLOOKUP(A222,eligibilité!$A$15:$J$515,2,TRUE)))","v":""},{"$f":"IF(A222=\"\",\"\",IF(VLOOKUP(A222,eligibilité!$A$15:$AG$515,3,TRUE)=\"\",\"\",VLOOKUP(A222,eligibilité!$A$15:$AG$515,3,TRUE)))","v":""},{"$f":"IF(A222=\"\",\"\",IF(VLOOKUP(A222,eligibilité!$A$15:$AG$515,4,TRUE)=\"\",\"\",VLOOKUP(A222,eligibilité!$A$15:$AG$515,4,TRUE)))","v":""},{"$f":"IF(A222=\"\",\"\",IF(VLOOKUP(A222,eligibilité!$A$15:$AG$515,5,TRUE)=\"\",\"\",VLOOKUP(A222,eligibilité!$A$15:$AG$515,5,TRUE)))","v":""},{"$f":"IF(A222=\"\",\"\",IF(VLOOKUP(A222,eligibilité!$A$15:$AG$515,6,TRUE)=\"\",\"\",VLOOKUP(A222,eligibilité!$A$15:$AG$515,6,TRUE)))","v":""},{"$f":"IF(A222=\"\",\"\",IF(VLOOKUP(A222,eligibilité!$A$15:$AG$515,7,TRUE)=\"\",\"\",VLOOKUP(A222,eligibilité!$A$15:$AG$515,7,TRUE)))","v":""},{"$f":"IF(A222=\"\",\"\",IF(VLOOKUP(A222,eligibilité!$A$15:$AG$515,8,TRUE)=\"\",\"\",VLOOKUP(A222,eligibilité!$A$15:$AG$515,8,TRUE)))","v":""},{"$f":"IF(A222=\"\",\"\",IF(VLOOKUP(A222,eligibilité!$A$15:$AG$515,9,TRUE)=\"\",\"\",VLOOKUP(A222,eligibilité!$A$15:$AG$515,9,TRUE)))","v":""},{"$f":"IF(A222=\"\",\"\",IF(VLOOKUP(A222,eligibilité!$A$15:$AG$515,10,TRUE)=\"\",\"\",VLOOKUP(A222,eligibilité!$A$15:$AG$515,10,TRUE)))","v":""},{"$f":"IF(A222=\"\",\"\",IF(VLOOKUP(A222,eligibilité!$A$15:$AG$515,30,FALSE)=0,\"\",VLOOKUP(A222,eligibilité!$A$15:$AG$515,30,FALSE)))","v":""},"","","","","","","",1305,"","","","","","","Temps restant : ",""]
[{"$f":"IF(eligibilité!AG225=\"\",\"\",eligibilité!A225)","v":""},{"$f":"IF(A223=\"\",\"\",IF(VLOOKUP(A223,eligibilité!$A$15:$J$515,2,TRUE)=\"\",\"\",VLOOKUP(A223,eligibilité!$A$15:$J$515,2,TRUE)))","v":""},{"$f":"IF(A223=\"\",\"\",IF(VLOOKUP(A223,eligibilité!$A$15:$AG$515,3,TRUE)=\"\",\"\",VLOOKUP(A223,eligibilité!$A$15:$AG$515,3,TRUE)))","v":""},{"$f":"IF(A223=\"\",\"\",IF(VLOOKUP(A223,eligibilité!$A$15:$AG$515,4,TRUE)=\"\",\"\",VLOOKUP(A223,eligibilité!$A$15:$AG$515,4,TRUE)))","v":""},{"$f":"IF(A223=\"\",\"\",IF(VLOOKUP(A223,eligibilité!$A$15:$AG$515,5,TRUE)=\"\",\"\",VLOOKUP(A223,eligibilité!$A$15:$AG$515,5,TRUE)))","v":""},{"$f":"IF(A223=\"\",\"\",IF(VLOOKUP(A223,eligibilité!$A$15:$AG$515,6,TRUE)=\"\",\"\",VLOOKUP(A223,eligibilité!$A$15:$AG$515,6,TRUE)))","v":""},{"$f":"IF(A223=\"\",\"\",IF(VLOOKUP(A223,eligibilité!$A$15:$AG$515,7,TRUE)=\"\",\"\",VLOOKUP(A223,eligibilité!$A$15:$AG$515,7,TRUE)))","v":""},{"$f":"IF(A223=\"\",\"\",IF(VLOOKUP(A223,eligibilité!$A$15:$AG$515,8,TRUE)=\"\",\"\",VLOOKUP(A223,eligibilité!$A$15:$AG$515,8,TRUE)))","v":""},{"$f":"IF(A223=\"\",\"\",IF(VLOOKUP(A223,eligibilité!$A$15:$AG$515,9,TRUE)=\"\",\"\",VLOOKUP(A223,eligibilité!$A$15:$AG$515,9,TRUE)))","v":""},{"$f":"IF(A223=\"\",\"\",IF(VLOOKUP(A223,eligibilité!$A$15:$AG$515,10,TRUE)=\"\",\"\",VLOOKUP(A223,eligibilité!$A$15:$AG$515,10,TRUE)))","v":""},{"$f":"IF(A223=\"\",\"\",IF(VLOOKUP(A223,eligibilité!$A$15:$AG$515,30,FALSE)=0,\"\",VLOOKUP(A223,eligibilité!$A$15:$AG$515,30,FALSE)))","v":""},"","","","","","","",1305,"","","","","","","Temps restant : ",""]
[{"$f":"IF(eligibilité!AG226=\"\",\"\",eligibilité!A226)","v":""},{"$f":"IF(A224=\"\",\"\",IF(VLOOKUP(A224,eligibilité!$A$15:$J$515,2,TRUE)=\"\",\"\",VLOOKUP(A224,eligibilité!$A$15:$J$515,2,TRUE)))","v":""},{"$f":"IF(A224=\"\",\"\",IF(VLOOKUP(A224,eligibilité!$A$15:$AG$515,3,TRUE)=\"\",\"\",VLOOKUP(A224,eligibilité!$A$15:$AG$515,3,TRUE)))","v":""},{"$f":"IF(A224=\"\",\"\",IF(VLOOKUP(A224,eligibilité!$A$15:$AG$515,4,TRUE)=\"\",\"\",VLOOKUP(A224,eligibilité!$A$15:$AG$515,4,TRUE)))","v":""},{"$f":"IF(A224=\"\",\"\",IF(VLOOKUP(A224,eligibilité!$A$15:$AG$515,5,TRUE)=\"\",\"\",VLOOKUP(A224,eligibilité!$A$15:$AG$515,5,TRUE)))","v":""},{"$f":"IF(A224=\"\",\"\",IF(VLOOKUP(A224,eligibilité!$A$15:$AG$515,6,TRUE)=\"\",\"\",VLOOKUP(A224,eligibilité!$A$15:$AG$515,6,TRUE)))","v":""},{"$f":"IF(A224=\"\",\"\",IF(VLOOKUP(A224,eligibilité!$A$15:$AG$515,7,TRUE)=\"\",\"\",VLOOKUP(A224,eligibilité!$A$15:$AG$515,7,TRUE)))","v":""},{"$f":"IF(A224=\"\",\"\",IF(VLOOKUP(A224,eligibilité!$A$15:$AG$515,8,TRUE)=\"\",\"\",VLOOKUP(A224,eligibilité!$A$15:$AG$515,8,TRUE)))","v":""},{"$f":"IF(A224=\"\",\"\",IF(VLOOKUP(A224,eligibilité!$A$15:$AG$515,9,TRUE)=\"\",\"\",VLOOKUP(A224,eligibilité!$A$15:$AG$515,9,TRUE)))","v":""},{"$f":"IF(A224=\"\",\"\",IF(VLOOKUP(A224,eligibilité!$A$15:$AG$515,10,TRUE)=\"\",\"\",VLOOKUP(A224,eligibilité!$A$15:$AG$515,10,TRUE)))","v":""},{"$f":"IF(A224=\"\",\"\",IF(VLOOKUP(A224,eligibilité!$A$15:$AG$515,30,FALSE)=0,\"\",VLOOKUP(A224,eligibilité!$A$15:$AG$515,30,FALSE)))","v":""},"","","","","","","",1305,"","","","","","","Temps restant : ",""]
[{"$f":"IF(eligibilité!AG227=\"\",\"\",eligibilité!A227)","v":""},{"$f":"IF(A225=\"\",\"\",IF(VLOOKUP(A225,eligibilité!$A$15:$J$515,2,TRUE)=\"\",\"\",VLOOKUP(A225,eligibilité!$A$15:$J$515,2,TRUE)))","v":""},{"$f":"IF(A225=\"\",\"\",IF(VLOOKUP(A225,eligibilité!$A$15:$AG$515,3,TRUE)=\"\",\"\",VLOOKUP(A225,eligibilité!$A$15:$AG$515,3,TRUE)))","v":""},{"$f":"IF(A225=\"\",\"\",IF(VLOOKUP(A225,eligibilité!$A$15:$AG$515,4,TRUE)=\"\",\"\",VLOOKUP(A225,eligibilité!$A$15:$AG$515,4,TRUE)))","v":""},{"$f":"IF(A225=\"\",\"\",IF(VLOOKUP(A225,eligibilité!$A$15:$AG$515,5,TRUE)=\"\",\"\",VLOOKUP(A225,eligibilité!$A$15:$AG$515,5,TRUE)))","v":""},{"$f":"IF(A225=\"\",\"\",IF(VLOOKUP(A225,eligibilité!$A$15:$AG$515,6,TRUE)=\"\",\"\",VLOOKUP(A225,eligibilité!$A$15:$AG$515,6,TRUE)))","v":""},{"$f":"IF(A225=\"\",\"\",IF(VLOOKUP(A225,eligibilité!$A$15:$AG$515,7,TRUE)=\"\",\"\",VLOOKUP(A225,eligibilité!$A$15:$AG$515,7,TRUE)))","v":""},{"$f":"IF(A225=\"\",\"\",IF(VLOOKUP(A225,eligibilité!$A$15:$AG$515,8,TRUE)=\"\",\"\",VLOOKUP(A225,eligibilité!$A$15:$AG$515,8,TRUE)))","v":""},{"$f":"IF(A225=\"\",\"\",IF(VLOOKUP(A225,eligibilité!$A$15:$AG$515,9,TRUE)=\"\",\"\",VLOOKUP(A225,eligibilité!$A$15:$AG$515,9,TRUE)))","v":""},{"$f":"IF(A225=\"\",\"\",IF(VLOOKUP(A225,eligibilité!$A$15:$AG$515,10,TRUE)=\"\",\"\",VLOOKUP(A225,eligibilité!$A$15:$AG$515,10,TRUE)))","v":""},{"$f":"IF(A225=\"\",\"\",IF(VLOOKUP(A225,eligibilité!$A$15:$AG$515,30,FALSE)=0,\"\",VLOOKUP(A225,eligibilité!$A$15:$AG$515,30,FALSE)))","v":""},"","","","","","","",1305,"","","","","","","Temps restant : ",""]
[{"$f":"IF(eligibilité!AG228=\"\",\"\",eligibilité!A228)","v":""},{"$f":"IF(A226=\"\",\"\",IF(VLOOKUP(A226,eligibilité!$A$15:$J$515,2,TRUE)=\"\",\"\",VLOOKUP(A226,eligibilité!$A$15:$J$515,2,TRUE)))","v":""},{"$f":"IF(A226=\"\",\"\",IF(VLOOKUP(A226,eligibilité!$A$15:$AG$515,3,TRUE)=\"\",\"\",VLOOKUP(A226,eligibilité!$A$15:$AG$515,3,TRUE)))","v":""},{"$f":"IF(A226=\"\",\"\",IF(VLOOKUP(A226,eligibilité!$A$15:$AG$515,4,TRUE)=\"\",\"\",VLOOKUP(A226,eligibilité!$A$15:$AG$515,4,TRUE)))","v":""},{"$f":"IF(A226=\"\",\"\",IF(VLOOKUP(A226,eligibilité!$A$15:$AG$515,5,TRUE)=\"\",\"\",VLOOKUP(A226,eligibilité!$A$15:$AG$515,5,TRUE)))","v":""},{"$f":"IF(A226=\"\",\"\",IF(VLOOKUP(A226,eligibilité!$A$15:$AG$515,6,TRUE)=\"\",\"\",VLOOKUP(A226,eligibilité!$A$15:$AG$515,6,TRUE)))","v":""},{"$f":"IF(A226=\"\",\"\",IF(VLOOKUP(A226,eligibilité!$A$15:$AG$515,7,TRUE)=\"\",\"\",VLOOKUP(A226,eligibilité!$A$15:$AG$515,7,TRUE)))","v":""},{"$f":"IF(A226=\"\",\"\",IF(VLOOKUP(A226,eligibilité!$A$15:$AG$515,8,TRUE)=\"\",\"\",VLOOKUP(A226,eligibilité!$A$15:$AG$515,8,TRUE)))","v":""},{"$f":"IF(A226=\"\",\"\",IF(VLOOKUP(A226,eligibilité!$A$15:$AG$515,9,TRUE)=\"\",\"\",VLOOKUP(A226,eligibilité!$A$15:$AG$515,9,TRUE)))","v":""},{"$f":"IF(A226=\"\",\"\",IF(VLOOKUP(A226,eligibilité!$A$15:$AG$515,10,TRUE)=\"\",\"\",VLOOKUP(A226,eligibilité!$A$15:$AG$515,10,TRUE)))","v":""},{"$f":"IF(A226=\"\",\"\",IF(VLOOKUP(A226,eligibilité!$A$15:$AG$515,30,FALSE)=0,\"\",VLOOKUP(A226,eligibilité!$A$15:$AG$515,30,FALSE)))","v":""},"","","","","","","",1305,"","","","","","","Temps restant : ",""]
[{"$f":"IF(eligibilité!AG229=\"\",\"\",eligibilité!A229)","v":""},{"$f":"IF(A227=\"\",\"\",IF(VLOOKUP(A227,eligibilité!$A$15:$J$515,2,TRUE)=\"\",\"\",VLOOKUP(A227,eligibilité!$A$15:$J$515,2,TRUE)))","v":""},{"$f":"IF(A227=\"\",\"\",IF(VLOOKUP(A227,eligibilité!$A$15:$AG$515,3,TRUE)=\"\",\"\",VLOOKUP(A227,eligibilité!$A$15:$AG$515,3,TRUE)))","v":""},{"$f":"IF(A227=\"\",\"\",IF(VLOOKUP(A227,eligibilité!$A$15:$AG$515,4,TRUE)=\"\",\"\",VLOOKUP(A227,eligibilité!$A$15:$AG$515,4,TRUE)))","v":""},{"$f":"IF(A227=\"\",\"\",IF(VLOOKUP(A227,eligibilité!$A$15:$AG$515,5,TRUE)=\"\",\"\",VLOOKUP(A227,eligibilité!$A$15:$AG$515,5,TRUE)))","v":""},{"$f":"IF(A227=\"\",\"\",IF(VLOOKUP(A227,eligibilité!$A$15:$AG$515,6,TRUE)=\"\",\"\",VLOOKUP(A227,eligibilité!$A$15:$AG$515,6,TRUE)))","v":""},{"$f":"IF(A227=\"\",\"\",IF(VLOOKUP(A227,eligibilité!$A$15:$AG$515,7,TRUE)=\"\",\"\",VLOOKUP(A227,eligibilité!$A$15:$AG$515,7,TRUE)))","v":""},{"$f":"IF(A227=\"\",\"\",IF(VLOOKUP(A227,eligibilité!$A$15:$AG$515,8,TRUE)=\"\",\"\",VLOOKUP(A227,eligibilité!$A$15:$AG$515,8,TRUE)))","v":""},{"$f":"IF(A227=\"\",\"\",IF(VLOOKUP(A227,eligibilité!$A$15:$AG$515,9,TRUE)=\"\",\"\",VLOOKUP(A227,eligibilité!$A$15:$AG$515,9,TRUE)))","v":""},{"$f":"IF(A227=\"\",\"\",IF(VLOOKUP(A227,eligibilité!$A$15:$AG$515,10,TRUE)=\"\",\"\",VLOOKUP(A227,eligibilité!$A$15:$AG$515,10,TRUE)))","v":""},{"$f":"IF(A227=\"\",\"\",IF(VLOOKUP(A227,eligibilité!$A$15:$AG$515,30,FALSE)=0,\"\",VLOOKUP(A227,eligibilité!$A$15:$AG$515,30,FALSE)))","v":""},"","","","","","","",1305,"","","","","","","Temps restant : ",""]
[{"$f":"IF(eligibilité!AG230=\"\",\"\",eligibilité!A230)","v":""},{"$f":"IF(A228=\"\",\"\",IF(VLOOKUP(A228,eligibilité!$A$15:$J$515,2,TRUE)=\"\",\"\",VLOOKUP(A228,eligibilité!$A$15:$J$515,2,TRUE)))","v":""},{"$f":"IF(A228=\"\",\"\",IF(VLOOKUP(A228,eligibilité!$A$15:$AG$515,3,TRUE)=\"\",\"\",VLOOKUP(A228,eligibilité!$A$15:$AG$515,3,TRUE)))","v":""},{"$f":"IF(A228=\"\",\"\",IF(VLOOKUP(A228,eligibilité!$A$15:$AG$515,4,TRUE)=\"\",\"\",VLOOKUP(A228,eligibilité!$A$15:$AG$515,4,TRUE)))","v":""},{"$f":"IF(A228=\"\",\"\",IF(VLOOKUP(A228,eligibilité!$A$15:$AG$515,5,TRUE)=\"\",\"\",VLOOKUP(A228,eligibilité!$A$15:$AG$515,5,TRUE)))","v":""},{"$f":"IF(A228=\"\",\"\",IF(VLOOKUP(A228,eligibilité!$A$15:$AG$515,6,TRUE)=\"\",\"\",VLOOKUP(A228,eligibilité!$A$15:$AG$515,6,TRUE)))","v":""},{"$f":"IF(A228=\"\",\"\",IF(VLOOKUP(A228,eligibilité!$A$15:$AG$515,7,TRUE)=\"\",\"\",VLOOKUP(A228,eligibilité!$A$15:$AG$515,7,TRUE)))","v":""},{"$f":"IF(A228=\"\",\"\",IF(VLOOKUP(A228,eligibilité!$A$15:$AG$515,8,TRUE)=\"\",\"\",VLOOKUP(A228,eligibilité!$A$15:$AG$515,8,TRUE)))","v":""},{"$f":"IF(A228=\"\",\"\",IF(VLOOKUP(A228,eligibilité!$A$15:$AG$515,9,TRUE)=\"\",\"\",VLOOKUP(A228,eligibilité!$A$15:$AG$515,9,TRUE)))","v":""},{"$f":"IF(A228=\"\",\"\",IF(VLOOKUP(A228,eligibilité!$A$15:$AG$515,10,TRUE)=\"\",\"\",VLOOKUP(A228,eligibilité!$A$15:$AG$515,10,TRUE)))","v":""},{"$f":"IF(A228=\"\",\"\",IF(VLOOKUP(A228,eligibilité!$A$15:$AG$515,30,FALSE)=0,\"\",VLOOKUP(A228,eligibilité!$A$15:$AG$515,30,FALSE)))","v":""},"","","","","","","",1305,"","","","","","","Temps restant : ",""]
[{"$f":"IF(eligibilité!AG231=\"\",\"\",eligibilité!A231)","v":""},{"$f":"IF(A229=\"\",\"\",IF(VLOOKUP(A229,eligibilité!$A$15:$J$515,2,TRUE)=\"\",\"\",VLOOKUP(A229,eligibilité!$A$15:$J$515,2,TRUE)))","v":""},{"$f":"IF(A229=\"\",\"\",IF(VLOOKUP(A229,eligibilité!$A$15:$AG$515,3,TRUE)=\"\",\"\",VLOOKUP(A229,eligibilité!$A$15:$AG$515,3,TRUE)))","v":""},{"$f":"IF(A229=\"\",\"\",IF(VLOOKUP(A229,eligibilité!$A$15:$AG$515,4,TRUE)=\"\",\"\",VLOOKUP(A229,eligibilité!$A$15:$AG$515,4,TRUE)))","v":""},{"$f":"IF(A229=\"\",\"\",IF(VLOOKUP(A229,eligibilité!$A$15:$AG$515,5,TRUE)=\"\",\"\",VLOOKUP(A229,eligibilité!$A$15:$AG$515,5,TRUE)))","v":""},{"$f":"IF(A229=\"\",\"\",IF(VLOOKUP(A229,eligibilité!$A$15:$AG$515,6,TRUE)=\"\",\"\",VLOOKUP(A229,eligibilité!$A$15:$AG$515,6,TRUE)))","v":""},{"$f":"IF(A229=\"\",\"\",IF(VLOOKUP(A229,eligibilité!$A$15:$AG$515,7,TRUE)=\"\",\"\",VLOOKUP(A229,eligibilité!$A$15:$AG$515,7,TRUE)))","v":""},{"$f":"IF(A229=\"\",\"\",IF(VLOOKUP(A229,eligibilité!$A$15:$AG$515,8,TRUE)=\"\",\"\",VLOOKUP(A229,eligibilité!$A$15:$AG$515,8,TRUE)))","v":""},{"$f":"IF(A229=\"\",\"\",IF(VLOOKUP(A229,eligibilité!$A$15:$AG$515,9,TRUE)=\"\",\"\",VLOOKUP(A229,eligibilité!$A$15:$AG$515,9,TRUE)))","v":""},{"$f":"IF(A229=\"\",\"\",IF(VLOOKUP(A229,eligibilité!$A$15:$AG$515,10,TRUE)=\"\",\"\",VLOOKUP(A229,eligibilité!$A$15:$AG$515,10,TRUE)))","v":""},{"$f":"IF(A229=\"\",\"\",IF(VLOOKUP(A229,eligibilité!$A$15:$AG$515,30,FALSE)=0,\"\",VLOOKUP(A229,eligibilité!$A$15:$AG$515,30,FALSE)))","v":""},"","","","","","","",1305,"","","","","","","Temps restant : ",""]
[{"$f":"IF(eligibilité!AG232=\"\",\"\",eligibilité!A232)","v":""},{"$f":"IF(A230=\"\",\"\",IF(VLOOKUP(A230,eligibilité!$A$15:$J$515,2,TRUE)=\"\",\"\",VLOOKUP(A230,eligibilité!$A$15:$J$515,2,TRUE)))","v":""},{"$f":"IF(A230=\"\",\"\",IF(VLOOKUP(A230,eligibilité!$A$15:$AG$515,3,TRUE)=\"\",\"\",VLOOKUP(A230,eligibilité!$A$15:$AG$515,3,TRUE)))","v":""},{"$f":"IF(A230=\"\",\"\",IF(VLOOKUP(A230,eligibilité!$A$15:$AG$515,4,TRUE)=\"\",\"\",VLOOKUP(A230,eligibilité!$A$15:$AG$515,4,TRUE)))","v":""},{"$f":"IF(A230=\"\",\"\",IF(VLOOKUP(A230,eligibilité!$A$15:$AG$515,5,TRUE)=\"\",\"\",VLOOKUP(A230,eligibilité!$A$15:$AG$515,5,TRUE)))","v":""},{"$f":"IF(A230=\"\",\"\",IF(VLOOKUP(A230,eligibilité!$A$15:$AG$515,6,TRUE)=\"\",\"\",VLOOKUP(A230,eligibilité!$A$15:$AG$515,6,TRUE)))","v":""},{"$f":"IF(A230=\"\",\"\",IF(VLOOKUP(A230,eligibilité!$A$15:$AG$515,7,TRUE)=\"\",\"\",VLOOKUP(A230,eligibilité!$A$15:$AG$515,7,TRUE)))","v":""},{"$f":"IF(A230=\"\",\"\",IF(VLOOKUP(A230,eligibilité!$A$15:$AG$515,8,TRUE)=\"\",\"\",VLOOKUP(A230,eligibilité!$A$15:$AG$515,8,TRUE)))","v":""},{"$f":"IF(A230=\"\",\"\",IF(VLOOKUP(A230,eligibilité!$A$15:$AG$515,9,TRUE)=\"\",\"\",VLOOKUP(A230,eligibilité!$A$15:$AG$515,9,TRUE)))","v":""},{"$f":"IF(A230=\"\",\"\",IF(VLOOKUP(A230,eligibilité!$A$15:$AG$515,10,TRUE)=\"\",\"\",VLOOKUP(A230,eligibilité!$A$15:$AG$515,10,TRUE)))","v":""},{"$f":"IF(A230=\"\",\"\",IF(VLOOKUP(A230,eligibilité!$A$15:$AG$515,30,FALSE)=0,\"\",VLOOKUP(A230,eligibilité!$A$15:$AG$515,30,FALSE)))","v":""},"","","","","","","",1305,"","","","","","","Temps restant : ",""]
[{"$f":"IF(eligibilité!AG233=\"\",\"\",eligibilité!A233)","v":""},{"$f":"IF(A231=\"\",\"\",IF(VLOOKUP(A231,eligibilité!$A$15:$J$515,2,TRUE)=\"\",\"\",VLOOKUP(A231,eligibilité!$A$15:$J$515,2,TRUE)))","v":""},{"$f":"IF(A231=\"\",\"\",IF(VLOOKUP(A231,eligibilité!$A$15:$AG$515,3,TRUE)=\"\",\"\",VLOOKUP(A231,eligibilité!$A$15:$AG$515,3,TRUE)))","v":""},{"$f":"IF(A231=\"\",\"\",IF(VLOOKUP(A231,eligibilité!$A$15:$AG$515,4,TRUE)=\"\",\"\",VLOOKUP(A231,eligibilité!$A$15:$AG$515,4,TRUE)))","v":""},{"$f":"IF(A231=\"\",\"\",IF(VLOOKUP(A231,eligibilité!$A$15:$AG$515,5,TRUE)=\"\",\"\",VLOOKUP(A231,eligibilité!$A$15:$AG$515,5,TRUE)))","v":""},{"$f":"IF(A231=\"\",\"\",IF(VLOOKUP(A231,eligibilité!$A$15:$AG$515,6,TRUE)=\"\",\"\",VLOOKUP(A231,eligibilité!$A$15:$AG$515,6,TRUE)))","v":""},{"$f":"IF(A231=\"\",\"\",IF(VLOOKUP(A231,eligibilité!$A$15:$AG$515,7,TRUE)=\"\",\"\",VLOOKUP(A231,eligibilité!$A$15:$AG$515,7,TRUE)))","v":""},{"$f":"IF(A231=\"\",\"\",IF(VLOOKUP(A231,eligibilité!$A$15:$AG$515,8,TRUE)=\"\",\"\",VLOOKUP(A231,eligibilité!$A$15:$AG$515,8,TRUE)))","v":""},{"$f":"IF(A231=\"\",\"\",IF(VLOOKUP(A231,eligibilité!$A$15:$AG$515,9,TRUE)=\"\",\"\",VLOOKUP(A231,eligibilité!$A$15:$AG$515,9,TRUE)))","v":""},{"$f":"IF(A231=\"\",\"\",IF(VLOOKUP(A231,eligibilité!$A$15:$AG$515,10,TRUE)=\"\",\"\",VLOOKUP(A231,eligibilité!$A$15:$AG$515,10,TRUE)))","v":""},{"$f":"IF(A231=\"\",\"\",IF(VLOOKUP(A231,eligibilité!$A$15:$AG$515,30,FALSE)=0,\"\",VLOOKUP(A231,eligibilité!$A$15:$AG$515,30,FALSE)))","v":""},"","","","","","","",1305,"","","","","","","Temps restant : ",""]
[{"$f":"IF(eligibilité!AG234=\"\",\"\",eligibilité!A234)","v":""},{"$f":"IF(A232=\"\",\"\",IF(VLOOKUP(A232,eligibilité!$A$15:$J$515,2,TRUE)=\"\",\"\",VLOOKUP(A232,eligibilité!$A$15:$J$515,2,TRUE)))","v":""},{"$f":"IF(A232=\"\",\"\",IF(VLOOKUP(A232,eligibilité!$A$15:$AG$515,3,TRUE)=\"\",\"\",VLOOKUP(A232,eligibilité!$A$15:$AG$515,3,TRUE)))","v":""},{"$f":"IF(A232=\"\",\"\",IF(VLOOKUP(A232,eligibilité!$A$15:$AG$515,4,TRUE)=\"\",\"\",VLOOKUP(A232,eligibilité!$A$15:$AG$515,4,TRUE)))","v":""},{"$f":"IF(A232=\"\",\"\",IF(VLOOKUP(A232,eligibilité!$A$15:$AG$515,5,TRUE)=\"\",\"\",VLOOKUP(A232,eligibilité!$A$15:$AG$515,5,TRUE)))","v":""},{"$f":"IF(A232=\"\",\"\",IF(VLOOKUP(A232,eligibilité!$A$15:$AG$515,6,TRUE)=\"\",\"\",VLOOKUP(A232,eligibilité!$A$15:$AG$515,6,TRUE)))","v":""},{"$f":"IF(A232=\"\",\"\",IF(VLOOKUP(A232,eligibilité!$A$15:$AG$515,7,TRUE)=\"\",\"\",VLOOKUP(A232,eligibilité!$A$15:$AG$515,7,TRUE)))","v":""},{"$f":"IF(A232=\"\",\"\",IF(VLOOKUP(A232,eligibilité!$A$15:$AG$515,8,TRUE)=\"\",\"\",VLOOKUP(A232,eligibilité!$A$15:$AG$515,8,TRUE)))","v":""},{"$f":"IF(A232=\"\",\"\",IF(VLOOKUP(A232,eligibilité!$A$15:$AG$515,9,TRUE)=\"\",\"\",VLOOKUP(A232,eligibilité!$A$15:$AG$515,9,TRUE)))","v":""},{"$f":"IF(A232=\"\",\"\",IF(VLOOKUP(A232,eligibilité!$A$15:$AG$515,10,TRUE)=\"\",\"\",VLOOKUP(A232,eligibilité!$A$15:$AG$515,10,TRUE)))","v":""},{"$f":"IF(A232=\"\",\"\",IF(VLOOKUP(A232,eligibilité!$A$15:$AG$515,30,FALSE)=0,\"\",VLOOKUP(A232,eligibilité!$A$15:$AG$515,30,FALSE)))","v":""},"","","","","","","",1305,"","","","","","","Temps restant : ",""]
[{"$f":"IF(eligibilité!AG235=\"\",\"\",eligibilité!A235)","v":""},{"$f":"IF(A233=\"\",\"\",IF(VLOOKUP(A233,eligibilité!$A$15:$J$515,2,TRUE)=\"\",\"\",VLOOKUP(A233,eligibilité!$A$15:$J$515,2,TRUE)))","v":""},{"$f":"IF(A233=\"\",\"\",IF(VLOOKUP(A233,eligibilité!$A$15:$AG$515,3,TRUE)=\"\",\"\",VLOOKUP(A233,eligibilité!$A$15:$AG$515,3,TRUE)))","v":""},{"$f":"IF(A233=\"\",\"\",IF(VLOOKUP(A233,eligibilité!$A$15:$AG$515,4,TRUE)=\"\",\"\",VLOOKUP(A233,eligibilité!$A$15:$AG$515,4,TRUE)))","v":""},{"$f":"IF(A233=\"\",\"\",IF(VLOOKUP(A233,eligibilité!$A$15:$AG$515,5,TRUE)=\"\",\"\",VLOOKUP(A233,eligibilité!$A$15:$AG$515,5,TRUE)))","v":""},{"$f":"IF(A233=\"\",\"\",IF(VLOOKUP(A233,eligibilité!$A$15:$AG$515,6,TRUE)=\"\",\"\",VLOOKUP(A233,eligibilité!$A$15:$AG$515,6,TRUE)))","v":""},{"$f":"IF(A233=\"\",\"\",IF(VLOOKUP(A233,eligibilité!$A$15:$AG$515,7,TRUE)=\"\",\"\",VLOOKUP(A233,eligibilité!$A$15:$AG$515,7,TRUE)))","v":""},{"$f":"IF(A233=\"\",\"\",IF(VLOOKUP(A233,eligibilité!$A$15:$AG$515,8,TRUE)=\"\",\"\",VLOOKUP(A233,eligibilité!$A$15:$AG$515,8,TRUE)))","v":""},{"$f":"IF(A233=\"\",\"\",IF(VLOOKUP(A233,eligibilité!$A$15:$AG$515,9,TRUE)=\"\",\"\",VLOOKUP(A233,eligibilité!$A$15:$AG$515,9,TRUE)))","v":""},{"$f":"IF(A233=\"\",\"\",IF(VLOOKUP(A233,eligibilité!$A$15:$AG$515,10,TRUE)=\"\",\"\",VLOOKUP(A233,eligibilité!$A$15:$AG$515,10,TRUE)))","v":""},{"$f":"IF(A233=\"\",\"\",IF(VLOOKUP(A233,eligibilité!$A$15:$AG$515,30,FALSE)=0,\"\",VLOOKUP(A233,eligibilité!$A$15:$AG$515,30,FALSE)))","v":""},"","","","","","","",1305,"","","","","","","Temps restant : ",""]
[{"$f":"IF(eligibilité!AG236=\"\",\"\",eligibilité!A236)","v":""},{"$f":"IF(A234=\"\",\"\",IF(VLOOKUP(A234,eligibilité!$A$15:$J$515,2,TRUE)=\"\",\"\",VLOOKUP(A234,eligibilité!$A$15:$J$515,2,TRUE)))","v":""},{"$f":"IF(A234=\"\",\"\",IF(VLOOKUP(A234,eligibilité!$A$15:$AG$515,3,TRUE)=\"\",\"\",VLOOKUP(A234,eligibilité!$A$15:$AG$515,3,TRUE)))","v":""},{"$f":"IF(A234=\"\",\"\",IF(VLOOKUP(A234,eligibilité!$A$15:$AG$515,4,TRUE)=\"\",\"\",VLOOKUP(A234,eligibilité!$A$15:$AG$515,4,TRUE)))","v":""},{"$f":"IF(A234=\"\",\"\",IF(VLOOKUP(A234,eligibilité!$A$15:$AG$515,5,TRUE)=\"\",\"\",VLOOKUP(A234,eligibilité!$A$15:$AG$515,5,TRUE)))","v":""},{"$f":"IF(A234=\"\",\"\",IF(VLOOKUP(A234,eligibilité!$A$15:$AG$515,6,TRUE)=\"\",\"\",VLOOKUP(A234,eligibilité!$A$15:$AG$515,6,TRUE)))","v":""},{"$f":"IF(A234=\"\",\"\",IF(VLOOKUP(A234,eligibilité!$A$15:$AG$515,7,TRUE)=\"\",\"\",VLOOKUP(A234,eligibilité!$A$15:$AG$515,7,TRUE)))","v":""},{"$f":"IF(A234=\"\",\"\",IF(VLOOKUP(A234,eligibilité!$A$15:$AG$515,8,TRUE)=\"\",\"\",VLOOKUP(A234,eligibilité!$A$15:$AG$515,8,TRUE)))","v":""},{"$f":"IF(A234=\"\",\"\",IF(VLOOKUP(A234,eligibilité!$A$15:$AG$515,9,TRUE)=\"\",\"\",VLOOKUP(A234,eligibilité!$A$15:$AG$515,9,TRUE)))","v":""},{"$f":"IF(A234=\"\",\"\",IF(VLOOKUP(A234,eligibilité!$A$15:$AG$515,10,TRUE)=\"\",\"\",VLOOKUP(A234,eligibilité!$A$15:$AG$515,10,TRUE)))","v":""},{"$f":"IF(A234=\"\",\"\",IF(VLOOKUP(A234,eligibilité!$A$15:$AG$515,30,FALSE)=0,\"\",VLOOKUP(A234,eligibilité!$A$15:$AG$515,30,FALSE)))","v":""},"","","","","","","",1305,"","","","","","","Temps restant : ",""]
[{"$f":"IF(eligibilité!AG237=\"\",\"\",eligibilité!A237)","v":""},{"$f":"IF(A235=\"\",\"\",IF(VLOOKUP(A235,eligibilité!$A$15:$J$515,2,TRUE)=\"\",\"\",VLOOKUP(A235,eligibilité!$A$15:$J$515,2,TRUE)))","v":""},{"$f":"IF(A235=\"\",\"\",IF(VLOOKUP(A235,eligibilité!$A$15:$AG$515,3,TRUE)=\"\",\"\",VLOOKUP(A235,eligibilité!$A$15:$AG$515,3,TRUE)))","v":""},{"$f":"IF(A235=\"\",\"\",IF(VLOOKUP(A235,eligibilité!$A$15:$AG$515,4,TRUE)=\"\",\"\",VLOOKUP(A235,eligibilité!$A$15:$AG$515,4,TRUE)))","v":""},{"$f":"IF(A235=\"\",\"\",IF(VLOOKUP(A235,eligibilité!$A$15:$AG$515,5,TRUE)=\"\",\"\",VLOOKUP(A235,eligibilité!$A$15:$AG$515,5,TRUE)))","v":""},{"$f":"IF(A235=\"\",\"\",IF(VLOOKUP(A235,eligibilité!$A$15:$AG$515,6,TRUE)=\"\",\"\",VLOOKUP(A235,eligibilité!$A$15:$AG$515,6,TRUE)))","v":""},{"$f":"IF(A235=\"\",\"\",IF(VLOOKUP(A235,eligibilité!$A$15:$AG$515,7,TRUE)=\"\",\"\",VLOOKUP(A235,eligibilité!$A$15:$AG$515,7,TRUE)))","v":""},{"$f":"IF(A235=\"\",\"\",IF(VLOOKUP(A235,eligibilité!$A$15:$AG$515,8,TRUE)=\"\",\"\",VLOOKUP(A235,eligibilité!$A$15:$AG$515,8,TRUE)))","v":""},{"$f":"IF(A235=\"\",\"\",IF(VLOOKUP(A235,eligibilité!$A$15:$AG$515,9,TRUE)=\"\",\"\",VLOOKUP(A235,eligibilité!$A$15:$AG$515,9,TRUE)))","v":""},{"$f":"IF(A235=\"\",\"\",IF(VLOOKUP(A235,eligibilité!$A$15:$AG$515,10,TRUE)=\"\",\"\",VLOOKUP(A235,eligibilité!$A$15:$AG$515,10,TRUE)))","v":""},{"$f":"IF(A235=\"\",\"\",IF(VLOOKUP(A235,eligibilité!$A$15:$AG$515,30,FALSE)=0,\"\",VLOOKUP(A235,eligibilité!$A$15:$AG$515,30,FALSE)))","v":""},"","","","","","","",1305,"","","","","","","Temps restant : ",""]
[{"$f":"IF(eligibilité!AG238=\"\",\"\",eligibilité!A238)","v":""},{"$f":"IF(A236=\"\",\"\",IF(VLOOKUP(A236,eligibilité!$A$15:$J$515,2,TRUE)=\"\",\"\",VLOOKUP(A236,eligibilité!$A$15:$J$515,2,TRUE)))","v":""},{"$f":"IF(A236=\"\",\"\",IF(VLOOKUP(A236,eligibilité!$A$15:$AG$515,3,TRUE)=\"\",\"\",VLOOKUP(A236,eligibilité!$A$15:$AG$515,3,TRUE)))","v":""},{"$f":"IF(A236=\"\",\"\",IF(VLOOKUP(A236,eligibilité!$A$15:$AG$515,4,TRUE)=\"\",\"\",VLOOKUP(A236,eligibilité!$A$15:$AG$515,4,TRUE)))","v":""},{"$f":"IF(A236=\"\",\"\",IF(VLOOKUP(A236,eligibilité!$A$15:$AG$515,5,TRUE)=\"\",\"\",VLOOKUP(A236,eligibilité!$A$15:$AG$515,5,TRUE)))","v":""},{"$f":"IF(A236=\"\",\"\",IF(VLOOKUP(A236,eligibilité!$A$15:$AG$515,6,TRUE)=\"\",\"\",VLOOKUP(A236,eligibilité!$A$15:$AG$515,6,TRUE)))","v":""},{"$f":"IF(A236=\"\",\"\",IF(VLOOKUP(A236,eligibilité!$A$15:$AG$515,7,TRUE)=\"\",\"\",VLOOKUP(A236,eligibilité!$A$15:$AG$515,7,TRUE)))","v":""},{"$f":"IF(A236=\"\",\"\",IF(VLOOKUP(A236,eligibilité!$A$15:$AG$515,8,TRUE)=\"\",\"\",VLOOKUP(A236,eligibilité!$A$15:$AG$515,8,TRUE)))","v":""},{"$f":"IF(A236=\"\",\"\",IF(VLOOKUP(A236,eligibilité!$A$15:$AG$515,9,TRUE)=\"\",\"\",VLOOKUP(A236,eligibilité!$A$15:$AG$515,9,TRUE)))","v":""},{"$f":"IF(A236=\"\",\"\",IF(VLOOKUP(A236,eligibilité!$A$15:$AG$515,10,TRUE)=\"\",\"\",VLOOKUP(A236,eligibilité!$A$15:$AG$515,10,TRUE)))","v":""},{"$f":"IF(A236=\"\",\"\",IF(VLOOKUP(A236,eligibilité!$A$15:$AG$515,30,FALSE)=0,\"\",VLOOKUP(A236,eligibilité!$A$15:$AG$515,30,FALSE)))","v":""},"","","","","","","",1305,"","","","","","","Temps restant : ",""]
[{"$f":"IF(eligibilité!AG239=\"\",\"\",eligibilité!A239)","v":""},{"$f":"IF(A237=\"\",\"\",IF(VLOOKUP(A237,eligibilité!$A$15:$J$515,2,TRUE)=\"\",\"\",VLOOKUP(A237,eligibilité!$A$15:$J$515,2,TRUE)))","v":""},{"$f":"IF(A237=\"\",\"\",IF(VLOOKUP(A237,eligibilité!$A$15:$AG$515,3,TRUE)=\"\",\"\",VLOOKUP(A237,eligibilité!$A$15:$AG$515,3,TRUE)))","v":""},{"$f":"IF(A237=\"\",\"\",IF(VLOOKUP(A237,eligibilité!$A$15:$AG$515,4,TRUE)=\"\",\"\",VLOOKUP(A237,eligibilité!$A$15:$AG$515,4,TRUE)))","v":""},{"$f":"IF(A237=\"\",\"\",IF(VLOOKUP(A237,eligibilité!$A$15:$AG$515,5,TRUE)=\"\",\"\",VLOOKUP(A237,eligibilité!$A$15:$AG$515,5,TRUE)))","v":""},{"$f":"IF(A237=\"\",\"\",IF(VLOOKUP(A237,eligibilité!$A$15:$AG$515,6,TRUE)=\"\",\"\",VLOOKUP(A237,eligibilité!$A$15:$AG$515,6,TRUE)))","v":""},{"$f":"IF(A237=\"\",\"\",IF(VLOOKUP(A237,eligibilité!$A$15:$AG$515,7,TRUE)=\"\",\"\",VLOOKUP(A237,eligibilité!$A$15:$AG$515,7,TRUE)))","v":""},{"$f":"IF(A237=\"\",\"\",IF(VLOOKUP(A237,eligibilité!$A$15:$AG$515,8,TRUE)=\"\",\"\",VLOOKUP(A237,eligibilité!$A$15:$AG$515,8,TRUE)))","v":""},{"$f":"IF(A237=\"\",\"\",IF(VLOOKUP(A237,eligibilité!$A$15:$AG$515,9,TRUE)=\"\",\"\",VLOOKUP(A237,eligibilité!$A$15:$AG$515,9,TRUE)))","v":""},{"$f":"IF(A237=\"\",\"\",IF(VLOOKUP(A237,eligibilité!$A$15:$AG$515,10,TRUE)=\"\",\"\",VLOOKUP(A237,eligibilité!$A$15:$AG$515,10,TRUE)))","v":""},{"$f":"IF(A237=\"\",\"\",IF(VLOOKUP(A237,eligibilité!$A$15:$AG$515,30,FALSE)=0,\"\",VLOOKUP(A237,eligibilité!$A$15:$AG$515,30,FALSE)))","v":""},"","","","","","","",1305,"","","","","","","Temps restant : ",""]
[{"$f":"IF(eligibilité!AG240=\"\",\"\",eligibilité!A240)","v":""},{"$f":"IF(A238=\"\",\"\",IF(VLOOKUP(A238,eligibilité!$A$15:$J$515,2,TRUE)=\"\",\"\",VLOOKUP(A238,eligibilité!$A$15:$J$515,2,TRUE)))","v":""},{"$f":"IF(A238=\"\",\"\",IF(VLOOKUP(A238,eligibilité!$A$15:$AG$515,3,TRUE)=\"\",\"\",VLOOKUP(A238,eligibilité!$A$15:$AG$515,3,TRUE)))","v":""},{"$f":"IF(A238=\"\",\"\",IF(VLOOKUP(A238,eligibilité!$A$15:$AG$515,4,TRUE)=\"\",\"\",VLOOKUP(A238,eligibilité!$A$15:$AG$515,4,TRUE)))","v":""},{"$f":"IF(A238=\"\",\"\",IF(VLOOKUP(A238,eligibilité!$A$15:$AG$515,5,TRUE)=\"\",\"\",VLOOKUP(A238,eligibilité!$A$15:$AG$515,5,TRUE)))","v":""},{"$f":"IF(A238=\"\",\"\",IF(VLOOKUP(A238,eligibilité!$A$15:$AG$515,6,TRUE)=\"\",\"\",VLOOKUP(A238,eligibilité!$A$15:$AG$515,6,TRUE)))","v":""},{"$f":"IF(A238=\"\",\"\",IF(VLOOKUP(A238,eligibilité!$A$15:$AG$515,7,TRUE)=\"\",\"\",VLOOKUP(A238,eligibilité!$A$15:$AG$515,7,TRUE)))","v":""},{"$f":"IF(A238=\"\",\"\",IF(VLOOKUP(A238,eligibilité!$A$15:$AG$515,8,TRUE)=\"\",\"\",VLOOKUP(A238,eligibilité!$A$15:$AG$515,8,TRUE)))","v":""},{"$f":"IF(A238=\"\",\"\",IF(VLOOKUP(A238,eligibilité!$A$15:$AG$515,9,TRUE)=\"\",\"\",VLOOKUP(A238,eligibilité!$A$15:$AG$515,9,TRUE)))","v":""},{"$f":"IF(A238=\"\",\"\",IF(VLOOKUP(A238,eligibilité!$A$15:$AG$515,10,TRUE)=\"\",\"\",VLOOKUP(A238,eligibilité!$A$15:$AG$515,10,TRUE)))","v":""},{"$f":"IF(A238=\"\",\"\",IF(VLOOKUP(A238,eligibilité!$A$15:$AG$515,30,FALSE)=0,\"\",VLOOKUP(A238,eligibilité!$A$15:$AG$515,30,FALSE)))","v":""},"","","","","","","",1305,"","","","","","","Temps restant : ",""]
[{"$f":"IF(eligibilité!AG241=\"\",\"\",eligibilité!A241)","v":""},{"$f":"IF(A239=\"\",\"\",IF(VLOOKUP(A239,eligibilité!$A$15:$J$515,2,TRUE)=\"\",\"\",VLOOKUP(A239,eligibilité!$A$15:$J$515,2,TRUE)))","v":""},{"$f":"IF(A239=\"\",\"\",IF(VLOOKUP(A239,eligibilité!$A$15:$AG$515,3,TRUE)=\"\",\"\",VLOOKUP(A239,eligibilité!$A$15:$AG$515,3,TRUE)))","v":""},{"$f":"IF(A239=\"\",\"\",IF(VLOOKUP(A239,eligibilité!$A$15:$AG$515,4,TRUE)=\"\",\"\",VLOOKUP(A239,eligibilité!$A$15:$AG$515,4,TRUE)))","v":""},{"$f":"IF(A239=\"\",\"\",IF(VLOOKUP(A239,eligibilité!$A$15:$AG$515,5,TRUE)=\"\",\"\",VLOOKUP(A239,eligibilité!$A$15:$AG$515,5,TRUE)))","v":""},{"$f":"IF(A239=\"\",\"\",IF(VLOOKUP(A239,eligibilité!$A$15:$AG$515,6,TRUE)=\"\",\"\",VLOOKUP(A239,eligibilité!$A$15:$AG$515,6,TRUE)))","v":""},{"$f":"IF(A239=\"\",\"\",IF(VLOOKUP(A239,eligibilité!$A$15:$AG$515,7,TRUE)=\"\",\"\",VLOOKUP(A239,eligibilité!$A$15:$AG$515,7,TRUE)))","v":""},{"$f":"IF(A239=\"\",\"\",IF(VLOOKUP(A239,eligibilité!$A$15:$AG$515,8,TRUE)=\"\",\"\",VLOOKUP(A239,eligibilité!$A$15:$AG$515,8,TRUE)))","v":""},{"$f":"IF(A239=\"\",\"\",IF(VLOOKUP(A239,eligibilité!$A$15:$AG$515,9,TRUE)=\"\",\"\",VLOOKUP(A239,eligibilité!$A$15:$AG$515,9,TRUE)))","v":""},{"$f":"IF(A239=\"\",\"\",IF(VLOOKUP(A239,eligibilité!$A$15:$AG$515,10,TRUE)=\"\",\"\",VLOOKUP(A239,eligibilité!$A$15:$AG$515,10,TRUE)))","v":""},{"$f":"IF(A239=\"\",\"\",IF(VLOOKUP(A239,eligibilité!$A$15:$AG$515,30,FALSE)=0,\"\",VLOOKUP(A239,eligibilité!$A$15:$AG$515,30,FALSE)))","v":""},"","","","","","","",1305,"","","","","","","Temps restant : ",""]
[{"$f":"IF(eligibilité!AG242=\"\",\"\",eligibilité!A242)","v":""},{"$f":"IF(A240=\"\",\"\",IF(VLOOKUP(A240,eligibilité!$A$15:$J$515,2,TRUE)=\"\",\"\",VLOOKUP(A240,eligibilité!$A$15:$J$515,2,TRUE)))","v":""},{"$f":"IF(A240=\"\",\"\",IF(VLOOKUP(A240,eligibilité!$A$15:$AG$515,3,TRUE)=\"\",\"\",VLOOKUP(A240,eligibilité!$A$15:$AG$515,3,TRUE)))","v":""},{"$f":"IF(A240=\"\",\"\",IF(VLOOKUP(A240,eligibilité!$A$15:$AG$515,4,TRUE)=\"\",\"\",VLOOKUP(A240,eligibilité!$A$15:$AG$515,4,TRUE)))","v":""},{"$f":"IF(A240=\"\",\"\",IF(VLOOKUP(A240,eligibilité!$A$15:$AG$515,5,TRUE)=\"\",\"\",VLOOKUP(A240,eligibilité!$A$15:$AG$515,5,TRUE)))","v":""},{"$f":"IF(A240=\"\",\"\",IF(VLOOKUP(A240,eligibilité!$A$15:$AG$515,6,TRUE)=\"\",\"\",VLOOKUP(A240,eligibilité!$A$15:$AG$515,6,TRUE)))","v":""},{"$f":"IF(A240=\"\",\"\",IF(VLOOKUP(A240,eligibilité!$A$15:$AG$515,7,TRUE)=\"\",\"\",VLOOKUP(A240,eligibilité!$A$15:$AG$515,7,TRUE)))","v":""},{"$f":"IF(A240=\"\",\"\",IF(VLOOKUP(A240,eligibilité!$A$15:$AG$515,8,TRUE)=\"\",\"\",VLOOKUP(A240,eligibilité!$A$15:$AG$515,8,TRUE)))","v":""},{"$f":"IF(A240=\"\",\"\",IF(VLOOKUP(A240,eligibilité!$A$15:$AG$515,9,TRUE)=\"\",\"\",VLOOKUP(A240,eligibilité!$A$15:$AG$515,9,TRUE)))","v":""},{"$f":"IF(A240=\"\",\"\",IF(VLOOKUP(A240,eligibilité!$A$15:$AG$515,10,TRUE)=\"\",\"\",VLOOKUP(A240,eligibilité!$A$15:$AG$515,10,TRUE)))","v":""},{"$f":"IF(A240=\"\",\"\",IF(VLOOKUP(A240,eligibilité!$A$15:$AG$515,30,FALSE)=0,\"\",VLOOKUP(A240,eligibilité!$A$15:$AG$515,30,FALSE)))","v":""},"","","","","","","",1305,"","","","","","","Temps restant : ",""]
[{"$f":"IF(eligibilité!AG243=\"\",\"\",eligibilité!A243)","v":""},{"$f":"IF(A241=\"\",\"\",IF(VLOOKUP(A241,eligibilité!$A$15:$J$515,2,TRUE)=\"\",\"\",VLOOKUP(A241,eligibilité!$A$15:$J$515,2,TRUE)))","v":""},{"$f":"IF(A241=\"\",\"\",IF(VLOOKUP(A241,eligibilité!$A$15:$AG$515,3,TRUE)=\"\",\"\",VLOOKUP(A241,eligibilité!$A$15:$AG$515,3,TRUE)))","v":""},{"$f":"IF(A241=\"\",\"\",IF(VLOOKUP(A241,eligibilité!$A$15:$AG$515,4,TRUE)=\"\",\"\",VLOOKUP(A241,eligibilité!$A$15:$AG$515,4,TRUE)))","v":""},{"$f":"IF(A241=\"\",\"\",IF(VLOOKUP(A241,eligibilité!$A$15:$AG$515,5,TRUE)=\"\",\"\",VLOOKUP(A241,eligibilité!$A$15:$AG$515,5,TRUE)))","v":""},{"$f":"IF(A241=\"\",\"\",IF(VLOOKUP(A241,eligibilité!$A$15:$AG$515,6,TRUE)=\"\",\"\",VLOOKUP(A241,eligibilité!$A$15:$AG$515,6,TRUE)))","v":""},{"$f":"IF(A241=\"\",\"\",IF(VLOOKUP(A241,eligibilité!$A$15:$AG$515,7,TRUE)=\"\",\"\",VLOOKUP(A241,eligibilité!$A$15:$AG$515,7,TRUE)))","v":""},{"$f":"IF(A241=\"\",\"\",IF(VLOOKUP(A241,eligibilité!$A$15:$AG$515,8,TRUE)=\"\",\"\",VLOOKUP(A241,eligibilité!$A$15:$AG$515,8,TRUE)))","v":""},{"$f":"IF(A241=\"\",\"\",IF(VLOOKUP(A241,eligibilité!$A$15:$AG$515,9,TRUE)=\"\",\"\",VLOOKUP(A241,eligibilité!$A$15:$AG$515,9,TRUE)))","v":""},{"$f":"IF(A241=\"\",\"\",IF(VLOOKUP(A241,eligibilité!$A$15:$AG$515,10,TRUE)=\"\",\"\",VLOOKUP(A241,eligibilité!$A$15:$AG$515,10,TRUE)))","v":""},{"$f":"IF(A241=\"\",\"\",IF(VLOOKUP(A241,eligibilité!$A$15:$AG$515,30,FALSE)=0,\"\",VLOOKUP(A241,eligibilité!$A$15:$AG$515,30,FALSE)))","v":""},"","","","","","","",1305,"","","","","","","Temps restant : ",""]
[{"$f":"IF(eligibilité!AG244=\"\",\"\",eligibilité!A244)","v":""},{"$f":"IF(A242=\"\",\"\",IF(VLOOKUP(A242,eligibilité!$A$15:$J$515,2,TRUE)=\"\",\"\",VLOOKUP(A242,eligibilité!$A$15:$J$515,2,TRUE)))","v":""},{"$f":"IF(A242=\"\",\"\",IF(VLOOKUP(A242,eligibilité!$A$15:$AG$515,3,TRUE)=\"\",\"\",VLOOKUP(A242,eligibilité!$A$15:$AG$515,3,TRUE)))","v":""},{"$f":"IF(A242=\"\",\"\",IF(VLOOKUP(A242,eligibilité!$A$15:$AG$515,4,TRUE)=\"\",\"\",VLOOKUP(A242,eligibilité!$A$15:$AG$515,4,TRUE)))","v":""},{"$f":"IF(A242=\"\",\"\",IF(VLOOKUP(A242,eligibilité!$A$15:$AG$515,5,TRUE)=\"\",\"\",VLOOKUP(A242,eligibilité!$A$15:$AG$515,5,TRUE)))","v":""},{"$f":"IF(A242=\"\",\"\",IF(VLOOKUP(A242,eligibilité!$A$15:$AG$515,6,TRUE)=\"\",\"\",VLOOKUP(A242,eligibilité!$A$15:$AG$515,6,TRUE)))","v":""},{"$f":"IF(A242=\"\",\"\",IF(VLOOKUP(A242,eligibilité!$A$15:$AG$515,7,TRUE)=\"\",\"\",VLOOKUP(A242,eligibilité!$A$15:$AG$515,7,TRUE)))","v":""},{"$f":"IF(A242=\"\",\"\",IF(VLOOKUP(A242,eligibilité!$A$15:$AG$515,8,TRUE)=\"\",\"\",VLOOKUP(A242,eligibilité!$A$15:$AG$515,8,TRUE)))","v":""},{"$f":"IF(A242=\"\",\"\",IF(VLOOKUP(A242,eligibilité!$A$15:$AG$515,9,TRUE)=\"\",\"\",VLOOKUP(A242,eligibilité!$A$15:$AG$515,9,TRUE)))","v":""},{"$f":"IF(A242=\"\",\"\",IF(VLOOKUP(A242,eligibilité!$A$15:$AG$515,10,TRUE)=\"\",\"\",VLOOKUP(A242,eligibilité!$A$15:$AG$515,10,TRUE)))","v":""},{"$f":"IF(A242=\"\",\"\",IF(VLOOKUP(A242,eligibilité!$A$15:$AG$515,30,FALSE)=0,\"\",VLOOKUP(A242,eligibilité!$A$15:$AG$515,30,FALSE)))","v":""},"","","","","","","",1305,"","","","","","","Temps restant : ",""]
[{"$f":"IF(eligibilité!AG245=\"\",\"\",eligibilité!A245)","v":""},{"$f":"IF(A243=\"\",\"\",IF(VLOOKUP(A243,eligibilité!$A$15:$J$515,2,TRUE)=\"\",\"\",VLOOKUP(A243,eligibilité!$A$15:$J$515,2,TRUE)))","v":""},{"$f":"IF(A243=\"\",\"\",IF(VLOOKUP(A243,eligibilité!$A$15:$AG$515,3,TRUE)=\"\",\"\",VLOOKUP(A243,eligibilité!$A$15:$AG$515,3,TRUE)))","v":""},{"$f":"IF(A243=\"\",\"\",IF(VLOOKUP(A243,eligibilité!$A$15:$AG$515,4,TRUE)=\"\",\"\",VLOOKUP(A243,eligibilité!$A$15:$AG$515,4,TRUE)))","v":""},{"$f":"IF(A243=\"\",\"\",IF(VLOOKUP(A243,eligibilité!$A$15:$AG$515,5,TRUE)=\"\",\"\",VLOOKUP(A243,eligibilité!$A$15:$AG$515,5,TRUE)))","v":""},{"$f":"IF(A243=\"\",\"\",IF(VLOOKUP(A243,eligibilité!$A$15:$AG$515,6,TRUE)=\"\",\"\",VLOOKUP(A243,eligibilité!$A$15:$AG$515,6,TRUE)))","v":""},{"$f":"IF(A243=\"\",\"\",IF(VLOOKUP(A243,eligibilité!$A$15:$AG$515,7,TRUE)=\"\",\"\",VLOOKUP(A243,eligibilité!$A$15:$AG$515,7,TRUE)))","v":""},{"$f":"IF(A243=\"\",\"\",IF(VLOOKUP(A243,eligibilité!$A$15:$AG$515,8,TRUE)=\"\",\"\",VLOOKUP(A243,eligibilité!$A$15:$AG$515,8,TRUE)))","v":""},{"$f":"IF(A243=\"\",\"\",IF(VLOOKUP(A243,eligibilité!$A$15:$AG$515,9,TRUE)=\"\",\"\",VLOOKUP(A243,eligibilité!$A$15:$AG$515,9,TRUE)))","v":""},{"$f":"IF(A243=\"\",\"\",IF(VLOOKUP(A243,eligibilité!$A$15:$AG$515,10,TRUE)=\"\",\"\",VLOOKUP(A243,eligibilité!$A$15:$AG$515,10,TRUE)))","v":""},{"$f":"IF(A243=\"\",\"\",IF(VLOOKUP(A243,eligibilité!$A$15:$AG$515,30,FALSE)=0,\"\",VLOOKUP(A243,eligibilité!$A$15:$AG$515,30,FALSE)))","v":""},"","","","","","","",1305,"","","","","","","Temps restant : ",""]
[{"$f":"IF(eligibilité!AG246=\"\",\"\",eligibilité!A246)","v":""},{"$f":"IF(A244=\"\",\"\",IF(VLOOKUP(A244,eligibilité!$A$15:$J$515,2,TRUE)=\"\",\"\",VLOOKUP(A244,eligibilité!$A$15:$J$515,2,TRUE)))","v":""},{"$f":"IF(A244=\"\",\"\",IF(VLOOKUP(A244,eligibilité!$A$15:$AG$515,3,TRUE)=\"\",\"\",VLOOKUP(A244,eligibilité!$A$15:$AG$515,3,TRUE)))","v":""},{"$f":"IF(A244=\"\",\"\",IF(VLOOKUP(A244,eligibilité!$A$15:$AG$515,4,TRUE)=\"\",\"\",VLOOKUP(A244,eligibilité!$A$15:$AG$515,4,TRUE)))","v":""},{"$f":"IF(A244=\"\",\"\",IF(VLOOKUP(A244,eligibilité!$A$15:$AG$515,5,TRUE)=\"\",\"\",VLOOKUP(A244,eligibilité!$A$15:$AG$515,5,TRUE)))","v":""},{"$f":"IF(A244=\"\",\"\",IF(VLOOKUP(A244,eligibilité!$A$15:$AG$515,6,TRUE)=\"\",\"\",VLOOKUP(A244,eligibilité!$A$15:$AG$515,6,TRUE)))","v":""},{"$f":"IF(A244=\"\",\"\",IF(VLOOKUP(A244,eligibilité!$A$15:$AG$515,7,TRUE)=\"\",\"\",VLOOKUP(A244,eligibilité!$A$15:$AG$515,7,TRUE)))","v":""},{"$f":"IF(A244=\"\",\"\",IF(VLOOKUP(A244,eligibilité!$A$15:$AG$515,8,TRUE)=\"\",\"\",VLOOKUP(A244,eligibilité!$A$15:$AG$515,8,TRUE)))","v":""},{"$f":"IF(A244=\"\",\"\",IF(VLOOKUP(A244,eligibilité!$A$15:$AG$515,9,TRUE)=\"\",\"\",VLOOKUP(A244,eligibilité!$A$15:$AG$515,9,TRUE)))","v":""},{"$f":"IF(A244=\"\",\"\",IF(VLOOKUP(A244,eligibilité!$A$15:$AG$515,10,TRUE)=\"\",\"\",VLOOKUP(A244,eligibilité!$A$15:$AG$515,10,TRUE)))","v":""},{"$f":"IF(A244=\"\",\"\",IF(VLOOKUP(A244,eligibilité!$A$15:$AG$515,30,FALSE)=0,\"\",VLOOKUP(A244,eligibilité!$A$15:$AG$515,30,FALSE)))","v":""},"","","","","","","",1305,"","","","","","","Temps restant : ",""]
[{"$f":"IF(eligibilité!AG247=\"\",\"\",eligibilité!A247)","v":""},{"$f":"IF(A245=\"\",\"\",IF(VLOOKUP(A245,eligibilité!$A$15:$J$515,2,TRUE)=\"\",\"\",VLOOKUP(A245,eligibilité!$A$15:$J$515,2,TRUE)))","v":""},{"$f":"IF(A245=\"\",\"\",IF(VLOOKUP(A245,eligibilité!$A$15:$AG$515,3,TRUE)=\"\",\"\",VLOOKUP(A245,eligibilité!$A$15:$AG$515,3,TRUE)))","v":""},{"$f":"IF(A245=\"\",\"\",IF(VLOOKUP(A245,eligibilité!$A$15:$AG$515,4,TRUE)=\"\",\"\",VLOOKUP(A245,eligibilité!$A$15:$AG$515,4,TRUE)))","v":""},{"$f":"IF(A245=\"\",\"\",IF(VLOOKUP(A245,eligibilité!$A$15:$AG$515,5,TRUE)=\"\",\"\",VLOOKUP(A245,eligibilité!$A$15:$AG$515,5,TRUE)))","v":""},{"$f":"IF(A245=\"\",\"\",IF(VLOOKUP(A245,eligibilité!$A$15:$AG$515,6,TRUE)=\"\",\"\",VLOOKUP(A245,eligibilité!$A$15:$AG$515,6,TRUE)))","v":""},{"$f":"IF(A245=\"\",\"\",IF(VLOOKUP(A245,eligibilité!$A$15:$AG$515,7,TRUE)=\"\",\"\",VLOOKUP(A245,eligibilité!$A$15:$AG$515,7,TRUE)))","v":""},{"$f":"IF(A245=\"\",\"\",IF(VLOOKUP(A245,eligibilité!$A$15:$AG$515,8,TRUE)=\"\",\"\",VLOOKUP(A245,eligibilité!$A$15:$AG$515,8,TRUE)))","v":""},{"$f":"IF(A245=\"\",\"\",IF(VLOOKUP(A245,eligibilité!$A$15:$AG$515,9,TRUE)=\"\",\"\",VLOOKUP(A245,eligibilité!$A$15:$AG$515,9,TRUE)))","v":""},{"$f":"IF(A245=\"\",\"\",IF(VLOOKUP(A245,eligibilité!$A$15:$AG$515,10,TRUE)=\"\",\"\",VLOOKUP(A245,eligibilité!$A$15:$AG$515,10,TRUE)))","v":""},{"$f":"IF(A245=\"\",\"\",IF(VLOOKUP(A245,eligibilité!$A$15:$AG$515,30,FALSE)=0,\"\",VLOOKUP(A245,eligibilité!$A$15:$AG$515,30,FALSE)))","v":""},"","","","","","","",1305,"","","","","","","Temps restant : ",""]
[{"$f":"IF(eligibilité!AG248=\"\",\"\",eligibilité!A248)","v":""},{"$f":"IF(A246=\"\",\"\",IF(VLOOKUP(A246,eligibilité!$A$15:$J$515,2,TRUE)=\"\",\"\",VLOOKUP(A246,eligibilité!$A$15:$J$515,2,TRUE)))","v":""},{"$f":"IF(A246=\"\",\"\",IF(VLOOKUP(A246,eligibilité!$A$15:$AG$515,3,TRUE)=\"\",\"\",VLOOKUP(A246,eligibilité!$A$15:$AG$515,3,TRUE)))","v":""},{"$f":"IF(A246=\"\",\"\",IF(VLOOKUP(A246,eligibilité!$A$15:$AG$515,4,TRUE)=\"\",\"\",VLOOKUP(A246,eligibilité!$A$15:$AG$515,4,TRUE)))","v":""},{"$f":"IF(A246=\"\",\"\",IF(VLOOKUP(A246,eligibilité!$A$15:$AG$515,5,TRUE)=\"\",\"\",VLOOKUP(A246,eligibilité!$A$15:$AG$515,5,TRUE)))","v":""},{"$f":"IF(A246=\"\",\"\",IF(VLOOKUP(A246,eligibilité!$A$15:$AG$515,6,TRUE)=\"\",\"\",VLOOKUP(A246,eligibilité!$A$15:$AG$515,6,TRUE)))","v":""},{"$f":"IF(A246=\"\",\"\",IF(VLOOKUP(A246,eligibilité!$A$15:$AG$515,7,TRUE)=\"\",\"\",VLOOKUP(A246,eligibilité!$A$15:$AG$515,7,TRUE)))","v":""},{"$f":"IF(A246=\"\",\"\",IF(VLOOKUP(A246,eligibilité!$A$15:$AG$515,8,TRUE)=\"\",\"\",VLOOKUP(A246,eligibilité!$A$15:$AG$515,8,TRUE)))","v":""},{"$f":"IF(A246=\"\",\"\",IF(VLOOKUP(A246,eligibilité!$A$15:$AG$515,9,TRUE)=\"\",\"\",VLOOKUP(A246,eligibilité!$A$15:$AG$515,9,TRUE)))","v":""},{"$f":"IF(A246=\"\",\"\",IF(VLOOKUP(A246,eligibilité!$A$15:$AG$515,10,TRUE)=\"\",\"\",VLOOKUP(A246,eligibilité!$A$15:$AG$515,10,TRUE)))","v":""},{"$f":"IF(A246=\"\",\"\",IF(VLOOKUP(A246,eligibilité!$A$15:$AG$515,30,FALSE)=0,\"\",VLOOKUP(A246,eligibilité!$A$15:$AG$515,30,FALSE)))","v":""},"","","","","","","",1305,"","","","","","","Temps restant : ",""]
[{"$f":"IF(eligibilité!AG249=\"\",\"\",eligibilité!A249)","v":""},{"$f":"IF(A247=\"\",\"\",IF(VLOOKUP(A247,eligibilité!$A$15:$J$515,2,TRUE)=\"\",\"\",VLOOKUP(A247,eligibilité!$A$15:$J$515,2,TRUE)))","v":""},{"$f":"IF(A247=\"\",\"\",IF(VLOOKUP(A247,eligibilité!$A$15:$AG$515,3,TRUE)=\"\",\"\",VLOOKUP(A247,eligibilité!$A$15:$AG$515,3,TRUE)))","v":""},{"$f":"IF(A247=\"\",\"\",IF(VLOOKUP(A247,eligibilité!$A$15:$AG$515,4,TRUE)=\"\",\"\",VLOOKUP(A247,eligibilité!$A$15:$AG$515,4,TRUE)))","v":""},{"$f":"IF(A247=\"\",\"\",IF(VLOOKUP(A247,eligibilité!$A$15:$AG$515,5,TRUE)=\"\",\"\",VLOOKUP(A247,eligibilité!$A$15:$AG$515,5,TRUE)))","v":""},{"$f":"IF(A247=\"\",\"\",IF(VLOOKUP(A247,eligibilité!$A$15:$AG$515,6,TRUE)=\"\",\"\",VLOOKUP(A247,eligibilité!$A$15:$AG$515,6,TRUE)))","v":""},{"$f":"IF(A247=\"\",\"\",IF(VLOOKUP(A247,eligibilité!$A$15:$AG$515,7,TRUE)=\"\",\"\",VLOOKUP(A247,eligibilité!$A$15:$AG$515,7,TRUE)))","v":""},{"$f":"IF(A247=\"\",\"\",IF(VLOOKUP(A247,eligibilité!$A$15:$AG$515,8,TRUE)=\"\",\"\",VLOOKUP(A247,eligibilité!$A$15:$AG$515,8,TRUE)))","v":""},{"$f":"IF(A247=\"\",\"\",IF(VLOOKUP(A247,eligibilité!$A$15:$AG$515,9,TRUE)=\"\",\"\",VLOOKUP(A247,eligibilité!$A$15:$AG$515,9,TRUE)))","v":""},{"$f":"IF(A247=\"\",\"\",IF(VLOOKUP(A247,eligibilité!$A$15:$AG$515,10,TRUE)=\"\",\"\",VLOOKUP(A247,eligibilité!$A$15:$AG$515,10,TRUE)))","v":""},{"$f":"IF(A247=\"\",\"\",IF(VLOOKUP(A247,eligibilité!$A$15:$AG$515,30,FALSE)=0,\"\",VLOOKUP(A247,eligibilité!$A$15:$AG$515,30,FALSE)))","v":""},"","","","","","","",1305,"","","","","","","Temps restant : ",""]
[{"$f":"IF(eligibilité!AG250=\"\",\"\",eligibilité!A250)","v":""},{"$f":"IF(A248=\"\",\"\",IF(VLOOKUP(A248,eligibilité!$A$15:$J$515,2,TRUE)=\"\",\"\",VLOOKUP(A248,eligibilité!$A$15:$J$515,2,TRUE)))","v":""},{"$f":"IF(A248=\"\",\"\",IF(VLOOKUP(A248,eligibilité!$A$15:$AG$515,3,TRUE)=\"\",\"\",VLOOKUP(A248,eligibilité!$A$15:$AG$515,3,TRUE)))","v":""},{"$f":"IF(A248=\"\",\"\",IF(VLOOKUP(A248,eligibilité!$A$15:$AG$515,4,TRUE)=\"\",\"\",VLOOKUP(A248,eligibilité!$A$15:$AG$515,4,TRUE)))","v":""},{"$f":"IF(A248=\"\",\"\",IF(VLOOKUP(A248,eligibilité!$A$15:$AG$515,5,TRUE)=\"\",\"\",VLOOKUP(A248,eligibilité!$A$15:$AG$515,5,TRUE)))","v":""},{"$f":"IF(A248=\"\",\"\",IF(VLOOKUP(A248,eligibilité!$A$15:$AG$515,6,TRUE)=\"\",\"\",VLOOKUP(A248,eligibilité!$A$15:$AG$515,6,TRUE)))","v":""},{"$f":"IF(A248=\"\",\"\",IF(VLOOKUP(A248,eligibilité!$A$15:$AG$515,7,TRUE)=\"\",\"\",VLOOKUP(A248,eligibilité!$A$15:$AG$515,7,TRUE)))","v":""},{"$f":"IF(A248=\"\",\"\",IF(VLOOKUP(A248,eligibilité!$A$15:$AG$515,8,TRUE)=\"\",\"\",VLOOKUP(A248,eligibilité!$A$15:$AG$515,8,TRUE)))","v":""},{"$f":"IF(A248=\"\",\"\",IF(VLOOKUP(A248,eligibilité!$A$15:$AG$515,9,TRUE)=\"\",\"\",VLOOKUP(A248,eligibilité!$A$15:$AG$515,9,TRUE)))","v":""},{"$f":"IF(A248=\"\",\"\",IF(VLOOKUP(A248,eligibilité!$A$15:$AG$515,10,TRUE)=\"\",\"\",VLOOKUP(A248,eligibilité!$A$15:$AG$515,10,TRUE)))","v":""},{"$f":"IF(A248=\"\",\"\",IF(VLOOKUP(A248,eligibilité!$A$15:$AG$515,30,FALSE)=0,\"\",VLOOKUP(A248,eligibilité!$A$15:$AG$515,30,FALSE)))","v":""},"","","","","","","",1305,"","","","","","","Temps restant : ",""]
[{"$f":"IF(eligibilité!AG251=\"\",\"\",eligibilité!A251)","v":""},{"$f":"IF(A249=\"\",\"\",IF(VLOOKUP(A249,eligibilité!$A$15:$J$515,2,TRUE)=\"\",\"\",VLOOKUP(A249,eligibilité!$A$15:$J$515,2,TRUE)))","v":""},{"$f":"IF(A249=\"\",\"\",IF(VLOOKUP(A249,eligibilité!$A$15:$AG$515,3,TRUE)=\"\",\"\",VLOOKUP(A249,eligibilité!$A$15:$AG$515,3,TRUE)))","v":""},{"$f":"IF(A249=\"\",\"\",IF(VLOOKUP(A249,eligibilité!$A$15:$AG$515,4,TRUE)=\"\",\"\",VLOOKUP(A249,eligibilité!$A$15:$AG$515,4,TRUE)))","v":""},{"$f":"IF(A249=\"\",\"\",IF(VLOOKUP(A249,eligibilité!$A$15:$AG$515,5,TRUE)=\"\",\"\",VLOOKUP(A249,eligibilité!$A$15:$AG$515,5,TRUE)))","v":""},{"$f":"IF(A249=\"\",\"\",IF(VLOOKUP(A249,eligibilité!$A$15:$AG$515,6,TRUE)=\"\",\"\",VLOOKUP(A249,eligibilité!$A$15:$AG$515,6,TRUE)))","v":""},{"$f":"IF(A249=\"\",\"\",IF(VLOOKUP(A249,eligibilité!$A$15:$AG$515,7,TRUE)=\"\",\"\",VLOOKUP(A249,eligibilité!$A$15:$AG$515,7,TRUE)))","v":""},{"$f":"IF(A249=\"\",\"\",IF(VLOOKUP(A249,eligibilité!$A$15:$AG$515,8,TRUE)=\"\",\"\",VLOOKUP(A249,eligibilité!$A$15:$AG$515,8,TRUE)))","v":""},{"$f":"IF(A249=\"\",\"\",IF(VLOOKUP(A249,eligibilité!$A$15:$AG$515,9,TRUE)=\"\",\"\",VLOOKUP(A249,eligibilité!$A$15:$AG$515,9,TRUE)))","v":""},{"$f":"IF(A249=\"\",\"\",IF(VLOOKUP(A249,eligibilité!$A$15:$AG$515,10,TRUE)=\"\",\"\",VLOOKUP(A249,eligibilité!$A$15:$AG$515,10,TRUE)))","v":""},{"$f":"IF(A249=\"\",\"\",IF(VLOOKUP(A249,eligibilité!$A$15:$AG$515,30,FALSE)=0,\"\",VLOOKUP(A249,eligibilité!$A$15:$AG$515,30,FALSE)))","v":""},"","","","","","","",1305,"","","","","","","Temps restant : ",""]
[{"$f":"IF(eligibilité!AG252=\"\",\"\",eligibilité!A252)","v":""},{"$f":"IF(A250=\"\",\"\",IF(VLOOKUP(A250,eligibilité!$A$15:$J$515,2,TRUE)=\"\",\"\",VLOOKUP(A250,eligibilité!$A$15:$J$515,2,TRUE)))","v":""},{"$f":"IF(A250=\"\",\"\",IF(VLOOKUP(A250,eligibilité!$A$15:$AG$515,3,TRUE)=\"\",\"\",VLOOKUP(A250,eligibilité!$A$15:$AG$515,3,TRUE)))","v":""},{"$f":"IF(A250=\"\",\"\",IF(VLOOKUP(A250,eligibilité!$A$15:$AG$515,4,TRUE)=\"\",\"\",VLOOKUP(A250,eligibilité!$A$15:$AG$515,4,TRUE)))","v":""},{"$f":"IF(A250=\"\",\"\",IF(VLOOKUP(A250,eligibilité!$A$15:$AG$515,5,TRUE)=\"\",\"\",VLOOKUP(A250,eligibilité!$A$15:$AG$515,5,TRUE)))","v":""},{"$f":"IF(A250=\"\",\"\",IF(VLOOKUP(A250,eligibilité!$A$15:$AG$515,6,TRUE)=\"\",\"\",VLOOKUP(A250,eligibilité!$A$15:$AG$515,6,TRUE)))","v":""},{"$f":"IF(A250=\"\",\"\",IF(VLOOKUP(A250,eligibilité!$A$15:$AG$515,7,TRUE)=\"\",\"\",VLOOKUP(A250,eligibilité!$A$15:$AG$515,7,TRUE)))","v":""},{"$f":"IF(A250=\"\",\"\",IF(VLOOKUP(A250,eligibilité!$A$15:$AG$515,8,TRUE)=\"\",\"\",VLOOKUP(A250,eligibilité!$A$15:$AG$515,8,TRUE)))","v":""},{"$f":"IF(A250=\"\",\"\",IF(VLOOKUP(A250,eligibilité!$A$15:$AG$515,9,TRUE)=\"\",\"\",VLOOKUP(A250,eligibilité!$A$15:$AG$515,9,TRUE)))","v":""},{"$f":"IF(A250=\"\",\"\",IF(VLOOKUP(A250,eligibilité!$A$15:$AG$515,10,TRUE)=\"\",\"\",VLOOKUP(A250,eligibilité!$A$15:$AG$515,10,TRUE)))","v":""},{"$f":"IF(A250=\"\",\"\",IF(VLOOKUP(A250,eligibilité!$A$15:$AG$515,30,FALSE)=0,\"\",VLOOKUP(A250,eligibilité!$A$15:$AG$515,30,FALSE)))","v":""},"","","","","","","",1305,"","","","","","","Temps restant : ",""]
[{"$f":"IF(eligibilité!AG253=\"\",\"\",eligibilité!A253)","v":""},{"$f":"IF(A251=\"\",\"\",IF(VLOOKUP(A251,eligibilité!$A$15:$J$515,2,TRUE)=\"\",\"\",VLOOKUP(A251,eligibilité!$A$15:$J$515,2,TRUE)))","v":""},{"$f":"IF(A251=\"\",\"\",IF(VLOOKUP(A251,eligibilité!$A$15:$AG$515,3,TRUE)=\"\",\"\",VLOOKUP(A251,eligibilité!$A$15:$AG$515,3,TRUE)))","v":""},{"$f":"IF(A251=\"\",\"\",IF(VLOOKUP(A251,eligibilité!$A$15:$AG$515,4,TRUE)=\"\",\"\",VLOOKUP(A251,eligibilité!$A$15:$AG$515,4,TRUE)))","v":""},{"$f":"IF(A251=\"\",\"\",IF(VLOOKUP(A251,eligibilité!$A$15:$AG$515,5,TRUE)=\"\",\"\",VLOOKUP(A251,eligibilité!$A$15:$AG$515,5,TRUE)))","v":""},{"$f":"IF(A251=\"\",\"\",IF(VLOOKUP(A251,eligibilité!$A$15:$AG$515,6,TRUE)=\"\",\"\",VLOOKUP(A251,eligibilité!$A$15:$AG$515,6,TRUE)))","v":""},{"$f":"IF(A251=\"\",\"\",IF(VLOOKUP(A251,eligibilité!$A$15:$AG$515,7,TRUE)=\"\",\"\",VLOOKUP(A251,eligibilité!$A$15:$AG$515,7,TRUE)))","v":""},{"$f":"IF(A251=\"\",\"\",IF(VLOOKUP(A251,eligibilité!$A$15:$AG$515,8,TRUE)=\"\",\"\",VLOOKUP(A251,eligibilité!$A$15:$AG$515,8,TRUE)))","v":""},{"$f":"IF(A251=\"\",\"\",IF(VLOOKUP(A251,eligibilité!$A$15:$AG$515,9,TRUE)=\"\",\"\",VLOOKUP(A251,eligibilité!$A$15:$AG$515,9,TRUE)))","v":""},{"$f":"IF(A251=\"\",\"\",IF(VLOOKUP(A251,eligibilité!$A$15:$AG$515,10,TRUE)=\"\",\"\",VLOOKUP(A251,eligibilité!$A$15:$AG$515,10,TRUE)))","v":""},{"$f":"IF(A251=\"\",\"\",IF(VLOOKUP(A251,eligibilité!$A$15:$AG$515,30,FALSE)=0,\"\",VLOOKUP(A251,eligibilité!$A$15:$AG$515,30,FALSE)))","v":""},"","","","","","","",1305,"","","","","","","Temps restant : ",""]
[{"$f":"IF(eligibilité!AG254=\"\",\"\",eligibilité!A254)","v":""},{"$f":"IF(A252=\"\",\"\",IF(VLOOKUP(A252,eligibilité!$A$15:$J$515,2,TRUE)=\"\",\"\",VLOOKUP(A252,eligibilité!$A$15:$J$515,2,TRUE)))","v":""},{"$f":"IF(A252=\"\",\"\",IF(VLOOKUP(A252,eligibilité!$A$15:$AG$515,3,TRUE)=\"\",\"\",VLOOKUP(A252,eligibilité!$A$15:$AG$515,3,TRUE)))","v":""},{"$f":"IF(A252=\"\",\"\",IF(VLOOKUP(A252,eligibilité!$A$15:$AG$515,4,TRUE)=\"\",\"\",VLOOKUP(A252,eligibilité!$A$15:$AG$515,4,TRUE)))","v":""},{"$f":"IF(A252=\"\",\"\",IF(VLOOKUP(A252,eligibilité!$A$15:$AG$515,5,TRUE)=\"\",\"\",VLOOKUP(A252,eligibilité!$A$15:$AG$515,5,TRUE)))","v":""},{"$f":"IF(A252=\"\",\"\",IF(VLOOKUP(A252,eligibilité!$A$15:$AG$515,6,TRUE)=\"\",\"\",VLOOKUP(A252,eligibilité!$A$15:$AG$515,6,TRUE)))","v":""},{"$f":"IF(A252=\"\",\"\",IF(VLOOKUP(A252,eligibilité!$A$15:$AG$515,7,TRUE)=\"\",\"\",VLOOKUP(A252,eligibilité!$A$15:$AG$515,7,TRUE)))","v":""},{"$f":"IF(A252=\"\",\"\",IF(VLOOKUP(A252,eligibilité!$A$15:$AG$515,8,TRUE)=\"\",\"\",VLOOKUP(A252,eligibilité!$A$15:$AG$515,8,TRUE)))","v":""},{"$f":"IF(A252=\"\",\"\",IF(VLOOKUP(A252,eligibilité!$A$15:$AG$515,9,TRUE)=\"\",\"\",VLOOKUP(A252,eligibilité!$A$15:$AG$515,9,TRUE)))","v":""},{"$f":"IF(A252=\"\",\"\",IF(VLOOKUP(A252,eligibilité!$A$15:$AG$515,10,TRUE)=\"\",\"\",VLOOKUP(A252,eligibilité!$A$15:$AG$515,10,TRUE)))","v":""},{"$f":"IF(A252=\"\",\"\",IF(VLOOKUP(A252,eligibilité!$A$15:$AG$515,30,FALSE)=0,\"\",VLOOKUP(A252,eligibilité!$A$15:$AG$515,30,FALSE)))","v":""},"","","","","","","",1305,"","","","","","","Temps restant : ",""]
[{"$f":"IF(eligibilité!AG255=\"\",\"\",eligibilité!A255)","v":""},{"$f":"IF(A253=\"\",\"\",IF(VLOOKUP(A253,eligibilité!$A$15:$J$515,2,TRUE)=\"\",\"\",VLOOKUP(A253,eligibilité!$A$15:$J$515,2,TRUE)))","v":""},{"$f":"IF(A253=\"\",\"\",IF(VLOOKUP(A253,eligibilité!$A$15:$AG$515,3,TRUE)=\"\",\"\",VLOOKUP(A253,eligibilité!$A$15:$AG$515,3,TRUE)))","v":""},{"$f":"IF(A253=\"\",\"\",IF(VLOOKUP(A253,eligibilité!$A$15:$AG$515,4,TRUE)=\"\",\"\",VLOOKUP(A253,eligibilité!$A$15:$AG$515,4,TRUE)))","v":""},{"$f":"IF(A253=\"\",\"\",IF(VLOOKUP(A253,eligibilité!$A$15:$AG$515,5,TRUE)=\"\",\"\",VLOOKUP(A253,eligibilité!$A$15:$AG$515,5,TRUE)))","v":""},{"$f":"IF(A253=\"\",\"\",IF(VLOOKUP(A253,eligibilité!$A$15:$AG$515,6,TRUE)=\"\",\"\",VLOOKUP(A253,eligibilité!$A$15:$AG$515,6,TRUE)))","v":""},{"$f":"IF(A253=\"\",\"\",IF(VLOOKUP(A253,eligibilité!$A$15:$AG$515,7,TRUE)=\"\",\"\",VLOOKUP(A253,eligibilité!$A$15:$AG$515,7,TRUE)))","v":""},{"$f":"IF(A253=\"\",\"\",IF(VLOOKUP(A253,eligibilité!$A$15:$AG$515,8,TRUE)=\"\",\"\",VLOOKUP(A253,eligibilité!$A$15:$AG$515,8,TRUE)))","v":""},{"$f":"IF(A253=\"\",\"\",IF(VLOOKUP(A253,eligibilité!$A$15:$AG$515,9,TRUE)=\"\",\"\",VLOOKUP(A253,eligibilité!$A$15:$AG$515,9,TRUE)))","v":""},{"$f":"IF(A253=\"\",\"\",IF(VLOOKUP(A253,eligibilité!$A$15:$AG$515,10,TRUE)=\"\",\"\",VLOOKUP(A253,eligibilité!$A$15:$AG$515,10,TRUE)))","v":""},{"$f":"IF(A253=\"\",\"\",IF(VLOOKUP(A253,eligibilité!$A$15:$AG$515,30,FALSE)=0,\"\",VLOOKUP(A253,eligibilité!$A$15:$AG$515,30,FALSE)))","v":""},"","","","","","","",1305,"","","","","","","Temps restant : ",""]
[{"$f":"IF(eligibilité!AG256=\"\",\"\",eligibilité!A256)","v":""},{"$f":"IF(A254=\"\",\"\",IF(VLOOKUP(A254,eligibilité!$A$15:$J$515,2,TRUE)=\"\",\"\",VLOOKUP(A254,eligibilité!$A$15:$J$515,2,TRUE)))","v":""},{"$f":"IF(A254=\"\",\"\",IF(VLOOKUP(A254,eligibilité!$A$15:$AG$515,3,TRUE)=\"\",\"\",VLOOKUP(A254,eligibilité!$A$15:$AG$515,3,TRUE)))","v":""},{"$f":"IF(A254=\"\",\"\",IF(VLOOKUP(A254,eligibilité!$A$15:$AG$515,4,TRUE)=\"\",\"\",VLOOKUP(A254,eligibilité!$A$15:$AG$515,4,TRUE)))","v":""},{"$f":"IF(A254=\"\",\"\",IF(VLOOKUP(A254,eligibilité!$A$15:$AG$515,5,TRUE)=\"\",\"\",VLOOKUP(A254,eligibilité!$A$15:$AG$515,5,TRUE)))","v":""},{"$f":"IF(A254=\"\",\"\",IF(VLOOKUP(A254,eligibilité!$A$15:$AG$515,6,TRUE)=\"\",\"\",VLOOKUP(A254,eligibilité!$A$15:$AG$515,6,TRUE)))","v":""},{"$f":"IF(A254=\"\",\"\",IF(VLOOKUP(A254,eligibilité!$A$15:$AG$515,7,TRUE)=\"\",\"\",VLOOKUP(A254,eligibilité!$A$15:$AG$515,7,TRUE)))","v":""},{"$f":"IF(A254=\"\",\"\",IF(VLOOKUP(A254,eligibilité!$A$15:$AG$515,8,TRUE)=\"\",\"\",VLOOKUP(A254,eligibilité!$A$15:$AG$515,8,TRUE)))","v":""},{"$f":"IF(A254=\"\",\"\",IF(VLOOKUP(A254,eligibilité!$A$15:$AG$515,9,TRUE)=\"\",\"\",VLOOKUP(A254,eligibilité!$A$15:$AG$515,9,TRUE)))","v":""},{"$f":"IF(A254=\"\",\"\",IF(VLOOKUP(A254,eligibilité!$A$15:$AG$515,10,TRUE)=\"\",\"\",VLOOKUP(A254,eligibilité!$A$15:$AG$515,10,TRUE)))","v":""},{"$f":"IF(A254=\"\",\"\",IF(VLOOKUP(A254,eligibilité!$A$15:$AG$515,30,FALSE)=0,\"\",VLOOKUP(A254,eligibilité!$A$15:$AG$515,30,FALSE)))","v":""},"","","","","","","",1305,"","","","","","","Temps restant : ",""]
[{"$f":"IF(eligibilité!AG257=\"\",\"\",eligibilité!A257)","v":""},{"$f":"IF(A255=\"\",\"\",IF(VLOOKUP(A255,eligibilité!$A$15:$J$515,2,TRUE)=\"\",\"\",VLOOKUP(A255,eligibilité!$A$15:$J$515,2,TRUE)))","v":""},{"$f":"IF(A255=\"\",\"\",IF(VLOOKUP(A255,eligibilité!$A$15:$AG$515,3,TRUE)=\"\",\"\",VLOOKUP(A255,eligibilité!$A$15:$AG$515,3,TRUE)))","v":""},{"$f":"IF(A255=\"\",\"\",IF(VLOOKUP(A255,eligibilité!$A$15:$AG$515,4,TRUE)=\"\",\"\",VLOOKUP(A255,eligibilité!$A$15:$AG$515,4,TRUE)))","v":""},{"$f":"IF(A255=\"\",\"\",IF(VLOOKUP(A255,eligibilité!$A$15:$AG$515,5,TRUE)=\"\",\"\",VLOOKUP(A255,eligibilité!$A$15:$AG$515,5,TRUE)))","v":""},{"$f":"IF(A255=\"\",\"\",IF(VLOOKUP(A255,eligibilité!$A$15:$AG$515,6,TRUE)=\"\",\"\",VLOOKUP(A255,eligibilité!$A$15:$AG$515,6,TRUE)))","v":""},{"$f":"IF(A255=\"\",\"\",IF(VLOOKUP(A255,eligibilité!$A$15:$AG$515,7,TRUE)=\"\",\"\",VLOOKUP(A255,eligibilité!$A$15:$AG$515,7,TRUE)))","v":""},{"$f":"IF(A255=\"\",\"\",IF(VLOOKUP(A255,eligibilité!$A$15:$AG$515,8,TRUE)=\"\",\"\",VLOOKUP(A255,eligibilité!$A$15:$AG$515,8,TRUE)))","v":""},{"$f":"IF(A255=\"\",\"\",IF(VLOOKUP(A255,eligibilité!$A$15:$AG$515,9,TRUE)=\"\",\"\",VLOOKUP(A255,eligibilité!$A$15:$AG$515,9,TRUE)))","v":""},{"$f":"IF(A255=\"\",\"\",IF(VLOOKUP(A255,eligibilité!$A$15:$AG$515,10,TRUE)=\"\",\"\",VLOOKUP(A255,eligibilité!$A$15:$AG$515,10,TRUE)))","v":""},{"$f":"IF(A255=\"\",\"\",IF(VLOOKUP(A255,eligibilité!$A$15:$AG$515,30,FALSE)=0,\"\",VLOOKUP(A255,eligibilité!$A$15:$AG$515,30,FALSE)))","v":""},"","","","","","","",1305,"","","","","","","Temps restant : ",""]
[{"$f":"IF(eligibilité!AG258=\"\",\"\",eligibilité!A258)","v":""},{"$f":"IF(A256=\"\",\"\",IF(VLOOKUP(A256,eligibilité!$A$15:$J$515,2,TRUE)=\"\",\"\",VLOOKUP(A256,eligibilité!$A$15:$J$515,2,TRUE)))","v":""},{"$f":"IF(A256=\"\",\"\",IF(VLOOKUP(A256,eligibilité!$A$15:$AG$515,3,TRUE)=\"\",\"\",VLOOKUP(A256,eligibilité!$A$15:$AG$515,3,TRUE)))","v":""},{"$f":"IF(A256=\"\",\"\",IF(VLOOKUP(A256,eligibilité!$A$15:$AG$515,4,TRUE)=\"\",\"\",VLOOKUP(A256,eligibilité!$A$15:$AG$515,4,TRUE)))","v":""},{"$f":"IF(A256=\"\",\"\",IF(VLOOKUP(A256,eligibilité!$A$15:$AG$515,5,TRUE)=\"\",\"\",VLOOKUP(A256,eligibilité!$A$15:$AG$515,5,TRUE)))","v":""},{"$f":"IF(A256=\"\",\"\",IF(VLOOKUP(A256,eligibilité!$A$15:$AG$515,6,TRUE)=\"\",\"\",VLOOKUP(A256,eligibilité!$A$15:$AG$515,6,TRUE)))","v":""},{"$f":"IF(A256=\"\",\"\",IF(VLOOKUP(A256,eligibilité!$A$15:$AG$515,7,TRUE)=\"\",\"\",VLOOKUP(A256,eligibilité!$A$15:$AG$515,7,TRUE)))","v":""},{"$f":"IF(A256=\"\",\"\",IF(VLOOKUP(A256,eligibilité!$A$15:$AG$515,8,TRUE)=\"\",\"\",VLOOKUP(A256,eligibilité!$A$15:$AG$515,8,TRUE)))","v":""},{"$f":"IF(A256=\"\",\"\",IF(VLOOKUP(A256,eligibilité!$A$15:$AG$515,9,TRUE)=\"\",\"\",VLOOKUP(A256,eligibilité!$A$15:$AG$515,9,TRUE)))","v":""},{"$f":"IF(A256=\"\",\"\",IF(VLOOKUP(A256,eligibilité!$A$15:$AG$515,10,TRUE)=\"\",\"\",VLOOKUP(A256,eligibilité!$A$15:$AG$515,10,TRUE)))","v":""},{"$f":"IF(A256=\"\",\"\",IF(VLOOKUP(A256,eligibilité!$A$15:$AG$515,30,FALSE)=0,\"\",VLOOKUP(A256,eligibilité!$A$15:$AG$515,30,FALSE)))","v":""},"","","","","","","",1305,"","","","","","","Temps restant : ",""]
[{"$f":"IF(eligibilité!AG259=\"\",\"\",eligibilité!A259)","v":""},{"$f":"IF(A257=\"\",\"\",IF(VLOOKUP(A257,eligibilité!$A$15:$J$515,2,TRUE)=\"\",\"\",VLOOKUP(A257,eligibilité!$A$15:$J$515,2,TRUE)))","v":""},{"$f":"IF(A257=\"\",\"\",IF(VLOOKUP(A257,eligibilité!$A$15:$AG$515,3,TRUE)=\"\",\"\",VLOOKUP(A257,eligibilité!$A$15:$AG$515,3,TRUE)))","v":""},{"$f":"IF(A257=\"\",\"\",IF(VLOOKUP(A257,eligibilité!$A$15:$AG$515,4,TRUE)=\"\",\"\",VLOOKUP(A257,eligibilité!$A$15:$AG$515,4,TRUE)))","v":""},{"$f":"IF(A257=\"\",\"\",IF(VLOOKUP(A257,eligibilité!$A$15:$AG$515,5,TRUE)=\"\",\"\",VLOOKUP(A257,eligibilité!$A$15:$AG$515,5,TRUE)))","v":""},{"$f":"IF(A257=\"\",\"\",IF(VLOOKUP(A257,eligibilité!$A$15:$AG$515,6,TRUE)=\"\",\"\",VLOOKUP(A257,eligibilité!$A$15:$AG$515,6,TRUE)))","v":""},{"$f":"IF(A257=\"\",\"\",IF(VLOOKUP(A257,eligibilité!$A$15:$AG$515,7,TRUE)=\"\",\"\",VLOOKUP(A257,eligibilité!$A$15:$AG$515,7,TRUE)))","v":""},{"$f":"IF(A257=\"\",\"\",IF(VLOOKUP(A257,eligibilité!$A$15:$AG$515,8,TRUE)=\"\",\"\",VLOOKUP(A257,eligibilité!$A$15:$AG$515,8,TRUE)))","v":""},{"$f":"IF(A257=\"\",\"\",IF(VLOOKUP(A257,eligibilité!$A$15:$AG$515,9,TRUE)=\"\",\"\",VLOOKUP(A257,eligibilité!$A$15:$AG$515,9,TRUE)))","v":""},{"$f":"IF(A257=\"\",\"\",IF(VLOOKUP(A257,eligibilité!$A$15:$AG$515,10,TRUE)=\"\",\"\",VLOOKUP(A257,eligibilité!$A$15:$AG$515,10,TRUE)))","v":""},{"$f":"IF(A257=\"\",\"\",IF(VLOOKUP(A257,eligibilité!$A$15:$AG$515,30,FALSE)=0,\"\",VLOOKUP(A257,eligibilité!$A$15:$AG$515,30,FALSE)))","v":""},"","","","","","","",1305,"","","","","","","Temps restant : ",""]
[{"$f":"IF(eligibilité!AG260=\"\",\"\",eligibilité!A260)","v":""},{"$f":"IF(A258=\"\",\"\",IF(VLOOKUP(A258,eligibilité!$A$15:$J$515,2,TRUE)=\"\",\"\",VLOOKUP(A258,eligibilité!$A$15:$J$515,2,TRUE)))","v":""},{"$f":"IF(A258=\"\",\"\",IF(VLOOKUP(A258,eligibilité!$A$15:$AG$515,3,TRUE)=\"\",\"\",VLOOKUP(A258,eligibilité!$A$15:$AG$515,3,TRUE)))","v":""},{"$f":"IF(A258=\"\",\"\",IF(VLOOKUP(A258,eligibilité!$A$15:$AG$515,4,TRUE)=\"\",\"\",VLOOKUP(A258,eligibilité!$A$15:$AG$515,4,TRUE)))","v":""},{"$f":"IF(A258=\"\",\"\",IF(VLOOKUP(A258,eligibilité!$A$15:$AG$515,5,TRUE)=\"\",\"\",VLOOKUP(A258,eligibilité!$A$15:$AG$515,5,TRUE)))","v":""},{"$f":"IF(A258=\"\",\"\",IF(VLOOKUP(A258,eligibilité!$A$15:$AG$515,6,TRUE)=\"\",\"\",VLOOKUP(A258,eligibilité!$A$15:$AG$515,6,TRUE)))","v":""},{"$f":"IF(A258=\"\",\"\",IF(VLOOKUP(A258,eligibilité!$A$15:$AG$515,7,TRUE)=\"\",\"\",VLOOKUP(A258,eligibilité!$A$15:$AG$515,7,TRUE)))","v":""},{"$f":"IF(A258=\"\",\"\",IF(VLOOKUP(A258,eligibilité!$A$15:$AG$515,8,TRUE)=\"\",\"\",VLOOKUP(A258,eligibilité!$A$15:$AG$515,8,TRUE)))","v":""},{"$f":"IF(A258=\"\",\"\",IF(VLOOKUP(A258,eligibilité!$A$15:$AG$515,9,TRUE)=\"\",\"\",VLOOKUP(A258,eligibilité!$A$15:$AG$515,9,TRUE)))","v":""},{"$f":"IF(A258=\"\",\"\",IF(VLOOKUP(A258,eligibilité!$A$15:$AG$515,10,TRUE)=\"\",\"\",VLOOKUP(A258,eligibilité!$A$15:$AG$515,10,TRUE)))","v":""},{"$f":"IF(A258=\"\",\"\",IF(VLOOKUP(A258,eligibilité!$A$15:$AG$515,30,FALSE)=0,\"\",VLOOKUP(A258,eligibilité!$A$15:$AG$515,30,FALSE)))","v":""},"","","","","","","",1305,"","","","","","","Temps restant : ",""]
[{"$f":"IF(eligibilité!AG261=\"\",\"\",eligibilité!A261)","v":""},{"$f":"IF(A259=\"\",\"\",IF(VLOOKUP(A259,eligibilité!$A$15:$J$515,2,TRUE)=\"\",\"\",VLOOKUP(A259,eligibilité!$A$15:$J$515,2,TRUE)))","v":""},{"$f":"IF(A259=\"\",\"\",IF(VLOOKUP(A259,eligibilité!$A$15:$AG$515,3,TRUE)=\"\",\"\",VLOOKUP(A259,eligibilité!$A$15:$AG$515,3,TRUE)))","v":""},{"$f":"IF(A259=\"\",\"\",IF(VLOOKUP(A259,eligibilité!$A$15:$AG$515,4,TRUE)=\"\",\"\",VLOOKUP(A259,eligibilité!$A$15:$AG$515,4,TRUE)))","v":""},{"$f":"IF(A259=\"\",\"\",IF(VLOOKUP(A259,eligibilité!$A$15:$AG$515,5,TRUE)=\"\",\"\",VLOOKUP(A259,eligibilité!$A$15:$AG$515,5,TRUE)))","v":""},{"$f":"IF(A259=\"\",\"\",IF(VLOOKUP(A259,eligibilité!$A$15:$AG$515,6,TRUE)=\"\",\"\",VLOOKUP(A259,eligibilité!$A$15:$AG$515,6,TRUE)))","v":""},{"$f":"IF(A259=\"\",\"\",IF(VLOOKUP(A259,eligibilité!$A$15:$AG$515,7,TRUE)=\"\",\"\",VLOOKUP(A259,eligibilité!$A$15:$AG$515,7,TRUE)))","v":""},{"$f":"IF(A259=\"\",\"\",IF(VLOOKUP(A259,eligibilité!$A$15:$AG$515,8,TRUE)=\"\",\"\",VLOOKUP(A259,eligibilité!$A$15:$AG$515,8,TRUE)))","v":""},{"$f":"IF(A259=\"\",\"\",IF(VLOOKUP(A259,eligibilité!$A$15:$AG$515,9,TRUE)=\"\",\"\",VLOOKUP(A259,eligibilité!$A$15:$AG$515,9,TRUE)))","v":""},{"$f":"IF(A259=\"\",\"\",IF(VLOOKUP(A259,eligibilité!$A$15:$AG$515,10,TRUE)=\"\",\"\",VLOOKUP(A259,eligibilité!$A$15:$AG$515,10,TRUE)))","v":""},{"$f":"IF(A259=\"\",\"\",IF(VLOOKUP(A259,eligibilité!$A$15:$AG$515,30,FALSE)=0,\"\",VLOOKUP(A259,eligibilité!$A$15:$AG$515,30,FALSE)))","v":""},"","","","","","","",1305,"","","","","","","Temps restant : ",""]
[{"$f":"IF(eligibilité!AG262=\"\",\"\",eligibilité!A262)","v":""},{"$f":"IF(A260=\"\",\"\",IF(VLOOKUP(A260,eligibilité!$A$15:$J$515,2,TRUE)=\"\",\"\",VLOOKUP(A260,eligibilité!$A$15:$J$515,2,TRUE)))","v":""},{"$f":"IF(A260=\"\",\"\",IF(VLOOKUP(A260,eligibilité!$A$15:$AG$515,3,TRUE)=\"\",\"\",VLOOKUP(A260,eligibilité!$A$15:$AG$515,3,TRUE)))","v":""},{"$f":"IF(A260=\"\",\"\",IF(VLOOKUP(A260,eligibilité!$A$15:$AG$515,4,TRUE)=\"\",\"\",VLOOKUP(A260,eligibilité!$A$15:$AG$515,4,TRUE)))","v":""},{"$f":"IF(A260=\"\",\"\",IF(VLOOKUP(A260,eligibilité!$A$15:$AG$515,5,TRUE)=\"\",\"\",VLOOKUP(A260,eligibilité!$A$15:$AG$515,5,TRUE)))","v":""},{"$f":"IF(A260=\"\",\"\",IF(VLOOKUP(A260,eligibilité!$A$15:$AG$515,6,TRUE)=\"\",\"\",VLOOKUP(A260,eligibilité!$A$15:$AG$515,6,TRUE)))","v":""},{"$f":"IF(A260=\"\",\"\",IF(VLOOKUP(A260,eligibilité!$A$15:$AG$515,7,TRUE)=\"\",\"\",VLOOKUP(A260,eligibilité!$A$15:$AG$515,7,TRUE)))","v":""},{"$f":"IF(A260=\"\",\"\",IF(VLOOKUP(A260,eligibilité!$A$15:$AG$515,8,TRUE)=\"\",\"\",VLOOKUP(A260,eligibilité!$A$15:$AG$515,8,TRUE)))","v":""},{"$f":"IF(A260=\"\",\"\",IF(VLOOKUP(A260,eligibilité!$A$15:$AG$515,9,TRUE)=\"\",\"\",VLOOKUP(A260,eligibilité!$A$15:$AG$515,9,TRUE)))","v":""},{"$f":"IF(A260=\"\",\"\",IF(VLOOKUP(A260,eligibilité!$A$15:$AG$515,10,TRUE)=\"\",\"\",VLOOKUP(A260,eligibilité!$A$15:$AG$515,10,TRUE)))","v":""},{"$f":"IF(A260=\"\",\"\",IF(VLOOKUP(A260,eligibilité!$A$15:$AG$515,30,FALSE)=0,\"\",VLOOKUP(A260,eligibilité!$A$15:$AG$515,30,FALSE)))","v":""},"","","","","","","",1305,"","","","","","","Temps restant : ",""]
[{"$f":"IF(eligibilité!AG263=\"\",\"\",eligibilité!A263)","v":""},{"$f":"IF(A261=\"\",\"\",IF(VLOOKUP(A261,eligibilité!$A$15:$J$515,2,TRUE)=\"\",\"\",VLOOKUP(A261,eligibilité!$A$15:$J$515,2,TRUE)))","v":""},{"$f":"IF(A261=\"\",\"\",IF(VLOOKUP(A261,eligibilité!$A$15:$AG$515,3,TRUE)=\"\",\"\",VLOOKUP(A261,eligibilité!$A$15:$AG$515,3,TRUE)))","v":""},{"$f":"IF(A261=\"\",\"\",IF(VLOOKUP(A261,eligibilité!$A$15:$AG$515,4,TRUE)=\"\",\"\",VLOOKUP(A261,eligibilité!$A$15:$AG$515,4,TRUE)))","v":""},{"$f":"IF(A261=\"\",\"\",IF(VLOOKUP(A261,eligibilité!$A$15:$AG$515,5,TRUE)=\"\",\"\",VLOOKUP(A261,eligibilité!$A$15:$AG$515,5,TRUE)))","v":""},{"$f":"IF(A261=\"\",\"\",IF(VLOOKUP(A261,eligibilité!$A$15:$AG$515,6,TRUE)=\"\",\"\",VLOOKUP(A261,eligibilité!$A$15:$AG$515,6,TRUE)))","v":""},{"$f":"IF(A261=\"\",\"\",IF(VLOOKUP(A261,eligibilité!$A$15:$AG$515,7,TRUE)=\"\",\"\",VLOOKUP(A261,eligibilité!$A$15:$AG$515,7,TRUE)))","v":""},{"$f":"IF(A261=\"\",\"\",IF(VLOOKUP(A261,eligibilité!$A$15:$AG$515,8,TRUE)=\"\",\"\",VLOOKUP(A261,eligibilité!$A$15:$AG$515,8,TRUE)))","v":""},{"$f":"IF(A261=\"\",\"\",IF(VLOOKUP(A261,eligibilité!$A$15:$AG$515,9,TRUE)=\"\",\"\",VLOOKUP(A261,eligibilité!$A$15:$AG$515,9,TRUE)))","v":""},{"$f":"IF(A261=\"\",\"\",IF(VLOOKUP(A261,eligibilité!$A$15:$AG$515,10,TRUE)=\"\",\"\",VLOOKUP(A261,eligibilité!$A$15:$AG$515,10,TRUE)))","v":""},{"$f":"IF(A261=\"\",\"\",IF(VLOOKUP(A261,eligibilité!$A$15:$AG$515,30,FALSE)=0,\"\",VLOOKUP(A261,eligibilité!$A$15:$AG$515,30,FALSE)))","v":""},"","","","","","","",1305,"","","","","","","Temps restant : ",""]
[{"$f":"IF(eligibilité!AG264=\"\",\"\",eligibilité!A264)","v":""},{"$f":"IF(A262=\"\",\"\",IF(VLOOKUP(A262,eligibilité!$A$15:$J$515,2,TRUE)=\"\",\"\",VLOOKUP(A262,eligibilité!$A$15:$J$515,2,TRUE)))","v":""},{"$f":"IF(A262=\"\",\"\",IF(VLOOKUP(A262,eligibilité!$A$15:$AG$515,3,TRUE)=\"\",\"\",VLOOKUP(A262,eligibilité!$A$15:$AG$515,3,TRUE)))","v":""},{"$f":"IF(A262=\"\",\"\",IF(VLOOKUP(A262,eligibilité!$A$15:$AG$515,4,TRUE)=\"\",\"\",VLOOKUP(A262,eligibilité!$A$15:$AG$515,4,TRUE)))","v":""},{"$f":"IF(A262=\"\",\"\",IF(VLOOKUP(A262,eligibilité!$A$15:$AG$515,5,TRUE)=\"\",\"\",VLOOKUP(A262,eligibilité!$A$15:$AG$515,5,TRUE)))","v":""},{"$f":"IF(A262=\"\",\"\",IF(VLOOKUP(A262,eligibilité!$A$15:$AG$515,6,TRUE)=\"\",\"\",VLOOKUP(A262,eligibilité!$A$15:$AG$515,6,TRUE)))","v":""},{"$f":"IF(A262=\"\",\"\",IF(VLOOKUP(A262,eligibilité!$A$15:$AG$515,7,TRUE)=\"\",\"\",VLOOKUP(A262,eligibilité!$A$15:$AG$515,7,TRUE)))","v":""},{"$f":"IF(A262=\"\",\"\",IF(VLOOKUP(A262,eligibilité!$A$15:$AG$515,8,TRUE)=\"\",\"\",VLOOKUP(A262,eligibilité!$A$15:$AG$515,8,TRUE)))","v":""},{"$f":"IF(A262=\"\",\"\",IF(VLOOKUP(A262,eligibilité!$A$15:$AG$515,9,TRUE)=\"\",\"\",VLOOKUP(A262,eligibilité!$A$15:$AG$515,9,TRUE)))","v":""},{"$f":"IF(A262=\"\",\"\",IF(VLOOKUP(A262,eligibilité!$A$15:$AG$515,10,TRUE)=\"\",\"\",VLOOKUP(A262,eligibilité!$A$15:$AG$515,10,TRUE)))","v":""},{"$f":"IF(A262=\"\",\"\",IF(VLOOKUP(A262,eligibilité!$A$15:$AG$515,30,FALSE)=0,\"\",VLOOKUP(A262,eligibilité!$A$15:$AG$515,30,FALSE)))","v":""},"","","","","","","",1305,"","","","","","","Temps restant : ",""]
[{"$f":"IF(eligibilité!AG265=\"\",\"\",eligibilité!A265)","v":""},{"$f":"IF(A263=\"\",\"\",IF(VLOOKUP(A263,eligibilité!$A$15:$J$515,2,TRUE)=\"\",\"\",VLOOKUP(A263,eligibilité!$A$15:$J$515,2,TRUE)))","v":""},{"$f":"IF(A263=\"\",\"\",IF(VLOOKUP(A263,eligibilité!$A$15:$AG$515,3,TRUE)=\"\",\"\",VLOOKUP(A263,eligibilité!$A$15:$AG$515,3,TRUE)))","v":""},{"$f":"IF(A263=\"\",\"\",IF(VLOOKUP(A263,eligibilité!$A$15:$AG$515,4,TRUE)=\"\",\"\",VLOOKUP(A263,eligibilité!$A$15:$AG$515,4,TRUE)))","v":""},{"$f":"IF(A263=\"\",\"\",IF(VLOOKUP(A263,eligibilité!$A$15:$AG$515,5,TRUE)=\"\",\"\",VLOOKUP(A263,eligibilité!$A$15:$AG$515,5,TRUE)))","v":""},{"$f":"IF(A263=\"\",\"\",IF(VLOOKUP(A263,eligibilité!$A$15:$AG$515,6,TRUE)=\"\",\"\",VLOOKUP(A263,eligibilité!$A$15:$AG$515,6,TRUE)))","v":""},{"$f":"IF(A263=\"\",\"\",IF(VLOOKUP(A263,eligibilité!$A$15:$AG$515,7,TRUE)=\"\",\"\",VLOOKUP(A263,eligibilité!$A$15:$AG$515,7,TRUE)))","v":""},{"$f":"IF(A263=\"\",\"\",IF(VLOOKUP(A263,eligibilité!$A$15:$AG$515,8,TRUE)=\"\",\"\",VLOOKUP(A263,eligibilité!$A$15:$AG$515,8,TRUE)))","v":""},{"$f":"IF(A263=\"\",\"\",IF(VLOOKUP(A263,eligibilité!$A$15:$AG$515,9,TRUE)=\"\",\"\",VLOOKUP(A263,eligibilité!$A$15:$AG$515,9,TRUE)))","v":""},{"$f":"IF(A263=\"\",\"\",IF(VLOOKUP(A263,eligibilité!$A$15:$AG$515,10,TRUE)=\"\",\"\",VLOOKUP(A263,eligibilité!$A$15:$AG$515,10,TRUE)))","v":""},{"$f":"IF(A263=\"\",\"\",IF(VLOOKUP(A263,eligibilité!$A$15:$AG$515,30,FALSE)=0,\"\",VLOOKUP(A263,eligibilité!$A$15:$AG$515,30,FALSE)))","v":""},"","","","","","","",1305,"","","","","","","Temps restant : ",""]
[{"$f":"IF(eligibilité!AG266=\"\",\"\",eligibilité!A266)","v":""},{"$f":"IF(A264=\"\",\"\",IF(VLOOKUP(A264,eligibilité!$A$15:$J$515,2,TRUE)=\"\",\"\",VLOOKUP(A264,eligibilité!$A$15:$J$515,2,TRUE)))","v":""},{"$f":"IF(A264=\"\",\"\",IF(VLOOKUP(A264,eligibilité!$A$15:$AG$515,3,TRUE)=\"\",\"\",VLOOKUP(A264,eligibilité!$A$15:$AG$515,3,TRUE)))","v":""},{"$f":"IF(A264=\"\",\"\",IF(VLOOKUP(A264,eligibilité!$A$15:$AG$515,4,TRUE)=\"\",\"\",VLOOKUP(A264,eligibilité!$A$15:$AG$515,4,TRUE)))","v":""},{"$f":"IF(A264=\"\",\"\",IF(VLOOKUP(A264,eligibilité!$A$15:$AG$515,5,TRUE)=\"\",\"\",VLOOKUP(A264,eligibilité!$A$15:$AG$515,5,TRUE)))","v":""},{"$f":"IF(A264=\"\",\"\",IF(VLOOKUP(A264,eligibilité!$A$15:$AG$515,6,TRUE)=\"\",\"\",VLOOKUP(A264,eligibilité!$A$15:$AG$515,6,TRUE)))","v":""},{"$f":"IF(A264=\"\",\"\",IF(VLOOKUP(A264,eligibilité!$A$15:$AG$515,7,TRUE)=\"\",\"\",VLOOKUP(A264,eligibilité!$A$15:$AG$515,7,TRUE)))","v":""},{"$f":"IF(A264=\"\",\"\",IF(VLOOKUP(A264,eligibilité!$A$15:$AG$515,8,TRUE)=\"\",\"\",VLOOKUP(A264,eligibilité!$A$15:$AG$515,8,TRUE)))","v":""},{"$f":"IF(A264=\"\",\"\",IF(VLOOKUP(A264,eligibilité!$A$15:$AG$515,9,TRUE)=\"\",\"\",VLOOKUP(A264,eligibilité!$A$15:$AG$515,9,TRUE)))","v":""},{"$f":"IF(A264=\"\",\"\",IF(VLOOKUP(A264,eligibilité!$A$15:$AG$515,10,TRUE)=\"\",\"\",VLOOKUP(A264,eligibilité!$A$15:$AG$515,10,TRUE)))","v":""},{"$f":"IF(A264=\"\",\"\",IF(VLOOKUP(A264,eligibilité!$A$15:$AG$515,30,FALSE)=0,\"\",VLOOKUP(A264,eligibilité!$A$15:$AG$515,30,FALSE)))","v":""},"","","","","","","",1305,"","","","","","","Temps restant : ",""]
[{"$f":"IF(eligibilité!AG267=\"\",\"\",eligibilité!A267)","v":""},{"$f":"IF(A265=\"\",\"\",IF(VLOOKUP(A265,eligibilité!$A$15:$J$515,2,TRUE)=\"\",\"\",VLOOKUP(A265,eligibilité!$A$15:$J$515,2,TRUE)))","v":""},{"$f":"IF(A265=\"\",\"\",IF(VLOOKUP(A265,eligibilité!$A$15:$AG$515,3,TRUE)=\"\",\"\",VLOOKUP(A265,eligibilité!$A$15:$AG$515,3,TRUE)))","v":""},{"$f":"IF(A265=\"\",\"\",IF(VLOOKUP(A265,eligibilité!$A$15:$AG$515,4,TRUE)=\"\",\"\",VLOOKUP(A265,eligibilité!$A$15:$AG$515,4,TRUE)))","v":""},{"$f":"IF(A265=\"\",\"\",IF(VLOOKUP(A265,eligibilité!$A$15:$AG$515,5,TRUE)=\"\",\"\",VLOOKUP(A265,eligibilité!$A$15:$AG$515,5,TRUE)))","v":""},{"$f":"IF(A265=\"\",\"\",IF(VLOOKUP(A265,eligibilité!$A$15:$AG$515,6,TRUE)=\"\",\"\",VLOOKUP(A265,eligibilité!$A$15:$AG$515,6,TRUE)))","v":""},{"$f":"IF(A265=\"\",\"\",IF(VLOOKUP(A265,eligibilité!$A$15:$AG$515,7,TRUE)=\"\",\"\",VLOOKUP(A265,eligibilité!$A$15:$AG$515,7,TRUE)))","v":""},{"$f":"IF(A265=\"\",\"\",IF(VLOOKUP(A265,eligibilité!$A$15:$AG$515,8,TRUE)=\"\",\"\",VLOOKUP(A265,eligibilité!$A$15:$AG$515,8,TRUE)))","v":""},{"$f":"IF(A265=\"\",\"\",IF(VLOOKUP(A265,eligibilité!$A$15:$AG$515,9,TRUE)=\"\",\"\",VLOOKUP(A265,eligibilité!$A$15:$AG$515,9,TRUE)))","v":""},{"$f":"IF(A265=\"\",\"\",IF(VLOOKUP(A265,eligibilité!$A$15:$AG$515,10,TRUE)=\"\",\"\",VLOOKUP(A265,eligibilité!$A$15:$AG$515,10,TRUE)))","v":""},{"$f":"IF(A265=\"\",\"\",IF(VLOOKUP(A265,eligibilité!$A$15:$AG$515,30,FALSE)=0,\"\",VLOOKUP(A265,eligibilité!$A$15:$AG$515,30,FALSE)))","v":""},"","","","","","","",1305,"","","","","","","Temps restant : ",""]
[{"$f":"IF(eligibilité!AG268=\"\",\"\",eligibilité!A268)","v":""},{"$f":"IF(A266=\"\",\"\",IF(VLOOKUP(A266,eligibilité!$A$15:$J$515,2,TRUE)=\"\",\"\",VLOOKUP(A266,eligibilité!$A$15:$J$515,2,TRUE)))","v":""},{"$f":"IF(A266=\"\",\"\",IF(VLOOKUP(A266,eligibilité!$A$15:$AG$515,3,TRUE)=\"\",\"\",VLOOKUP(A266,eligibilité!$A$15:$AG$515,3,TRUE)))","v":""},{"$f":"IF(A266=\"\",\"\",IF(VLOOKUP(A266,eligibilité!$A$15:$AG$515,4,TRUE)=\"\",\"\",VLOOKUP(A266,eligibilité!$A$15:$AG$515,4,TRUE)))","v":""},{"$f":"IF(A266=\"\",\"\",IF(VLOOKUP(A266,eligibilité!$A$15:$AG$515,5,TRUE)=\"\",\"\",VLOOKUP(A266,eligibilité!$A$15:$AG$515,5,TRUE)))","v":""},{"$f":"IF(A266=\"\",\"\",IF(VLOOKUP(A266,eligibilité!$A$15:$AG$515,6,TRUE)=\"\",\"\",VLOOKUP(A266,eligibilité!$A$15:$AG$515,6,TRUE)))","v":""},{"$f":"IF(A266=\"\",\"\",IF(VLOOKUP(A266,eligibilité!$A$15:$AG$515,7,TRUE)=\"\",\"\",VLOOKUP(A266,eligibilité!$A$15:$AG$515,7,TRUE)))","v":""},{"$f":"IF(A266=\"\",\"\",IF(VLOOKUP(A266,eligibilité!$A$15:$AG$515,8,TRUE)=\"\",\"\",VLOOKUP(A266,eligibilité!$A$15:$AG$515,8,TRUE)))","v":""},{"$f":"IF(A266=\"\",\"\",IF(VLOOKUP(A266,eligibilité!$A$15:$AG$515,9,TRUE)=\"\",\"\",VLOOKUP(A266,eligibilité!$A$15:$AG$515,9,TRUE)))","v":""},{"$f":"IF(A266=\"\",\"\",IF(VLOOKUP(A266,eligibilité!$A$15:$AG$515,10,TRUE)=\"\",\"\",VLOOKUP(A266,eligibilité!$A$15:$AG$515,10,TRUE)))","v":""},{"$f":"IF(A266=\"\",\"\",IF(VLOOKUP(A266,eligibilité!$A$15:$AG$515,30,FALSE)=0,\"\",VLOOKUP(A266,eligibilité!$A$15:$AG$515,30,FALSE)))","v":""},"","","","","","","",1305,"","","","","","","Temps restant : ",""]
[{"$f":"IF(eligibilité!AG269=\"\",\"\",eligibilité!A269)","v":""},{"$f":"IF(A267=\"\",\"\",IF(VLOOKUP(A267,eligibilité!$A$15:$J$515,2,TRUE)=\"\",\"\",VLOOKUP(A267,eligibilité!$A$15:$J$515,2,TRUE)))","v":""},{"$f":"IF(A267=\"\",\"\",IF(VLOOKUP(A267,eligibilité!$A$15:$AG$515,3,TRUE)=\"\",\"\",VLOOKUP(A267,eligibilité!$A$15:$AG$515,3,TRUE)))","v":""},{"$f":"IF(A267=\"\",\"\",IF(VLOOKUP(A267,eligibilité!$A$15:$AG$515,4,TRUE)=\"\",\"\",VLOOKUP(A267,eligibilité!$A$15:$AG$515,4,TRUE)))","v":""},{"$f":"IF(A267=\"\",\"\",IF(VLOOKUP(A267,eligibilité!$A$15:$AG$515,5,TRUE)=\"\",\"\",VLOOKUP(A267,eligibilité!$A$15:$AG$515,5,TRUE)))","v":""},{"$f":"IF(A267=\"\",\"\",IF(VLOOKUP(A267,eligibilité!$A$15:$AG$515,6,TRUE)=\"\",\"\",VLOOKUP(A267,eligibilité!$A$15:$AG$515,6,TRUE)))","v":""},{"$f":"IF(A267=\"\",\"\",IF(VLOOKUP(A267,eligibilité!$A$15:$AG$515,7,TRUE)=\"\",\"\",VLOOKUP(A267,eligibilité!$A$15:$AG$515,7,TRUE)))","v":""},{"$f":"IF(A267=\"\",\"\",IF(VLOOKUP(A267,eligibilité!$A$15:$AG$515,8,TRUE)=\"\",\"\",VLOOKUP(A267,eligibilité!$A$15:$AG$515,8,TRUE)))","v":""},{"$f":"IF(A267=\"\",\"\",IF(VLOOKUP(A267,eligibilité!$A$15:$AG$515,9,TRUE)=\"\",\"\",VLOOKUP(A267,eligibilité!$A$15:$AG$515,9,TRUE)))","v":""},{"$f":"IF(A267=\"\",\"\",IF(VLOOKUP(A267,eligibilité!$A$15:$AG$515,10,TRUE)=\"\",\"\",VLOOKUP(A267,eligibilité!$A$15:$AG$515,10,TRUE)))","v":""},{"$f":"IF(A267=\"\",\"\",IF(VLOOKUP(A267,eligibilité!$A$15:$AG$515,30,FALSE)=0,\"\",VLOOKUP(A267,eligibilité!$A$15:$AG$515,30,FALSE)))","v":""},"","","","","","","",1305,"","","","","","","Temps restant : ",""]
[{"$f":"IF(eligibilité!AG270=\"\",\"\",eligibilité!A270)","v":""},{"$f":"IF(A268=\"\",\"\",IF(VLOOKUP(A268,eligibilité!$A$15:$J$515,2,TRUE)=\"\",\"\",VLOOKUP(A268,eligibilité!$A$15:$J$515,2,TRUE)))","v":""},{"$f":"IF(A268=\"\",\"\",IF(VLOOKUP(A268,eligibilité!$A$15:$AG$515,3,TRUE)=\"\",\"\",VLOOKUP(A268,eligibilité!$A$15:$AG$515,3,TRUE)))","v":""},{"$f":"IF(A268=\"\",\"\",IF(VLOOKUP(A268,eligibilité!$A$15:$AG$515,4,TRUE)=\"\",\"\",VLOOKUP(A268,eligibilité!$A$15:$AG$515,4,TRUE)))","v":""},{"$f":"IF(A268=\"\",\"\",IF(VLOOKUP(A268,eligibilité!$A$15:$AG$515,5,TRUE)=\"\",\"\",VLOOKUP(A268,eligibilité!$A$15:$AG$515,5,TRUE)))","v":""},{"$f":"IF(A268=\"\",\"\",IF(VLOOKUP(A268,eligibilité!$A$15:$AG$515,6,TRUE)=\"\",\"\",VLOOKUP(A268,eligibilité!$A$15:$AG$515,6,TRUE)))","v":""},{"$f":"IF(A268=\"\",\"\",IF(VLOOKUP(A268,eligibilité!$A$15:$AG$515,7,TRUE)=\"\",\"\",VLOOKUP(A268,eligibilité!$A$15:$AG$515,7,TRUE)))","v":""},{"$f":"IF(A268=\"\",\"\",IF(VLOOKUP(A268,eligibilité!$A$15:$AG$515,8,TRUE)=\"\",\"\",VLOOKUP(A268,eligibilité!$A$15:$AG$515,8,TRUE)))","v":""},{"$f":"IF(A268=\"\",\"\",IF(VLOOKUP(A268,eligibilité!$A$15:$AG$515,9,TRUE)=\"\",\"\",VLOOKUP(A268,eligibilité!$A$15:$AG$515,9,TRUE)))","v":""},{"$f":"IF(A268=\"\",\"\",IF(VLOOKUP(A268,eligibilité!$A$15:$AG$515,10,TRUE)=\"\",\"\",VLOOKUP(A268,eligibilité!$A$15:$AG$515,10,TRUE)))","v":""},{"$f":"IF(A268=\"\",\"\",IF(VLOOKUP(A268,eligibilité!$A$15:$AG$515,30,FALSE)=0,\"\",VLOOKUP(A268,eligibilité!$A$15:$AG$515,30,FALSE)))","v":""},"","","","","","","",1305,"","","","","","","Temps restant : ",""]
[{"$f":"IF(eligibilité!AG271=\"\",\"\",eligibilité!A271)","v":""},{"$f":"IF(A269=\"\",\"\",IF(VLOOKUP(A269,eligibilité!$A$15:$J$515,2,TRUE)=\"\",\"\",VLOOKUP(A269,eligibilité!$A$15:$J$515,2,TRUE)))","v":""},{"$f":"IF(A269=\"\",\"\",IF(VLOOKUP(A269,eligibilité!$A$15:$AG$515,3,TRUE)=\"\",\"\",VLOOKUP(A269,eligibilité!$A$15:$AG$515,3,TRUE)))","v":""},{"$f":"IF(A269=\"\",\"\",IF(VLOOKUP(A269,eligibilité!$A$15:$AG$515,4,TRUE)=\"\",\"\",VLOOKUP(A269,eligibilité!$A$15:$AG$515,4,TRUE)))","v":""},{"$f":"IF(A269=\"\",\"\",IF(VLOOKUP(A269,eligibilité!$A$15:$AG$515,5,TRUE)=\"\",\"\",VLOOKUP(A269,eligibilité!$A$15:$AG$515,5,TRUE)))","v":""},{"$f":"IF(A269=\"\",\"\",IF(VLOOKUP(A269,eligibilité!$A$15:$AG$515,6,TRUE)=\"\",\"\",VLOOKUP(A269,eligibilité!$A$15:$AG$515,6,TRUE)))","v":""},{"$f":"IF(A269=\"\",\"\",IF(VLOOKUP(A269,eligibilité!$A$15:$AG$515,7,TRUE)=\"\",\"\",VLOOKUP(A269,eligibilité!$A$15:$AG$515,7,TRUE)))","v":""},{"$f":"IF(A269=\"\",\"\",IF(VLOOKUP(A269,eligibilité!$A$15:$AG$515,8,TRUE)=\"\",\"\",VLOOKUP(A269,eligibilité!$A$15:$AG$515,8,TRUE)))","v":""},{"$f":"IF(A269=\"\",\"\",IF(VLOOKUP(A269,eligibilité!$A$15:$AG$515,9,TRUE)=\"\",\"\",VLOOKUP(A269,eligibilité!$A$15:$AG$515,9,TRUE)))","v":""},{"$f":"IF(A269=\"\",\"\",IF(VLOOKUP(A269,eligibilité!$A$15:$AG$515,10,TRUE)=\"\",\"\",VLOOKUP(A269,eligibilité!$A$15:$AG$515,10,TRUE)))","v":""},{"$f":"IF(A269=\"\",\"\",IF(VLOOKUP(A269,eligibilité!$A$15:$AG$515,30,FALSE)=0,\"\",VLOOKUP(A269,eligibilité!$A$15:$AG$515,30,FALSE)))","v":""},"","","","","","","",1305,"","","","","","","Temps restant : ",""]
[{"$f":"IF(eligibilité!AG272=\"\",\"\",eligibilité!A272)","v":""},{"$f":"IF(A270=\"\",\"\",IF(VLOOKUP(A270,eligibilité!$A$15:$J$515,2,TRUE)=\"\",\"\",VLOOKUP(A270,eligibilité!$A$15:$J$515,2,TRUE)))","v":""},{"$f":"IF(A270=\"\",\"\",IF(VLOOKUP(A270,eligibilité!$A$15:$AG$515,3,TRUE)=\"\",\"\",VLOOKUP(A270,eligibilité!$A$15:$AG$515,3,TRUE)))","v":""},{"$f":"IF(A270=\"\",\"\",IF(VLOOKUP(A270,eligibilité!$A$15:$AG$515,4,TRUE)=\"\",\"\",VLOOKUP(A270,eligibilité!$A$15:$AG$515,4,TRUE)))","v":""},{"$f":"IF(A270=\"\",\"\",IF(VLOOKUP(A270,eligibilité!$A$15:$AG$515,5,TRUE)=\"\",\"\",VLOOKUP(A270,eligibilité!$A$15:$AG$515,5,TRUE)))","v":""},{"$f":"IF(A270=\"\",\"\",IF(VLOOKUP(A270,eligibilité!$A$15:$AG$515,6,TRUE)=\"\",\"\",VLOOKUP(A270,eligibilité!$A$15:$AG$515,6,TRUE)))","v":""},{"$f":"IF(A270=\"\",\"\",IF(VLOOKUP(A270,eligibilité!$A$15:$AG$515,7,TRUE)=\"\",\"\",VLOOKUP(A270,eligibilité!$A$15:$AG$515,7,TRUE)))","v":""},{"$f":"IF(A270=\"\",\"\",IF(VLOOKUP(A270,eligibilité!$A$15:$AG$515,8,TRUE)=\"\",\"\",VLOOKUP(A270,eligibilité!$A$15:$AG$515,8,TRUE)))","v":""},{"$f":"IF(A270=\"\",\"\",IF(VLOOKUP(A270,eligibilité!$A$15:$AG$515,9,TRUE)=\"\",\"\",VLOOKUP(A270,eligibilité!$A$15:$AG$515,9,TRUE)))","v":""},{"$f":"IF(A270=\"\",\"\",IF(VLOOKUP(A270,eligibilité!$A$15:$AG$515,10,TRUE)=\"\",\"\",VLOOKUP(A270,eligibilité!$A$15:$AG$515,10,TRUE)))","v":""},{"$f":"IF(A270=\"\",\"\",IF(VLOOKUP(A270,eligibilité!$A$15:$AG$515,30,FALSE)=0,\"\",VLOOKUP(A270,eligibilité!$A$15:$AG$515,30,FALSE)))","v":""},{"$f":"IF(K270=\"\",\"\",48-K270)","v":""},{"$f":"IF(L270=\"\",\"\",INT(L270/12))","v":""},{"$f":"IF(L270=\"\",\"\",(L270-M270*12))","v":""},{"$f":"IF(L270=\"\",\"\",INT(N270))","v":""},{"$f":"IF(L270=\"\",\"\",ROUNDDOWN((N270-O270)*30.44,0))","v":""},{"$f":"IF(K270=\"\",\"\",CONCATENATE(M270,\" an(s) \",O270,\" mois \",P270,\" jour(s)\"))","v":""},{"$f":"IF(K270=\"\",\"\",M270*365.25+O270*30.44+P270)","v":""},1305,{"$f":"IF(R270=\"\",\"\",R270-S270)","v":""},{"$f":"IF(L270=\"\",\"\",IF(T270<=365.25,0,INT(T270/365.25)))","v":""},{"$f":"IF(T270=\"\",\"\",T270-U270)","v":""},{"$f":"IF(L270=\"\",\"\",IF(U270=0,(T270/30.44),(T270/30.44)-12))","v":""},{"$f":"IF(W270=\"\",\"\",ABS(ROUNDDOWN(W270,0)))","v":""},{"$f":"IF(T270=\"\",\"\",ROUNDDOWN(ABS(W270-ROUNDDOWN(W270,0))*30.44,0))","v":""},{"$f":"IF(T270<=0,\"Temps écoulé depuis : \",\"Temps restant : \")","v":"Temps restant : "},{"$f":"IF(L270=\"\",\"\",CONCATENATE(Z270,U270,\" an(s) \",X270,\" mois \",Y270,\" jour(s) \"))","v":""}]
[{"$f":"IF(eligibilité!AG273=\"\",\"\",eligibilité!A273)","v":""},{"$f":"IF(A271=\"\",\"\",IF(VLOOKUP(A271,eligibilité!$A$15:$J$515,2,TRUE)=\"\",\"\",VLOOKUP(A271,eligibilité!$A$15:$J$515,2,TRUE)))","v":""},{"$f":"IF(A271=\"\",\"\",IF(VLOOKUP(A271,eligibilité!$A$15:$AG$515,3,TRUE)=\"\",\"\",VLOOKUP(A271,eligibilité!$A$15:$AG$515,3,TRUE)))","v":""},{"$f":"IF(A271=\"\",\"\",IF(VLOOKUP(A271,eligibilité!$A$15:$AG$515,4,TRUE)=\"\",\"\",VLOOKUP(A271,eligibilité!$A$15:$AG$515,4,TRUE)))","v":""},{"$f":"IF(A271=\"\",\"\",IF(VLOOKUP(A271,eligibilité!$A$15:$AG$515,5,TRUE)=\"\",\"\",VLOOKUP(A271,eligibilité!$A$15:$AG$515,5,TRUE)))","v":""},{"$f":"IF(A271=\"\",\"\",IF(VLOOKUP(A271,eligibilité!$A$15:$AG$515,6,TRUE)=\"\",\"\",VLOOKUP(A271,eligibilité!$A$15:$AG$515,6,TRUE)))","v":""},{"$f":"IF(A271=\"\",\"\",IF(VLOOKUP(A271,eligibilité!$A$15:$AG$515,7,TRUE)=\"\",\"\",VLOOKUP(A271,eligibilité!$A$15:$AG$515,7,TRUE)))","v":""},{"$f":"IF(A271=\"\",\"\",IF(VLOOKUP(A271,eligibilité!$A$15:$AG$515,8,TRUE)=\"\",\"\",VLOOKUP(A271,eligibilité!$A$15:$AG$515,8,TRUE)))","v":""},{"$f":"IF(A271=\"\",\"\",IF(VLOOKUP(A271,eligibilité!$A$15:$AG$515,9,TRUE)=\"\",\"\",VLOOKUP(A271,eligibilité!$A$15:$AG$515,9,TRUE)))","v":""},{"$f":"IF(A271=\"\",\"\",IF(VLOOKUP(A271,eligibilité!$A$15:$AG$515,10,TRUE)=\"\",\"\",VLOOKUP(A271,eligibilité!$A$15:$AG$515,10,TRUE)))","v":""},{"$f":"IF(A271=\"\",\"\",IF(VLOOKUP(A271,eligibilité!$A$15:$AG$515,30,FALSE)=0,\"\",VLOOKUP(A271,eligibilité!$A$15:$AG$515,30,FALSE)))","v":""},"","","","","","","",{"$f":"TODAY()-DATE(2013,4,1)","v":1305},"","","","","","","Temps restant : ",""]
[{"$f":"IF(eligibilité!AG274=\"\",\"\",eligibilité!A274)","v":""},{"$f":"IF(A272=\"\",\"\",IF(VLOOKUP(A272,eligibilité!$A$15:$J$515,2,TRUE)=\"\",\"\",VLOOKUP(A272,eligibilité!$A$15:$J$515,2,TRUE)))","v":""},{"$f":"IF(A272=\"\",\"\",IF(VLOOKUP(A272,eligibilité!$A$15:$AG$515,3,TRUE)=\"\",\"\",VLOOKUP(A272,eligibilité!$A$15:$AG$515,3,TRUE)))","v":""},{"$f":"IF(A272=\"\",\"\",IF(VLOOKUP(A272,eligibilité!$A$15:$AG$515,4,TRUE)=\"\",\"\",VLOOKUP(A272,eligibilité!$A$15:$AG$515,4,TRUE)))","v":""},{"$f":"IF(A272=\"\",\"\",IF(VLOOKUP(A272,eligibilité!$A$15:$AG$515,5,TRUE)=\"\",\"\",VLOOKUP(A272,eligibilité!$A$15:$AG$515,5,TRUE)))","v":""},{"$f":"IF(A272=\"\",\"\",IF(VLOOKUP(A272,eligibilité!$A$15:$AG$515,6,TRUE)=\"\",\"\",VLOOKUP(A272,eligibilité!$A$15:$AG$515,6,TRUE)))","v":""},{"$f":"IF(A272=\"\",\"\",IF(VLOOKUP(A272,eligibilité!$A$15:$AG$515,7,TRUE)=\"\",\"\",VLOOKUP(A272,eligibilité!$A$15:$AG$515,7,TRUE)))","v":""},{"$f":"IF(A272=\"\",\"\",IF(VLOOKUP(A272,eligibilité!$A$15:$AG$515,8,TRUE)=\"\",\"\",VLOOKUP(A272,eligibilité!$A$15:$AG$515,8,TRUE)))","v":""},{"$f":"IF(A272=\"\",\"\",IF(VLOOKUP(A272,eligibilité!$A$15:$AG$515,9,TRUE)=\"\",\"\",VLOOKUP(A272,eligibilité!$A$15:$AG$515,9,TRUE)))","v":""},{"$f":"IF(A272=\"\",\"\",IF(VLOOKUP(A272,eligibilité!$A$15:$AG$515,10,TRUE)=\"\",\"\",VLOOKUP(A272,eligibilité!$A$15:$AG$515,10,TRUE)))","v":""},{"$f":"IF(A272=\"\",\"\",IF(VLOOKUP(A272,eligibilité!$A$15:$AG$515,30,FALSE)=0,\"\",VLOOKUP(A272,eligibilité!$A$15:$AG$515,30,FALSE)))","v":""},"","","","","","","",1305,"","","","","","","Temps restant : ",""]
[{"$f":"IF(eligibilité!AG275=\"\",\"\",eligibilité!A275)","v":""},{"$f":"IF(A273=\"\",\"\",IF(VLOOKUP(A273,eligibilité!$A$15:$J$515,2,TRUE)=\"\",\"\",VLOOKUP(A273,eligibilité!$A$15:$J$515,2,TRUE)))","v":""},{"$f":"IF(A273=\"\",\"\",IF(VLOOKUP(A273,eligibilité!$A$15:$AG$515,3,TRUE)=\"\",\"\",VLOOKUP(A273,eligibilité!$A$15:$AG$515,3,TRUE)))","v":""},{"$f":"IF(A273=\"\",\"\",IF(VLOOKUP(A273,eligibilité!$A$15:$AG$515,4,TRUE)=\"\",\"\",VLOOKUP(A273,eligibilité!$A$15:$AG$515,4,TRUE)))","v":""},{"$f":"IF(A273=\"\",\"\",IF(VLOOKUP(A273,eligibilité!$A$15:$AG$515,5,TRUE)=\"\",\"\",VLOOKUP(A273,eligibilité!$A$15:$AG$515,5,TRUE)))","v":""},{"$f":"IF(A273=\"\",\"\",IF(VLOOKUP(A273,eligibilité!$A$15:$AG$515,6,TRUE)=\"\",\"\",VLOOKUP(A273,eligibilité!$A$15:$AG$515,6,TRUE)))","v":""},{"$f":"IF(A273=\"\",\"\",IF(VLOOKUP(A273,eligibilité!$A$15:$AG$515,7,TRUE)=\"\",\"\",VLOOKUP(A273,eligibilité!$A$15:$AG$515,7,TRUE)))","v":""},{"$f":"IF(A273=\"\",\"\",IF(VLOOKUP(A273,eligibilité!$A$15:$AG$515,8,TRUE)=\"\",\"\",VLOOKUP(A273,eligibilité!$A$15:$AG$515,8,TRUE)))","v":""},{"$f":"IF(A273=\"\",\"\",IF(VLOOKUP(A273,eligibilité!$A$15:$AG$515,9,TRUE)=\"\",\"\",VLOOKUP(A273,eligibilité!$A$15:$AG$515,9,TRUE)))","v":""},{"$f":"IF(A273=\"\",\"\",IF(VLOOKUP(A273,eligibilité!$A$15:$AG$515,10,TRUE)=\"\",\"\",VLOOKUP(A273,eligibilité!$A$15:$AG$515,10,TRUE)))","v":""},{"$f":"IF(A273=\"\",\"\",IF(VLOOKUP(A273,eligibilité!$A$15:$AG$515,30,FALSE)=0,\"\",VLOOKUP(A273,eligibilité!$A$15:$AG$515,30,FALSE)))","v":""},"","","","","","","",1305,"","","","","","","Temps restant : ",""]
[{"$f":"IF(eligibilité!AG276=\"\",\"\",eligibilité!A276)","v":""},{"$f":"IF(A274=\"\",\"\",IF(VLOOKUP(A274,eligibilité!$A$15:$J$515,2,TRUE)=\"\",\"\",VLOOKUP(A274,eligibilité!$A$15:$J$515,2,TRUE)))","v":""},{"$f":"IF(A274=\"\",\"\",IF(VLOOKUP(A274,eligibilité!$A$15:$AG$515,3,TRUE)=\"\",\"\",VLOOKUP(A274,eligibilité!$A$15:$AG$515,3,TRUE)))","v":""},{"$f":"IF(A274=\"\",\"\",IF(VLOOKUP(A274,eligibilité!$A$15:$AG$515,4,TRUE)=\"\",\"\",VLOOKUP(A274,eligibilité!$A$15:$AG$515,4,TRUE)))","v":""},{"$f":"IF(A274=\"\",\"\",IF(VLOOKUP(A274,eligibilité!$A$15:$AG$515,5,TRUE)=\"\",\"\",VLOOKUP(A274,eligibilité!$A$15:$AG$515,5,TRUE)))","v":""},{"$f":"IF(A274=\"\",\"\",IF(VLOOKUP(A274,eligibilité!$A$15:$AG$515,6,TRUE)=\"\",\"\",VLOOKUP(A274,eligibilité!$A$15:$AG$515,6,TRUE)))","v":""},{"$f":"IF(A274=\"\",\"\",IF(VLOOKUP(A274,eligibilité!$A$15:$AG$515,7,TRUE)=\"\",\"\",VLOOKUP(A274,eligibilité!$A$15:$AG$515,7,TRUE)))","v":""},{"$f":"IF(A274=\"\",\"\",IF(VLOOKUP(A274,eligibilité!$A$15:$AG$515,8,TRUE)=\"\",\"\",VLOOKUP(A274,eligibilité!$A$15:$AG$515,8,TRUE)))","v":""},{"$f":"IF(A274=\"\",\"\",IF(VLOOKUP(A274,eligibilité!$A$15:$AG$515,9,TRUE)=\"\",\"\",VLOOKUP(A274,eligibilité!$A$15:$AG$515,9,TRUE)))","v":""},{"$f":"IF(A274=\"\",\"\",IF(VLOOKUP(A274,eligibilité!$A$15:$AG$515,10,TRUE)=\"\",\"\",VLOOKUP(A274,eligibilité!$A$15:$AG$515,10,TRUE)))","v":""},{"$f":"IF(A274=\"\",\"\",IF(VLOOKUP(A274,eligibilité!$A$15:$AG$515,30,FALSE)=0,\"\",VLOOKUP(A274,eligibilité!$A$15:$AG$515,30,FALSE)))","v":""},"","","","","","","",1305,"","","","","","","Temps restant : ",""]
[{"$f":"IF(eligibilité!AG277=\"\",\"\",eligibilité!A277)","v":""},{"$f":"IF(A275=\"\",\"\",IF(VLOOKUP(A275,eligibilité!$A$15:$J$515,2,TRUE)=\"\",\"\",VLOOKUP(A275,eligibilité!$A$15:$J$515,2,TRUE)))","v":""},{"$f":"IF(A275=\"\",\"\",IF(VLOOKUP(A275,eligibilité!$A$15:$AG$515,3,TRUE)=\"\",\"\",VLOOKUP(A275,eligibilité!$A$15:$AG$515,3,TRUE)))","v":""},{"$f":"IF(A275=\"\",\"\",IF(VLOOKUP(A275,eligibilité!$A$15:$AG$515,4,TRUE)=\"\",\"\",VLOOKUP(A275,eligibilité!$A$15:$AG$515,4,TRUE)))","v":""},{"$f":"IF(A275=\"\",\"\",IF(VLOOKUP(A275,eligibilité!$A$15:$AG$515,5,TRUE)=\"\",\"\",VLOOKUP(A275,eligibilité!$A$15:$AG$515,5,TRUE)))","v":""},{"$f":"IF(A275=\"\",\"\",IF(VLOOKUP(A275,eligibilité!$A$15:$AG$515,6,TRUE)=\"\",\"\",VLOOKUP(A275,eligibilité!$A$15:$AG$515,6,TRUE)))","v":""},{"$f":"IF(A275=\"\",\"\",IF(VLOOKUP(A275,eligibilité!$A$15:$AG$515,7,TRUE)=\"\",\"\",VLOOKUP(A275,eligibilité!$A$15:$AG$515,7,TRUE)))","v":""},{"$f":"IF(A275=\"\",\"\",IF(VLOOKUP(A275,eligibilité!$A$15:$AG$515,8,TRUE)=\"\",\"\",VLOOKUP(A275,eligibilité!$A$15:$AG$515,8,TRUE)))","v":""},{"$f":"IF(A275=\"\",\"\",IF(VLOOKUP(A275,eligibilité!$A$15:$AG$515,9,TRUE)=\"\",\"\",VLOOKUP(A275,eligibilité!$A$15:$AG$515,9,TRUE)))","v":""},{"$f":"IF(A275=\"\",\"\",IF(VLOOKUP(A275,eligibilité!$A$15:$AG$515,10,TRUE)=\"\",\"\",VLOOKUP(A275,eligibilité!$A$15:$AG$515,10,TRUE)))","v":""},{"$f":"IF(A275=\"\",\"\",IF(VLOOKUP(A275,eligibilité!$A$15:$AG$515,30,FALSE)=0,\"\",VLOOKUP(A275,eligibilité!$A$15:$AG$515,30,FALSE)))","v":""},"","","","","","","",1305,"","","","","","","Temps restant : ",""]
[{"$f":"IF(eligibilité!AG278=\"\",\"\",eligibilité!A278)","v":""},{"$f":"IF(A276=\"\",\"\",IF(VLOOKUP(A276,eligibilité!$A$15:$J$515,2,TRUE)=\"\",\"\",VLOOKUP(A276,eligibilité!$A$15:$J$515,2,TRUE)))","v":""},{"$f":"IF(A276=\"\",\"\",IF(VLOOKUP(A276,eligibilité!$A$15:$AG$515,3,TRUE)=\"\",\"\",VLOOKUP(A276,eligibilité!$A$15:$AG$515,3,TRUE)))","v":""},{"$f":"IF(A276=\"\",\"\",IF(VLOOKUP(A276,eligibilité!$A$15:$AG$515,4,TRUE)=\"\",\"\",VLOOKUP(A276,eligibilité!$A$15:$AG$515,4,TRUE)))","v":""},{"$f":"IF(A276=\"\",\"\",IF(VLOOKUP(A276,eligibilité!$A$15:$AG$515,5,TRUE)=\"\",\"\",VLOOKUP(A276,eligibilité!$A$15:$AG$515,5,TRUE)))","v":""},{"$f":"IF(A276=\"\",\"\",IF(VLOOKUP(A276,eligibilité!$A$15:$AG$515,6,TRUE)=\"\",\"\",VLOOKUP(A276,eligibilité!$A$15:$AG$515,6,TRUE)))","v":""},{"$f":"IF(A276=\"\",\"\",IF(VLOOKUP(A276,eligibilité!$A$15:$AG$515,7,TRUE)=\"\",\"\",VLOOKUP(A276,eligibilité!$A$15:$AG$515,7,TRUE)))","v":""},{"$f":"IF(A276=\"\",\"\",IF(VLOOKUP(A276,eligibilité!$A$15:$AG$515,8,TRUE)=\"\",\"\",VLOOKUP(A276,eligibilité!$A$15:$AG$515,8,TRUE)))","v":""},{"$f":"IF(A276=\"\",\"\",IF(VLOOKUP(A276,eligibilité!$A$15:$AG$515,9,TRUE)=\"\",\"\",VLOOKUP(A276,eligibilité!$A$15:$AG$515,9,TRUE)))","v":""},{"$f":"IF(A276=\"\",\"\",IF(VLOOKUP(A276,eligibilité!$A$15:$AG$515,10,TRUE)=\"\",\"\",VLOOKUP(A276,eligibilité!$A$15:$AG$515,10,TRUE)))","v":""},{"$f":"IF(A276=\"\",\"\",IF(VLOOKUP(A276,eligibilité!$A$15:$AG$515,30,FALSE)=0,\"\",VLOOKUP(A276,eligibilité!$A$15:$AG$515,30,FALSE)))","v":""},"","","","","","","",1305,"","","","","","","Temps restant : ",""]
[{"$f":"IF(eligibilité!AG279=\"\",\"\",eligibilité!A279)","v":""},{"$f":"IF(A277=\"\",\"\",IF(VLOOKUP(A277,eligibilité!$A$15:$J$515,2,TRUE)=\"\",\"\",VLOOKUP(A277,eligibilité!$A$15:$J$515,2,TRUE)))","v":""},{"$f":"IF(A277=\"\",\"\",IF(VLOOKUP(A277,eligibilité!$A$15:$AG$515,3,TRUE)=\"\",\"\",VLOOKUP(A277,eligibilité!$A$15:$AG$515,3,TRUE)))","v":""},{"$f":"IF(A277=\"\",\"\",IF(VLOOKUP(A277,eligibilité!$A$15:$AG$515,4,TRUE)=\"\",\"\",VLOOKUP(A277,eligibilité!$A$15:$AG$515,4,TRUE)))","v":""},{"$f":"IF(A277=\"\",\"\",IF(VLOOKUP(A277,eligibilité!$A$15:$AG$515,5,TRUE)=\"\",\"\",VLOOKUP(A277,eligibilité!$A$15:$AG$515,5,TRUE)))","v":""},{"$f":"IF(A277=\"\",\"\",IF(VLOOKUP(A277,eligibilité!$A$15:$AG$515,6,TRUE)=\"\",\"\",VLOOKUP(A277,eligibilité!$A$15:$AG$515,6,TRUE)))","v":""},{"$f":"IF(A277=\"\",\"\",IF(VLOOKUP(A277,eligibilité!$A$15:$AG$515,7,TRUE)=\"\",\"\",VLOOKUP(A277,eligibilité!$A$15:$AG$515,7,TRUE)))","v":""},{"$f":"IF(A277=\"\",\"\",IF(VLOOKUP(A277,eligibilité!$A$15:$AG$515,8,TRUE)=\"\",\"\",VLOOKUP(A277,eligibilité!$A$15:$AG$515,8,TRUE)))","v":""},{"$f":"IF(A277=\"\",\"\",IF(VLOOKUP(A277,eligibilité!$A$15:$AG$515,9,TRUE)=\"\",\"\",VLOOKUP(A277,eligibilité!$A$15:$AG$515,9,TRUE)))","v":""},{"$f":"IF(A277=\"\",\"\",IF(VLOOKUP(A277,eligibilité!$A$15:$AG$515,10,TRUE)=\"\",\"\",VLOOKUP(A277,eligibilité!$A$15:$AG$515,10,TRUE)))","v":""},{"$f":"IF(A277=\"\",\"\",IF(VLOOKUP(A277,eligibilité!$A$15:$AG$515,30,FALSE)=0,\"\",VLOOKUP(A277,eligibilité!$A$15:$AG$515,30,FALSE)))","v":""},"","","","","","","",1305,"","","","","","","Temps restant : ",""]
[{"$f":"IF(eligibilité!AG280=\"\",\"\",eligibilité!A280)","v":""},{"$f":"IF(A278=\"\",\"\",IF(VLOOKUP(A278,eligibilité!$A$15:$J$515,2,TRUE)=\"\",\"\",VLOOKUP(A278,eligibilité!$A$15:$J$515,2,TRUE)))","v":""},{"$f":"IF(A278=\"\",\"\",IF(VLOOKUP(A278,eligibilité!$A$15:$AG$515,3,TRUE)=\"\",\"\",VLOOKUP(A278,eligibilité!$A$15:$AG$515,3,TRUE)))","v":""},{"$f":"IF(A278=\"\",\"\",IF(VLOOKUP(A278,eligibilité!$A$15:$AG$515,4,TRUE)=\"\",\"\",VLOOKUP(A278,eligibilité!$A$15:$AG$515,4,TRUE)))","v":""},{"$f":"IF(A278=\"\",\"\",IF(VLOOKUP(A278,eligibilité!$A$15:$AG$515,5,TRUE)=\"\",\"\",VLOOKUP(A278,eligibilité!$A$15:$AG$515,5,TRUE)))","v":""},{"$f":"IF(A278=\"\",\"\",IF(VLOOKUP(A278,eligibilité!$A$15:$AG$515,6,TRUE)=\"\",\"\",VLOOKUP(A278,eligibilité!$A$15:$AG$515,6,TRUE)))","v":""},{"$f":"IF(A278=\"\",\"\",IF(VLOOKUP(A278,eligibilité!$A$15:$AG$515,7,TRUE)=\"\",\"\",VLOOKUP(A278,eligibilité!$A$15:$AG$515,7,TRUE)))","v":""},{"$f":"IF(A278=\"\",\"\",IF(VLOOKUP(A278,eligibilité!$A$15:$AG$515,8,TRUE)=\"\",\"\",VLOOKUP(A278,eligibilité!$A$15:$AG$515,8,TRUE)))","v":""},{"$f":"IF(A278=\"\",\"\",IF(VLOOKUP(A278,eligibilité!$A$15:$AG$515,9,TRUE)=\"\",\"\",VLOOKUP(A278,eligibilité!$A$15:$AG$515,9,TRUE)))","v":""},{"$f":"IF(A278=\"\",\"\",IF(VLOOKUP(A278,eligibilité!$A$15:$AG$515,10,TRUE)=\"\",\"\",VLOOKUP(A278,eligibilité!$A$15:$AG$515,10,TRUE)))","v":""},{"$f":"IF(A278=\"\",\"\",IF(VLOOKUP(A278,eligibilité!$A$15:$AG$515,30,FALSE)=0,\"\",VLOOKUP(A278,eligibilité!$A$15:$AG$515,30,FALSE)))","v":""},"","","","","","","",1305,"","","","","","","Temps restant : ",""]
[{"$f":"IF(eligibilité!AG281=\"\",\"\",eligibilité!A281)","v":""},{"$f":"IF(A279=\"\",\"\",IF(VLOOKUP(A279,eligibilité!$A$15:$J$515,2,TRUE)=\"\",\"\",VLOOKUP(A279,eligibilité!$A$15:$J$515,2,TRUE)))","v":""},{"$f":"IF(A279=\"\",\"\",IF(VLOOKUP(A279,eligibilité!$A$15:$AG$515,3,TRUE)=\"\",\"\",VLOOKUP(A279,eligibilité!$A$15:$AG$515,3,TRUE)))","v":""},{"$f":"IF(A279=\"\",\"\",IF(VLOOKUP(A279,eligibilité!$A$15:$AG$515,4,TRUE)=\"\",\"\",VLOOKUP(A279,eligibilité!$A$15:$AG$515,4,TRUE)))","v":""},{"$f":"IF(A279=\"\",\"\",IF(VLOOKUP(A279,eligibilité!$A$15:$AG$515,5,TRUE)=\"\",\"\",VLOOKUP(A279,eligibilité!$A$15:$AG$515,5,TRUE)))","v":""},{"$f":"IF(A279=\"\",\"\",IF(VLOOKUP(A279,eligibilité!$A$15:$AG$515,6,TRUE)=\"\",\"\",VLOOKUP(A279,eligibilité!$A$15:$AG$515,6,TRUE)))","v":""},{"$f":"IF(A279=\"\",\"\",IF(VLOOKUP(A279,eligibilité!$A$15:$AG$515,7,TRUE)=\"\",\"\",VLOOKUP(A279,eligibilité!$A$15:$AG$515,7,TRUE)))","v":""},{"$f":"IF(A279=\"\",\"\",IF(VLOOKUP(A279,eligibilité!$A$15:$AG$515,8,TRUE)=\"\",\"\",VLOOKUP(A279,eligibilité!$A$15:$AG$515,8,TRUE)))","v":""},{"$f":"IF(A279=\"\",\"\",IF(VLOOKUP(A279,eligibilité!$A$15:$AG$515,9,TRUE)=\"\",\"\",VLOOKUP(A279,eligibilité!$A$15:$AG$515,9,TRUE)))","v":""},{"$f":"IF(A279=\"\",\"\",IF(VLOOKUP(A279,eligibilité!$A$15:$AG$515,10,TRUE)=\"\",\"\",VLOOKUP(A279,eligibilité!$A$15:$AG$515,10,TRUE)))","v":""},{"$f":"IF(A279=\"\",\"\",IF(VLOOKUP(A279,eligibilité!$A$15:$AG$515,30,FALSE)=0,\"\",VLOOKUP(A279,eligibilité!$A$15:$AG$515,30,FALSE)))","v":""},"","","","","","","",1305,"","","","","","","Temps restant : ",""]
[{"$f":"IF(eligibilité!AG282=\"\",\"\",eligibilité!A282)","v":""},{"$f":"IF(A280=\"\",\"\",IF(VLOOKUP(A280,eligibilité!$A$15:$J$515,2,TRUE)=\"\",\"\",VLOOKUP(A280,eligibilité!$A$15:$J$515,2,TRUE)))","v":""},{"$f":"IF(A280=\"\",\"\",IF(VLOOKUP(A280,eligibilité!$A$15:$AG$515,3,TRUE)=\"\",\"\",VLOOKUP(A280,eligibilité!$A$15:$AG$515,3,TRUE)))","v":""},{"$f":"IF(A280=\"\",\"\",IF(VLOOKUP(A280,eligibilité!$A$15:$AG$515,4,TRUE)=\"\",\"\",VLOOKUP(A280,eligibilité!$A$15:$AG$515,4,TRUE)))","v":""},{"$f":"IF(A280=\"\",\"\",IF(VLOOKUP(A280,eligibilité!$A$15:$AG$515,5,TRUE)=\"\",\"\",VLOOKUP(A280,eligibilité!$A$15:$AG$515,5,TRUE)))","v":""},{"$f":"IF(A280=\"\",\"\",IF(VLOOKUP(A280,eligibilité!$A$15:$AG$515,6,TRUE)=\"\",\"\",VLOOKUP(A280,eligibilité!$A$15:$AG$515,6,TRUE)))","v":""},{"$f":"IF(A280=\"\",\"\",IF(VLOOKUP(A280,eligibilité!$A$15:$AG$515,7,TRUE)=\"\",\"\",VLOOKUP(A280,eligibilité!$A$15:$AG$515,7,TRUE)))","v":""},{"$f":"IF(A280=\"\",\"\",IF(VLOOKUP(A280,eligibilité!$A$15:$AG$515,8,TRUE)=\"\",\"\",VLOOKUP(A280,eligibilité!$A$15:$AG$515,8,TRUE)))","v":""},{"$f":"IF(A280=\"\",\"\",IF(VLOOKUP(A280,eligibilité!$A$15:$AG$515,9,TRUE)=\"\",\"\",VLOOKUP(A280,eligibilité!$A$15:$AG$515,9,TRUE)))","v":""},{"$f":"IF(A280=\"\",\"\",IF(VLOOKUP(A280,eligibilité!$A$15:$AG$515,10,TRUE)=\"\",\"\",VLOOKUP(A280,eligibilité!$A$15:$AG$515,10,TRUE)))","v":""},{"$f":"IF(A280=\"\",\"\",IF(VLOOKUP(A280,eligibilité!$A$15:$AG$515,30,FALSE)=0,\"\",VLOOKUP(A280,eligibilité!$A$15:$AG$515,30,FALSE)))","v":""},"","","","","","","",1305,"","","","","","","Temps restant : ",""]
[{"$f":"IF(eligibilité!AG283=\"\",\"\",eligibilité!A283)","v":""},{"$f":"IF(A281=\"\",\"\",IF(VLOOKUP(A281,eligibilité!$A$15:$J$515,2,TRUE)=\"\",\"\",VLOOKUP(A281,eligibilité!$A$15:$J$515,2,TRUE)))","v":""},{"$f":"IF(A281=\"\",\"\",IF(VLOOKUP(A281,eligibilité!$A$15:$AG$515,3,TRUE)=\"\",\"\",VLOOKUP(A281,eligibilité!$A$15:$AG$515,3,TRUE)))","v":""},{"$f":"IF(A281=\"\",\"\",IF(VLOOKUP(A281,eligibilité!$A$15:$AG$515,4,TRUE)=\"\",\"\",VLOOKUP(A281,eligibilité!$A$15:$AG$515,4,TRUE)))","v":""},{"$f":"IF(A281=\"\",\"\",IF(VLOOKUP(A281,eligibilité!$A$15:$AG$515,5,TRUE)=\"\",\"\",VLOOKUP(A281,eligibilité!$A$15:$AG$515,5,TRUE)))","v":""},{"$f":"IF(A281=\"\",\"\",IF(VLOOKUP(A281,eligibilité!$A$15:$AG$515,6,TRUE)=\"\",\"\",VLOOKUP(A281,eligibilité!$A$15:$AG$515,6,TRUE)))","v":""},{"$f":"IF(A281=\"\",\"\",IF(VLOOKUP(A281,eligibilité!$A$15:$AG$515,7,TRUE)=\"\",\"\",VLOOKUP(A281,eligibilité!$A$15:$AG$515,7,TRUE)))","v":""},{"$f":"IF(A281=\"\",\"\",IF(VLOOKUP(A281,eligibilité!$A$15:$AG$515,8,TRUE)=\"\",\"\",VLOOKUP(A281,eligibilité!$A$15:$AG$515,8,TRUE)))","v":""},{"$f":"IF(A281=\"\",\"\",IF(VLOOKUP(A281,eligibilité!$A$15:$AG$515,9,TRUE)=\"\",\"\",VLOOKUP(A281,eligibilité!$A$15:$AG$515,9,TRUE)))","v":""},{"$f":"IF(A281=\"\",\"\",IF(VLOOKUP(A281,eligibilité!$A$15:$AG$515,10,TRUE)=\"\",\"\",VLOOKUP(A281,eligibilité!$A$15:$AG$515,10,TRUE)))","v":""},{"$f":"IF(A281=\"\",\"\",IF(VLOOKUP(A281,eligibilité!$A$15:$AG$515,30,FALSE)=0,\"\",VLOOKUP(A281,eligibilité!$A$15:$AG$515,30,FALSE)))","v":""},"","","","","","","",1305,"","","","","","","Temps restant : ",""]
[{"$f":"IF(eligibilité!AG284=\"\",\"\",eligibilité!A284)","v":""},{"$f":"IF(A282=\"\",\"\",IF(VLOOKUP(A282,eligibilité!$A$15:$J$515,2,TRUE)=\"\",\"\",VLOOKUP(A282,eligibilité!$A$15:$J$515,2,TRUE)))","v":""},{"$f":"IF(A282=\"\",\"\",IF(VLOOKUP(A282,eligibilité!$A$15:$AG$515,3,TRUE)=\"\",\"\",VLOOKUP(A282,eligibilité!$A$15:$AG$515,3,TRUE)))","v":""},{"$f":"IF(A282=\"\",\"\",IF(VLOOKUP(A282,eligibilité!$A$15:$AG$515,4,TRUE)=\"\",\"\",VLOOKUP(A282,eligibilité!$A$15:$AG$515,4,TRUE)))","v":""},{"$f":"IF(A282=\"\",\"\",IF(VLOOKUP(A282,eligibilité!$A$15:$AG$515,5,TRUE)=\"\",\"\",VLOOKUP(A282,eligibilité!$A$15:$AG$515,5,TRUE)))","v":""},{"$f":"IF(A282=\"\",\"\",IF(VLOOKUP(A282,eligibilité!$A$15:$AG$515,6,TRUE)=\"\",\"\",VLOOKUP(A282,eligibilité!$A$15:$AG$515,6,TRUE)))","v":""},{"$f":"IF(A282=\"\",\"\",IF(VLOOKUP(A282,eligibilité!$A$15:$AG$515,7,TRUE)=\"\",\"\",VLOOKUP(A282,eligibilité!$A$15:$AG$515,7,TRUE)))","v":""},{"$f":"IF(A282=\"\",\"\",IF(VLOOKUP(A282,eligibilité!$A$15:$AG$515,8,TRUE)=\"\",\"\",VLOOKUP(A282,eligibilité!$A$15:$AG$515,8,TRUE)))","v":""},{"$f":"IF(A282=\"\",\"\",IF(VLOOKUP(A282,eligibilité!$A$15:$AG$515,9,TRUE)=\"\",\"\",VLOOKUP(A282,eligibilité!$A$15:$AG$515,9,TRUE)))","v":""},{"$f":"IF(A282=\"\",\"\",IF(VLOOKUP(A282,eligibilité!$A$15:$AG$515,10,TRUE)=\"\",\"\",VLOOKUP(A282,eligibilité!$A$15:$AG$515,10,TRUE)))","v":""},{"$f":"IF(A282=\"\",\"\",IF(VLOOKUP(A282,eligibilité!$A$15:$AG$515,30,FALSE)=0,\"\",VLOOKUP(A282,eligibilité!$A$15:$AG$515,30,FALSE)))","v":""},"","","","","","","",1305,"","","","","","","Temps restant : ",""]
[{"$f":"IF(eligibilité!AG285=\"\",\"\",eligibilité!A285)","v":""},{"$f":"IF(A283=\"\",\"\",IF(VLOOKUP(A283,eligibilité!$A$15:$J$515,2,TRUE)=\"\",\"\",VLOOKUP(A283,eligibilité!$A$15:$J$515,2,TRUE)))","v":""},{"$f":"IF(A283=\"\",\"\",IF(VLOOKUP(A283,eligibilité!$A$15:$AG$515,3,TRUE)=\"\",\"\",VLOOKUP(A283,eligibilité!$A$15:$AG$515,3,TRUE)))","v":""},{"$f":"IF(A283=\"\",\"\",IF(VLOOKUP(A283,eligibilité!$A$15:$AG$515,4,TRUE)=\"\",\"\",VLOOKUP(A283,eligibilité!$A$15:$AG$515,4,TRUE)))","v":""},{"$f":"IF(A283=\"\",\"\",IF(VLOOKUP(A283,eligibilité!$A$15:$AG$515,5,TRUE)=\"\",\"\",VLOOKUP(A283,eligibilité!$A$15:$AG$515,5,TRUE)))","v":""},{"$f":"IF(A283=\"\",\"\",IF(VLOOKUP(A283,eligibilité!$A$15:$AG$515,6,TRUE)=\"\",\"\",VLOOKUP(A283,eligibilité!$A$15:$AG$515,6,TRUE)))","v":""},{"$f":"IF(A283=\"\",\"\",IF(VLOOKUP(A283,eligibilité!$A$15:$AG$515,7,TRUE)=\"\",\"\",VLOOKUP(A283,eligibilité!$A$15:$AG$515,7,TRUE)))","v":""},{"$f":"IF(A283=\"\",\"\",IF(VLOOKUP(A283,eligibilité!$A$15:$AG$515,8,TRUE)=\"\",\"\",VLOOKUP(A283,eligibilité!$A$15:$AG$515,8,TRUE)))","v":""},{"$f":"IF(A283=\"\",\"\",IF(VLOOKUP(A283,eligibilité!$A$15:$AG$515,9,TRUE)=\"\",\"\",VLOOKUP(A283,eligibilité!$A$15:$AG$515,9,TRUE)))","v":""},{"$f":"IF(A283=\"\",\"\",IF(VLOOKUP(A283,eligibilité!$A$15:$AG$515,10,TRUE)=\"\",\"\",VLOOKUP(A283,eligibilité!$A$15:$AG$515,10,TRUE)))","v":""},{"$f":"IF(A283=\"\",\"\",IF(VLOOKUP(A283,eligibilité!$A$15:$AG$515,30,FALSE)=0,\"\",VLOOKUP(A283,eligibilité!$A$15:$AG$515,30,FALSE)))","v":""},"","","","","","","",1305,"","","","","","","Temps restant : ",""]
[{"$f":"IF(eligibilité!AG286=\"\",\"\",eligibilité!A286)","v":""},{"$f":"IF(A284=\"\",\"\",IF(VLOOKUP(A284,eligibilité!$A$15:$J$515,2,TRUE)=\"\",\"\",VLOOKUP(A284,eligibilité!$A$15:$J$515,2,TRUE)))","v":""},{"$f":"IF(A284=\"\",\"\",IF(VLOOKUP(A284,eligibilité!$A$15:$AG$515,3,TRUE)=\"\",\"\",VLOOKUP(A284,eligibilité!$A$15:$AG$515,3,TRUE)))","v":""},{"$f":"IF(A284=\"\",\"\",IF(VLOOKUP(A284,eligibilité!$A$15:$AG$515,4,TRUE)=\"\",\"\",VLOOKUP(A284,eligibilité!$A$15:$AG$515,4,TRUE)))","v":""},{"$f":"IF(A284=\"\",\"\",IF(VLOOKUP(A284,eligibilité!$A$15:$AG$515,5,TRUE)=\"\",\"\",VLOOKUP(A284,eligibilité!$A$15:$AG$515,5,TRUE)))","v":""},{"$f":"IF(A284=\"\",\"\",IF(VLOOKUP(A284,eligibilité!$A$15:$AG$515,6,TRUE)=\"\",\"\",VLOOKUP(A284,eligibilité!$A$15:$AG$515,6,TRUE)))","v":""},{"$f":"IF(A284=\"\",\"\",IF(VLOOKUP(A284,eligibilité!$A$15:$AG$515,7,TRUE)=\"\",\"\",VLOOKUP(A284,eligibilité!$A$15:$AG$515,7,TRUE)))","v":""},{"$f":"IF(A284=\"\",\"\",IF(VLOOKUP(A284,eligibilité!$A$15:$AG$515,8,TRUE)=\"\",\"\",VLOOKUP(A284,eligibilité!$A$15:$AG$515,8,TRUE)))","v":""},{"$f":"IF(A284=\"\",\"\",IF(VLOOKUP(A284,eligibilité!$A$15:$AG$515,9,TRUE)=\"\",\"\",VLOOKUP(A284,eligibilité!$A$15:$AG$515,9,TRUE)))","v":""},{"$f":"IF(A284=\"\",\"\",IF(VLOOKUP(A284,eligibilité!$A$15:$AG$515,10,TRUE)=\"\",\"\",VLOOKUP(A284,eligibilité!$A$15:$AG$515,10,TRUE)))","v":""},{"$f":"IF(A284=\"\",\"\",IF(VLOOKUP(A284,eligibilité!$A$15:$AG$515,30,FALSE)=0,\"\",VLOOKUP(A284,eligibilité!$A$15:$AG$515,30,FALSE)))","v":""},"","","","","","","",1305,"","","","","","","Temps restant : ",""]
[{"$f":"IF(eligibilité!AG287=\"\",\"\",eligibilité!A287)","v":""},{"$f":"IF(A285=\"\",\"\",IF(VLOOKUP(A285,eligibilité!$A$15:$J$515,2,TRUE)=\"\",\"\",VLOOKUP(A285,eligibilité!$A$15:$J$515,2,TRUE)))","v":""},{"$f":"IF(A285=\"\",\"\",IF(VLOOKUP(A285,eligibilité!$A$15:$AG$515,3,TRUE)=\"\",\"\",VLOOKUP(A285,eligibilité!$A$15:$AG$515,3,TRUE)))","v":""},{"$f":"IF(A285=\"\",\"\",IF(VLOOKUP(A285,eligibilité!$A$15:$AG$515,4,TRUE)=\"\",\"\",VLOOKUP(A285,eligibilité!$A$15:$AG$515,4,TRUE)))","v":""},{"$f":"IF(A285=\"\",\"\",IF(VLOOKUP(A285,eligibilité!$A$15:$AG$515,5,TRUE)=\"\",\"\",VLOOKUP(A285,eligibilité!$A$15:$AG$515,5,TRUE)))","v":""},{"$f":"IF(A285=\"\",\"\",IF(VLOOKUP(A285,eligibilité!$A$15:$AG$515,6,TRUE)=\"\",\"\",VLOOKUP(A285,eligibilité!$A$15:$AG$515,6,TRUE)))","v":""},{"$f":"IF(A285=\"\",\"\",IF(VLOOKUP(A285,eligibilité!$A$15:$AG$515,7,TRUE)=\"\",\"\",VLOOKUP(A285,eligibilité!$A$15:$AG$515,7,TRUE)))","v":""},{"$f":"IF(A285=\"\",\"\",IF(VLOOKUP(A285,eligibilité!$A$15:$AG$515,8,TRUE)=\"\",\"\",VLOOKUP(A285,eligibilité!$A$15:$AG$515,8,TRUE)))","v":""},{"$f":"IF(A285=\"\",\"\",IF(VLOOKUP(A285,eligibilité!$A$15:$AG$515,9,TRUE)=\"\",\"\",VLOOKUP(A285,eligibilité!$A$15:$AG$515,9,TRUE)))","v":""},{"$f":"IF(A285=\"\",\"\",IF(VLOOKUP(A285,eligibilité!$A$15:$AG$515,10,TRUE)=\"\",\"\",VLOOKUP(A285,eligibilité!$A$15:$AG$515,10,TRUE)))","v":""},{"$f":"IF(A285=\"\",\"\",IF(VLOOKUP(A285,eligibilité!$A$15:$AG$515,30,FALSE)=0,\"\",VLOOKUP(A285,eligibilité!$A$15:$AG$515,30,FALSE)))","v":""},"","","","","","","",1305,"","","","","","","Temps restant : ",""]
[{"$f":"IF(eligibilité!AG288=\"\",\"\",eligibilité!A288)","v":""},{"$f":"IF(A286=\"\",\"\",IF(VLOOKUP(A286,eligibilité!$A$15:$J$515,2,TRUE)=\"\",\"\",VLOOKUP(A286,eligibilité!$A$15:$J$515,2,TRUE)))","v":""},{"$f":"IF(A286=\"\",\"\",IF(VLOOKUP(A286,eligibilité!$A$15:$AG$515,3,TRUE)=\"\",\"\",VLOOKUP(A286,eligibilité!$A$15:$AG$515,3,TRUE)))","v":""},{"$f":"IF(A286=\"\",\"\",IF(VLOOKUP(A286,eligibilité!$A$15:$AG$515,4,TRUE)=\"\",\"\",VLOOKUP(A286,eligibilité!$A$15:$AG$515,4,TRUE)))","v":""},{"$f":"IF(A286=\"\",\"\",IF(VLOOKUP(A286,eligibilité!$A$15:$AG$515,5,TRUE)=\"\",\"\",VLOOKUP(A286,eligibilité!$A$15:$AG$515,5,TRUE)))","v":""},{"$f":"IF(A286=\"\",\"\",IF(VLOOKUP(A286,eligibilité!$A$15:$AG$515,6,TRUE)=\"\",\"\",VLOOKUP(A286,eligibilité!$A$15:$AG$515,6,TRUE)))","v":""},{"$f":"IF(A286=\"\",\"\",IF(VLOOKUP(A286,eligibilité!$A$15:$AG$515,7,TRUE)=\"\",\"\",VLOOKUP(A286,eligibilité!$A$15:$AG$515,7,TRUE)))","v":""},{"$f":"IF(A286=\"\",\"\",IF(VLOOKUP(A286,eligibilité!$A$15:$AG$515,8,TRUE)=\"\",\"\",VLOOKUP(A286,eligibilité!$A$15:$AG$515,8,TRUE)))","v":""},{"$f":"IF(A286=\"\",\"\",IF(VLOOKUP(A286,eligibilité!$A$15:$AG$515,9,TRUE)=\"\",\"\",VLOOKUP(A286,eligibilité!$A$15:$AG$515,9,TRUE)))","v":""},{"$f":"IF(A286=\"\",\"\",IF(VLOOKUP(A286,eligibilité!$A$15:$AG$515,10,TRUE)=\"\",\"\",VLOOKUP(A286,eligibilité!$A$15:$AG$515,10,TRUE)))","v":""},{"$f":"IF(A286=\"\",\"\",IF(VLOOKUP(A286,eligibilité!$A$15:$AG$515,30,FALSE)=0,\"\",VLOOKUP(A286,eligibilité!$A$15:$AG$515,30,FALSE)))","v":""},"","","","","","","",1305,"","","","","","","Temps restant : ",""]
[{"$f":"IF(eligibilité!AG289=\"\",\"\",eligibilité!A289)","v":""},{"$f":"IF(A287=\"\",\"\",IF(VLOOKUP(A287,eligibilité!$A$15:$J$515,2,TRUE)=\"\",\"\",VLOOKUP(A287,eligibilité!$A$15:$J$515,2,TRUE)))","v":""},{"$f":"IF(A287=\"\",\"\",IF(VLOOKUP(A287,eligibilité!$A$15:$AG$515,3,TRUE)=\"\",\"\",VLOOKUP(A287,eligibilité!$A$15:$AG$515,3,TRUE)))","v":""},{"$f":"IF(A287=\"\",\"\",IF(VLOOKUP(A287,eligibilité!$A$15:$AG$515,4,TRUE)=\"\",\"\",VLOOKUP(A287,eligibilité!$A$15:$AG$515,4,TRUE)))","v":""},{"$f":"IF(A287=\"\",\"\",IF(VLOOKUP(A287,eligibilité!$A$15:$AG$515,5,TRUE)=\"\",\"\",VLOOKUP(A287,eligibilité!$A$15:$AG$515,5,TRUE)))","v":""},{"$f":"IF(A287=\"\",\"\",IF(VLOOKUP(A287,eligibilité!$A$15:$AG$515,6,TRUE)=\"\",\"\",VLOOKUP(A287,eligibilité!$A$15:$AG$515,6,TRUE)))","v":""},{"$f":"IF(A287=\"\",\"\",IF(VLOOKUP(A287,eligibilité!$A$15:$AG$515,7,TRUE)=\"\",\"\",VLOOKUP(A287,eligibilité!$A$15:$AG$515,7,TRUE)))","v":""},{"$f":"IF(A287=\"\",\"\",IF(VLOOKUP(A287,eligibilité!$A$15:$AG$515,8,TRUE)=\"\",\"\",VLOOKUP(A287,eligibilité!$A$15:$AG$515,8,TRUE)))","v":""},{"$f":"IF(A287=\"\",\"\",IF(VLOOKUP(A287,eligibilité!$A$15:$AG$515,9,TRUE)=\"\",\"\",VLOOKUP(A287,eligibilité!$A$15:$AG$515,9,TRUE)))","v":""},{"$f":"IF(A287=\"\",\"\",IF(VLOOKUP(A287,eligibilité!$A$15:$AG$515,10,TRUE)=\"\",\"\",VLOOKUP(A287,eligibilité!$A$15:$AG$515,10,TRUE)))","v":""},{"$f":"IF(A287=\"\",\"\",IF(VLOOKUP(A287,eligibilité!$A$15:$AG$515,30,FALSE)=0,\"\",VLOOKUP(A287,eligibilité!$A$15:$AG$515,30,FALSE)))","v":""},"","","","","","","",1305,"","","","","","","Temps restant : ",""]
[{"$f":"IF(eligibilité!AG290=\"\",\"\",eligibilité!A290)","v":""},{"$f":"IF(A288=\"\",\"\",IF(VLOOKUP(A288,eligibilité!$A$15:$J$515,2,TRUE)=\"\",\"\",VLOOKUP(A288,eligibilité!$A$15:$J$515,2,TRUE)))","v":""},{"$f":"IF(A288=\"\",\"\",IF(VLOOKUP(A288,eligibilité!$A$15:$AG$515,3,TRUE)=\"\",\"\",VLOOKUP(A288,eligibilité!$A$15:$AG$515,3,TRUE)))","v":""},{"$f":"IF(A288=\"\",\"\",IF(VLOOKUP(A288,eligibilité!$A$15:$AG$515,4,TRUE)=\"\",\"\",VLOOKUP(A288,eligibilité!$A$15:$AG$515,4,TRUE)))","v":""},{"$f":"IF(A288=\"\",\"\",IF(VLOOKUP(A288,eligibilité!$A$15:$AG$515,5,TRUE)=\"\",\"\",VLOOKUP(A288,eligibilité!$A$15:$AG$515,5,TRUE)))","v":""},{"$f":"IF(A288=\"\",\"\",IF(VLOOKUP(A288,eligibilité!$A$15:$AG$515,6,TRUE)=\"\",\"\",VLOOKUP(A288,eligibilité!$A$15:$AG$515,6,TRUE)))","v":""},{"$f":"IF(A288=\"\",\"\",IF(VLOOKUP(A288,eligibilité!$A$15:$AG$515,7,TRUE)=\"\",\"\",VLOOKUP(A288,eligibilité!$A$15:$AG$515,7,TRUE)))","v":""},{"$f":"IF(A288=\"\",\"\",IF(VLOOKUP(A288,eligibilité!$A$15:$AG$515,8,TRUE)=\"\",\"\",VLOOKUP(A288,eligibilité!$A$15:$AG$515,8,TRUE)))","v":""},{"$f":"IF(A288=\"\",\"\",IF(VLOOKUP(A288,eligibilité!$A$15:$AG$515,9,TRUE)=\"\",\"\",VLOOKUP(A288,eligibilité!$A$15:$AG$515,9,TRUE)))","v":""},{"$f":"IF(A288=\"\",\"\",IF(VLOOKUP(A288,eligibilité!$A$15:$AG$515,10,TRUE)=\"\",\"\",VLOOKUP(A288,eligibilité!$A$15:$AG$515,10,TRUE)))","v":""},{"$f":"IF(A288=\"\",\"\",IF(VLOOKUP(A288,eligibilité!$A$15:$AG$515,30,FALSE)=0,\"\",VLOOKUP(A288,eligibilité!$A$15:$AG$515,30,FALSE)))","v":""},"","","","","","","",1305,"","","","","","","Temps restant : ",""]
[{"$f":"IF(eligibilité!AG291=\"\",\"\",eligibilité!A291)","v":""},{"$f":"IF(A289=\"\",\"\",IF(VLOOKUP(A289,eligibilité!$A$15:$J$515,2,TRUE)=\"\",\"\",VLOOKUP(A289,eligibilité!$A$15:$J$515,2,TRUE)))","v":""},{"$f":"IF(A289=\"\",\"\",IF(VLOOKUP(A289,eligibilité!$A$15:$AG$515,3,TRUE)=\"\",\"\",VLOOKUP(A289,eligibilité!$A$15:$AG$515,3,TRUE)))","v":""},{"$f":"IF(A289=\"\",\"\",IF(VLOOKUP(A289,eligibilité!$A$15:$AG$515,4,TRUE)=\"\",\"\",VLOOKUP(A289,eligibilité!$A$15:$AG$515,4,TRUE)))","v":""},{"$f":"IF(A289=\"\",\"\",IF(VLOOKUP(A289,eligibilité!$A$15:$AG$515,5,TRUE)=\"\",\"\",VLOOKUP(A289,eligibilité!$A$15:$AG$515,5,TRUE)))","v":""},{"$f":"IF(A289=\"\",\"\",IF(VLOOKUP(A289,eligibilité!$A$15:$AG$515,6,TRUE)=\"\",\"\",VLOOKUP(A289,eligibilité!$A$15:$AG$515,6,TRUE)))","v":""},{"$f":"IF(A289=\"\",\"\",IF(VLOOKUP(A289,eligibilité!$A$15:$AG$515,7,TRUE)=\"\",\"\",VLOOKUP(A289,eligibilité!$A$15:$AG$515,7,TRUE)))","v":""},{"$f":"IF(A289=\"\",\"\",IF(VLOOKUP(A289,eligibilité!$A$15:$AG$515,8,TRUE)=\"\",\"\",VLOOKUP(A289,eligibilité!$A$15:$AG$515,8,TRUE)))","v":""},{"$f":"IF(A289=\"\",\"\",IF(VLOOKUP(A289,eligibilité!$A$15:$AG$515,9,TRUE)=\"\",\"\",VLOOKUP(A289,eligibilité!$A$15:$AG$515,9,TRUE)))","v":""},{"$f":"IF(A289=\"\",\"\",IF(VLOOKUP(A289,eligibilité!$A$15:$AG$515,10,TRUE)=\"\",\"\",VLOOKUP(A289,eligibilité!$A$15:$AG$515,10,TRUE)))","v":""},{"$f":"IF(A289=\"\",\"\",IF(VLOOKUP(A289,eligibilité!$A$15:$AG$515,30,FALSE)=0,\"\",VLOOKUP(A289,eligibilité!$A$15:$AG$515,30,FALSE)))","v":""},"","","","","","","",1305,"","","","","","","Temps restant : ",""]
[{"$f":"IF(eligibilité!AG292=\"\",\"\",eligibilité!A292)","v":""},{"$f":"IF(A290=\"\",\"\",IF(VLOOKUP(A290,eligibilité!$A$15:$J$515,2,TRUE)=\"\",\"\",VLOOKUP(A290,eligibilité!$A$15:$J$515,2,TRUE)))","v":""},{"$f":"IF(A290=\"\",\"\",IF(VLOOKUP(A290,eligibilité!$A$15:$AG$515,3,TRUE)=\"\",\"\",VLOOKUP(A290,eligibilité!$A$15:$AG$515,3,TRUE)))","v":""},{"$f":"IF(A290=\"\",\"\",IF(VLOOKUP(A290,eligibilité!$A$15:$AG$515,4,TRUE)=\"\",\"\",VLOOKUP(A290,eligibilité!$A$15:$AG$515,4,TRUE)))","v":""},{"$f":"IF(A290=\"\",\"\",IF(VLOOKUP(A290,eligibilité!$A$15:$AG$515,5,TRUE)=\"\",\"\",VLOOKUP(A290,eligibilité!$A$15:$AG$515,5,TRUE)))","v":""},{"$f":"IF(A290=\"\",\"\",IF(VLOOKUP(A290,eligibilité!$A$15:$AG$515,6,TRUE)=\"\",\"\",VLOOKUP(A290,eligibilité!$A$15:$AG$515,6,TRUE)))","v":""},{"$f":"IF(A290=\"\",\"\",IF(VLOOKUP(A290,eligibilité!$A$15:$AG$515,7,TRUE)=\"\",\"\",VLOOKUP(A290,eligibilité!$A$15:$AG$515,7,TRUE)))","v":""},{"$f":"IF(A290=\"\",\"\",IF(VLOOKUP(A290,eligibilité!$A$15:$AG$515,8,TRUE)=\"\",\"\",VLOOKUP(A290,eligibilité!$A$15:$AG$515,8,TRUE)))","v":""},{"$f":"IF(A290=\"\",\"\",IF(VLOOKUP(A290,eligibilité!$A$15:$AG$515,9,TRUE)=\"\",\"\",VLOOKUP(A290,eligibilité!$A$15:$AG$515,9,TRUE)))","v":""},{"$f":"IF(A290=\"\",\"\",IF(VLOOKUP(A290,eligibilité!$A$15:$AG$515,10,TRUE)=\"\",\"\",VLOOKUP(A290,eligibilité!$A$15:$AG$515,10,TRUE)))","v":""},{"$f":"IF(A290=\"\",\"\",IF(VLOOKUP(A290,eligibilité!$A$15:$AG$515,30,FALSE)=0,\"\",VLOOKUP(A290,eligibilité!$A$15:$AG$515,30,FALSE)))","v":""},"","","","","","","",1305,"","","","","","","Temps restant : ",""]
[{"$f":"IF(eligibilité!AG293=\"\",\"\",eligibilité!A293)","v":""},{"$f":"IF(A291=\"\",\"\",IF(VLOOKUP(A291,eligibilité!$A$15:$J$515,2,TRUE)=\"\",\"\",VLOOKUP(A291,eligibilité!$A$15:$J$515,2,TRUE)))","v":""},{"$f":"IF(A291=\"\",\"\",IF(VLOOKUP(A291,eligibilité!$A$15:$AG$515,3,TRUE)=\"\",\"\",VLOOKUP(A291,eligibilité!$A$15:$AG$515,3,TRUE)))","v":""},{"$f":"IF(A291=\"\",\"\",IF(VLOOKUP(A291,eligibilité!$A$15:$AG$515,4,TRUE)=\"\",\"\",VLOOKUP(A291,eligibilité!$A$15:$AG$515,4,TRUE)))","v":""},{"$f":"IF(A291=\"\",\"\",IF(VLOOKUP(A291,eligibilité!$A$15:$AG$515,5,TRUE)=\"\",\"\",VLOOKUP(A291,eligibilité!$A$15:$AG$515,5,TRUE)))","v":""},{"$f":"IF(A291=\"\",\"\",IF(VLOOKUP(A291,eligibilité!$A$15:$AG$515,6,TRUE)=\"\",\"\",VLOOKUP(A291,eligibilité!$A$15:$AG$515,6,TRUE)))","v":""},{"$f":"IF(A291=\"\",\"\",IF(VLOOKUP(A291,eligibilité!$A$15:$AG$515,7,TRUE)=\"\",\"\",VLOOKUP(A291,eligibilité!$A$15:$AG$515,7,TRUE)))","v":""},{"$f":"IF(A291=\"\",\"\",IF(VLOOKUP(A291,eligibilité!$A$15:$AG$515,8,TRUE)=\"\",\"\",VLOOKUP(A291,eligibilité!$A$15:$AG$515,8,TRUE)))","v":""},{"$f":"IF(A291=\"\",\"\",IF(VLOOKUP(A291,eligibilité!$A$15:$AG$515,9,TRUE)=\"\",\"\",VLOOKUP(A291,eligibilité!$A$15:$AG$515,9,TRUE)))","v":""},{"$f":"IF(A291=\"\",\"\",IF(VLOOKUP(A291,eligibilité!$A$15:$AG$515,10,TRUE)=\"\",\"\",VLOOKUP(A291,eligibilité!$A$15:$AG$515,10,TRUE)))","v":""},{"$f":"IF(A291=\"\",\"\",IF(VLOOKUP(A291,eligibilité!$A$15:$AG$515,30,FALSE)=0,\"\",VLOOKUP(A291,eligibilité!$A$15:$AG$515,30,FALSE)))","v":""},"","","","","","","",1305,"","","","","","","Temps restant : ",""]
[{"$f":"IF(eligibilité!AG294=\"\",\"\",eligibilité!A294)","v":""},{"$f":"IF(A292=\"\",\"\",IF(VLOOKUP(A292,eligibilité!$A$15:$J$515,2,TRUE)=\"\",\"\",VLOOKUP(A292,eligibilité!$A$15:$J$515,2,TRUE)))","v":""},{"$f":"IF(A292=\"\",\"\",IF(VLOOKUP(A292,eligibilité!$A$15:$AG$515,3,TRUE)=\"\",\"\",VLOOKUP(A292,eligibilité!$A$15:$AG$515,3,TRUE)))","v":""},{"$f":"IF(A292=\"\",\"\",IF(VLOOKUP(A292,eligibilité!$A$15:$AG$515,4,TRUE)=\"\",\"\",VLOOKUP(A292,eligibilité!$A$15:$AG$515,4,TRUE)))","v":""},{"$f":"IF(A292=\"\",\"\",IF(VLOOKUP(A292,eligibilité!$A$15:$AG$515,5,TRUE)=\"\",\"\",VLOOKUP(A292,eligibilité!$A$15:$AG$515,5,TRUE)))","v":""},{"$f":"IF(A292=\"\",\"\",IF(VLOOKUP(A292,eligibilité!$A$15:$AG$515,6,TRUE)=\"\",\"\",VLOOKUP(A292,eligibilité!$A$15:$AG$515,6,TRUE)))","v":""},{"$f":"IF(A292=\"\",\"\",IF(VLOOKUP(A292,eligibilité!$A$15:$AG$515,7,TRUE)=\"\",\"\",VLOOKUP(A292,eligibilité!$A$15:$AG$515,7,TRUE)))","v":""},{"$f":"IF(A292=\"\",\"\",IF(VLOOKUP(A292,eligibilité!$A$15:$AG$515,8,TRUE)=\"\",\"\",VLOOKUP(A292,eligibilité!$A$15:$AG$515,8,TRUE)))","v":""},{"$f":"IF(A292=\"\",\"\",IF(VLOOKUP(A292,eligibilité!$A$15:$AG$515,9,TRUE)=\"\",\"\",VLOOKUP(A292,eligibilité!$A$15:$AG$515,9,TRUE)))","v":""},{"$f":"IF(A292=\"\",\"\",IF(VLOOKUP(A292,eligibilité!$A$15:$AG$515,10,TRUE)=\"\",\"\",VLOOKUP(A292,eligibilité!$A$15:$AG$515,10,TRUE)))","v":""},{"$f":"IF(A292=\"\",\"\",IF(VLOOKUP(A292,eligibilité!$A$15:$AG$515,30,FALSE)=0,\"\",VLOOKUP(A292,eligibilité!$A$15:$AG$515,30,FALSE)))","v":""},"","","","","","","",1305,"","","","","","","Temps restant : ",""]
[{"$f":"IF(eligibilité!AG295=\"\",\"\",eligibilité!A295)","v":""},{"$f":"IF(A293=\"\",\"\",IF(VLOOKUP(A293,eligibilité!$A$15:$J$515,2,TRUE)=\"\",\"\",VLOOKUP(A293,eligibilité!$A$15:$J$515,2,TRUE)))","v":""},{"$f":"IF(A293=\"\",\"\",IF(VLOOKUP(A293,eligibilité!$A$15:$AG$515,3,TRUE)=\"\",\"\",VLOOKUP(A293,eligibilité!$A$15:$AG$515,3,TRUE)))","v":""},{"$f":"IF(A293=\"\",\"\",IF(VLOOKUP(A293,eligibilité!$A$15:$AG$515,4,TRUE)=\"\",\"\",VLOOKUP(A293,eligibilité!$A$15:$AG$515,4,TRUE)))","v":""},{"$f":"IF(A293=\"\",\"\",IF(VLOOKUP(A293,eligibilité!$A$15:$AG$515,5,TRUE)=\"\",\"\",VLOOKUP(A293,eligibilité!$A$15:$AG$515,5,TRUE)))","v":""},{"$f":"IF(A293=\"\",\"\",IF(VLOOKUP(A293,eligibilité!$A$15:$AG$515,6,TRUE)=\"\",\"\",VLOOKUP(A293,eligibilité!$A$15:$AG$515,6,TRUE)))","v":""},{"$f":"IF(A293=\"\",\"\",IF(VLOOKUP(A293,eligibilité!$A$15:$AG$515,7,TRUE)=\"\",\"\",VLOOKUP(A293,eligibilité!$A$15:$AG$515,7,TRUE)))","v":""},{"$f":"IF(A293=\"\",\"\",IF(VLOOKUP(A293,eligibilité!$A$15:$AG$515,8,TRUE)=\"\",\"\",VLOOKUP(A293,eligibilité!$A$15:$AG$515,8,TRUE)))","v":""},{"$f":"IF(A293=\"\",\"\",IF(VLOOKUP(A293,eligibilité!$A$15:$AG$515,9,TRUE)=\"\",\"\",VLOOKUP(A293,eligibilité!$A$15:$AG$515,9,TRUE)))","v":""},{"$f":"IF(A293=\"\",\"\",IF(VLOOKUP(A293,eligibilité!$A$15:$AG$515,10,TRUE)=\"\",\"\",VLOOKUP(A293,eligibilité!$A$15:$AG$515,10,TRUE)))","v":""},{"$f":"IF(A293=\"\",\"\",IF(VLOOKUP(A293,eligibilité!$A$15:$AG$515,30,FALSE)=0,\"\",VLOOKUP(A293,eligibilité!$A$15:$AG$515,30,FALSE)))","v":""},"","","","","","","",1305,"","","","","","","Temps restant : ",""]
[{"$f":"IF(eligibilité!AG296=\"\",\"\",eligibilité!A296)","v":""},{"$f":"IF(A294=\"\",\"\",IF(VLOOKUP(A294,eligibilité!$A$15:$J$515,2,TRUE)=\"\",\"\",VLOOKUP(A294,eligibilité!$A$15:$J$515,2,TRUE)))","v":""},{"$f":"IF(A294=\"\",\"\",IF(VLOOKUP(A294,eligibilité!$A$15:$AG$515,3,TRUE)=\"\",\"\",VLOOKUP(A294,eligibilité!$A$15:$AG$515,3,TRUE)))","v":""},{"$f":"IF(A294=\"\",\"\",IF(VLOOKUP(A294,eligibilité!$A$15:$AG$515,4,TRUE)=\"\",\"\",VLOOKUP(A294,eligibilité!$A$15:$AG$515,4,TRUE)))","v":""},{"$f":"IF(A294=\"\",\"\",IF(VLOOKUP(A294,eligibilité!$A$15:$AG$515,5,TRUE)=\"\",\"\",VLOOKUP(A294,eligibilité!$A$15:$AG$515,5,TRUE)))","v":""},{"$f":"IF(A294=\"\",\"\",IF(VLOOKUP(A294,eligibilité!$A$15:$AG$515,6,TRUE)=\"\",\"\",VLOOKUP(A294,eligibilité!$A$15:$AG$515,6,TRUE)))","v":""},{"$f":"IF(A294=\"\",\"\",IF(VLOOKUP(A294,eligibilité!$A$15:$AG$515,7,TRUE)=\"\",\"\",VLOOKUP(A294,eligibilité!$A$15:$AG$515,7,TRUE)))","v":""},{"$f":"IF(A294=\"\",\"\",IF(VLOOKUP(A294,eligibilité!$A$15:$AG$515,8,TRUE)=\"\",\"\",VLOOKUP(A294,eligibilité!$A$15:$AG$515,8,TRUE)))","v":""},{"$f":"IF(A294=\"\",\"\",IF(VLOOKUP(A294,eligibilité!$A$15:$AG$515,9,TRUE)=\"\",\"\",VLOOKUP(A294,eligibilité!$A$15:$AG$515,9,TRUE)))","v":""},{"$f":"IF(A294=\"\",\"\",IF(VLOOKUP(A294,eligibilité!$A$15:$AG$515,10,TRUE)=\"\",\"\",VLOOKUP(A294,eligibilité!$A$15:$AG$515,10,TRUE)))","v":""},{"$f":"IF(A294=\"\",\"\",IF(VLOOKUP(A294,eligibilité!$A$15:$AG$515,30,FALSE)=0,\"\",VLOOKUP(A294,eligibilité!$A$15:$AG$515,30,FALSE)))","v":""},"","","","","","","",1305,"","","","","","","Temps restant : ",""]
[{"$f":"IF(eligibilité!AG297=\"\",\"\",eligibilité!A297)","v":""},{"$f":"IF(A295=\"\",\"\",IF(VLOOKUP(A295,eligibilité!$A$15:$J$515,2,TRUE)=\"\",\"\",VLOOKUP(A295,eligibilité!$A$15:$J$515,2,TRUE)))","v":""},{"$f":"IF(A295=\"\",\"\",IF(VLOOKUP(A295,eligibilité!$A$15:$AG$515,3,TRUE)=\"\",\"\",VLOOKUP(A295,eligibilité!$A$15:$AG$515,3,TRUE)))","v":""},{"$f":"IF(A295=\"\",\"\",IF(VLOOKUP(A295,eligibilité!$A$15:$AG$515,4,TRUE)=\"\",\"\",VLOOKUP(A295,eligibilité!$A$15:$AG$515,4,TRUE)))","v":""},{"$f":"IF(A295=\"\",\"\",IF(VLOOKUP(A295,eligibilité!$A$15:$AG$515,5,TRUE)=\"\",\"\",VLOOKUP(A295,eligibilité!$A$15:$AG$515,5,TRUE)))","v":""},{"$f":"IF(A295=\"\",\"\",IF(VLOOKUP(A295,eligibilité!$A$15:$AG$515,6,TRUE)=\"\",\"\",VLOOKUP(A295,eligibilité!$A$15:$AG$515,6,TRUE)))","v":""},{"$f":"IF(A295=\"\",\"\",IF(VLOOKUP(A295,eligibilité!$A$15:$AG$515,7,TRUE)=\"\",\"\",VLOOKUP(A295,eligibilité!$A$15:$AG$515,7,TRUE)))","v":""},{"$f":"IF(A295=\"\",\"\",IF(VLOOKUP(A295,eligibilité!$A$15:$AG$515,8,TRUE)=\"\",\"\",VLOOKUP(A295,eligibilité!$A$15:$AG$515,8,TRUE)))","v":""},{"$f":"IF(A295=\"\",\"\",IF(VLOOKUP(A295,eligibilité!$A$15:$AG$515,9,TRUE)=\"\",\"\",VLOOKUP(A295,eligibilité!$A$15:$AG$515,9,TRUE)))","v":""},{"$f":"IF(A295=\"\",\"\",IF(VLOOKUP(A295,eligibilité!$A$15:$AG$515,10,TRUE)=\"\",\"\",VLOOKUP(A295,eligibilité!$A$15:$AG$515,10,TRUE)))","v":""},{"$f":"IF(A295=\"\",\"\",IF(VLOOKUP(A295,eligibilité!$A$15:$AG$515,30,FALSE)=0,\"\",VLOOKUP(A295,eligibilité!$A$15:$AG$515,30,FALSE)))","v":""},"","","","","","","",1305,"","","","","","","Temps restant : ",""]
[{"$f":"IF(eligibilité!AG298=\"\",\"\",eligibilité!A298)","v":""},{"$f":"IF(A296=\"\",\"\",IF(VLOOKUP(A296,eligibilité!$A$15:$J$515,2,TRUE)=\"\",\"\",VLOOKUP(A296,eligibilité!$A$15:$J$515,2,TRUE)))","v":""},{"$f":"IF(A296=\"\",\"\",IF(VLOOKUP(A296,eligibilité!$A$15:$AG$515,3,TRUE)=\"\",\"\",VLOOKUP(A296,eligibilité!$A$15:$AG$515,3,TRUE)))","v":""},{"$f":"IF(A296=\"\",\"\",IF(VLOOKUP(A296,eligibilité!$A$15:$AG$515,4,TRUE)=\"\",\"\",VLOOKUP(A296,eligibilité!$A$15:$AG$515,4,TRUE)))","v":""},{"$f":"IF(A296=\"\",\"\",IF(VLOOKUP(A296,eligibilité!$A$15:$AG$515,5,TRUE)=\"\",\"\",VLOOKUP(A296,eligibilité!$A$15:$AG$515,5,TRUE)))","v":""},{"$f":"IF(A296=\"\",\"\",IF(VLOOKUP(A296,eligibilité!$A$15:$AG$515,6,TRUE)=\"\",\"\",VLOOKUP(A296,eligibilité!$A$15:$AG$515,6,TRUE)))","v":""},{"$f":"IF(A296=\"\",\"\",IF(VLOOKUP(A296,eligibilité!$A$15:$AG$515,7,TRUE)=\"\",\"\",VLOOKUP(A296,eligibilité!$A$15:$AG$515,7,TRUE)))","v":""},{"$f":"IF(A296=\"\",\"\",IF(VLOOKUP(A296,eligibilité!$A$15:$AG$515,8,TRUE)=\"\",\"\",VLOOKUP(A296,eligibilité!$A$15:$AG$515,8,TRUE)))","v":""},{"$f":"IF(A296=\"\",\"\",IF(VLOOKUP(A296,eligibilité!$A$15:$AG$515,9,TRUE)=\"\",\"\",VLOOKUP(A296,eligibilité!$A$15:$AG$515,9,TRUE)))","v":""},{"$f":"IF(A296=\"\",\"\",IF(VLOOKUP(A296,eligibilité!$A$15:$AG$515,10,TRUE)=\"\",\"\",VLOOKUP(A296,eligibilité!$A$15:$AG$515,10,TRUE)))","v":""},{"$f":"IF(A296=\"\",\"\",IF(VLOOKUP(A296,eligibilité!$A$15:$AG$515,30,FALSE)=0,\"\",VLOOKUP(A296,eligibilité!$A$15:$AG$515,30,FALSE)))","v":""},"","","","","","","",1305,"","","","","","","Temps restant : ",""]
[{"$f":"IF(eligibilité!AG299=\"\",\"\",eligibilité!A299)","v":""},{"$f":"IF(A297=\"\",\"\",IF(VLOOKUP(A297,eligibilité!$A$15:$J$515,2,TRUE)=\"\",\"\",VLOOKUP(A297,eligibilité!$A$15:$J$515,2,TRUE)))","v":""},{"$f":"IF(A297=\"\",\"\",IF(VLOOKUP(A297,eligibilité!$A$15:$AG$515,3,TRUE)=\"\",\"\",VLOOKUP(A297,eligibilité!$A$15:$AG$515,3,TRUE)))","v":""},{"$f":"IF(A297=\"\",\"\",IF(VLOOKUP(A297,eligibilité!$A$15:$AG$515,4,TRUE)=\"\",\"\",VLOOKUP(A297,eligibilité!$A$15:$AG$515,4,TRUE)))","v":""},{"$f":"IF(A297=\"\",\"\",IF(VLOOKUP(A297,eligibilité!$A$15:$AG$515,5,TRUE)=\"\",\"\",VLOOKUP(A297,eligibilité!$A$15:$AG$515,5,TRUE)))","v":""},{"$f":"IF(A297=\"\",\"\",IF(VLOOKUP(A297,eligibilité!$A$15:$AG$515,6,TRUE)=\"\",\"\",VLOOKUP(A297,eligibilité!$A$15:$AG$515,6,TRUE)))","v":""},{"$f":"IF(A297=\"\",\"\",IF(VLOOKUP(A297,eligibilité!$A$15:$AG$515,7,TRUE)=\"\",\"\",VLOOKUP(A297,eligibilité!$A$15:$AG$515,7,TRUE)))","v":""},{"$f":"IF(A297=\"\",\"\",IF(VLOOKUP(A297,eligibilité!$A$15:$AG$515,8,TRUE)=\"\",\"\",VLOOKUP(A297,eligibilité!$A$15:$AG$515,8,TRUE)))","v":""},{"$f":"IF(A297=\"\",\"\",IF(VLOOKUP(A297,eligibilité!$A$15:$AG$515,9,TRUE)=\"\",\"\",VLOOKUP(A297,eligibilité!$A$15:$AG$515,9,TRUE)))","v":""},{"$f":"IF(A297=\"\",\"\",IF(VLOOKUP(A297,eligibilité!$A$15:$AG$515,10,TRUE)=\"\",\"\",VLOOKUP(A297,eligibilité!$A$15:$AG$515,10,TRUE)))","v":""},{"$f":"IF(A297=\"\",\"\",IF(VLOOKUP(A297,eligibilité!$A$15:$AG$515,30,FALSE)=0,\"\",VLOOKUP(A297,eligibilité!$A$15:$AG$515,30,FALSE)))","v":""},"","","","","","","",1305,"","","","","","","Temps restant : ",""]
[{"$f":"IF(eligibilité!AG300=\"\",\"\",eligibilité!A300)","v":""},{"$f":"IF(A298=\"\",\"\",IF(VLOOKUP(A298,eligibilité!$A$15:$J$515,2,TRUE)=\"\",\"\",VLOOKUP(A298,eligibilité!$A$15:$J$515,2,TRUE)))","v":""},{"$f":"IF(A298=\"\",\"\",IF(VLOOKUP(A298,eligibilité!$A$15:$AG$515,3,TRUE)=\"\",\"\",VLOOKUP(A298,eligibilité!$A$15:$AG$515,3,TRUE)))","v":""},{"$f":"IF(A298=\"\",\"\",IF(VLOOKUP(A298,eligibilité!$A$15:$AG$515,4,TRUE)=\"\",\"\",VLOOKUP(A298,eligibilité!$A$15:$AG$515,4,TRUE)))","v":""},{"$f":"IF(A298=\"\",\"\",IF(VLOOKUP(A298,eligibilité!$A$15:$AG$515,5,TRUE)=\"\",\"\",VLOOKUP(A298,eligibilité!$A$15:$AG$515,5,TRUE)))","v":""},{"$f":"IF(A298=\"\",\"\",IF(VLOOKUP(A298,eligibilité!$A$15:$AG$515,6,TRUE)=\"\",\"\",VLOOKUP(A298,eligibilité!$A$15:$AG$515,6,TRUE)))","v":""},{"$f":"IF(A298=\"\",\"\",IF(VLOOKUP(A298,eligibilité!$A$15:$AG$515,7,TRUE)=\"\",\"\",VLOOKUP(A298,eligibilité!$A$15:$AG$515,7,TRUE)))","v":""},{"$f":"IF(A298=\"\",\"\",IF(VLOOKUP(A298,eligibilité!$A$15:$AG$515,8,TRUE)=\"\",\"\",VLOOKUP(A298,eligibilité!$A$15:$AG$515,8,TRUE)))","v":""},{"$f":"IF(A298=\"\",\"\",IF(VLOOKUP(A298,eligibilité!$A$15:$AG$515,9,TRUE)=\"\",\"\",VLOOKUP(A298,eligibilité!$A$15:$AG$515,9,TRUE)))","v":""},{"$f":"IF(A298=\"\",\"\",IF(VLOOKUP(A298,eligibilité!$A$15:$AG$515,10,TRUE)=\"\",\"\",VLOOKUP(A298,eligibilité!$A$15:$AG$515,10,TRUE)))","v":""},{"$f":"IF(A298=\"\",\"\",IF(VLOOKUP(A298,eligibilité!$A$15:$AG$515,30,FALSE)=0,\"\",VLOOKUP(A298,eligibilité!$A$15:$AG$515,30,FALSE)))","v":""},"","","","","","","",1305,"","","","","","","Temps restant : ",""]
[{"$f":"IF(eligibilité!AG301=\"\",\"\",eligibilité!A301)","v":""},{"$f":"IF(A299=\"\",\"\",IF(VLOOKUP(A299,eligibilité!$A$15:$J$515,2,TRUE)=\"\",\"\",VLOOKUP(A299,eligibilité!$A$15:$J$515,2,TRUE)))","v":""},{"$f":"IF(A299=\"\",\"\",IF(VLOOKUP(A299,eligibilité!$A$15:$AG$515,3,TRUE)=\"\",\"\",VLOOKUP(A299,eligibilité!$A$15:$AG$515,3,TRUE)))","v":""},{"$f":"IF(A299=\"\",\"\",IF(VLOOKUP(A299,eligibilité!$A$15:$AG$515,4,TRUE)=\"\",\"\",VLOOKUP(A299,eligibilité!$A$15:$AG$515,4,TRUE)))","v":""},{"$f":"IF(A299=\"\",\"\",IF(VLOOKUP(A299,eligibilité!$A$15:$AG$515,5,TRUE)=\"\",\"\",VLOOKUP(A299,eligibilité!$A$15:$AG$515,5,TRUE)))","v":""},{"$f":"IF(A299=\"\",\"\",IF(VLOOKUP(A299,eligibilité!$A$15:$AG$515,6,TRUE)=\"\",\"\",VLOOKUP(A299,eligibilité!$A$15:$AG$515,6,TRUE)))","v":""},{"$f":"IF(A299=\"\",\"\",IF(VLOOKUP(A299,eligibilité!$A$15:$AG$515,7,TRUE)=\"\",\"\",VLOOKUP(A299,eligibilité!$A$15:$AG$515,7,TRUE)))","v":""},{"$f":"IF(A299=\"\",\"\",IF(VLOOKUP(A299,eligibilité!$A$15:$AG$515,8,TRUE)=\"\",\"\",VLOOKUP(A299,eligibilité!$A$15:$AG$515,8,TRUE)))","v":""},{"$f":"IF(A299=\"\",\"\",IF(VLOOKUP(A299,eligibilité!$A$15:$AG$515,9,TRUE)=\"\",\"\",VLOOKUP(A299,eligibilité!$A$15:$AG$515,9,TRUE)))","v":""},{"$f":"IF(A299=\"\",\"\",IF(VLOOKUP(A299,eligibilité!$A$15:$AG$515,10,TRUE)=\"\",\"\",VLOOKUP(A299,eligibilité!$A$15:$AG$515,10,TRUE)))","v":""},{"$f":"IF(A299=\"\",\"\",IF(VLOOKUP(A299,eligibilité!$A$15:$AG$515,30,FALSE)=0,\"\",VLOOKUP(A299,eligibilité!$A$15:$AG$515,30,FALSE)))","v":""},"","","","","","","",1305,"","","","","","","Temps restant : ",""]
[{"$f":"IF(eligibilité!AG302=\"\",\"\",eligibilité!A302)","v":""},{"$f":"IF(A300=\"\",\"\",IF(VLOOKUP(A300,eligibilité!$A$15:$J$515,2,TRUE)=\"\",\"\",VLOOKUP(A300,eligibilité!$A$15:$J$515,2,TRUE)))","v":""},{"$f":"IF(A300=\"\",\"\",IF(VLOOKUP(A300,eligibilité!$A$15:$AG$515,3,TRUE)=\"\",\"\",VLOOKUP(A300,eligibilité!$A$15:$AG$515,3,TRUE)))","v":""},{"$f":"IF(A300=\"\",\"\",IF(VLOOKUP(A300,eligibilité!$A$15:$AG$515,4,TRUE)=\"\",\"\",VLOOKUP(A300,eligibilité!$A$15:$AG$515,4,TRUE)))","v":""},{"$f":"IF(A300=\"\",\"\",IF(VLOOKUP(A300,eligibilité!$A$15:$AG$515,5,TRUE)=\"\",\"\",VLOOKUP(A300,eligibilité!$A$15:$AG$515,5,TRUE)))","v":""},{"$f":"IF(A300=\"\",\"\",IF(VLOOKUP(A300,eligibilité!$A$15:$AG$515,6,TRUE)=\"\",\"\",VLOOKUP(A300,eligibilité!$A$15:$AG$515,6,TRUE)))","v":""},{"$f":"IF(A300=\"\",\"\",IF(VLOOKUP(A300,eligibilité!$A$15:$AG$515,7,TRUE)=\"\",\"\",VLOOKUP(A300,eligibilité!$A$15:$AG$515,7,TRUE)))","v":""},{"$f":"IF(A300=\"\",\"\",IF(VLOOKUP(A300,eligibilité!$A$15:$AG$515,8,TRUE)=\"\",\"\",VLOOKUP(A300,eligibilité!$A$15:$AG$515,8,TRUE)))","v":""},{"$f":"IF(A300=\"\",\"\",IF(VLOOKUP(A300,eligibilité!$A$15:$AG$515,9,TRUE)=\"\",\"\",VLOOKUP(A300,eligibilité!$A$15:$AG$515,9,TRUE)))","v":""},{"$f":"IF(A300=\"\",\"\",IF(VLOOKUP(A300,eligibilité!$A$15:$AG$515,10,TRUE)=\"\",\"\",VLOOKUP(A300,eligibilité!$A$15:$AG$515,10,TRUE)))","v":""},{"$f":"IF(A300=\"\",\"\",IF(VLOOKUP(A300,eligibilité!$A$15:$AG$515,30,FALSE)=0,\"\",VLOOKUP(A300,eligibilité!$A$15:$AG$515,30,FALSE)))","v":""},"","","","","","","",1305,"","","","","","","Temps restant : ",""]
[{"$f":"IF(eligibilité!AG303=\"\",\"\",eligibilité!A303)","v":""},{"$f":"IF(A301=\"\",\"\",IF(VLOOKUP(A301,eligibilité!$A$15:$J$515,2,TRUE)=\"\",\"\",VLOOKUP(A301,eligibilité!$A$15:$J$515,2,TRUE)))","v":""},{"$f":"IF(A301=\"\",\"\",IF(VLOOKUP(A301,eligibilité!$A$15:$AG$515,3,TRUE)=\"\",\"\",VLOOKUP(A301,eligibilité!$A$15:$AG$515,3,TRUE)))","v":""},{"$f":"IF(A301=\"\",\"\",IF(VLOOKUP(A301,eligibilité!$A$15:$AG$515,4,TRUE)=\"\",\"\",VLOOKUP(A301,eligibilité!$A$15:$AG$515,4,TRUE)))","v":""},{"$f":"IF(A301=\"\",\"\",IF(VLOOKUP(A301,eligibilité!$A$15:$AG$515,5,TRUE)=\"\",\"\",VLOOKUP(A301,eligibilité!$A$15:$AG$515,5,TRUE)))","v":""},{"$f":"IF(A301=\"\",\"\",IF(VLOOKUP(A301,eligibilité!$A$15:$AG$515,6,TRUE)=\"\",\"\",VLOOKUP(A301,eligibilité!$A$15:$AG$515,6,TRUE)))","v":""},{"$f":"IF(A301=\"\",\"\",IF(VLOOKUP(A301,eligibilité!$A$15:$AG$515,7,TRUE)=\"\",\"\",VLOOKUP(A301,eligibilité!$A$15:$AG$515,7,TRUE)))","v":""},{"$f":"IF(A301=\"\",\"\",IF(VLOOKUP(A301,eligibilité!$A$15:$AG$515,8,TRUE)=\"\",\"\",VLOOKUP(A301,eligibilité!$A$15:$AG$515,8,TRUE)))","v":""},{"$f":"IF(A301=\"\",\"\",IF(VLOOKUP(A301,eligibilité!$A$15:$AG$515,9,TRUE)=\"\",\"\",VLOOKUP(A301,eligibilité!$A$15:$AG$515,9,TRUE)))","v":""},{"$f":"IF(A301=\"\",\"\",IF(VLOOKUP(A301,eligibilité!$A$15:$AG$515,10,TRUE)=\"\",\"\",VLOOKUP(A301,eligibilité!$A$15:$AG$515,10,TRUE)))","v":""},{"$f":"IF(A301=\"\",\"\",IF(VLOOKUP(A301,eligibilité!$A$15:$AG$515,30,FALSE)=0,\"\",VLOOKUP(A301,eligibilité!$A$15:$AG$515,30,FALSE)))","v":""},"","","","","","","",1305,"","","","","","","Temps restant : ",""]
[{"$f":"IF(eligibilité!AG304=\"\",\"\",eligibilité!A304)","v":""},{"$f":"IF(A302=\"\",\"\",IF(VLOOKUP(A302,eligibilité!$A$15:$J$515,2,TRUE)=\"\",\"\",VLOOKUP(A302,eligibilité!$A$15:$J$515,2,TRUE)))","v":""},{"$f":"IF(A302=\"\",\"\",IF(VLOOKUP(A302,eligibilité!$A$15:$AG$515,3,TRUE)=\"\",\"\",VLOOKUP(A302,eligibilité!$A$15:$AG$515,3,TRUE)))","v":""},{"$f":"IF(A302=\"\",\"\",IF(VLOOKUP(A302,eligibilité!$A$15:$AG$515,4,TRUE)=\"\",\"\",VLOOKUP(A302,eligibilité!$A$15:$AG$515,4,TRUE)))","v":""},{"$f":"IF(A302=\"\",\"\",IF(VLOOKUP(A302,eligibilité!$A$15:$AG$515,5,TRUE)=\"\",\"\",VLOOKUP(A302,eligibilité!$A$15:$AG$515,5,TRUE)))","v":""},{"$f":"IF(A302=\"\",\"\",IF(VLOOKUP(A302,eligibilité!$A$15:$AG$515,6,TRUE)=\"\",\"\",VLOOKUP(A302,eligibilité!$A$15:$AG$515,6,TRUE)))","v":""},{"$f":"IF(A302=\"\",\"\",IF(VLOOKUP(A302,eligibilité!$A$15:$AG$515,7,TRUE)=\"\",\"\",VLOOKUP(A302,eligibilité!$A$15:$AG$515,7,TRUE)))","v":""},{"$f":"IF(A302=\"\",\"\",IF(VLOOKUP(A302,eligibilité!$A$15:$AG$515,8,TRUE)=\"\",\"\",VLOOKUP(A302,eligibilité!$A$15:$AG$515,8,TRUE)))","v":""},{"$f":"IF(A302=\"\",\"\",IF(VLOOKUP(A302,eligibilité!$A$15:$AG$515,9,TRUE)=\"\",\"\",VLOOKUP(A302,eligibilité!$A$15:$AG$515,9,TRUE)))","v":""},{"$f":"IF(A302=\"\",\"\",IF(VLOOKUP(A302,eligibilité!$A$15:$AG$515,10,TRUE)=\"\",\"\",VLOOKUP(A302,eligibilité!$A$15:$AG$515,10,TRUE)))","v":""},{"$f":"IF(A302=\"\",\"\",IF(VLOOKUP(A302,eligibilité!$A$15:$AG$515,30,FALSE)=0,\"\",VLOOKUP(A302,eligibilité!$A$15:$AG$515,30,FALSE)))","v":""},"","","","","","","",1305,"","","","","","","Temps restant : ",""]
[{"$f":"IF(eligibilité!AG305=\"\",\"\",eligibilité!A305)","v":""},{"$f":"IF(A303=\"\",\"\",IF(VLOOKUP(A303,eligibilité!$A$15:$J$515,2,TRUE)=\"\",\"\",VLOOKUP(A303,eligibilité!$A$15:$J$515,2,TRUE)))","v":""},{"$f":"IF(A303=\"\",\"\",IF(VLOOKUP(A303,eligibilité!$A$15:$AG$515,3,TRUE)=\"\",\"\",VLOOKUP(A303,eligibilité!$A$15:$AG$515,3,TRUE)))","v":""},{"$f":"IF(A303=\"\",\"\",IF(VLOOKUP(A303,eligibilité!$A$15:$AG$515,4,TRUE)=\"\",\"\",VLOOKUP(A303,eligibilité!$A$15:$AG$515,4,TRUE)))","v":""},{"$f":"IF(A303=\"\",\"\",IF(VLOOKUP(A303,eligibilité!$A$15:$AG$515,5,TRUE)=\"\",\"\",VLOOKUP(A303,eligibilité!$A$15:$AG$515,5,TRUE)))","v":""},{"$f":"IF(A303=\"\",\"\",IF(VLOOKUP(A303,eligibilité!$A$15:$AG$515,6,TRUE)=\"\",\"\",VLOOKUP(A303,eligibilité!$A$15:$AG$515,6,TRUE)))","v":""},{"$f":"IF(A303=\"\",\"\",IF(VLOOKUP(A303,eligibilité!$A$15:$AG$515,7,TRUE)=\"\",\"\",VLOOKUP(A303,eligibilité!$A$15:$AG$515,7,TRUE)))","v":""},{"$f":"IF(A303=\"\",\"\",IF(VLOOKUP(A303,eligibilité!$A$15:$AG$515,8,TRUE)=\"\",\"\",VLOOKUP(A303,eligibilité!$A$15:$AG$515,8,TRUE)))","v":""},{"$f":"IF(A303=\"\",\"\",IF(VLOOKUP(A303,eligibilité!$A$15:$AG$515,9,TRUE)=\"\",\"\",VLOOKUP(A303,eligibilité!$A$15:$AG$515,9,TRUE)))","v":""},{"$f":"IF(A303=\"\",\"\",IF(VLOOKUP(A303,eligibilité!$A$15:$AG$515,10,TRUE)=\"\",\"\",VLOOKUP(A303,eligibilité!$A$15:$AG$515,10,TRUE)))","v":""},{"$f":"IF(A303=\"\",\"\",IF(VLOOKUP(A303,eligibilité!$A$15:$AG$515,30,FALSE)=0,\"\",VLOOKUP(A303,eligibilité!$A$15:$AG$515,30,FALSE)))","v":""},"","","","","","","",1305,"","","","","","","Temps restant : ",""]
[{"$f":"IF(eligibilité!AG306=\"\",\"\",eligibilité!A306)","v":""},{"$f":"IF(A304=\"\",\"\",IF(VLOOKUP(A304,eligibilité!$A$15:$J$515,2,TRUE)=\"\",\"\",VLOOKUP(A304,eligibilité!$A$15:$J$515,2,TRUE)))","v":""},{"$f":"IF(A304=\"\",\"\",IF(VLOOKUP(A304,eligibilité!$A$15:$AG$515,3,TRUE)=\"\",\"\",VLOOKUP(A304,eligibilité!$A$15:$AG$515,3,TRUE)))","v":""},{"$f":"IF(A304=\"\",\"\",IF(VLOOKUP(A304,eligibilité!$A$15:$AG$515,4,TRUE)=\"\",\"\",VLOOKUP(A304,eligibilité!$A$15:$AG$515,4,TRUE)))","v":""},{"$f":"IF(A304=\"\",\"\",IF(VLOOKUP(A304,eligibilité!$A$15:$AG$515,5,TRUE)=\"\",\"\",VLOOKUP(A304,eligibilité!$A$15:$AG$515,5,TRUE)))","v":""},{"$f":"IF(A304=\"\",\"\",IF(VLOOKUP(A304,eligibilité!$A$15:$AG$515,6,TRUE)=\"\",\"\",VLOOKUP(A304,eligibilité!$A$15:$AG$515,6,TRUE)))","v":""},{"$f":"IF(A304=\"\",\"\",IF(VLOOKUP(A304,eligibilité!$A$15:$AG$515,7,TRUE)=\"\",\"\",VLOOKUP(A304,eligibilité!$A$15:$AG$515,7,TRUE)))","v":""},{"$f":"IF(A304=\"\",\"\",IF(VLOOKUP(A304,eligibilité!$A$15:$AG$515,8,TRUE)=\"\",\"\",VLOOKUP(A304,eligibilité!$A$15:$AG$515,8,TRUE)))","v":""},{"$f":"IF(A304=\"\",\"\",IF(VLOOKUP(A304,eligibilité!$A$15:$AG$515,9,TRUE)=\"\",\"\",VLOOKUP(A304,eligibilité!$A$15:$AG$515,9,TRUE)))","v":""},{"$f":"IF(A304=\"\",\"\",IF(VLOOKUP(A304,eligibilité!$A$15:$AG$515,10,TRUE)=\"\",\"\",VLOOKUP(A304,eligibilité!$A$15:$AG$515,10,TRUE)))","v":""},{"$f":"IF(A304=\"\",\"\",IF(VLOOKUP(A304,eligibilité!$A$15:$AG$515,30,FALSE)=0,\"\",VLOOKUP(A304,eligibilité!$A$15:$AG$515,30,FALSE)))","v":""},"","","","","","","",1305,"","","","","","","Temps restant : ",""]
[{"$f":"IF(eligibilité!AG307=\"\",\"\",eligibilité!A307)","v":""},{"$f":"IF(A305=\"\",\"\",IF(VLOOKUP(A305,eligibilité!$A$15:$J$515,2,TRUE)=\"\",\"\",VLOOKUP(A305,eligibilité!$A$15:$J$515,2,TRUE)))","v":""},{"$f":"IF(A305=\"\",\"\",IF(VLOOKUP(A305,eligibilité!$A$15:$AG$515,3,TRUE)=\"\",\"\",VLOOKUP(A305,eligibilité!$A$15:$AG$515,3,TRUE)))","v":""},{"$f":"IF(A305=\"\",\"\",IF(VLOOKUP(A305,eligibilité!$A$15:$AG$515,4,TRUE)=\"\",\"\",VLOOKUP(A305,eligibilité!$A$15:$AG$515,4,TRUE)))","v":""},{"$f":"IF(A305=\"\",\"\",IF(VLOOKUP(A305,eligibilité!$A$15:$AG$515,5,TRUE)=\"\",\"\",VLOOKUP(A305,eligibilité!$A$15:$AG$515,5,TRUE)))","v":""},{"$f":"IF(A305=\"\",\"\",IF(VLOOKUP(A305,eligibilité!$A$15:$AG$515,6,TRUE)=\"\",\"\",VLOOKUP(A305,eligibilité!$A$15:$AG$515,6,TRUE)))","v":""},{"$f":"IF(A305=\"\",\"\",IF(VLOOKUP(A305,eligibilité!$A$15:$AG$515,7,TRUE)=\"\",\"\",VLOOKUP(A305,eligibilité!$A$15:$AG$515,7,TRUE)))","v":""},{"$f":"IF(A305=\"\",\"\",IF(VLOOKUP(A305,eligibilité!$A$15:$AG$515,8,TRUE)=\"\",\"\",VLOOKUP(A305,eligibilité!$A$15:$AG$515,8,TRUE)))","v":""},{"$f":"IF(A305=\"\",\"\",IF(VLOOKUP(A305,eligibilité!$A$15:$AG$515,9,TRUE)=\"\",\"\",VLOOKUP(A305,eligibilité!$A$15:$AG$515,9,TRUE)))","v":""},{"$f":"IF(A305=\"\",\"\",IF(VLOOKUP(A305,eligibilité!$A$15:$AG$515,10,TRUE)=\"\",\"\",VLOOKUP(A305,eligibilité!$A$15:$AG$515,10,TRUE)))","v":""},{"$f":"IF(A305=\"\",\"\",IF(VLOOKUP(A305,eligibilité!$A$15:$AG$515,30,FALSE)=0,\"\",VLOOKUP(A305,eligibilité!$A$15:$AG$515,30,FALSE)))","v":""},"","","","","","","",1305,"","","","","","","Temps restant : ",""]
[{"$f":"IF(eligibilité!AG308=\"\",\"\",eligibilité!A308)","v":""},{"$f":"IF(A306=\"\",\"\",IF(VLOOKUP(A306,eligibilité!$A$15:$J$515,2,TRUE)=\"\",\"\",VLOOKUP(A306,eligibilité!$A$15:$J$515,2,TRUE)))","v":""},{"$f":"IF(A306=\"\",\"\",IF(VLOOKUP(A306,eligibilité!$A$15:$AG$515,3,TRUE)=\"\",\"\",VLOOKUP(A306,eligibilité!$A$15:$AG$515,3,TRUE)))","v":""},{"$f":"IF(A306=\"\",\"\",IF(VLOOKUP(A306,eligibilité!$A$15:$AG$515,4,TRUE)=\"\",\"\",VLOOKUP(A306,eligibilité!$A$15:$AG$515,4,TRUE)))","v":""},{"$f":"IF(A306=\"\",\"\",IF(VLOOKUP(A306,eligibilité!$A$15:$AG$515,5,TRUE)=\"\",\"\",VLOOKUP(A306,eligibilité!$A$15:$AG$515,5,TRUE)))","v":""},{"$f":"IF(A306=\"\",\"\",IF(VLOOKUP(A306,eligibilité!$A$15:$AG$515,6,TRUE)=\"\",\"\",VLOOKUP(A306,eligibilité!$A$15:$AG$515,6,TRUE)))","v":""},{"$f":"IF(A306=\"\",\"\",IF(VLOOKUP(A306,eligibilité!$A$15:$AG$515,7,TRUE)=\"\",\"\",VLOOKUP(A306,eligibilité!$A$15:$AG$515,7,TRUE)))","v":""},{"$f":"IF(A306=\"\",\"\",IF(VLOOKUP(A306,eligibilité!$A$15:$AG$515,8,TRUE)=\"\",\"\",VLOOKUP(A306,eligibilité!$A$15:$AG$515,8,TRUE)))","v":""},{"$f":"IF(A306=\"\",\"\",IF(VLOOKUP(A306,eligibilité!$A$15:$AG$515,9,TRUE)=\"\",\"\",VLOOKUP(A306,eligibilité!$A$15:$AG$515,9,TRUE)))","v":""},{"$f":"IF(A306=\"\",\"\",IF(VLOOKUP(A306,eligibilité!$A$15:$AG$515,10,TRUE)=\"\",\"\",VLOOKUP(A306,eligibilité!$A$15:$AG$515,10,TRUE)))","v":""},{"$f":"IF(A306=\"\",\"\",IF(VLOOKUP(A306,eligibilité!$A$15:$AG$515,30,FALSE)=0,\"\",VLOOKUP(A306,eligibilité!$A$15:$AG$515,30,FALSE)))","v":""},"","","","","","","",1305,"","","","","","","Temps restant : ",""]
[{"$f":"IF(eligibilité!AG309=\"\",\"\",eligibilité!A309)","v":""},{"$f":"IF(A307=\"\",\"\",IF(VLOOKUP(A307,eligibilité!$A$15:$J$515,2,TRUE)=\"\",\"\",VLOOKUP(A307,eligibilité!$A$15:$J$515,2,TRUE)))","v":""},{"$f":"IF(A307=\"\",\"\",IF(VLOOKUP(A307,eligibilité!$A$15:$AG$515,3,TRUE)=\"\",\"\",VLOOKUP(A307,eligibilité!$A$15:$AG$515,3,TRUE)))","v":""},{"$f":"IF(A307=\"\",\"\",IF(VLOOKUP(A307,eligibilité!$A$15:$AG$515,4,TRUE)=\"\",\"\",VLOOKUP(A307,eligibilité!$A$15:$AG$515,4,TRUE)))","v":""},{"$f":"IF(A307=\"\",\"\",IF(VLOOKUP(A307,eligibilité!$A$15:$AG$515,5,TRUE)=\"\",\"\",VLOOKUP(A307,eligibilité!$A$15:$AG$515,5,TRUE)))","v":""},{"$f":"IF(A307=\"\",\"\",IF(VLOOKUP(A307,eligibilité!$A$15:$AG$515,6,TRUE)=\"\",\"\",VLOOKUP(A307,eligibilité!$A$15:$AG$515,6,TRUE)))","v":""},{"$f":"IF(A307=\"\",\"\",IF(VLOOKUP(A307,eligibilité!$A$15:$AG$515,7,TRUE)=\"\",\"\",VLOOKUP(A307,eligibilité!$A$15:$AG$515,7,TRUE)))","v":""},{"$f":"IF(A307=\"\",\"\",IF(VLOOKUP(A307,eligibilité!$A$15:$AG$515,8,TRUE)=\"\",\"\",VLOOKUP(A307,eligibilité!$A$15:$AG$515,8,TRUE)))","v":""},{"$f":"IF(A307=\"\",\"\",IF(VLOOKUP(A307,eligibilité!$A$15:$AG$515,9,TRUE)=\"\",\"\",VLOOKUP(A307,eligibilité!$A$15:$AG$515,9,TRUE)))","v":""},{"$f":"IF(A307=\"\",\"\",IF(VLOOKUP(A307,eligibilité!$A$15:$AG$515,10,TRUE)=\"\",\"\",VLOOKUP(A307,eligibilité!$A$15:$AG$515,10,TRUE)))","v":""},{"$f":"IF(A307=\"\",\"\",IF(VLOOKUP(A307,eligibilité!$A$15:$AG$515,30,FALSE)=0,\"\",VLOOKUP(A307,eligibilité!$A$15:$AG$515,30,FALSE)))","v":""},"","","","","","","",1305,"","","","","","","Temps restant : ",""]
[{"$f":"IF(eligibilité!AG310=\"\",\"\",eligibilité!A310)","v":""},{"$f":"IF(A308=\"\",\"\",IF(VLOOKUP(A308,eligibilité!$A$15:$J$515,2,TRUE)=\"\",\"\",VLOOKUP(A308,eligibilité!$A$15:$J$515,2,TRUE)))","v":""},{"$f":"IF(A308=\"\",\"\",IF(VLOOKUP(A308,eligibilité!$A$15:$AG$515,3,TRUE)=\"\",\"\",VLOOKUP(A308,eligibilité!$A$15:$AG$515,3,TRUE)))","v":""},{"$f":"IF(A308=\"\",\"\",IF(VLOOKUP(A308,eligibilité!$A$15:$AG$515,4,TRUE)=\"\",\"\",VLOOKUP(A308,eligibilité!$A$15:$AG$515,4,TRUE)))","v":""},{"$f":"IF(A308=\"\",\"\",IF(VLOOKUP(A308,eligibilité!$A$15:$AG$515,5,TRUE)=\"\",\"\",VLOOKUP(A308,eligibilité!$A$15:$AG$515,5,TRUE)))","v":""},{"$f":"IF(A308=\"\",\"\",IF(VLOOKUP(A308,eligibilité!$A$15:$AG$515,6,TRUE)=\"\",\"\",VLOOKUP(A308,eligibilité!$A$15:$AG$515,6,TRUE)))","v":""},{"$f":"IF(A308=\"\",\"\",IF(VLOOKUP(A308,eligibilité!$A$15:$AG$515,7,TRUE)=\"\",\"\",VLOOKUP(A308,eligibilité!$A$15:$AG$515,7,TRUE)))","v":""},{"$f":"IF(A308=\"\",\"\",IF(VLOOKUP(A308,eligibilité!$A$15:$AG$515,8,TRUE)=\"\",\"\",VLOOKUP(A308,eligibilité!$A$15:$AG$515,8,TRUE)))","v":""},{"$f":"IF(A308=\"\",\"\",IF(VLOOKUP(A308,eligibilité!$A$15:$AG$515,9,TRUE)=\"\",\"\",VLOOKUP(A308,eligibilité!$A$15:$AG$515,9,TRUE)))","v":""},{"$f":"IF(A308=\"\",\"\",IF(VLOOKUP(A308,eligibilité!$A$15:$AG$515,10,TRUE)=\"\",\"\",VLOOKUP(A308,eligibilité!$A$15:$AG$515,10,TRUE)))","v":""},{"$f":"IF(A308=\"\",\"\",IF(VLOOKUP(A308,eligibilité!$A$15:$AG$515,30,FALSE)=0,\"\",VLOOKUP(A308,eligibilité!$A$15:$AG$515,30,FALSE)))","v":""},"","","","","","","",1305,"","","","","","","Temps restant : ",""]
[{"$f":"IF(eligibilité!AG311=\"\",\"\",eligibilité!A311)","v":""},{"$f":"IF(A309=\"\",\"\",IF(VLOOKUP(A309,eligibilité!$A$15:$J$515,2,TRUE)=\"\",\"\",VLOOKUP(A309,eligibilité!$A$15:$J$515,2,TRUE)))","v":""},{"$f":"IF(A309=\"\",\"\",IF(VLOOKUP(A309,eligibilité!$A$15:$AG$515,3,TRUE)=\"\",\"\",VLOOKUP(A309,eligibilité!$A$15:$AG$515,3,TRUE)))","v":""},{"$f":"IF(A309=\"\",\"\",IF(VLOOKUP(A309,eligibilité!$A$15:$AG$515,4,TRUE)=\"\",\"\",VLOOKUP(A309,eligibilité!$A$15:$AG$515,4,TRUE)))","v":""},{"$f":"IF(A309=\"\",\"\",IF(VLOOKUP(A309,eligibilité!$A$15:$AG$515,5,TRUE)=\"\",\"\",VLOOKUP(A309,eligibilité!$A$15:$AG$515,5,TRUE)))","v":""},{"$f":"IF(A309=\"\",\"\",IF(VLOOKUP(A309,eligibilité!$A$15:$AG$515,6,TRUE)=\"\",\"\",VLOOKUP(A309,eligibilité!$A$15:$AG$515,6,TRUE)))","v":""},{"$f":"IF(A309=\"\",\"\",IF(VLOOKUP(A309,eligibilité!$A$15:$AG$515,7,TRUE)=\"\",\"\",VLOOKUP(A309,eligibilité!$A$15:$AG$515,7,TRUE)))","v":""},{"$f":"IF(A309=\"\",\"\",IF(VLOOKUP(A309,eligibilité!$A$15:$AG$515,8,TRUE)=\"\",\"\",VLOOKUP(A309,eligibilité!$A$15:$AG$515,8,TRUE)))","v":""},{"$f":"IF(A309=\"\",\"\",IF(VLOOKUP(A309,eligibilité!$A$15:$AG$515,9,TRUE)=\"\",\"\",VLOOKUP(A309,eligibilité!$A$15:$AG$515,9,TRUE)))","v":""},{"$f":"IF(A309=\"\",\"\",IF(VLOOKUP(A309,eligibilité!$A$15:$AG$515,10,TRUE)=\"\",\"\",VLOOKUP(A309,eligibilité!$A$15:$AG$515,10,TRUE)))","v":""},{"$f":"IF(A309=\"\",\"\",IF(VLOOKUP(A309,eligibilité!$A$15:$AG$515,30,FALSE)=0,\"\",VLOOKUP(A309,eligibilité!$A$15:$AG$515,30,FALSE)))","v":""},"","","","","","","",1305,"","","","","","","Temps restant : ",""]
[{"$f":"IF(eligibilité!AG312=\"\",\"\",eligibilité!A312)","v":""},{"$f":"IF(A310=\"\",\"\",IF(VLOOKUP(A310,eligibilité!$A$15:$J$515,2,TRUE)=\"\",\"\",VLOOKUP(A310,eligibilité!$A$15:$J$515,2,TRUE)))","v":""},{"$f":"IF(A310=\"\",\"\",IF(VLOOKUP(A310,eligibilité!$A$15:$AG$515,3,TRUE)=\"\",\"\",VLOOKUP(A310,eligibilité!$A$15:$AG$515,3,TRUE)))","v":""},{"$f":"IF(A310=\"\",\"\",IF(VLOOKUP(A310,eligibilité!$A$15:$AG$515,4,TRUE)=\"\",\"\",VLOOKUP(A310,eligibilité!$A$15:$AG$515,4,TRUE)))","v":""},{"$f":"IF(A310=\"\",\"\",IF(VLOOKUP(A310,eligibilité!$A$15:$AG$515,5,TRUE)=\"\",\"\",VLOOKUP(A310,eligibilité!$A$15:$AG$515,5,TRUE)))","v":""},{"$f":"IF(A310=\"\",\"\",IF(VLOOKUP(A310,eligibilité!$A$15:$AG$515,6,TRUE)=\"\",\"\",VLOOKUP(A310,eligibilité!$A$15:$AG$515,6,TRUE)))","v":""},{"$f":"IF(A310=\"\",\"\",IF(VLOOKUP(A310,eligibilité!$A$15:$AG$515,7,TRUE)=\"\",\"\",VLOOKUP(A310,eligibilité!$A$15:$AG$515,7,TRUE)))","v":""},{"$f":"IF(A310=\"\",\"\",IF(VLOOKUP(A310,eligibilité!$A$15:$AG$515,8,TRUE)=\"\",\"\",VLOOKUP(A310,eligibilité!$A$15:$AG$515,8,TRUE)))","v":""},{"$f":"IF(A310=\"\",\"\",IF(VLOOKUP(A310,eligibilité!$A$15:$AG$515,9,TRUE)=\"\",\"\",VLOOKUP(A310,eligibilité!$A$15:$AG$515,9,TRUE)))","v":""},{"$f":"IF(A310=\"\",\"\",IF(VLOOKUP(A310,eligibilité!$A$15:$AG$515,10,TRUE)=\"\",\"\",VLOOKUP(A310,eligibilité!$A$15:$AG$515,10,TRUE)))","v":""},{"$f":"IF(A310=\"\",\"\",IF(VLOOKUP(A310,eligibilité!$A$15:$AG$515,30,FALSE)=0,\"\",VLOOKUP(A310,eligibilité!$A$15:$AG$515,30,FALSE)))","v":""},"","","","","","","",1305,"","","","","","","Temps restant : ",""]
[{"$f":"IF(eligibilité!AG313=\"\",\"\",eligibilité!A313)","v":""},{"$f":"IF(A311=\"\",\"\",IF(VLOOKUP(A311,eligibilité!$A$15:$J$515,2,TRUE)=\"\",\"\",VLOOKUP(A311,eligibilité!$A$15:$J$515,2,TRUE)))","v":""},{"$f":"IF(A311=\"\",\"\",IF(VLOOKUP(A311,eligibilité!$A$15:$AG$515,3,TRUE)=\"\",\"\",VLOOKUP(A311,eligibilité!$A$15:$AG$515,3,TRUE)))","v":""},{"$f":"IF(A311=\"\",\"\",IF(VLOOKUP(A311,eligibilité!$A$15:$AG$515,4,TRUE)=\"\",\"\",VLOOKUP(A311,eligibilité!$A$15:$AG$515,4,TRUE)))","v":""},{"$f":"IF(A311=\"\",\"\",IF(VLOOKUP(A311,eligibilité!$A$15:$AG$515,5,TRUE)=\"\",\"\",VLOOKUP(A311,eligibilité!$A$15:$AG$515,5,TRUE)))","v":""},{"$f":"IF(A311=\"\",\"\",IF(VLOOKUP(A311,eligibilité!$A$15:$AG$515,6,TRUE)=\"\",\"\",VLOOKUP(A311,eligibilité!$A$15:$AG$515,6,TRUE)))","v":""},{"$f":"IF(A311=\"\",\"\",IF(VLOOKUP(A311,eligibilité!$A$15:$AG$515,7,TRUE)=\"\",\"\",VLOOKUP(A311,eligibilité!$A$15:$AG$515,7,TRUE)))","v":""},{"$f":"IF(A311=\"\",\"\",IF(VLOOKUP(A311,eligibilité!$A$15:$AG$515,8,TRUE)=\"\",\"\",VLOOKUP(A311,eligibilité!$A$15:$AG$515,8,TRUE)))","v":""},{"$f":"IF(A311=\"\",\"\",IF(VLOOKUP(A311,eligibilité!$A$15:$AG$515,9,TRUE)=\"\",\"\",VLOOKUP(A311,eligibilité!$A$15:$AG$515,9,TRUE)))","v":""},{"$f":"IF(A311=\"\",\"\",IF(VLOOKUP(A311,eligibilité!$A$15:$AG$515,10,TRUE)=\"\",\"\",VLOOKUP(A311,eligibilité!$A$15:$AG$515,10,TRUE)))","v":""},{"$f":"IF(A311=\"\",\"\",IF(VLOOKUP(A311,eligibilité!$A$15:$AG$515,30,FALSE)=0,\"\",VLOOKUP(A311,eligibilité!$A$15:$AG$515,30,FALSE)))","v":""},"","","","","","","",1305,"","","","","","","Temps restant : ",""]
[{"$f":"IF(eligibilité!AG314=\"\",\"\",eligibilité!A314)","v":""},{"$f":"IF(A312=\"\",\"\",IF(VLOOKUP(A312,eligibilité!$A$15:$J$515,2,TRUE)=\"\",\"\",VLOOKUP(A312,eligibilité!$A$15:$J$515,2,TRUE)))","v":""},{"$f":"IF(A312=\"\",\"\",IF(VLOOKUP(A312,eligibilité!$A$15:$AG$515,3,TRUE)=\"\",\"\",VLOOKUP(A312,eligibilité!$A$15:$AG$515,3,TRUE)))","v":""},{"$f":"IF(A312=\"\",\"\",IF(VLOOKUP(A312,eligibilité!$A$15:$AG$515,4,TRUE)=\"\",\"\",VLOOKUP(A312,eligibilité!$A$15:$AG$515,4,TRUE)))","v":""},{"$f":"IF(A312=\"\",\"\",IF(VLOOKUP(A312,eligibilité!$A$15:$AG$515,5,TRUE)=\"\",\"\",VLOOKUP(A312,eligibilité!$A$15:$AG$515,5,TRUE)))","v":""},{"$f":"IF(A312=\"\",\"\",IF(VLOOKUP(A312,eligibilité!$A$15:$AG$515,6,TRUE)=\"\",\"\",VLOOKUP(A312,eligibilité!$A$15:$AG$515,6,TRUE)))","v":""},{"$f":"IF(A312=\"\",\"\",IF(VLOOKUP(A312,eligibilité!$A$15:$AG$515,7,TRUE)=\"\",\"\",VLOOKUP(A312,eligibilité!$A$15:$AG$515,7,TRUE)))","v":""},{"$f":"IF(A312=\"\",\"\",IF(VLOOKUP(A312,eligibilité!$A$15:$AG$515,8,TRUE)=\"\",\"\",VLOOKUP(A312,eligibilité!$A$15:$AG$515,8,TRUE)))","v":""},{"$f":"IF(A312=\"\",\"\",IF(VLOOKUP(A312,eligibilité!$A$15:$AG$515,9,TRUE)=\"\",\"\",VLOOKUP(A312,eligibilité!$A$15:$AG$515,9,TRUE)))","v":""},{"$f":"IF(A312=\"\",\"\",IF(VLOOKUP(A312,eligibilité!$A$15:$AG$515,10,TRUE)=\"\",\"\",VLOOKUP(A312,eligibilité!$A$15:$AG$515,10,TRUE)))","v":""},{"$f":"IF(A312=\"\",\"\",IF(VLOOKUP(A312,eligibilité!$A$15:$AG$515,30,FALSE)=0,\"\",VLOOKUP(A312,eligibilité!$A$15:$AG$515,30,FALSE)))","v":""},"","","","","","","",1305,"","","","","","","Temps restant : ",""]
[{"$f":"IF(eligibilité!AG315=\"\",\"\",eligibilité!A315)","v":""},{"$f":"IF(A313=\"\",\"\",IF(VLOOKUP(A313,eligibilité!$A$15:$J$515,2,TRUE)=\"\",\"\",VLOOKUP(A313,eligibilité!$A$15:$J$515,2,TRUE)))","v":""},{"$f":"IF(A313=\"\",\"\",IF(VLOOKUP(A313,eligibilité!$A$15:$AG$515,3,TRUE)=\"\",\"\",VLOOKUP(A313,eligibilité!$A$15:$AG$515,3,TRUE)))","v":""},{"$f":"IF(A313=\"\",\"\",IF(VLOOKUP(A313,eligibilité!$A$15:$AG$515,4,TRUE)=\"\",\"\",VLOOKUP(A313,eligibilité!$A$15:$AG$515,4,TRUE)))","v":""},{"$f":"IF(A313=\"\",\"\",IF(VLOOKUP(A313,eligibilité!$A$15:$AG$515,5,TRUE)=\"\",\"\",VLOOKUP(A313,eligibilité!$A$15:$AG$515,5,TRUE)))","v":""},{"$f":"IF(A313=\"\",\"\",IF(VLOOKUP(A313,eligibilité!$A$15:$AG$515,6,TRUE)=\"\",\"\",VLOOKUP(A313,eligibilité!$A$15:$AG$515,6,TRUE)))","v":""},{"$f":"IF(A313=\"\",\"\",IF(VLOOKUP(A313,eligibilité!$A$15:$AG$515,7,TRUE)=\"\",\"\",VLOOKUP(A313,eligibilité!$A$15:$AG$515,7,TRUE)))","v":""},{"$f":"IF(A313=\"\",\"\",IF(VLOOKUP(A313,eligibilité!$A$15:$AG$515,8,TRUE)=\"\",\"\",VLOOKUP(A313,eligibilité!$A$15:$AG$515,8,TRUE)))","v":""},{"$f":"IF(A313=\"\",\"\",IF(VLOOKUP(A313,eligibilité!$A$15:$AG$515,9,TRUE)=\"\",\"\",VLOOKUP(A313,eligibilité!$A$15:$AG$515,9,TRUE)))","v":""},{"$f":"IF(A313=\"\",\"\",IF(VLOOKUP(A313,eligibilité!$A$15:$AG$515,10,TRUE)=\"\",\"\",VLOOKUP(A313,eligibilité!$A$15:$AG$515,10,TRUE)))","v":""},{"$f":"IF(A313=\"\",\"\",IF(VLOOKUP(A313,eligibilité!$A$15:$AG$515,30,FALSE)=0,\"\",VLOOKUP(A313,eligibilité!$A$15:$AG$515,30,FALSE)))","v":""},"","","","","","","",1305,"","","","","","","Temps restant : ",""]
[{"$f":"IF(eligibilité!AG316=\"\",\"\",eligibilité!A316)","v":""},{"$f":"IF(A314=\"\",\"\",IF(VLOOKUP(A314,eligibilité!$A$15:$J$515,2,TRUE)=\"\",\"\",VLOOKUP(A314,eligibilité!$A$15:$J$515,2,TRUE)))","v":""},{"$f":"IF(A314=\"\",\"\",IF(VLOOKUP(A314,eligibilité!$A$15:$AG$515,3,TRUE)=\"\",\"\",VLOOKUP(A314,eligibilité!$A$15:$AG$515,3,TRUE)))","v":""},{"$f":"IF(A314=\"\",\"\",IF(VLOOKUP(A314,eligibilité!$A$15:$AG$515,4,TRUE)=\"\",\"\",VLOOKUP(A314,eligibilité!$A$15:$AG$515,4,TRUE)))","v":""},{"$f":"IF(A314=\"\",\"\",IF(VLOOKUP(A314,eligibilité!$A$15:$AG$515,5,TRUE)=\"\",\"\",VLOOKUP(A314,eligibilité!$A$15:$AG$515,5,TRUE)))","v":""},{"$f":"IF(A314=\"\",\"\",IF(VLOOKUP(A314,eligibilité!$A$15:$AG$515,6,TRUE)=\"\",\"\",VLOOKUP(A314,eligibilité!$A$15:$AG$515,6,TRUE)))","v":""},{"$f":"IF(A314=\"\",\"\",IF(VLOOKUP(A314,eligibilité!$A$15:$AG$515,7,TRUE)=\"\",\"\",VLOOKUP(A314,eligibilité!$A$15:$AG$515,7,TRUE)))","v":""},{"$f":"IF(A314=\"\",\"\",IF(VLOOKUP(A314,eligibilité!$A$15:$AG$515,8,TRUE)=\"\",\"\",VLOOKUP(A314,eligibilité!$A$15:$AG$515,8,TRUE)))","v":""},{"$f":"IF(A314=\"\",\"\",IF(VLOOKUP(A314,eligibilité!$A$15:$AG$515,9,TRUE)=\"\",\"\",VLOOKUP(A314,eligibilité!$A$15:$AG$515,9,TRUE)))","v":""},{"$f":"IF(A314=\"\",\"\",IF(VLOOKUP(A314,eligibilité!$A$15:$AG$515,10,TRUE)=\"\",\"\",VLOOKUP(A314,eligibilité!$A$15:$AG$515,10,TRUE)))","v":""},{"$f":"IF(A314=\"\",\"\",IF(VLOOKUP(A314,eligibilité!$A$15:$AG$515,30,FALSE)=0,\"\",VLOOKUP(A314,eligibilité!$A$15:$AG$515,30,FALSE)))","v":""},"","","","","","","",1305,"","","","","","","Temps restant : ",""]
[{"$f":"IF(eligibilité!AG317=\"\",\"\",eligibilité!A317)","v":""},{"$f":"IF(A315=\"\",\"\",IF(VLOOKUP(A315,eligibilité!$A$15:$J$515,2,TRUE)=\"\",\"\",VLOOKUP(A315,eligibilité!$A$15:$J$515,2,TRUE)))","v":""},{"$f":"IF(A315=\"\",\"\",IF(VLOOKUP(A315,eligibilité!$A$15:$AG$515,3,TRUE)=\"\",\"\",VLOOKUP(A315,eligibilité!$A$15:$AG$515,3,TRUE)))","v":""},{"$f":"IF(A315=\"\",\"\",IF(VLOOKUP(A315,eligibilité!$A$15:$AG$515,4,TRUE)=\"\",\"\",VLOOKUP(A315,eligibilité!$A$15:$AG$515,4,TRUE)))","v":""},{"$f":"IF(A315=\"\",\"\",IF(VLOOKUP(A315,eligibilité!$A$15:$AG$515,5,TRUE)=\"\",\"\",VLOOKUP(A315,eligibilité!$A$15:$AG$515,5,TRUE)))","v":""},{"$f":"IF(A315=\"\",\"\",IF(VLOOKUP(A315,eligibilité!$A$15:$AG$515,6,TRUE)=\"\",\"\",VLOOKUP(A315,eligibilité!$A$15:$AG$515,6,TRUE)))","v":""},{"$f":"IF(A315=\"\",\"\",IF(VLOOKUP(A315,eligibilité!$A$15:$AG$515,7,TRUE)=\"\",\"\",VLOOKUP(A315,eligibilité!$A$15:$AG$515,7,TRUE)))","v":""},{"$f":"IF(A315=\"\",\"\",IF(VLOOKUP(A315,eligibilité!$A$15:$AG$515,8,TRUE)=\"\",\"\",VLOOKUP(A315,eligibilité!$A$15:$AG$515,8,TRUE)))","v":""},{"$f":"IF(A315=\"\",\"\",IF(VLOOKUP(A315,eligibilité!$A$15:$AG$515,9,TRUE)=\"\",\"\",VLOOKUP(A315,eligibilité!$A$15:$AG$515,9,TRUE)))","v":""},{"$f":"IF(A315=\"\",\"\",IF(VLOOKUP(A315,eligibilité!$A$15:$AG$515,10,TRUE)=\"\",\"\",VLOOKUP(A315,eligibilité!$A$15:$AG$515,10,TRUE)))","v":""},{"$f":"IF(A315=\"\",\"\",IF(VLOOKUP(A315,eligibilité!$A$15:$AG$515,30,FALSE)=0,\"\",VLOOKUP(A315,eligibilité!$A$15:$AG$515,30,FALSE)))","v":""},"","","","","","","",1305,"","","","","","","Temps restant : ",""]
[{"$f":"IF(eligibilité!AG318=\"\",\"\",eligibilité!A318)","v":""},{"$f":"IF(A316=\"\",\"\",IF(VLOOKUP(A316,eligibilité!$A$15:$J$515,2,TRUE)=\"\",\"\",VLOOKUP(A316,eligibilité!$A$15:$J$515,2,TRUE)))","v":""},{"$f":"IF(A316=\"\",\"\",IF(VLOOKUP(A316,eligibilité!$A$15:$AG$515,3,TRUE)=\"\",\"\",VLOOKUP(A316,eligibilité!$A$15:$AG$515,3,TRUE)))","v":""},{"$f":"IF(A316=\"\",\"\",IF(VLOOKUP(A316,eligibilité!$A$15:$AG$515,4,TRUE)=\"\",\"\",VLOOKUP(A316,eligibilité!$A$15:$AG$515,4,TRUE)))","v":""},{"$f":"IF(A316=\"\",\"\",IF(VLOOKUP(A316,eligibilité!$A$15:$AG$515,5,TRUE)=\"\",\"\",VLOOKUP(A316,eligibilité!$A$15:$AG$515,5,TRUE)))","v":""},{"$f":"IF(A316=\"\",\"\",IF(VLOOKUP(A316,eligibilité!$A$15:$AG$515,6,TRUE)=\"\",\"\",VLOOKUP(A316,eligibilité!$A$15:$AG$515,6,TRUE)))","v":""},{"$f":"IF(A316=\"\",\"\",IF(VLOOKUP(A316,eligibilité!$A$15:$AG$515,7,TRUE)=\"\",\"\",VLOOKUP(A316,eligibilité!$A$15:$AG$515,7,TRUE)))","v":""},{"$f":"IF(A316=\"\",\"\",IF(VLOOKUP(A316,eligibilité!$A$15:$AG$515,8,TRUE)=\"\",\"\",VLOOKUP(A316,eligibilité!$A$15:$AG$515,8,TRUE)))","v":""},{"$f":"IF(A316=\"\",\"\",IF(VLOOKUP(A316,eligibilité!$A$15:$AG$515,9,TRUE)=\"\",\"\",VLOOKUP(A316,eligibilité!$A$15:$AG$515,9,TRUE)))","v":""},{"$f":"IF(A316=\"\",\"\",IF(VLOOKUP(A316,eligibilité!$A$15:$AG$515,10,TRUE)=\"\",\"\",VLOOKUP(A316,eligibilité!$A$15:$AG$515,10,TRUE)))","v":""},{"$f":"IF(A316=\"\",\"\",IF(VLOOKUP(A316,eligibilité!$A$15:$AG$515,30,FALSE)=0,\"\",VLOOKUP(A316,eligibilité!$A$15:$AG$515,30,FALSE)))","v":""},"","","","","","","",1305,"","","","","","","Temps restant : ",""]
[{"$f":"IF(eligibilité!AG319=\"\",\"\",eligibilité!A319)","v":""},{"$f":"IF(A317=\"\",\"\",IF(VLOOKUP(A317,eligibilité!$A$15:$J$515,2,TRUE)=\"\",\"\",VLOOKUP(A317,eligibilité!$A$15:$J$515,2,TRUE)))","v":""},{"$f":"IF(A317=\"\",\"\",IF(VLOOKUP(A317,eligibilité!$A$15:$AG$515,3,TRUE)=\"\",\"\",VLOOKUP(A317,eligibilité!$A$15:$AG$515,3,TRUE)))","v":""},{"$f":"IF(A317=\"\",\"\",IF(VLOOKUP(A317,eligibilité!$A$15:$AG$515,4,TRUE)=\"\",\"\",VLOOKUP(A317,eligibilité!$A$15:$AG$515,4,TRUE)))","v":""},{"$f":"IF(A317=\"\",\"\",IF(VLOOKUP(A317,eligibilité!$A$15:$AG$515,5,TRUE)=\"\",\"\",VLOOKUP(A317,eligibilité!$A$15:$AG$515,5,TRUE)))","v":""},{"$f":"IF(A317=\"\",\"\",IF(VLOOKUP(A317,eligibilité!$A$15:$AG$515,6,TRUE)=\"\",\"\",VLOOKUP(A317,eligibilité!$A$15:$AG$515,6,TRUE)))","v":""},{"$f":"IF(A317=\"\",\"\",IF(VLOOKUP(A317,eligibilité!$A$15:$AG$515,7,TRUE)=\"\",\"\",VLOOKUP(A317,eligibilité!$A$15:$AG$515,7,TRUE)))","v":""},{"$f":"IF(A317=\"\",\"\",IF(VLOOKUP(A317,eligibilité!$A$15:$AG$515,8,TRUE)=\"\",\"\",VLOOKUP(A317,eligibilité!$A$15:$AG$515,8,TRUE)))","v":""},{"$f":"IF(A317=\"\",\"\",IF(VLOOKUP(A317,eligibilité!$A$15:$AG$515,9,TRUE)=\"\",\"\",VLOOKUP(A317,eligibilité!$A$15:$AG$515,9,TRUE)))","v":""},{"$f":"IF(A317=\"\",\"\",IF(VLOOKUP(A317,eligibilité!$A$15:$AG$515,10,TRUE)=\"\",\"\",VLOOKUP(A317,eligibilité!$A$15:$AG$515,10,TRUE)))","v":""},{"$f":"IF(A317=\"\",\"\",IF(VLOOKUP(A317,eligibilité!$A$15:$AG$515,30,FALSE)=0,\"\",VLOOKUP(A317,eligibilité!$A$15:$AG$515,30,FALSE)))","v":""},"","","","","","","",1305,"","","","","","","Temps restant : ",""]
[{"$f":"IF(eligibilité!AG320=\"\",\"\",eligibilité!A320)","v":""},{"$f":"IF(A318=\"\",\"\",IF(VLOOKUP(A318,eligibilité!$A$15:$J$515,2,TRUE)=\"\",\"\",VLOOKUP(A318,eligibilité!$A$15:$J$515,2,TRUE)))","v":""},{"$f":"IF(A318=\"\",\"\",IF(VLOOKUP(A318,eligibilité!$A$15:$AG$515,3,TRUE)=\"\",\"\",VLOOKUP(A318,eligibilité!$A$15:$AG$515,3,TRUE)))","v":""},{"$f":"IF(A318=\"\",\"\",IF(VLOOKUP(A318,eligibilité!$A$15:$AG$515,4,TRUE)=\"\",\"\",VLOOKUP(A318,eligibilité!$A$15:$AG$515,4,TRUE)))","v":""},{"$f":"IF(A318=\"\",\"\",IF(VLOOKUP(A318,eligibilité!$A$15:$AG$515,5,TRUE)=\"\",\"\",VLOOKUP(A318,eligibilité!$A$15:$AG$515,5,TRUE)))","v":""},{"$f":"IF(A318=\"\",\"\",IF(VLOOKUP(A318,eligibilité!$A$15:$AG$515,6,TRUE)=\"\",\"\",VLOOKUP(A318,eligibilité!$A$15:$AG$515,6,TRUE)))","v":""},{"$f":"IF(A318=\"\",\"\",IF(VLOOKUP(A318,eligibilité!$A$15:$AG$515,7,TRUE)=\"\",\"\",VLOOKUP(A318,eligibilité!$A$15:$AG$515,7,TRUE)))","v":""},{"$f":"IF(A318=\"\",\"\",IF(VLOOKUP(A318,eligibilité!$A$15:$AG$515,8,TRUE)=\"\",\"\",VLOOKUP(A318,eligibilité!$A$15:$AG$515,8,TRUE)))","v":""},{"$f":"IF(A318=\"\",\"\",IF(VLOOKUP(A318,eligibilité!$A$15:$AG$515,9,TRUE)=\"\",\"\",VLOOKUP(A318,eligibilité!$A$15:$AG$515,9,TRUE)))","v":""},{"$f":"IF(A318=\"\",\"\",IF(VLOOKUP(A318,eligibilité!$A$15:$AG$515,10,TRUE)=\"\",\"\",VLOOKUP(A318,eligibilité!$A$15:$AG$515,10,TRUE)))","v":""},{"$f":"IF(A318=\"\",\"\",IF(VLOOKUP(A318,eligibilité!$A$15:$AG$515,30,FALSE)=0,\"\",VLOOKUP(A318,eligibilité!$A$15:$AG$515,30,FALSE)))","v":""},"","","","","","","",1305,"","","","","","","Temps restant : ",""]
[{"$f":"IF(eligibilité!AG321=\"\",\"\",eligibilité!A321)","v":""},{"$f":"IF(A319=\"\",\"\",IF(VLOOKUP(A319,eligibilité!$A$15:$J$515,2,TRUE)=\"\",\"\",VLOOKUP(A319,eligibilité!$A$15:$J$515,2,TRUE)))","v":""},{"$f":"IF(A319=\"\",\"\",IF(VLOOKUP(A319,eligibilité!$A$15:$AG$515,3,TRUE)=\"\",\"\",VLOOKUP(A319,eligibilité!$A$15:$AG$515,3,TRUE)))","v":""},{"$f":"IF(A319=\"\",\"\",IF(VLOOKUP(A319,eligibilité!$A$15:$AG$515,4,TRUE)=\"\",\"\",VLOOKUP(A319,eligibilité!$A$15:$AG$515,4,TRUE)))","v":""},{"$f":"IF(A319=\"\",\"\",IF(VLOOKUP(A319,eligibilité!$A$15:$AG$515,5,TRUE)=\"\",\"\",VLOOKUP(A319,eligibilité!$A$15:$AG$515,5,TRUE)))","v":""},{"$f":"IF(A319=\"\",\"\",IF(VLOOKUP(A319,eligibilité!$A$15:$AG$515,6,TRUE)=\"\",\"\",VLOOKUP(A319,eligibilité!$A$15:$AG$515,6,TRUE)))","v":""},{"$f":"IF(A319=\"\",\"\",IF(VLOOKUP(A319,eligibilité!$A$15:$AG$515,7,TRUE)=\"\",\"\",VLOOKUP(A319,eligibilité!$A$15:$AG$515,7,TRUE)))","v":""},{"$f":"IF(A319=\"\",\"\",IF(VLOOKUP(A319,eligibilité!$A$15:$AG$515,8,TRUE)=\"\",\"\",VLOOKUP(A319,eligibilité!$A$15:$AG$515,8,TRUE)))","v":""},{"$f":"IF(A319=\"\",\"\",IF(VLOOKUP(A319,eligibilité!$A$15:$AG$515,9,TRUE)=\"\",\"\",VLOOKUP(A319,eligibilité!$A$15:$AG$515,9,TRUE)))","v":""},{"$f":"IF(A319=\"\",\"\",IF(VLOOKUP(A319,eligibilité!$A$15:$AG$515,10,TRUE)=\"\",\"\",VLOOKUP(A319,eligibilité!$A$15:$AG$515,10,TRUE)))","v":""},{"$f":"IF(A319=\"\",\"\",IF(VLOOKUP(A319,eligibilité!$A$15:$AG$515,30,FALSE)=0,\"\",VLOOKUP(A319,eligibilité!$A$15:$AG$515,30,FALSE)))","v":""},"","","","","","","",1305,"","","","","","","Temps restant : ",""]
[{"$f":"IF(eligibilité!AG322=\"\",\"\",eligibilité!A322)","v":""},{"$f":"IF(A320=\"\",\"\",IF(VLOOKUP(A320,eligibilité!$A$15:$J$515,2,TRUE)=\"\",\"\",VLOOKUP(A320,eligibilité!$A$15:$J$515,2,TRUE)))","v":""},{"$f":"IF(A320=\"\",\"\",IF(VLOOKUP(A320,eligibilité!$A$15:$AG$515,3,TRUE)=\"\",\"\",VLOOKUP(A320,eligibilité!$A$15:$AG$515,3,TRUE)))","v":""},{"$f":"IF(A320=\"\",\"\",IF(VLOOKUP(A320,eligibilité!$A$15:$AG$515,4,TRUE)=\"\",\"\",VLOOKUP(A320,eligibilité!$A$15:$AG$515,4,TRUE)))","v":""},{"$f":"IF(A320=\"\",\"\",IF(VLOOKUP(A320,eligibilité!$A$15:$AG$515,5,TRUE)=\"\",\"\",VLOOKUP(A320,eligibilité!$A$15:$AG$515,5,TRUE)))","v":""},{"$f":"IF(A320=\"\",\"\",IF(VLOOKUP(A320,eligibilité!$A$15:$AG$515,6,TRUE)=\"\",\"\",VLOOKUP(A320,eligibilité!$A$15:$AG$515,6,TRUE)))","v":""},{"$f":"IF(A320=\"\",\"\",IF(VLOOKUP(A320,eligibilité!$A$15:$AG$515,7,TRUE)=\"\",\"\",VLOOKUP(A320,eligibilité!$A$15:$AG$515,7,TRUE)))","v":""},{"$f":"IF(A320=\"\",\"\",IF(VLOOKUP(A320,eligibilité!$A$15:$AG$515,8,TRUE)=\"\",\"\",VLOOKUP(A320,eligibilité!$A$15:$AG$515,8,TRUE)))","v":""},{"$f":"IF(A320=\"\",\"\",IF(VLOOKUP(A320,eligibilité!$A$15:$AG$515,9,TRUE)=\"\",\"\",VLOOKUP(A320,eligibilité!$A$15:$AG$515,9,TRUE)))","v":""},{"$f":"IF(A320=\"\",\"\",IF(VLOOKUP(A320,eligibilité!$A$15:$AG$515,10,TRUE)=\"\",\"\",VLOOKUP(A320,eligibilité!$A$15:$AG$515,10,TRUE)))","v":""},{"$f":"IF(A320=\"\",\"\",IF(VLOOKUP(A320,eligibilité!$A$15:$AG$515,30,FALSE)=0,\"\",VLOOKUP(A320,eligibilité!$A$15:$AG$515,30,FALSE)))","v":""},"","","","","","","",1305,"","","","","","","Temps restant : ",""]
[{"$f":"IF(eligibilité!AG323=\"\",\"\",eligibilité!A323)","v":""},{"$f":"IF(A321=\"\",\"\",IF(VLOOKUP(A321,eligibilité!$A$15:$J$515,2,TRUE)=\"\",\"\",VLOOKUP(A321,eligibilité!$A$15:$J$515,2,TRUE)))","v":""},{"$f":"IF(A321=\"\",\"\",IF(VLOOKUP(A321,eligibilité!$A$15:$AG$515,3,TRUE)=\"\",\"\",VLOOKUP(A321,eligibilité!$A$15:$AG$515,3,TRUE)))","v":""},{"$f":"IF(A321=\"\",\"\",IF(VLOOKUP(A321,eligibilité!$A$15:$AG$515,4,TRUE)=\"\",\"\",VLOOKUP(A321,eligibilité!$A$15:$AG$515,4,TRUE)))","v":""},{"$f":"IF(A321=\"\",\"\",IF(VLOOKUP(A321,eligibilité!$A$15:$AG$515,5,TRUE)=\"\",\"\",VLOOKUP(A321,eligibilité!$A$15:$AG$515,5,TRUE)))","v":""},{"$f":"IF(A321=\"\",\"\",IF(VLOOKUP(A321,eligibilité!$A$15:$AG$515,6,TRUE)=\"\",\"\",VLOOKUP(A321,eligibilité!$A$15:$AG$515,6,TRUE)))","v":""},{"$f":"IF(A321=\"\",\"\",IF(VLOOKUP(A321,eligibilité!$A$15:$AG$515,7,TRUE)=\"\",\"\",VLOOKUP(A321,eligibilité!$A$15:$AG$515,7,TRUE)))","v":""},{"$f":"IF(A321=\"\",\"\",IF(VLOOKUP(A321,eligibilité!$A$15:$AG$515,8,TRUE)=\"\",\"\",VLOOKUP(A321,eligibilité!$A$15:$AG$515,8,TRUE)))","v":""},{"$f":"IF(A321=\"\",\"\",IF(VLOOKUP(A321,eligibilité!$A$15:$AG$515,9,TRUE)=\"\",\"\",VLOOKUP(A321,eligibilité!$A$15:$AG$515,9,TRUE)))","v":""},{"$f":"IF(A321=\"\",\"\",IF(VLOOKUP(A321,eligibilité!$A$15:$AG$515,10,TRUE)=\"\",\"\",VLOOKUP(A321,eligibilité!$A$15:$AG$515,10,TRUE)))","v":""},{"$f":"IF(A321=\"\",\"\",IF(VLOOKUP(A321,eligibilité!$A$15:$AG$515,30,FALSE)=0,\"\",VLOOKUP(A321,eligibilité!$A$15:$AG$515,30,FALSE)))","v":""},"","","","","","","",1305,"","","","","","","Temps restant : ",""]
[{"$f":"IF(eligibilité!AG324=\"\",\"\",eligibilité!A324)","v":""},{"$f":"IF(A322=\"\",\"\",IF(VLOOKUP(A322,eligibilité!$A$15:$J$515,2,TRUE)=\"\",\"\",VLOOKUP(A322,eligibilité!$A$15:$J$515,2,TRUE)))","v":""},{"$f":"IF(A322=\"\",\"\",IF(VLOOKUP(A322,eligibilité!$A$15:$AG$515,3,TRUE)=\"\",\"\",VLOOKUP(A322,eligibilité!$A$15:$AG$515,3,TRUE)))","v":""},{"$f":"IF(A322=\"\",\"\",IF(VLOOKUP(A322,eligibilité!$A$15:$AG$515,4,TRUE)=\"\",\"\",VLOOKUP(A322,eligibilité!$A$15:$AG$515,4,TRUE)))","v":""},{"$f":"IF(A322=\"\",\"\",IF(VLOOKUP(A322,eligibilité!$A$15:$AG$515,5,TRUE)=\"\",\"\",VLOOKUP(A322,eligibilité!$A$15:$AG$515,5,TRUE)))","v":""},{"$f":"IF(A322=\"\",\"\",IF(VLOOKUP(A322,eligibilité!$A$15:$AG$515,6,TRUE)=\"\",\"\",VLOOKUP(A322,eligibilité!$A$15:$AG$515,6,TRUE)))","v":""},{"$f":"IF(A322=\"\",\"\",IF(VLOOKUP(A322,eligibilité!$A$15:$AG$515,7,TRUE)=\"\",\"\",VLOOKUP(A322,eligibilité!$A$15:$AG$515,7,TRUE)))","v":""},{"$f":"IF(A322=\"\",\"\",IF(VLOOKUP(A322,eligibilité!$A$15:$AG$515,8,TRUE)=\"\",\"\",VLOOKUP(A322,eligibilité!$A$15:$AG$515,8,TRUE)))","v":""},{"$f":"IF(A322=\"\",\"\",IF(VLOOKUP(A322,eligibilité!$A$15:$AG$515,9,TRUE)=\"\",\"\",VLOOKUP(A322,eligibilité!$A$15:$AG$515,9,TRUE)))","v":""},{"$f":"IF(A322=\"\",\"\",IF(VLOOKUP(A322,eligibilité!$A$15:$AG$515,10,TRUE)=\"\",\"\",VLOOKUP(A322,eligibilité!$A$15:$AG$515,10,TRUE)))","v":""},{"$f":"IF(A322=\"\",\"\",IF(VLOOKUP(A322,eligibilité!$A$15:$AG$515,30,FALSE)=0,\"\",VLOOKUP(A322,eligibilité!$A$15:$AG$515,30,FALSE)))","v":""},"","","","","","","",1305,"","","","","","","Temps restant : ",""]
[{"$f":"IF(eligibilité!AG325=\"\",\"\",eligibilité!A325)","v":""},{"$f":"IF(A323=\"\",\"\",IF(VLOOKUP(A323,eligibilité!$A$15:$J$515,2,TRUE)=\"\",\"\",VLOOKUP(A323,eligibilité!$A$15:$J$515,2,TRUE)))","v":""},{"$f":"IF(A323=\"\",\"\",IF(VLOOKUP(A323,eligibilité!$A$15:$AG$515,3,TRUE)=\"\",\"\",VLOOKUP(A323,eligibilité!$A$15:$AG$515,3,TRUE)))","v":""},{"$f":"IF(A323=\"\",\"\",IF(VLOOKUP(A323,eligibilité!$A$15:$AG$515,4,TRUE)=\"\",\"\",VLOOKUP(A323,eligibilité!$A$15:$AG$515,4,TRUE)))","v":""},{"$f":"IF(A323=\"\",\"\",IF(VLOOKUP(A323,eligibilité!$A$15:$AG$515,5,TRUE)=\"\",\"\",VLOOKUP(A323,eligibilité!$A$15:$AG$515,5,TRUE)))","v":""},{"$f":"IF(A323=\"\",\"\",IF(VLOOKUP(A323,eligibilité!$A$15:$AG$515,6,TRUE)=\"\",\"\",VLOOKUP(A323,eligibilité!$A$15:$AG$515,6,TRUE)))","v":""},{"$f":"IF(A323=\"\",\"\",IF(VLOOKUP(A323,eligibilité!$A$15:$AG$515,7,TRUE)=\"\",\"\",VLOOKUP(A323,eligibilité!$A$15:$AG$515,7,TRUE)))","v":""},{"$f":"IF(A323=\"\",\"\",IF(VLOOKUP(A323,eligibilité!$A$15:$AG$515,8,TRUE)=\"\",\"\",VLOOKUP(A323,eligibilité!$A$15:$AG$515,8,TRUE)))","v":""},{"$f":"IF(A323=\"\",\"\",IF(VLOOKUP(A323,eligibilité!$A$15:$AG$515,9,TRUE)=\"\",\"\",VLOOKUP(A323,eligibilité!$A$15:$AG$515,9,TRUE)))","v":""},{"$f":"IF(A323=\"\",\"\",IF(VLOOKUP(A323,eligibilité!$A$15:$AG$515,10,TRUE)=\"\",\"\",VLOOKUP(A323,eligibilité!$A$15:$AG$515,10,TRUE)))","v":""},{"$f":"IF(A323=\"\",\"\",IF(VLOOKUP(A323,eligibilité!$A$15:$AG$515,30,FALSE)=0,\"\",VLOOKUP(A323,eligibilité!$A$15:$AG$515,30,FALSE)))","v":""},"","","","","","","",1305,"","","","","","","Temps restant : ",""]
[{"$f":"IF(eligibilité!AG326=\"\",\"\",eligibilité!A326)","v":""},{"$f":"IF(A324=\"\",\"\",IF(VLOOKUP(A324,eligibilité!$A$15:$J$515,2,TRUE)=\"\",\"\",VLOOKUP(A324,eligibilité!$A$15:$J$515,2,TRUE)))","v":""},{"$f":"IF(A324=\"\",\"\",IF(VLOOKUP(A324,eligibilité!$A$15:$AG$515,3,TRUE)=\"\",\"\",VLOOKUP(A324,eligibilité!$A$15:$AG$515,3,TRUE)))","v":""},{"$f":"IF(A324=\"\",\"\",IF(VLOOKUP(A324,eligibilité!$A$15:$AG$515,4,TRUE)=\"\",\"\",VLOOKUP(A324,eligibilité!$A$15:$AG$515,4,TRUE)))","v":""},{"$f":"IF(A324=\"\",\"\",IF(VLOOKUP(A324,eligibilité!$A$15:$AG$515,5,TRUE)=\"\",\"\",VLOOKUP(A324,eligibilité!$A$15:$AG$515,5,TRUE)))","v":""},{"$f":"IF(A324=\"\",\"\",IF(VLOOKUP(A324,eligibilité!$A$15:$AG$515,6,TRUE)=\"\",\"\",VLOOKUP(A324,eligibilité!$A$15:$AG$515,6,TRUE)))","v":""},{"$f":"IF(A324=\"\",\"\",IF(VLOOKUP(A324,eligibilité!$A$15:$AG$515,7,TRUE)=\"\",\"\",VLOOKUP(A324,eligibilité!$A$15:$AG$515,7,TRUE)))","v":""},{"$f":"IF(A324=\"\",\"\",IF(VLOOKUP(A324,eligibilité!$A$15:$AG$515,8,TRUE)=\"\",\"\",VLOOKUP(A324,eligibilité!$A$15:$AG$515,8,TRUE)))","v":""},{"$f":"IF(A324=\"\",\"\",IF(VLOOKUP(A324,eligibilité!$A$15:$AG$515,9,TRUE)=\"\",\"\",VLOOKUP(A324,eligibilité!$A$15:$AG$515,9,TRUE)))","v":""},{"$f":"IF(A324=\"\",\"\",IF(VLOOKUP(A324,eligibilité!$A$15:$AG$515,10,TRUE)=\"\",\"\",VLOOKUP(A324,eligibilité!$A$15:$AG$515,10,TRUE)))","v":""},{"$f":"IF(A324=\"\",\"\",IF(VLOOKUP(A324,eligibilité!$A$15:$AG$515,30,FALSE)=0,\"\",VLOOKUP(A324,eligibilité!$A$15:$AG$515,30,FALSE)))","v":""},"","","","","","","",1305,"","","","","","","Temps restant : ",""]
[{"$f":"IF(eligibilité!AG327=\"\",\"\",eligibilité!A327)","v":""},{"$f":"IF(A325=\"\",\"\",IF(VLOOKUP(A325,eligibilité!$A$15:$J$515,2,TRUE)=\"\",\"\",VLOOKUP(A325,eligibilité!$A$15:$J$515,2,TRUE)))","v":""},{"$f":"IF(A325=\"\",\"\",IF(VLOOKUP(A325,eligibilité!$A$15:$AG$515,3,TRUE)=\"\",\"\",VLOOKUP(A325,eligibilité!$A$15:$AG$515,3,TRUE)))","v":""},{"$f":"IF(A325=\"\",\"\",IF(VLOOKUP(A325,eligibilité!$A$15:$AG$515,4,TRUE)=\"\",\"\",VLOOKUP(A325,eligibilité!$A$15:$AG$515,4,TRUE)))","v":""},{"$f":"IF(A325=\"\",\"\",IF(VLOOKUP(A325,eligibilité!$A$15:$AG$515,5,TRUE)=\"\",\"\",VLOOKUP(A325,eligibilité!$A$15:$AG$515,5,TRUE)))","v":""},{"$f":"IF(A325=\"\",\"\",IF(VLOOKUP(A325,eligibilité!$A$15:$AG$515,6,TRUE)=\"\",\"\",VLOOKUP(A325,eligibilité!$A$15:$AG$515,6,TRUE)))","v":""},{"$f":"IF(A325=\"\",\"\",IF(VLOOKUP(A325,eligibilité!$A$15:$AG$515,7,TRUE)=\"\",\"\",VLOOKUP(A325,eligibilité!$A$15:$AG$515,7,TRUE)))","v":""},{"$f":"IF(A325=\"\",\"\",IF(VLOOKUP(A325,eligibilité!$A$15:$AG$515,8,TRUE)=\"\",\"\",VLOOKUP(A325,eligibilité!$A$15:$AG$515,8,TRUE)))","v":""},{"$f":"IF(A325=\"\",\"\",IF(VLOOKUP(A325,eligibilité!$A$15:$AG$515,9,TRUE)=\"\",\"\",VLOOKUP(A325,eligibilité!$A$15:$AG$515,9,TRUE)))","v":""},{"$f":"IF(A325=\"\",\"\",IF(VLOOKUP(A325,eligibilité!$A$15:$AG$515,10,TRUE)=\"\",\"\",VLOOKUP(A325,eligibilité!$A$15:$AG$515,10,TRUE)))","v":""},{"$f":"IF(A325=\"\",\"\",IF(VLOOKUP(A325,eligibilité!$A$15:$AG$515,30,FALSE)=0,\"\",VLOOKUP(A325,eligibilité!$A$15:$AG$515,30,FALSE)))","v":""},"","","","","","","",1305,"","","","","","","Temps restant : ",""]
[{"$f":"IF(eligibilité!AG328=\"\",\"\",eligibilité!A328)","v":""},{"$f":"IF(A326=\"\",\"\",IF(VLOOKUP(A326,eligibilité!$A$15:$J$515,2,TRUE)=\"\",\"\",VLOOKUP(A326,eligibilité!$A$15:$J$515,2,TRUE)))","v":""},{"$f":"IF(A326=\"\",\"\",IF(VLOOKUP(A326,eligibilité!$A$15:$AG$515,3,TRUE)=\"\",\"\",VLOOKUP(A326,eligibilité!$A$15:$AG$515,3,TRUE)))","v":""},{"$f":"IF(A326=\"\",\"\",IF(VLOOKUP(A326,eligibilité!$A$15:$AG$515,4,TRUE)=\"\",\"\",VLOOKUP(A326,eligibilité!$A$15:$AG$515,4,TRUE)))","v":""},{"$f":"IF(A326=\"\",\"\",IF(VLOOKUP(A326,eligibilité!$A$15:$AG$515,5,TRUE)=\"\",\"\",VLOOKUP(A326,eligibilité!$A$15:$AG$515,5,TRUE)))","v":""},{"$f":"IF(A326=\"\",\"\",IF(VLOOKUP(A326,eligibilité!$A$15:$AG$515,6,TRUE)=\"\",\"\",VLOOKUP(A326,eligibilité!$A$15:$AG$515,6,TRUE)))","v":""},{"$f":"IF(A326=\"\",\"\",IF(VLOOKUP(A326,eligibilité!$A$15:$AG$515,7,TRUE)=\"\",\"\",VLOOKUP(A326,eligibilité!$A$15:$AG$515,7,TRUE)))","v":""},{"$f":"IF(A326=\"\",\"\",IF(VLOOKUP(A326,eligibilité!$A$15:$AG$515,8,TRUE)=\"\",\"\",VLOOKUP(A326,eligibilité!$A$15:$AG$515,8,TRUE)))","v":""},{"$f":"IF(A326=\"\",\"\",IF(VLOOKUP(A326,eligibilité!$A$15:$AG$515,9,TRUE)=\"\",\"\",VLOOKUP(A326,eligibilité!$A$15:$AG$515,9,TRUE)))","v":""},{"$f":"IF(A326=\"\",\"\",IF(VLOOKUP(A326,eligibilité!$A$15:$AG$515,10,TRUE)=\"\",\"\",VLOOKUP(A326,eligibilité!$A$15:$AG$515,10,TRUE)))","v":""},{"$f":"IF(A326=\"\",\"\",IF(VLOOKUP(A326,eligibilité!$A$15:$AG$515,30,FALSE)=0,\"\",VLOOKUP(A326,eligibilité!$A$15:$AG$515,30,FALSE)))","v":""},"","","","","","","",1305,"","","","","","","Temps restant : ",""]
[{"$f":"IF(eligibilité!AG329=\"\",\"\",eligibilité!A329)","v":""},{"$f":"IF(A327=\"\",\"\",IF(VLOOKUP(A327,eligibilité!$A$15:$J$515,2,TRUE)=\"\",\"\",VLOOKUP(A327,eligibilité!$A$15:$J$515,2,TRUE)))","v":""},{"$f":"IF(A327=\"\",\"\",IF(VLOOKUP(A327,eligibilité!$A$15:$AG$515,3,TRUE)=\"\",\"\",VLOOKUP(A327,eligibilité!$A$15:$AG$515,3,TRUE)))","v":""},{"$f":"IF(A327=\"\",\"\",IF(VLOOKUP(A327,eligibilité!$A$15:$AG$515,4,TRUE)=\"\",\"\",VLOOKUP(A327,eligibilité!$A$15:$AG$515,4,TRUE)))","v":""},{"$f":"IF(A327=\"\",\"\",IF(VLOOKUP(A327,eligibilité!$A$15:$AG$515,5,TRUE)=\"\",\"\",VLOOKUP(A327,eligibilité!$A$15:$AG$515,5,TRUE)))","v":""},{"$f":"IF(A327=\"\",\"\",IF(VLOOKUP(A327,eligibilité!$A$15:$AG$515,6,TRUE)=\"\",\"\",VLOOKUP(A327,eligibilité!$A$15:$AG$515,6,TRUE)))","v":""},{"$f":"IF(A327=\"\",\"\",IF(VLOOKUP(A327,eligibilité!$A$15:$AG$515,7,TRUE)=\"\",\"\",VLOOKUP(A327,eligibilité!$A$15:$AG$515,7,TRUE)))","v":""},{"$f":"IF(A327=\"\",\"\",IF(VLOOKUP(A327,eligibilité!$A$15:$AG$515,8,TRUE)=\"\",\"\",VLOOKUP(A327,eligibilité!$A$15:$AG$515,8,TRUE)))","v":""},{"$f":"IF(A327=\"\",\"\",IF(VLOOKUP(A327,eligibilité!$A$15:$AG$515,9,TRUE)=\"\",\"\",VLOOKUP(A327,eligibilité!$A$15:$AG$515,9,TRUE)))","v":""},{"$f":"IF(A327=\"\",\"\",IF(VLOOKUP(A327,eligibilité!$A$15:$AG$515,10,TRUE)=\"\",\"\",VLOOKUP(A327,eligibilité!$A$15:$AG$515,10,TRUE)))","v":""},{"$f":"IF(A327=\"\",\"\",IF(VLOOKUP(A327,eligibilité!$A$15:$AG$515,30,FALSE)=0,\"\",VLOOKUP(A327,eligibilité!$A$15:$AG$515,30,FALSE)))","v":""},"","","","","","","",1305,"","","","","","","Temps restant : ",""]
[{"$f":"IF(eligibilité!AG330=\"\",\"\",eligibilité!A330)","v":""},{"$f":"IF(A328=\"\",\"\",IF(VLOOKUP(A328,eligibilité!$A$15:$J$515,2,TRUE)=\"\",\"\",VLOOKUP(A328,eligibilité!$A$15:$J$515,2,TRUE)))","v":""},{"$f":"IF(A328=\"\",\"\",IF(VLOOKUP(A328,eligibilité!$A$15:$AG$515,3,TRUE)=\"\",\"\",VLOOKUP(A328,eligibilité!$A$15:$AG$515,3,TRUE)))","v":""},{"$f":"IF(A328=\"\",\"\",IF(VLOOKUP(A328,eligibilité!$A$15:$AG$515,4,TRUE)=\"\",\"\",VLOOKUP(A328,eligibilité!$A$15:$AG$515,4,TRUE)))","v":""},{"$f":"IF(A328=\"\",\"\",IF(VLOOKUP(A328,eligibilité!$A$15:$AG$515,5,TRUE)=\"\",\"\",VLOOKUP(A328,eligibilité!$A$15:$AG$515,5,TRUE)))","v":""},{"$f":"IF(A328=\"\",\"\",IF(VLOOKUP(A328,eligibilité!$A$15:$AG$515,6,TRUE)=\"\",\"\",VLOOKUP(A328,eligibilité!$A$15:$AG$515,6,TRUE)))","v":""},{"$f":"IF(A328=\"\",\"\",IF(VLOOKUP(A328,eligibilité!$A$15:$AG$515,7,TRUE)=\"\",\"\",VLOOKUP(A328,eligibilité!$A$15:$AG$515,7,TRUE)))","v":""},{"$f":"IF(A328=\"\",\"\",IF(VLOOKUP(A328,eligibilité!$A$15:$AG$515,8,TRUE)=\"\",\"\",VLOOKUP(A328,eligibilité!$A$15:$AG$515,8,TRUE)))","v":""},{"$f":"IF(A328=\"\",\"\",IF(VLOOKUP(A328,eligibilité!$A$15:$AG$515,9,TRUE)=\"\",\"\",VLOOKUP(A328,eligibilité!$A$15:$AG$515,9,TRUE)))","v":""},{"$f":"IF(A328=\"\",\"\",IF(VLOOKUP(A328,eligibilité!$A$15:$AG$515,10,TRUE)=\"\",\"\",VLOOKUP(A328,eligibilité!$A$15:$AG$515,10,TRUE)))","v":""},{"$f":"IF(A328=\"\",\"\",IF(VLOOKUP(A328,eligibilité!$A$15:$AG$515,30,FALSE)=0,\"\",VLOOKUP(A328,eligibilité!$A$15:$AG$515,30,FALSE)))","v":""},"","","","","","","",1305,"","","","","","","Temps restant : ",""]
[{"$f":"IF(eligibilité!AG331=\"\",\"\",eligibilité!A331)","v":""},{"$f":"IF(A329=\"\",\"\",IF(VLOOKUP(A329,eligibilité!$A$15:$J$515,2,TRUE)=\"\",\"\",VLOOKUP(A329,eligibilité!$A$15:$J$515,2,TRUE)))","v":""},{"$f":"IF(A329=\"\",\"\",IF(VLOOKUP(A329,eligibilité!$A$15:$AG$515,3,TRUE)=\"\",\"\",VLOOKUP(A329,eligibilité!$A$15:$AG$515,3,TRUE)))","v":""},{"$f":"IF(A329=\"\",\"\",IF(VLOOKUP(A329,eligibilité!$A$15:$AG$515,4,TRUE)=\"\",\"\",VLOOKUP(A329,eligibilité!$A$15:$AG$515,4,TRUE)))","v":""},{"$f":"IF(A329=\"\",\"\",IF(VLOOKUP(A329,eligibilité!$A$15:$AG$515,5,TRUE)=\"\",\"\",VLOOKUP(A329,eligibilité!$A$15:$AG$515,5,TRUE)))","v":""},{"$f":"IF(A329=\"\",\"\",IF(VLOOKUP(A329,eligibilité!$A$15:$AG$515,6,TRUE)=\"\",\"\",VLOOKUP(A329,eligibilité!$A$15:$AG$515,6,TRUE)))","v":""},{"$f":"IF(A329=\"\",\"\",IF(VLOOKUP(A329,eligibilité!$A$15:$AG$515,7,TRUE)=\"\",\"\",VLOOKUP(A329,eligibilité!$A$15:$AG$515,7,TRUE)))","v":""},{"$f":"IF(A329=\"\",\"\",IF(VLOOKUP(A329,eligibilité!$A$15:$AG$515,8,TRUE)=\"\",\"\",VLOOKUP(A329,eligibilité!$A$15:$AG$515,8,TRUE)))","v":""},{"$f":"IF(A329=\"\",\"\",IF(VLOOKUP(A329,eligibilité!$A$15:$AG$515,9,TRUE)=\"\",\"\",VLOOKUP(A329,eligibilité!$A$15:$AG$515,9,TRUE)))","v":""},{"$f":"IF(A329=\"\",\"\",IF(VLOOKUP(A329,eligibilité!$A$15:$AG$515,10,TRUE)=\"\",\"\",VLOOKUP(A329,eligibilité!$A$15:$AG$515,10,TRUE)))","v":""},{"$f":"IF(A329=\"\",\"\",IF(VLOOKUP(A329,eligibilité!$A$15:$AG$515,30,FALSE)=0,\"\",VLOOKUP(A329,eligibilité!$A$15:$AG$515,30,FALSE)))","v":""},"","","","","","","",1305,"","","","","","","Temps restant : ",""]
[{"$f":"IF(eligibilité!AG332=\"\",\"\",eligibilité!A332)","v":""},{"$f":"IF(A330=\"\",\"\",IF(VLOOKUP(A330,eligibilité!$A$15:$J$515,2,TRUE)=\"\",\"\",VLOOKUP(A330,eligibilité!$A$15:$J$515,2,TRUE)))","v":""},{"$f":"IF(A330=\"\",\"\",IF(VLOOKUP(A330,eligibilité!$A$15:$AG$515,3,TRUE)=\"\",\"\",VLOOKUP(A330,eligibilité!$A$15:$AG$515,3,TRUE)))","v":""},{"$f":"IF(A330=\"\",\"\",IF(VLOOKUP(A330,eligibilité!$A$15:$AG$515,4,TRUE)=\"\",\"\",VLOOKUP(A330,eligibilité!$A$15:$AG$515,4,TRUE)))","v":""},{"$f":"IF(A330=\"\",\"\",IF(VLOOKUP(A330,eligibilité!$A$15:$AG$515,5,TRUE)=\"\",\"\",VLOOKUP(A330,eligibilité!$A$15:$AG$515,5,TRUE)))","v":""},{"$f":"IF(A330=\"\",\"\",IF(VLOOKUP(A330,eligibilité!$A$15:$AG$515,6,TRUE)=\"\",\"\",VLOOKUP(A330,eligibilité!$A$15:$AG$515,6,TRUE)))","v":""},{"$f":"IF(A330=\"\",\"\",IF(VLOOKUP(A330,eligibilité!$A$15:$AG$515,7,TRUE)=\"\",\"\",VLOOKUP(A330,eligibilité!$A$15:$AG$515,7,TRUE)))","v":""},{"$f":"IF(A330=\"\",\"\",IF(VLOOKUP(A330,eligibilité!$A$15:$AG$515,8,TRUE)=\"\",\"\",VLOOKUP(A330,eligibilité!$A$15:$AG$515,8,TRUE)))","v":""},{"$f":"IF(A330=\"\",\"\",IF(VLOOKUP(A330,eligibilité!$A$15:$AG$515,9,TRUE)=\"\",\"\",VLOOKUP(A330,eligibilité!$A$15:$AG$515,9,TRUE)))","v":""},{"$f":"IF(A330=\"\",\"\",IF(VLOOKUP(A330,eligibilité!$A$15:$AG$515,10,TRUE)=\"\",\"\",VLOOKUP(A330,eligibilité!$A$15:$AG$515,10,TRUE)))","v":""},{"$f":"IF(A330=\"\",\"\",IF(VLOOKUP(A330,eligibilité!$A$15:$AG$515,30,FALSE)=0,\"\",VLOOKUP(A330,eligibilité!$A$15:$AG$515,30,FALSE)))","v":""},"","","","","","","",1305,"","","","","","","Temps restant : ",""]
[{"$f":"IF(eligibilité!AG333=\"\",\"\",eligibilité!A333)","v":""},{"$f":"IF(A331=\"\",\"\",IF(VLOOKUP(A331,eligibilité!$A$15:$J$515,2,TRUE)=\"\",\"\",VLOOKUP(A331,eligibilité!$A$15:$J$515,2,TRUE)))","v":""},{"$f":"IF(A331=\"\",\"\",IF(VLOOKUP(A331,eligibilité!$A$15:$AG$515,3,TRUE)=\"\",\"\",VLOOKUP(A331,eligibilité!$A$15:$AG$515,3,TRUE)))","v":""},{"$f":"IF(A331=\"\",\"\",IF(VLOOKUP(A331,eligibilité!$A$15:$AG$515,4,TRUE)=\"\",\"\",VLOOKUP(A331,eligibilité!$A$15:$AG$515,4,TRUE)))","v":""},{"$f":"IF(A331=\"\",\"\",IF(VLOOKUP(A331,eligibilité!$A$15:$AG$515,5,TRUE)=\"\",\"\",VLOOKUP(A331,eligibilité!$A$15:$AG$515,5,TRUE)))","v":""},{"$f":"IF(A331=\"\",\"\",IF(VLOOKUP(A331,eligibilité!$A$15:$AG$515,6,TRUE)=\"\",\"\",VLOOKUP(A331,eligibilité!$A$15:$AG$515,6,TRUE)))","v":""},{"$f":"IF(A331=\"\",\"\",IF(VLOOKUP(A331,eligibilité!$A$15:$AG$515,7,TRUE)=\"\",\"\",VLOOKUP(A331,eligibilité!$A$15:$AG$515,7,TRUE)))","v":""},{"$f":"IF(A331=\"\",\"\",IF(VLOOKUP(A331,eligibilité!$A$15:$AG$515,8,TRUE)=\"\",\"\",VLOOKUP(A331,eligibilité!$A$15:$AG$515,8,TRUE)))","v":""},{"$f":"IF(A331=\"\",\"\",IF(VLOOKUP(A331,eligibilité!$A$15:$AG$515,9,TRUE)=\"\",\"\",VLOOKUP(A331,eligibilité!$A$15:$AG$515,9,TRUE)))","v":""},{"$f":"IF(A331=\"\",\"\",IF(VLOOKUP(A331,eligibilité!$A$15:$AG$515,10,TRUE)=\"\",\"\",VLOOKUP(A331,eligibilité!$A$15:$AG$515,10,TRUE)))","v":""},{"$f":"IF(A331=\"\",\"\",IF(VLOOKUP(A331,eligibilité!$A$15:$AG$515,30,FALSE)=0,\"\",VLOOKUP(A331,eligibilité!$A$15:$AG$515,30,FALSE)))","v":""},"","","","","","","",1305,"","","","","","","Temps restant : ",""]
[{"$f":"IF(eligibilité!AG334=\"\",\"\",eligibilité!A334)","v":""},{"$f":"IF(A332=\"\",\"\",IF(VLOOKUP(A332,eligibilité!$A$15:$J$515,2,TRUE)=\"\",\"\",VLOOKUP(A332,eligibilité!$A$15:$J$515,2,TRUE)))","v":""},{"$f":"IF(A332=\"\",\"\",IF(VLOOKUP(A332,eligibilité!$A$15:$AG$515,3,TRUE)=\"\",\"\",VLOOKUP(A332,eligibilité!$A$15:$AG$515,3,TRUE)))","v":""},{"$f":"IF(A332=\"\",\"\",IF(VLOOKUP(A332,eligibilité!$A$15:$AG$515,4,TRUE)=\"\",\"\",VLOOKUP(A332,eligibilité!$A$15:$AG$515,4,TRUE)))","v":""},{"$f":"IF(A332=\"\",\"\",IF(VLOOKUP(A332,eligibilité!$A$15:$AG$515,5,TRUE)=\"\",\"\",VLOOKUP(A332,eligibilité!$A$15:$AG$515,5,TRUE)))","v":""},{"$f":"IF(A332=\"\",\"\",IF(VLOOKUP(A332,eligibilité!$A$15:$AG$515,6,TRUE)=\"\",\"\",VLOOKUP(A332,eligibilité!$A$15:$AG$515,6,TRUE)))","v":""},{"$f":"IF(A332=\"\",\"\",IF(VLOOKUP(A332,eligibilité!$A$15:$AG$515,7,TRUE)=\"\",\"\",VLOOKUP(A332,eligibilité!$A$15:$AG$515,7,TRUE)))","v":""},{"$f":"IF(A332=\"\",\"\",IF(VLOOKUP(A332,eligibilité!$A$15:$AG$515,8,TRUE)=\"\",\"\",VLOOKUP(A332,eligibilité!$A$15:$AG$515,8,TRUE)))","v":""},{"$f":"IF(A332=\"\",\"\",IF(VLOOKUP(A332,eligibilité!$A$15:$AG$515,9,TRUE)=\"\",\"\",VLOOKUP(A332,eligibilité!$A$15:$AG$515,9,TRUE)))","v":""},{"$f":"IF(A332=\"\",\"\",IF(VLOOKUP(A332,eligibilité!$A$15:$AG$515,10,TRUE)=\"\",\"\",VLOOKUP(A332,eligibilité!$A$15:$AG$515,10,TRUE)))","v":""},{"$f":"IF(A332=\"\",\"\",IF(VLOOKUP(A332,eligibilité!$A$15:$AG$515,30,FALSE)=0,\"\",VLOOKUP(A332,eligibilité!$A$15:$AG$515,30,FALSE)))","v":""},"","","","","","","",1305,"","","","","","","Temps restant : ",""]
[{"$f":"IF(eligibilité!AG335=\"\",\"\",eligibilité!A335)","v":""},{"$f":"IF(A333=\"\",\"\",IF(VLOOKUP(A333,eligibilité!$A$15:$J$515,2,TRUE)=\"\",\"\",VLOOKUP(A333,eligibilité!$A$15:$J$515,2,TRUE)))","v":""},{"$f":"IF(A333=\"\",\"\",IF(VLOOKUP(A333,eligibilité!$A$15:$AG$515,3,TRUE)=\"\",\"\",VLOOKUP(A333,eligibilité!$A$15:$AG$515,3,TRUE)))","v":""},{"$f":"IF(A333=\"\",\"\",IF(VLOOKUP(A333,eligibilité!$A$15:$AG$515,4,TRUE)=\"\",\"\",VLOOKUP(A333,eligibilité!$A$15:$AG$515,4,TRUE)))","v":""},{"$f":"IF(A333=\"\",\"\",IF(VLOOKUP(A333,eligibilité!$A$15:$AG$515,5,TRUE)=\"\",\"\",VLOOKUP(A333,eligibilité!$A$15:$AG$515,5,TRUE)))","v":""},{"$f":"IF(A333=\"\",\"\",IF(VLOOKUP(A333,eligibilité!$A$15:$AG$515,6,TRUE)=\"\",\"\",VLOOKUP(A333,eligibilité!$A$15:$AG$515,6,TRUE)))","v":""},{"$f":"IF(A333=\"\",\"\",IF(VLOOKUP(A333,eligibilité!$A$15:$AG$515,7,TRUE)=\"\",\"\",VLOOKUP(A333,eligibilité!$A$15:$AG$515,7,TRUE)))","v":""},{"$f":"IF(A333=\"\",\"\",IF(VLOOKUP(A333,eligibilité!$A$15:$AG$515,8,TRUE)=\"\",\"\",VLOOKUP(A333,eligibilité!$A$15:$AG$515,8,TRUE)))","v":""},{"$f":"IF(A333=\"\",\"\",IF(VLOOKUP(A333,eligibilité!$A$15:$AG$515,9,TRUE)=\"\",\"\",VLOOKUP(A333,eligibilité!$A$15:$AG$515,9,TRUE)))","v":""},{"$f":"IF(A333=\"\",\"\",IF(VLOOKUP(A333,eligibilité!$A$15:$AG$515,10,TRUE)=\"\",\"\",VLOOKUP(A333,eligibilité!$A$15:$AG$515,10,TRUE)))","v":""},{"$f":"IF(A333=\"\",\"\",IF(VLOOKUP(A333,eligibilité!$A$15:$AG$515,30,FALSE)=0,\"\",VLOOKUP(A333,eligibilité!$A$15:$AG$515,30,FALSE)))","v":""},"","","","","","","",1305,"","","","","","","Temps restant : ",""]
[{"$f":"IF(eligibilité!AG336=\"\",\"\",eligibilité!A336)","v":""},{"$f":"IF(A334=\"\",\"\",IF(VLOOKUP(A334,eligibilité!$A$15:$J$515,2,TRUE)=\"\",\"\",VLOOKUP(A334,eligibilité!$A$15:$J$515,2,TRUE)))","v":""},{"$f":"IF(A334=\"\",\"\",IF(VLOOKUP(A334,eligibilité!$A$15:$AG$515,3,TRUE)=\"\",\"\",VLOOKUP(A334,eligibilité!$A$15:$AG$515,3,TRUE)))","v":""},{"$f":"IF(A334=\"\",\"\",IF(VLOOKUP(A334,eligibilité!$A$15:$AG$515,4,TRUE)=\"\",\"\",VLOOKUP(A334,eligibilité!$A$15:$AG$515,4,TRUE)))","v":""},{"$f":"IF(A334=\"\",\"\",IF(VLOOKUP(A334,eligibilité!$A$15:$AG$515,5,TRUE)=\"\",\"\",VLOOKUP(A334,eligibilité!$A$15:$AG$515,5,TRUE)))","v":""},{"$f":"IF(A334=\"\",\"\",IF(VLOOKUP(A334,eligibilité!$A$15:$AG$515,6,TRUE)=\"\",\"\",VLOOKUP(A334,eligibilité!$A$15:$AG$515,6,TRUE)))","v":""},{"$f":"IF(A334=\"\",\"\",IF(VLOOKUP(A334,eligibilité!$A$15:$AG$515,7,TRUE)=\"\",\"\",VLOOKUP(A334,eligibilité!$A$15:$AG$515,7,TRUE)))","v":""},{"$f":"IF(A334=\"\",\"\",IF(VLOOKUP(A334,eligibilité!$A$15:$AG$515,8,TRUE)=\"\",\"\",VLOOKUP(A334,eligibilité!$A$15:$AG$515,8,TRUE)))","v":""},{"$f":"IF(A334=\"\",\"\",IF(VLOOKUP(A334,eligibilité!$A$15:$AG$515,9,TRUE)=\"\",\"\",VLOOKUP(A334,eligibilité!$A$15:$AG$515,9,TRUE)))","v":""},{"$f":"IF(A334=\"\",\"\",IF(VLOOKUP(A334,eligibilité!$A$15:$AG$515,10,TRUE)=\"\",\"\",VLOOKUP(A334,eligibilité!$A$15:$AG$515,10,TRUE)))","v":""},{"$f":"IF(A334=\"\",\"\",IF(VLOOKUP(A334,eligibilité!$A$15:$AG$515,30,FALSE)=0,\"\",VLOOKUP(A334,eligibilité!$A$15:$AG$515,30,FALSE)))","v":""},{"$f":"IF(K334=\"\",\"\",48-K334)","v":""},{"$f":"IF(L334=\"\",\"\",INT(L334/12))","v":""},{"$f":"IF(L334=\"\",\"\",(L334-M334*12))","v":""},{"$f":"IF(L334=\"\",\"\",INT(N334))","v":""},{"$f":"IF(L334=\"\",\"\",ROUNDDOWN((N334-O334)*30.44,0))","v":""},{"$f":"IF(K334=\"\",\"\",CONCATENATE(M334,\" an(s) \",O334,\" mois \",P334,\" jour(s)\"))","v":""},{"$f":"IF(K334=\"\",\"\",M334*365.25+O334*30.44+P334)","v":""},1305,{"$f":"IF(R334=\"\",\"\",R334-S334)","v":""},{"$f":"IF(L334=\"\",\"\",IF(T334<=365.25,0,INT(T334/365.25)))","v":""},{"$f":"IF(T334=\"\",\"\",T334-U334)","v":""},{"$f":"IF(L334=\"\",\"\",IF(U334=0,(T334/30.44),(T334/30.44)-12))","v":""},{"$f":"IF(W334=\"\",\"\",ABS(ROUNDDOWN(W334,0)))","v":""},{"$f":"IF(T334=\"\",\"\",ROUNDDOWN(ABS(W334-ROUNDDOWN(W334,0))*30.44,0))","v":""},{"$f":"IF(T334<=0,\"Temps écoulé depuis : \",\"Temps restant : \")","v":"Temps restant : "},{"$f":"IF(L334=\"\",\"\",CONCATENATE(Z334,U334,\" an(s) \",X334,\" mois \",Y334,\" jour(s) \"))","v":""}]
[{"$f":"IF(eligibilité!AG337=\"\",\"\",eligibilité!A337)","v":""},{"$f":"IF(A335=\"\",\"\",IF(VLOOKUP(A335,eligibilité!$A$15:$J$515,2,TRUE)=\"\",\"\",VLOOKUP(A335,eligibilité!$A$15:$J$515,2,TRUE)))","v":""},{"$f":"IF(A335=\"\",\"\",IF(VLOOKUP(A335,eligibilité!$A$15:$AG$515,3,TRUE)=\"\",\"\",VLOOKUP(A335,eligibilité!$A$15:$AG$515,3,TRUE)))","v":""},{"$f":"IF(A335=\"\",\"\",IF(VLOOKUP(A335,eligibilité!$A$15:$AG$515,4,TRUE)=\"\",\"\",VLOOKUP(A335,eligibilité!$A$15:$AG$515,4,TRUE)))","v":""},{"$f":"IF(A335=\"\",\"\",IF(VLOOKUP(A335,eligibilité!$A$15:$AG$515,5,TRUE)=\"\",\"\",VLOOKUP(A335,eligibilité!$A$15:$AG$515,5,TRUE)))","v":""},{"$f":"IF(A335=\"\",\"\",IF(VLOOKUP(A335,eligibilité!$A$15:$AG$515,6,TRUE)=\"\",\"\",VLOOKUP(A335,eligibilité!$A$15:$AG$515,6,TRUE)))","v":""},{"$f":"IF(A335=\"\",\"\",IF(VLOOKUP(A335,eligibilité!$A$15:$AG$515,7,TRUE)=\"\",\"\",VLOOKUP(A335,eligibilité!$A$15:$AG$515,7,TRUE)))","v":""},{"$f":"IF(A335=\"\",\"\",IF(VLOOKUP(A335,eligibilité!$A$15:$AG$515,8,TRUE)=\"\",\"\",VLOOKUP(A335,eligibilité!$A$15:$AG$515,8,TRUE)))","v":""},{"$f":"IF(A335=\"\",\"\",IF(VLOOKUP(A335,eligibilité!$A$15:$AG$515,9,TRUE)=\"\",\"\",VLOOKUP(A335,eligibilité!$A$15:$AG$515,9,TRUE)))","v":""},{"$f":"IF(A335=\"\",\"\",IF(VLOOKUP(A335,eligibilité!$A$15:$AG$515,10,TRUE)=\"\",\"\",VLOOKUP(A335,eligibilité!$A$15:$AG$515,10,TRUE)))","v":""},{"$f":"IF(A335=\"\",\"\",IF(VLOOKUP(A335,eligibilité!$A$15:$AG$515,30,FALSE)=0,\"\",VLOOKUP(A335,eligibilité!$A$15:$AG$515,30,FALSE)))","v":""},"","","","","","","",{"$f":"TODAY()-DATE(2013,4,1)","v":1305},"","","","","","","Temps restant : ",""]
[{"$f":"IF(eligibilité!AG338=\"\",\"\",eligibilité!A338)","v":""},{"$f":"IF(A336=\"\",\"\",IF(VLOOKUP(A336,eligibilité!$A$15:$J$515,2,TRUE)=\"\",\"\",VLOOKUP(A336,eligibilité!$A$15:$J$515,2,TRUE)))","v":""},{"$f":"IF(A336=\"\",\"\",IF(VLOOKUP(A336,eligibilité!$A$15:$AG$515,3,TRUE)=\"\",\"\",VLOOKUP(A336,eligibilité!$A$15:$AG$515,3,TRUE)))","v":""},{"$f":"IF(A336=\"\",\"\",IF(VLOOKUP(A336,eligibilité!$A$15:$AG$515,4,TRUE)=\"\",\"\",VLOOKUP(A336,eligibilité!$A$15:$AG$515,4,TRUE)))","v":""},{"$f":"IF(A336=\"\",\"\",IF(VLOOKUP(A336,eligibilité!$A$15:$AG$515,5,TRUE)=\"\",\"\",VLOOKUP(A336,eligibilité!$A$15:$AG$515,5,TRUE)))","v":""},{"$f":"IF(A336=\"\",\"\",IF(VLOOKUP(A336,eligibilité!$A$15:$AG$515,6,TRUE)=\"\",\"\",VLOOKUP(A336,eligibilité!$A$15:$AG$515,6,TRUE)))","v":""},{"$f":"IF(A336=\"\",\"\",IF(VLOOKUP(A336,eligibilité!$A$15:$AG$515,7,TRUE)=\"\",\"\",VLOOKUP(A336,eligibilité!$A$15:$AG$515,7,TRUE)))","v":""},{"$f":"IF(A336=\"\",\"\",IF(VLOOKUP(A336,eligibilité!$A$15:$AG$515,8,TRUE)=\"\",\"\",VLOOKUP(A336,eligibilité!$A$15:$AG$515,8,TRUE)))","v":""},{"$f":"IF(A336=\"\",\"\",IF(VLOOKUP(A336,eligibilité!$A$15:$AG$515,9,TRUE)=\"\",\"\",VLOOKUP(A336,eligibilité!$A$15:$AG$515,9,TRUE)))","v":""},{"$f":"IF(A336=\"\",\"\",IF(VLOOKUP(A336,eligibilité!$A$15:$AG$515,10,TRUE)=\"\",\"\",VLOOKUP(A336,eligibilité!$A$15:$AG$515,10,TRUE)))","v":""},{"$f":"IF(A336=\"\",\"\",IF(VLOOKUP(A336,eligibilité!$A$15:$AG$515,30,FALSE)=0,\"\",VLOOKUP(A336,eligibilité!$A$15:$AG$515,30,FALSE)))","v":""},"","","","","","","",1305,"","","","","","","Temps restant : ",""]
[{"$f":"IF(eligibilité!AG339=\"\",\"\",eligibilité!A339)","v":""},{"$f":"IF(A337=\"\",\"\",IF(VLOOKUP(A337,eligibilité!$A$15:$J$515,2,TRUE)=\"\",\"\",VLOOKUP(A337,eligibilité!$A$15:$J$515,2,TRUE)))","v":""},{"$f":"IF(A337=\"\",\"\",IF(VLOOKUP(A337,eligibilité!$A$15:$AG$515,3,TRUE)=\"\",\"\",VLOOKUP(A337,eligibilité!$A$15:$AG$515,3,TRUE)))","v":""},{"$f":"IF(A337=\"\",\"\",IF(VLOOKUP(A337,eligibilité!$A$15:$AG$515,4,TRUE)=\"\",\"\",VLOOKUP(A337,eligibilité!$A$15:$AG$515,4,TRUE)))","v":""},{"$f":"IF(A337=\"\",\"\",IF(VLOOKUP(A337,eligibilité!$A$15:$AG$515,5,TRUE)=\"\",\"\",VLOOKUP(A337,eligibilité!$A$15:$AG$515,5,TRUE)))","v":""},{"$f":"IF(A337=\"\",\"\",IF(VLOOKUP(A337,eligibilité!$A$15:$AG$515,6,TRUE)=\"\",\"\",VLOOKUP(A337,eligibilité!$A$15:$AG$515,6,TRUE)))","v":""},{"$f":"IF(A337=\"\",\"\",IF(VLOOKUP(A337,eligibilité!$A$15:$AG$515,7,TRUE)=\"\",\"\",VLOOKUP(A337,eligibilité!$A$15:$AG$515,7,TRUE)))","v":""},{"$f":"IF(A337=\"\",\"\",IF(VLOOKUP(A337,eligibilité!$A$15:$AG$515,8,TRUE)=\"\",\"\",VLOOKUP(A337,eligibilité!$A$15:$AG$515,8,TRUE)))","v":""},{"$f":"IF(A337=\"\",\"\",IF(VLOOKUP(A337,eligibilité!$A$15:$AG$515,9,TRUE)=\"\",\"\",VLOOKUP(A337,eligibilité!$A$15:$AG$515,9,TRUE)))","v":""},{"$f":"IF(A337=\"\",\"\",IF(VLOOKUP(A337,eligibilité!$A$15:$AG$515,10,TRUE)=\"\",\"\",VLOOKUP(A337,eligibilité!$A$15:$AG$515,10,TRUE)))","v":""},{"$f":"IF(A337=\"\",\"\",IF(VLOOKUP(A337,eligibilité!$A$15:$AG$515,30,FALSE)=0,\"\",VLOOKUP(A337,eligibilité!$A$15:$AG$515,30,FALSE)))","v":""},"","","","","","","",1305,"","","","","","","Temps restant : ",""]
[{"$f":"IF(eligibilité!AG340=\"\",\"\",eligibilité!A340)","v":""},{"$f":"IF(A338=\"\",\"\",IF(VLOOKUP(A338,eligibilité!$A$15:$J$515,2,TRUE)=\"\",\"\",VLOOKUP(A338,eligibilité!$A$15:$J$515,2,TRUE)))","v":""},{"$f":"IF(A338=\"\",\"\",IF(VLOOKUP(A338,eligibilité!$A$15:$AG$515,3,TRUE)=\"\",\"\",VLOOKUP(A338,eligibilité!$A$15:$AG$515,3,TRUE)))","v":""},{"$f":"IF(A338=\"\",\"\",IF(VLOOKUP(A338,eligibilité!$A$15:$AG$515,4,TRUE)=\"\",\"\",VLOOKUP(A338,eligibilité!$A$15:$AG$515,4,TRUE)))","v":""},{"$f":"IF(A338=\"\",\"\",IF(VLOOKUP(A338,eligibilité!$A$15:$AG$515,5,TRUE)=\"\",\"\",VLOOKUP(A338,eligibilité!$A$15:$AG$515,5,TRUE)))","v":""},{"$f":"IF(A338=\"\",\"\",IF(VLOOKUP(A338,eligibilité!$A$15:$AG$515,6,TRUE)=\"\",\"\",VLOOKUP(A338,eligibilité!$A$15:$AG$515,6,TRUE)))","v":""},{"$f":"IF(A338=\"\",\"\",IF(VLOOKUP(A338,eligibilité!$A$15:$AG$515,7,TRUE)=\"\",\"\",VLOOKUP(A338,eligibilité!$A$15:$AG$515,7,TRUE)))","v":""},{"$f":"IF(A338=\"\",\"\",IF(VLOOKUP(A338,eligibilité!$A$15:$AG$515,8,TRUE)=\"\",\"\",VLOOKUP(A338,eligibilité!$A$15:$AG$515,8,TRUE)))","v":""},{"$f":"IF(A338=\"\",\"\",IF(VLOOKUP(A338,eligibilité!$A$15:$AG$515,9,TRUE)=\"\",\"\",VLOOKUP(A338,eligibilité!$A$15:$AG$515,9,TRUE)))","v":""},{"$f":"IF(A338=\"\",\"\",IF(VLOOKUP(A338,eligibilité!$A$15:$AG$515,10,TRUE)=\"\",\"\",VLOOKUP(A338,eligibilité!$A$15:$AG$515,10,TRUE)))","v":""},{"$f":"IF(A338=\"\",\"\",IF(VLOOKUP(A338,eligibilité!$A$15:$AG$515,30,FALSE)=0,\"\",VLOOKUP(A338,eligibilité!$A$15:$AG$515,30,FALSE)))","v":""},"","","","","","","",1305,"","","","","","","Temps restant : ",""]
[{"$f":"IF(eligibilité!AG341=\"\",\"\",eligibilité!A341)","v":""},{"$f":"IF(A339=\"\",\"\",IF(VLOOKUP(A339,eligibilité!$A$15:$J$515,2,TRUE)=\"\",\"\",VLOOKUP(A339,eligibilité!$A$15:$J$515,2,TRUE)))","v":""},{"$f":"IF(A339=\"\",\"\",IF(VLOOKUP(A339,eligibilité!$A$15:$AG$515,3,TRUE)=\"\",\"\",VLOOKUP(A339,eligibilité!$A$15:$AG$515,3,TRUE)))","v":""},{"$f":"IF(A339=\"\",\"\",IF(VLOOKUP(A339,eligibilité!$A$15:$AG$515,4,TRUE)=\"\",\"\",VLOOKUP(A339,eligibilité!$A$15:$AG$515,4,TRUE)))","v":""},{"$f":"IF(A339=\"\",\"\",IF(VLOOKUP(A339,eligibilité!$A$15:$AG$515,5,TRUE)=\"\",\"\",VLOOKUP(A339,eligibilité!$A$15:$AG$515,5,TRUE)))","v":""},{"$f":"IF(A339=\"\",\"\",IF(VLOOKUP(A339,eligibilité!$A$15:$AG$515,6,TRUE)=\"\",\"\",VLOOKUP(A339,eligibilité!$A$15:$AG$515,6,TRUE)))","v":""},{"$f":"IF(A339=\"\",\"\",IF(VLOOKUP(A339,eligibilité!$A$15:$AG$515,7,TRUE)=\"\",\"\",VLOOKUP(A339,eligibilité!$A$15:$AG$515,7,TRUE)))","v":""},{"$f":"IF(A339=\"\",\"\",IF(VLOOKUP(A339,eligibilité!$A$15:$AG$515,8,TRUE)=\"\",\"\",VLOOKUP(A339,eligibilité!$A$15:$AG$515,8,TRUE)))","v":""},{"$f":"IF(A339=\"\",\"\",IF(VLOOKUP(A339,eligibilité!$A$15:$AG$515,9,TRUE)=\"\",\"\",VLOOKUP(A339,eligibilité!$A$15:$AG$515,9,TRUE)))","v":""},{"$f":"IF(A339=\"\",\"\",IF(VLOOKUP(A339,eligibilité!$A$15:$AG$515,10,TRUE)=\"\",\"\",VLOOKUP(A339,eligibilité!$A$15:$AG$515,10,TRUE)))","v":""},{"$f":"IF(A339=\"\",\"\",IF(VLOOKUP(A339,eligibilité!$A$15:$AG$515,30,FALSE)=0,\"\",VLOOKUP(A339,eligibilité!$A$15:$AG$515,30,FALSE)))","v":""},"","","","","","","",1305,"","","","","","","Temps restant : ",""]
[{"$f":"IF(eligibilité!AG342=\"\",\"\",eligibilité!A342)","v":""},{"$f":"IF(A340=\"\",\"\",IF(VLOOKUP(A340,eligibilité!$A$15:$J$515,2,TRUE)=\"\",\"\",VLOOKUP(A340,eligibilité!$A$15:$J$515,2,TRUE)))","v":""},{"$f":"IF(A340=\"\",\"\",IF(VLOOKUP(A340,eligibilité!$A$15:$AG$515,3,TRUE)=\"\",\"\",VLOOKUP(A340,eligibilité!$A$15:$AG$515,3,TRUE)))","v":""},{"$f":"IF(A340=\"\",\"\",IF(VLOOKUP(A340,eligibilité!$A$15:$AG$515,4,TRUE)=\"\",\"\",VLOOKUP(A340,eligibilité!$A$15:$AG$515,4,TRUE)))","v":""},{"$f":"IF(A340=\"\",\"\",IF(VLOOKUP(A340,eligibilité!$A$15:$AG$515,5,TRUE)=\"\",\"\",VLOOKUP(A340,eligibilité!$A$15:$AG$515,5,TRUE)))","v":""},{"$f":"IF(A340=\"\",\"\",IF(VLOOKUP(A340,eligibilité!$A$15:$AG$515,6,TRUE)=\"\",\"\",VLOOKUP(A340,eligibilité!$A$15:$AG$515,6,TRUE)))","v":""},{"$f":"IF(A340=\"\",\"\",IF(VLOOKUP(A340,eligibilité!$A$15:$AG$515,7,TRUE)=\"\",\"\",VLOOKUP(A340,eligibilité!$A$15:$AG$515,7,TRUE)))","v":""},{"$f":"IF(A340=\"\",\"\",IF(VLOOKUP(A340,eligibilité!$A$15:$AG$515,8,TRUE)=\"\",\"\",VLOOKUP(A340,eligibilité!$A$15:$AG$515,8,TRUE)))","v":""},{"$f":"IF(A340=\"\",\"\",IF(VLOOKUP(A340,eligibilité!$A$15:$AG$515,9,TRUE)=\"\",\"\",VLOOKUP(A340,eligibilité!$A$15:$AG$515,9,TRUE)))","v":""},{"$f":"IF(A340=\"\",\"\",IF(VLOOKUP(A340,eligibilité!$A$15:$AG$515,10,TRUE)=\"\",\"\",VLOOKUP(A340,eligibilité!$A$15:$AG$515,10,TRUE)))","v":""},{"$f":"IF(A340=\"\",\"\",IF(VLOOKUP(A340,eligibilité!$A$15:$AG$515,30,FALSE)=0,\"\",VLOOKUP(A340,eligibilité!$A$15:$AG$515,30,FALSE)))","v":""},"","","","","","","",1305,"","","","","","","Temps restant : ",""]
[{"$f":"IF(eligibilité!AG343=\"\",\"\",eligibilité!A343)","v":""},{"$f":"IF(A341=\"\",\"\",IF(VLOOKUP(A341,eligibilité!$A$15:$J$515,2,TRUE)=\"\",\"\",VLOOKUP(A341,eligibilité!$A$15:$J$515,2,TRUE)))","v":""},{"$f":"IF(A341=\"\",\"\",IF(VLOOKUP(A341,eligibilité!$A$15:$AG$515,3,TRUE)=\"\",\"\",VLOOKUP(A341,eligibilité!$A$15:$AG$515,3,TRUE)))","v":""},{"$f":"IF(A341=\"\",\"\",IF(VLOOKUP(A341,eligibilité!$A$15:$AG$515,4,TRUE)=\"\",\"\",VLOOKUP(A341,eligibilité!$A$15:$AG$515,4,TRUE)))","v":""},{"$f":"IF(A341=\"\",\"\",IF(VLOOKUP(A341,eligibilité!$A$15:$AG$515,5,TRUE)=\"\",\"\",VLOOKUP(A341,eligibilité!$A$15:$AG$515,5,TRUE)))","v":""},{"$f":"IF(A341=\"\",\"\",IF(VLOOKUP(A341,eligibilité!$A$15:$AG$515,6,TRUE)=\"\",\"\",VLOOKUP(A341,eligibilité!$A$15:$AG$515,6,TRUE)))","v":""},{"$f":"IF(A341=\"\",\"\",IF(VLOOKUP(A341,eligibilité!$A$15:$AG$515,7,TRUE)=\"\",\"\",VLOOKUP(A341,eligibilité!$A$15:$AG$515,7,TRUE)))","v":""},{"$f":"IF(A341=\"\",\"\",IF(VLOOKUP(A341,eligibilité!$A$15:$AG$515,8,TRUE)=\"\",\"\",VLOOKUP(A341,eligibilité!$A$15:$AG$515,8,TRUE)))","v":""},{"$f":"IF(A341=\"\",\"\",IF(VLOOKUP(A341,eligibilité!$A$15:$AG$515,9,TRUE)=\"\",\"\",VLOOKUP(A341,eligibilité!$A$15:$AG$515,9,TRUE)))","v":""},{"$f":"IF(A341=\"\",\"\",IF(VLOOKUP(A341,eligibilité!$A$15:$AG$515,10,TRUE)=\"\",\"\",VLOOKUP(A341,eligibilité!$A$15:$AG$515,10,TRUE)))","v":""},{"$f":"IF(A341=\"\",\"\",IF(VLOOKUP(A341,eligibilité!$A$15:$AG$515,30,FALSE)=0,\"\",VLOOKUP(A341,eligibilité!$A$15:$AG$515,30,FALSE)))","v":""},"","","","","","","",1305,"","","","","","","Temps restant : ",""]
[{"$f":"IF(eligibilité!AG344=\"\",\"\",eligibilité!A344)","v":""},{"$f":"IF(A342=\"\",\"\",IF(VLOOKUP(A342,eligibilité!$A$15:$J$515,2,TRUE)=\"\",\"\",VLOOKUP(A342,eligibilité!$A$15:$J$515,2,TRUE)))","v":""},{"$f":"IF(A342=\"\",\"\",IF(VLOOKUP(A342,eligibilité!$A$15:$AG$515,3,TRUE)=\"\",\"\",VLOOKUP(A342,eligibilité!$A$15:$AG$515,3,TRUE)))","v":""},{"$f":"IF(A342=\"\",\"\",IF(VLOOKUP(A342,eligibilité!$A$15:$AG$515,4,TRUE)=\"\",\"\",VLOOKUP(A342,eligibilité!$A$15:$AG$515,4,TRUE)))","v":""},{"$f":"IF(A342=\"\",\"\",IF(VLOOKUP(A342,eligibilité!$A$15:$AG$515,5,TRUE)=\"\",\"\",VLOOKUP(A342,eligibilité!$A$15:$AG$515,5,TRUE)))","v":""},{"$f":"IF(A342=\"\",\"\",IF(VLOOKUP(A342,eligibilité!$A$15:$AG$515,6,TRUE)=\"\",\"\",VLOOKUP(A342,eligibilité!$A$15:$AG$515,6,TRUE)))","v":""},{"$f":"IF(A342=\"\",\"\",IF(VLOOKUP(A342,eligibilité!$A$15:$AG$515,7,TRUE)=\"\",\"\",VLOOKUP(A342,eligibilité!$A$15:$AG$515,7,TRUE)))","v":""},{"$f":"IF(A342=\"\",\"\",IF(VLOOKUP(A342,eligibilité!$A$15:$AG$515,8,TRUE)=\"\",\"\",VLOOKUP(A342,eligibilité!$A$15:$AG$515,8,TRUE)))","v":""},{"$f":"IF(A342=\"\",\"\",IF(VLOOKUP(A342,eligibilité!$A$15:$AG$515,9,TRUE)=\"\",\"\",VLOOKUP(A342,eligibilité!$A$15:$AG$515,9,TRUE)))","v":""},{"$f":"IF(A342=\"\",\"\",IF(VLOOKUP(A342,eligibilité!$A$15:$AG$515,10,TRUE)=\"\",\"\",VLOOKUP(A342,eligibilité!$A$15:$AG$515,10,TRUE)))","v":""},{"$f":"IF(A342=\"\",\"\",IF(VLOOKUP(A342,eligibilité!$A$15:$AG$515,30,FALSE)=0,\"\",VLOOKUP(A342,eligibilité!$A$15:$AG$515,30,FALSE)))","v":""},"","","","","","","",1305,"","","","","","","Temps restant : ",""]
[{"$f":"IF(eligibilité!AG345=\"\",\"\",eligibilité!A345)","v":""},{"$f":"IF(A343=\"\",\"\",IF(VLOOKUP(A343,eligibilité!$A$15:$J$515,2,TRUE)=\"\",\"\",VLOOKUP(A343,eligibilité!$A$15:$J$515,2,TRUE)))","v":""},{"$f":"IF(A343=\"\",\"\",IF(VLOOKUP(A343,eligibilité!$A$15:$AG$515,3,TRUE)=\"\",\"\",VLOOKUP(A343,eligibilité!$A$15:$AG$515,3,TRUE)))","v":""},{"$f":"IF(A343=\"\",\"\",IF(VLOOKUP(A343,eligibilité!$A$15:$AG$515,4,TRUE)=\"\",\"\",VLOOKUP(A343,eligibilité!$A$15:$AG$515,4,TRUE)))","v":""},{"$f":"IF(A343=\"\",\"\",IF(VLOOKUP(A343,eligibilité!$A$15:$AG$515,5,TRUE)=\"\",\"\",VLOOKUP(A343,eligibilité!$A$15:$AG$515,5,TRUE)))","v":""},{"$f":"IF(A343=\"\",\"\",IF(VLOOKUP(A343,eligibilité!$A$15:$AG$515,6,TRUE)=\"\",\"\",VLOOKUP(A343,eligibilité!$A$15:$AG$515,6,TRUE)))","v":""},{"$f":"IF(A343=\"\",\"\",IF(VLOOKUP(A343,eligibilité!$A$15:$AG$515,7,TRUE)=\"\",\"\",VLOOKUP(A343,eligibilité!$A$15:$AG$515,7,TRUE)))","v":""},{"$f":"IF(A343=\"\",\"\",IF(VLOOKUP(A343,eligibilité!$A$15:$AG$515,8,TRUE)=\"\",\"\",VLOOKUP(A343,eligibilité!$A$15:$AG$515,8,TRUE)))","v":""},{"$f":"IF(A343=\"\",\"\",IF(VLOOKUP(A343,eligibilité!$A$15:$AG$515,9,TRUE)=\"\",\"\",VLOOKUP(A343,eligibilité!$A$15:$AG$515,9,TRUE)))","v":""},{"$f":"IF(A343=\"\",\"\",IF(VLOOKUP(A343,eligibilité!$A$15:$AG$515,10,TRUE)=\"\",\"\",VLOOKUP(A343,eligibilité!$A$15:$AG$515,10,TRUE)))","v":""},{"$f":"IF(A343=\"\",\"\",IF(VLOOKUP(A343,eligibilité!$A$15:$AG$515,30,FALSE)=0,\"\",VLOOKUP(A343,eligibilité!$A$15:$AG$515,30,FALSE)))","v":""},"","","","","","","",1305,"","","","","","","Temps restant : ",""]
[{"$f":"IF(eligibilité!AG346=\"\",\"\",eligibilité!A346)","v":""},{"$f":"IF(A344=\"\",\"\",IF(VLOOKUP(A344,eligibilité!$A$15:$J$515,2,TRUE)=\"\",\"\",VLOOKUP(A344,eligibilité!$A$15:$J$515,2,TRUE)))","v":""},{"$f":"IF(A344=\"\",\"\",IF(VLOOKUP(A344,eligibilité!$A$15:$AG$515,3,TRUE)=\"\",\"\",VLOOKUP(A344,eligibilité!$A$15:$AG$515,3,TRUE)))","v":""},{"$f":"IF(A344=\"\",\"\",IF(VLOOKUP(A344,eligibilité!$A$15:$AG$515,4,TRUE)=\"\",\"\",VLOOKUP(A344,eligibilité!$A$15:$AG$515,4,TRUE)))","v":""},{"$f":"IF(A344=\"\",\"\",IF(VLOOKUP(A344,eligibilité!$A$15:$AG$515,5,TRUE)=\"\",\"\",VLOOKUP(A344,eligibilité!$A$15:$AG$515,5,TRUE)))","v":""},{"$f":"IF(A344=\"\",\"\",IF(VLOOKUP(A344,eligibilité!$A$15:$AG$515,6,TRUE)=\"\",\"\",VLOOKUP(A344,eligibilité!$A$15:$AG$515,6,TRUE)))","v":""},{"$f":"IF(A344=\"\",\"\",IF(VLOOKUP(A344,eligibilité!$A$15:$AG$515,7,TRUE)=\"\",\"\",VLOOKUP(A344,eligibilité!$A$15:$AG$515,7,TRUE)))","v":""},{"$f":"IF(A344=\"\",\"\",IF(VLOOKUP(A344,eligibilité!$A$15:$AG$515,8,TRUE)=\"\",\"\",VLOOKUP(A344,eligibilité!$A$15:$AG$515,8,TRUE)))","v":""},{"$f":"IF(A344=\"\",\"\",IF(VLOOKUP(A344,eligibilité!$A$15:$AG$515,9,TRUE)=\"\",\"\",VLOOKUP(A344,eligibilité!$A$15:$AG$515,9,TRUE)))","v":""},{"$f":"IF(A344=\"\",\"\",IF(VLOOKUP(A344,eligibilité!$A$15:$AG$515,10,TRUE)=\"\",\"\",VLOOKUP(A344,eligibilité!$A$15:$AG$515,10,TRUE)))","v":""},{"$f":"IF(A344=\"\",\"\",IF(VLOOKUP(A344,eligibilité!$A$15:$AG$515,30,FALSE)=0,\"\",VLOOKUP(A344,eligibilité!$A$15:$AG$515,30,FALSE)))","v":""},"","","","","","","",1305,"","","","","","","Temps restant : ",""]
[{"$f":"IF(eligibilité!AG347=\"\",\"\",eligibilité!A347)","v":""},{"$f":"IF(A345=\"\",\"\",IF(VLOOKUP(A345,eligibilité!$A$15:$J$515,2,TRUE)=\"\",\"\",VLOOKUP(A345,eligibilité!$A$15:$J$515,2,TRUE)))","v":""},{"$f":"IF(A345=\"\",\"\",IF(VLOOKUP(A345,eligibilité!$A$15:$AG$515,3,TRUE)=\"\",\"\",VLOOKUP(A345,eligibilité!$A$15:$AG$515,3,TRUE)))","v":""},{"$f":"IF(A345=\"\",\"\",IF(VLOOKUP(A345,eligibilité!$A$15:$AG$515,4,TRUE)=\"\",\"\",VLOOKUP(A345,eligibilité!$A$15:$AG$515,4,TRUE)))","v":""},{"$f":"IF(A345=\"\",\"\",IF(VLOOKUP(A345,eligibilité!$A$15:$AG$515,5,TRUE)=\"\",\"\",VLOOKUP(A345,eligibilité!$A$15:$AG$515,5,TRUE)))","v":""},{"$f":"IF(A345=\"\",\"\",IF(VLOOKUP(A345,eligibilité!$A$15:$AG$515,6,TRUE)=\"\",\"\",VLOOKUP(A345,eligibilité!$A$15:$AG$515,6,TRUE)))","v":""},{"$f":"IF(A345=\"\",\"\",IF(VLOOKUP(A345,eligibilité!$A$15:$AG$515,7,TRUE)=\"\",\"\",VLOOKUP(A345,eligibilité!$A$15:$AG$515,7,TRUE)))","v":""},{"$f":"IF(A345=\"\",\"\",IF(VLOOKUP(A345,eligibilité!$A$15:$AG$515,8,TRUE)=\"\",\"\",VLOOKUP(A345,eligibilité!$A$15:$AG$515,8,TRUE)))","v":""},{"$f":"IF(A345=\"\",\"\",IF(VLOOKUP(A345,eligibilité!$A$15:$AG$515,9,TRUE)=\"\",\"\",VLOOKUP(A345,eligibilité!$A$15:$AG$515,9,TRUE)))","v":""},{"$f":"IF(A345=\"\",\"\",IF(VLOOKUP(A345,eligibilité!$A$15:$AG$515,10,TRUE)=\"\",\"\",VLOOKUP(A345,eligibilité!$A$15:$AG$515,10,TRUE)))","v":""},{"$f":"IF(A345=\"\",\"\",IF(VLOOKUP(A345,eligibilité!$A$15:$AG$515,30,FALSE)=0,\"\",VLOOKUP(A345,eligibilité!$A$15:$AG$515,30,FALSE)))","v":""},"","","","","","","",1305,"","","","","","","Temps restant : ",""]
[{"$f":"IF(eligibilité!AG348=\"\",\"\",eligibilité!A348)","v":""},{"$f":"IF(A346=\"\",\"\",IF(VLOOKUP(A346,eligibilité!$A$15:$J$515,2,TRUE)=\"\",\"\",VLOOKUP(A346,eligibilité!$A$15:$J$515,2,TRUE)))","v":""},{"$f":"IF(A346=\"\",\"\",IF(VLOOKUP(A346,eligibilité!$A$15:$AG$515,3,TRUE)=\"\",\"\",VLOOKUP(A346,eligibilité!$A$15:$AG$515,3,TRUE)))","v":""},{"$f":"IF(A346=\"\",\"\",IF(VLOOKUP(A346,eligibilité!$A$15:$AG$515,4,TRUE)=\"\",\"\",VLOOKUP(A346,eligibilité!$A$15:$AG$515,4,TRUE)))","v":""},{"$f":"IF(A346=\"\",\"\",IF(VLOOKUP(A346,eligibilité!$A$15:$AG$515,5,TRUE)=\"\",\"\",VLOOKUP(A346,eligibilité!$A$15:$AG$515,5,TRUE)))","v":""},{"$f":"IF(A346=\"\",\"\",IF(VLOOKUP(A346,eligibilité!$A$15:$AG$515,6,TRUE)=\"\",\"\",VLOOKUP(A346,eligibilité!$A$15:$AG$515,6,TRUE)))","v":""},{"$f":"IF(A346=\"\",\"\",IF(VLOOKUP(A346,eligibilité!$A$15:$AG$515,7,TRUE)=\"\",\"\",VLOOKUP(A346,eligibilité!$A$15:$AG$515,7,TRUE)))","v":""},{"$f":"IF(A346=\"\",\"\",IF(VLOOKUP(A346,eligibilité!$A$15:$AG$515,8,TRUE)=\"\",\"\",VLOOKUP(A346,eligibilité!$A$15:$AG$515,8,TRUE)))","v":""},{"$f":"IF(A346=\"\",\"\",IF(VLOOKUP(A346,eligibilité!$A$15:$AG$515,9,TRUE)=\"\",\"\",VLOOKUP(A346,eligibilité!$A$15:$AG$515,9,TRUE)))","v":""},{"$f":"IF(A346=\"\",\"\",IF(VLOOKUP(A346,eligibilité!$A$15:$AG$515,10,TRUE)=\"\",\"\",VLOOKUP(A346,eligibilité!$A$15:$AG$515,10,TRUE)))","v":""},{"$f":"IF(A346=\"\",\"\",IF(VLOOKUP(A346,eligibilité!$A$15:$AG$515,30,FALSE)=0,\"\",VLOOKUP(A346,eligibilité!$A$15:$AG$515,30,FALSE)))","v":""},"","","","","","","",1305,"","","","","","","Temps restant : ",""]
[{"$f":"IF(eligibilité!AG349=\"\",\"\",eligibilité!A349)","v":""},{"$f":"IF(A347=\"\",\"\",IF(VLOOKUP(A347,eligibilité!$A$15:$J$515,2,TRUE)=\"\",\"\",VLOOKUP(A347,eligibilité!$A$15:$J$515,2,TRUE)))","v":""},{"$f":"IF(A347=\"\",\"\",IF(VLOOKUP(A347,eligibilité!$A$15:$AG$515,3,TRUE)=\"\",\"\",VLOOKUP(A347,eligibilité!$A$15:$AG$515,3,TRUE)))","v":""},{"$f":"IF(A347=\"\",\"\",IF(VLOOKUP(A347,eligibilité!$A$15:$AG$515,4,TRUE)=\"\",\"\",VLOOKUP(A347,eligibilité!$A$15:$AG$515,4,TRUE)))","v":""},{"$f":"IF(A347=\"\",\"\",IF(VLOOKUP(A347,eligibilité!$A$15:$AG$515,5,TRUE)=\"\",\"\",VLOOKUP(A347,eligibilité!$A$15:$AG$515,5,TRUE)))","v":""},{"$f":"IF(A347=\"\",\"\",IF(VLOOKUP(A347,eligibilité!$A$15:$AG$515,6,TRUE)=\"\",\"\",VLOOKUP(A347,eligibilité!$A$15:$AG$515,6,TRUE)))","v":""},{"$f":"IF(A347=\"\",\"\",IF(VLOOKUP(A347,eligibilité!$A$15:$AG$515,7,TRUE)=\"\",\"\",VLOOKUP(A347,eligibilité!$A$15:$AG$515,7,TRUE)))","v":""},{"$f":"IF(A347=\"\",\"\",IF(VLOOKUP(A347,eligibilité!$A$15:$AG$515,8,TRUE)=\"\",\"\",VLOOKUP(A347,eligibilité!$A$15:$AG$515,8,TRUE)))","v":""},{"$f":"IF(A347=\"\",\"\",IF(VLOOKUP(A347,eligibilité!$A$15:$AG$515,9,TRUE)=\"\",\"\",VLOOKUP(A347,eligibilité!$A$15:$AG$515,9,TRUE)))","v":""},{"$f":"IF(A347=\"\",\"\",IF(VLOOKUP(A347,eligibilité!$A$15:$AG$515,10,TRUE)=\"\",\"\",VLOOKUP(A347,eligibilité!$A$15:$AG$515,10,TRUE)))","v":""},{"$f":"IF(A347=\"\",\"\",IF(VLOOKUP(A347,eligibilité!$A$15:$AG$515,30,FALSE)=0,\"\",VLOOKUP(A347,eligibilité!$A$15:$AG$515,30,FALSE)))","v":""},"","","","","","","",1305,"","","","","","","Temps restant : ",""]
[{"$f":"IF(eligibilité!AG350=\"\",\"\",eligibilité!A350)","v":""},{"$f":"IF(A348=\"\",\"\",IF(VLOOKUP(A348,eligibilité!$A$15:$J$515,2,TRUE)=\"\",\"\",VLOOKUP(A348,eligibilité!$A$15:$J$515,2,TRUE)))","v":""},{"$f":"IF(A348=\"\",\"\",IF(VLOOKUP(A348,eligibilité!$A$15:$AG$515,3,TRUE)=\"\",\"\",VLOOKUP(A348,eligibilité!$A$15:$AG$515,3,TRUE)))","v":""},{"$f":"IF(A348=\"\",\"\",IF(VLOOKUP(A348,eligibilité!$A$15:$AG$515,4,TRUE)=\"\",\"\",VLOOKUP(A348,eligibilité!$A$15:$AG$515,4,TRUE)))","v":""},{"$f":"IF(A348=\"\",\"\",IF(VLOOKUP(A348,eligibilité!$A$15:$AG$515,5,TRUE)=\"\",\"\",VLOOKUP(A348,eligibilité!$A$15:$AG$515,5,TRUE)))","v":""},{"$f":"IF(A348=\"\",\"\",IF(VLOOKUP(A348,eligibilité!$A$15:$AG$515,6,TRUE)=\"\",\"\",VLOOKUP(A348,eligibilité!$A$15:$AG$515,6,TRUE)))","v":""},{"$f":"IF(A348=\"\",\"\",IF(VLOOKUP(A348,eligibilité!$A$15:$AG$515,7,TRUE)=\"\",\"\",VLOOKUP(A348,eligibilité!$A$15:$AG$515,7,TRUE)))","v":""},{"$f":"IF(A348=\"\",\"\",IF(VLOOKUP(A348,eligibilité!$A$15:$AG$515,8,TRUE)=\"\",\"\",VLOOKUP(A348,eligibilité!$A$15:$AG$515,8,TRUE)))","v":""},{"$f":"IF(A348=\"\",\"\",IF(VLOOKUP(A348,eligibilité!$A$15:$AG$515,9,TRUE)=\"\",\"\",VLOOKUP(A348,eligibilité!$A$15:$AG$515,9,TRUE)))","v":""},{"$f":"IF(A348=\"\",\"\",IF(VLOOKUP(A348,eligibilité!$A$15:$AG$515,10,TRUE)=\"\",\"\",VLOOKUP(A348,eligibilité!$A$15:$AG$515,10,TRUE)))","v":""},{"$f":"IF(A348=\"\",\"\",IF(VLOOKUP(A348,eligibilité!$A$15:$AG$515,30,FALSE)=0,\"\",VLOOKUP(A348,eligibilité!$A$15:$AG$515,30,FALSE)))","v":""},"","","","","","","",1305,"","","","","","","Temps restant : ",""]
[{"$f":"IF(eligibilité!AG351=\"\",\"\",eligibilité!A351)","v":""},{"$f":"IF(A349=\"\",\"\",IF(VLOOKUP(A349,eligibilité!$A$15:$J$515,2,TRUE)=\"\",\"\",VLOOKUP(A349,eligibilité!$A$15:$J$515,2,TRUE)))","v":""},{"$f":"IF(A349=\"\",\"\",IF(VLOOKUP(A349,eligibilité!$A$15:$AG$515,3,TRUE)=\"\",\"\",VLOOKUP(A349,eligibilité!$A$15:$AG$515,3,TRUE)))","v":""},{"$f":"IF(A349=\"\",\"\",IF(VLOOKUP(A349,eligibilité!$A$15:$AG$515,4,TRUE)=\"\",\"\",VLOOKUP(A349,eligibilité!$A$15:$AG$515,4,TRUE)))","v":""},{"$f":"IF(A349=\"\",\"\",IF(VLOOKUP(A349,eligibilité!$A$15:$AG$515,5,TRUE)=\"\",\"\",VLOOKUP(A349,eligibilité!$A$15:$AG$515,5,TRUE)))","v":""},{"$f":"IF(A349=\"\",\"\",IF(VLOOKUP(A349,eligibilité!$A$15:$AG$515,6,TRUE)=\"\",\"\",VLOOKUP(A349,eligibilité!$A$15:$AG$515,6,TRUE)))","v":""},{"$f":"IF(A349=\"\",\"\",IF(VLOOKUP(A349,eligibilité!$A$15:$AG$515,7,TRUE)=\"\",\"\",VLOOKUP(A349,eligibilité!$A$15:$AG$515,7,TRUE)))","v":""},{"$f":"IF(A349=\"\",\"\",IF(VLOOKUP(A349,eligibilité!$A$15:$AG$515,8,TRUE)=\"\",\"\",VLOOKUP(A349,eligibilité!$A$15:$AG$515,8,TRUE)))","v":""},{"$f":"IF(A349=\"\",\"\",IF(VLOOKUP(A349,eligibilité!$A$15:$AG$515,9,TRUE)=\"\",\"\",VLOOKUP(A349,eligibilité!$A$15:$AG$515,9,TRUE)))","v":""},{"$f":"IF(A349=\"\",\"\",IF(VLOOKUP(A349,eligibilité!$A$15:$AG$515,10,TRUE)=\"\",\"\",VLOOKUP(A349,eligibilité!$A$15:$AG$515,10,TRUE)))","v":""},{"$f":"IF(A349=\"\",\"\",IF(VLOOKUP(A349,eligibilité!$A$15:$AG$515,30,FALSE)=0,\"\",VLOOKUP(A349,eligibilité!$A$15:$AG$515,30,FALSE)))","v":""},"","","","","","","",1305,"","","","","","","Temps restant : ",""]
[{"$f":"IF(eligibilité!AG352=\"\",\"\",eligibilité!A352)","v":""},{"$f":"IF(A350=\"\",\"\",IF(VLOOKUP(A350,eligibilité!$A$15:$J$515,2,TRUE)=\"\",\"\",VLOOKUP(A350,eligibilité!$A$15:$J$515,2,TRUE)))","v":""},{"$f":"IF(A350=\"\",\"\",IF(VLOOKUP(A350,eligibilité!$A$15:$AG$515,3,TRUE)=\"\",\"\",VLOOKUP(A350,eligibilité!$A$15:$AG$515,3,TRUE)))","v":""},{"$f":"IF(A350=\"\",\"\",IF(VLOOKUP(A350,eligibilité!$A$15:$AG$515,4,TRUE)=\"\",\"\",VLOOKUP(A350,eligibilité!$A$15:$AG$515,4,TRUE)))","v":""},{"$f":"IF(A350=\"\",\"\",IF(VLOOKUP(A350,eligibilité!$A$15:$AG$515,5,TRUE)=\"\",\"\",VLOOKUP(A350,eligibilité!$A$15:$AG$515,5,TRUE)))","v":""},{"$f":"IF(A350=\"\",\"\",IF(VLOOKUP(A350,eligibilité!$A$15:$AG$515,6,TRUE)=\"\",\"\",VLOOKUP(A350,eligibilité!$A$15:$AG$515,6,TRUE)))","v":""},{"$f":"IF(A350=\"\",\"\",IF(VLOOKUP(A350,eligibilité!$A$15:$AG$515,7,TRUE)=\"\",\"\",VLOOKUP(A350,eligibilité!$A$15:$AG$515,7,TRUE)))","v":""},{"$f":"IF(A350=\"\",\"\",IF(VLOOKUP(A350,eligibilité!$A$15:$AG$515,8,TRUE)=\"\",\"\",VLOOKUP(A350,eligibilité!$A$15:$AG$515,8,TRUE)))","v":""},{"$f":"IF(A350=\"\",\"\",IF(VLOOKUP(A350,eligibilité!$A$15:$AG$515,9,TRUE)=\"\",\"\",VLOOKUP(A350,eligibilité!$A$15:$AG$515,9,TRUE)))","v":""},{"$f":"IF(A350=\"\",\"\",IF(VLOOKUP(A350,eligibilité!$A$15:$AG$515,10,TRUE)=\"\",\"\",VLOOKUP(A350,eligibilité!$A$15:$AG$515,10,TRUE)))","v":""},{"$f":"IF(A350=\"\",\"\",IF(VLOOKUP(A350,eligibilité!$A$15:$AG$515,30,FALSE)=0,\"\",VLOOKUP(A350,eligibilité!$A$15:$AG$515,30,FALSE)))","v":""},"","","","","","","",1305,"","","","","","","Temps restant : ",""]
[{"$f":"IF(eligibilité!AG353=\"\",\"\",eligibilité!A353)","v":""},{"$f":"IF(A351=\"\",\"\",IF(VLOOKUP(A351,eligibilité!$A$15:$J$515,2,TRUE)=\"\",\"\",VLOOKUP(A351,eligibilité!$A$15:$J$515,2,TRUE)))","v":""},{"$f":"IF(A351=\"\",\"\",IF(VLOOKUP(A351,eligibilité!$A$15:$AG$515,3,TRUE)=\"\",\"\",VLOOKUP(A351,eligibilité!$A$15:$AG$515,3,TRUE)))","v":""},{"$f":"IF(A351=\"\",\"\",IF(VLOOKUP(A351,eligibilité!$A$15:$AG$515,4,TRUE)=\"\",\"\",VLOOKUP(A351,eligibilité!$A$15:$AG$515,4,TRUE)))","v":""},{"$f":"IF(A351=\"\",\"\",IF(VLOOKUP(A351,eligibilité!$A$15:$AG$515,5,TRUE)=\"\",\"\",VLOOKUP(A351,eligibilité!$A$15:$AG$515,5,TRUE)))","v":""},{"$f":"IF(A351=\"\",\"\",IF(VLOOKUP(A351,eligibilité!$A$15:$AG$515,6,TRUE)=\"\",\"\",VLOOKUP(A351,eligibilité!$A$15:$AG$515,6,TRUE)))","v":""},{"$f":"IF(A351=\"\",\"\",IF(VLOOKUP(A351,eligibilité!$A$15:$AG$515,7,TRUE)=\"\",\"\",VLOOKUP(A351,eligibilité!$A$15:$AG$515,7,TRUE)))","v":""},{"$f":"IF(A351=\"\",\"\",IF(VLOOKUP(A351,eligibilité!$A$15:$AG$515,8,TRUE)=\"\",\"\",VLOOKUP(A351,eligibilité!$A$15:$AG$515,8,TRUE)))","v":""},{"$f":"IF(A351=\"\",\"\",IF(VLOOKUP(A351,eligibilité!$A$15:$AG$515,9,TRUE)=\"\",\"\",VLOOKUP(A351,eligibilité!$A$15:$AG$515,9,TRUE)))","v":""},{"$f":"IF(A351=\"\",\"\",IF(VLOOKUP(A351,eligibilité!$A$15:$AG$515,10,TRUE)=\"\",\"\",VLOOKUP(A351,eligibilité!$A$15:$AG$515,10,TRUE)))","v":""},{"$f":"IF(A351=\"\",\"\",IF(VLOOKUP(A351,eligibilité!$A$15:$AG$515,30,FALSE)=0,\"\",VLOOKUP(A351,eligibilité!$A$15:$AG$515,30,FALSE)))","v":""},"","","","","","","",1305,"","","","","","","Temps restant : ",""]
[{"$f":"IF(eligibilité!AG354=\"\",\"\",eligibilité!A354)","v":""},{"$f":"IF(A352=\"\",\"\",IF(VLOOKUP(A352,eligibilité!$A$15:$J$515,2,TRUE)=\"\",\"\",VLOOKUP(A352,eligibilité!$A$15:$J$515,2,TRUE)))","v":""},{"$f":"IF(A352=\"\",\"\",IF(VLOOKUP(A352,eligibilité!$A$15:$AG$515,3,TRUE)=\"\",\"\",VLOOKUP(A352,eligibilité!$A$15:$AG$515,3,TRUE)))","v":""},{"$f":"IF(A352=\"\",\"\",IF(VLOOKUP(A352,eligibilité!$A$15:$AG$515,4,TRUE)=\"\",\"\",VLOOKUP(A352,eligibilité!$A$15:$AG$515,4,TRUE)))","v":""},{"$f":"IF(A352=\"\",\"\",IF(VLOOKUP(A352,eligibilité!$A$15:$AG$515,5,TRUE)=\"\",\"\",VLOOKUP(A352,eligibilité!$A$15:$AG$515,5,TRUE)))","v":""},{"$f":"IF(A352=\"\",\"\",IF(VLOOKUP(A352,eligibilité!$A$15:$AG$515,6,TRUE)=\"\",\"\",VLOOKUP(A352,eligibilité!$A$15:$AG$515,6,TRUE)))","v":""},{"$f":"IF(A352=\"\",\"\",IF(VLOOKUP(A352,eligibilité!$A$15:$AG$515,7,TRUE)=\"\",\"\",VLOOKUP(A352,eligibilité!$A$15:$AG$515,7,TRUE)))","v":""},{"$f":"IF(A352=\"\",\"\",IF(VLOOKUP(A352,eligibilité!$A$15:$AG$515,8,TRUE)=\"\",\"\",VLOOKUP(A352,eligibilité!$A$15:$AG$515,8,TRUE)))","v":""},{"$f":"IF(A352=\"\",\"\",IF(VLOOKUP(A352,eligibilité!$A$15:$AG$515,9,TRUE)=\"\",\"\",VLOOKUP(A352,eligibilité!$A$15:$AG$515,9,TRUE)))","v":""},{"$f":"IF(A352=\"\",\"\",IF(VLOOKUP(A352,eligibilité!$A$15:$AG$515,10,TRUE)=\"\",\"\",VLOOKUP(A352,eligibilité!$A$15:$AG$515,10,TRUE)))","v":""},{"$f":"IF(A352=\"\",\"\",IF(VLOOKUP(A352,eligibilité!$A$15:$AG$515,30,FALSE)=0,\"\",VLOOKUP(A352,eligibilité!$A$15:$AG$515,30,FALSE)))","v":""},"","","","","","","",1305,"","","","","","","Temps restant : ",""]
[{"$f":"IF(eligibilité!AG355=\"\",\"\",eligibilité!A355)","v":""},{"$f":"IF(A353=\"\",\"\",IF(VLOOKUP(A353,eligibilité!$A$15:$J$515,2,TRUE)=\"\",\"\",VLOOKUP(A353,eligibilité!$A$15:$J$515,2,TRUE)))","v":""},{"$f":"IF(A353=\"\",\"\",IF(VLOOKUP(A353,eligibilité!$A$15:$AG$515,3,TRUE)=\"\",\"\",VLOOKUP(A353,eligibilité!$A$15:$AG$515,3,TRUE)))","v":""},{"$f":"IF(A353=\"\",\"\",IF(VLOOKUP(A353,eligibilité!$A$15:$AG$515,4,TRUE)=\"\",\"\",VLOOKUP(A353,eligibilité!$A$15:$AG$515,4,TRUE)))","v":""},{"$f":"IF(A353=\"\",\"\",IF(VLOOKUP(A353,eligibilité!$A$15:$AG$515,5,TRUE)=\"\",\"\",VLOOKUP(A353,eligibilité!$A$15:$AG$515,5,TRUE)))","v":""},{"$f":"IF(A353=\"\",\"\",IF(VLOOKUP(A353,eligibilité!$A$15:$AG$515,6,TRUE)=\"\",\"\",VLOOKUP(A353,eligibilité!$A$15:$AG$515,6,TRUE)))","v":""},{"$f":"IF(A353=\"\",\"\",IF(VLOOKUP(A353,eligibilité!$A$15:$AG$515,7,TRUE)=\"\",\"\",VLOOKUP(A353,eligibilité!$A$15:$AG$515,7,TRUE)))","v":""},{"$f":"IF(A353=\"\",\"\",IF(VLOOKUP(A353,eligibilité!$A$15:$AG$515,8,TRUE)=\"\",\"\",VLOOKUP(A353,eligibilité!$A$15:$AG$515,8,TRUE)))","v":""},{"$f":"IF(A353=\"\",\"\",IF(VLOOKUP(A353,eligibilité!$A$15:$AG$515,9,TRUE)=\"\",\"\",VLOOKUP(A353,eligibilité!$A$15:$AG$515,9,TRUE)))","v":""},{"$f":"IF(A353=\"\",\"\",IF(VLOOKUP(A353,eligibilité!$A$15:$AG$515,10,TRUE)=\"\",\"\",VLOOKUP(A353,eligibilité!$A$15:$AG$515,10,TRUE)))","v":""},{"$f":"IF(A353=\"\",\"\",IF(VLOOKUP(A353,eligibilité!$A$15:$AG$515,30,FALSE)=0,\"\",VLOOKUP(A353,eligibilité!$A$15:$AG$515,30,FALSE)))","v":""},"","","","","","","",1305,"","","","","","","Temps restant : ",""]
[{"$f":"IF(eligibilité!AG356=\"\",\"\",eligibilité!A356)","v":""},{"$f":"IF(A354=\"\",\"\",IF(VLOOKUP(A354,eligibilité!$A$15:$J$515,2,TRUE)=\"\",\"\",VLOOKUP(A354,eligibilité!$A$15:$J$515,2,TRUE)))","v":""},{"$f":"IF(A354=\"\",\"\",IF(VLOOKUP(A354,eligibilité!$A$15:$AG$515,3,TRUE)=\"\",\"\",VLOOKUP(A354,eligibilité!$A$15:$AG$515,3,TRUE)))","v":""},{"$f":"IF(A354=\"\",\"\",IF(VLOOKUP(A354,eligibilité!$A$15:$AG$515,4,TRUE)=\"\",\"\",VLOOKUP(A354,eligibilité!$A$15:$AG$515,4,TRUE)))","v":""},{"$f":"IF(A354=\"\",\"\",IF(VLOOKUP(A354,eligibilité!$A$15:$AG$515,5,TRUE)=\"\",\"\",VLOOKUP(A354,eligibilité!$A$15:$AG$515,5,TRUE)))","v":""},{"$f":"IF(A354=\"\",\"\",IF(VLOOKUP(A354,eligibilité!$A$15:$AG$515,6,TRUE)=\"\",\"\",VLOOKUP(A354,eligibilité!$A$15:$AG$515,6,TRUE)))","v":""},{"$f":"IF(A354=\"\",\"\",IF(VLOOKUP(A354,eligibilité!$A$15:$AG$515,7,TRUE)=\"\",\"\",VLOOKUP(A354,eligibilité!$A$15:$AG$515,7,TRUE)))","v":""},{"$f":"IF(A354=\"\",\"\",IF(VLOOKUP(A354,eligibilité!$A$15:$AG$515,8,TRUE)=\"\",\"\",VLOOKUP(A354,eligibilité!$A$15:$AG$515,8,TRUE)))","v":""},{"$f":"IF(A354=\"\",\"\",IF(VLOOKUP(A354,eligibilité!$A$15:$AG$515,9,TRUE)=\"\",\"\",VLOOKUP(A354,eligibilité!$A$15:$AG$515,9,TRUE)))","v":""},{"$f":"IF(A354=\"\",\"\",IF(VLOOKUP(A354,eligibilité!$A$15:$AG$515,10,TRUE)=\"\",\"\",VLOOKUP(A354,eligibilité!$A$15:$AG$515,10,TRUE)))","v":""},{"$f":"IF(A354=\"\",\"\",IF(VLOOKUP(A354,eligibilité!$A$15:$AG$515,30,FALSE)=0,\"\",VLOOKUP(A354,eligibilité!$A$15:$AG$515,30,FALSE)))","v":""},"","","","","","","",1305,"","","","","","","Temps restant : ",""]
[{"$f":"IF(eligibilité!AG357=\"\",\"\",eligibilité!A357)","v":""},{"$f":"IF(A355=\"\",\"\",IF(VLOOKUP(A355,eligibilité!$A$15:$J$515,2,TRUE)=\"\",\"\",VLOOKUP(A355,eligibilité!$A$15:$J$515,2,TRUE)))","v":""},{"$f":"IF(A355=\"\",\"\",IF(VLOOKUP(A355,eligibilité!$A$15:$AG$515,3,TRUE)=\"\",\"\",VLOOKUP(A355,eligibilité!$A$15:$AG$515,3,TRUE)))","v":""},{"$f":"IF(A355=\"\",\"\",IF(VLOOKUP(A355,eligibilité!$A$15:$AG$515,4,TRUE)=\"\",\"\",VLOOKUP(A355,eligibilité!$A$15:$AG$515,4,TRUE)))","v":""},{"$f":"IF(A355=\"\",\"\",IF(VLOOKUP(A355,eligibilité!$A$15:$AG$515,5,TRUE)=\"\",\"\",VLOOKUP(A355,eligibilité!$A$15:$AG$515,5,TRUE)))","v":""},{"$f":"IF(A355=\"\",\"\",IF(VLOOKUP(A355,eligibilité!$A$15:$AG$515,6,TRUE)=\"\",\"\",VLOOKUP(A355,eligibilité!$A$15:$AG$515,6,TRUE)))","v":""},{"$f":"IF(A355=\"\",\"\",IF(VLOOKUP(A355,eligibilité!$A$15:$AG$515,7,TRUE)=\"\",\"\",VLOOKUP(A355,eligibilité!$A$15:$AG$515,7,TRUE)))","v":""},{"$f":"IF(A355=\"\",\"\",IF(VLOOKUP(A355,eligibilité!$A$15:$AG$515,8,TRUE)=\"\",\"\",VLOOKUP(A355,eligibilité!$A$15:$AG$515,8,TRUE)))","v":""},{"$f":"IF(A355=\"\",\"\",IF(VLOOKUP(A355,eligibilité!$A$15:$AG$515,9,TRUE)=\"\",\"\",VLOOKUP(A355,eligibilité!$A$15:$AG$515,9,TRUE)))","v":""},{"$f":"IF(A355=\"\",\"\",IF(VLOOKUP(A355,eligibilité!$A$15:$AG$515,10,TRUE)=\"\",\"\",VLOOKUP(A355,eligibilité!$A$15:$AG$515,10,TRUE)))","v":""},{"$f":"IF(A355=\"\",\"\",IF(VLOOKUP(A355,eligibilité!$A$15:$AG$515,30,FALSE)=0,\"\",VLOOKUP(A355,eligibilité!$A$15:$AG$515,30,FALSE)))","v":""},"","","","","","","",1305,"","","","","","","Temps restant : ",""]
[{"$f":"IF(eligibilité!AG358=\"\",\"\",eligibilité!A358)","v":""},{"$f":"IF(A356=\"\",\"\",IF(VLOOKUP(A356,eligibilité!$A$15:$J$515,2,TRUE)=\"\",\"\",VLOOKUP(A356,eligibilité!$A$15:$J$515,2,TRUE)))","v":""},{"$f":"IF(A356=\"\",\"\",IF(VLOOKUP(A356,eligibilité!$A$15:$AG$515,3,TRUE)=\"\",\"\",VLOOKUP(A356,eligibilité!$A$15:$AG$515,3,TRUE)))","v":""},{"$f":"IF(A356=\"\",\"\",IF(VLOOKUP(A356,eligibilité!$A$15:$AG$515,4,TRUE)=\"\",\"\",VLOOKUP(A356,eligibilité!$A$15:$AG$515,4,TRUE)))","v":""},{"$f":"IF(A356=\"\",\"\",IF(VLOOKUP(A356,eligibilité!$A$15:$AG$515,5,TRUE)=\"\",\"\",VLOOKUP(A356,eligibilité!$A$15:$AG$515,5,TRUE)))","v":""},{"$f":"IF(A356=\"\",\"\",IF(VLOOKUP(A356,eligibilité!$A$15:$AG$515,6,TRUE)=\"\",\"\",VLOOKUP(A356,eligibilité!$A$15:$AG$515,6,TRUE)))","v":""},{"$f":"IF(A356=\"\",\"\",IF(VLOOKUP(A356,eligibilité!$A$15:$AG$515,7,TRUE)=\"\",\"\",VLOOKUP(A356,eligibilité!$A$15:$AG$515,7,TRUE)))","v":""},{"$f":"IF(A356=\"\",\"\",IF(VLOOKUP(A356,eligibilité!$A$15:$AG$515,8,TRUE)=\"\",\"\",VLOOKUP(A356,eligibilité!$A$15:$AG$515,8,TRUE)))","v":""},{"$f":"IF(A356=\"\",\"\",IF(VLOOKUP(A356,eligibilité!$A$15:$AG$515,9,TRUE)=\"\",\"\",VLOOKUP(A356,eligibilité!$A$15:$AG$515,9,TRUE)))","v":""},{"$f":"IF(A356=\"\",\"\",IF(VLOOKUP(A356,eligibilité!$A$15:$AG$515,10,TRUE)=\"\",\"\",VLOOKUP(A356,eligibilité!$A$15:$AG$515,10,TRUE)))","v":""},{"$f":"IF(A356=\"\",\"\",IF(VLOOKUP(A356,eligibilité!$A$15:$AG$515,30,FALSE)=0,\"\",VLOOKUP(A356,eligibilité!$A$15:$AG$515,30,FALSE)))","v":""},"","","","","","","",1305,"","","","","","","Temps restant : ",""]
[{"$f":"IF(eligibilité!AG359=\"\",\"\",eligibilité!A359)","v":""},{"$f":"IF(A357=\"\",\"\",IF(VLOOKUP(A357,eligibilité!$A$15:$J$515,2,TRUE)=\"\",\"\",VLOOKUP(A357,eligibilité!$A$15:$J$515,2,TRUE)))","v":""},{"$f":"IF(A357=\"\",\"\",IF(VLOOKUP(A357,eligibilité!$A$15:$AG$515,3,TRUE)=\"\",\"\",VLOOKUP(A357,eligibilité!$A$15:$AG$515,3,TRUE)))","v":""},{"$f":"IF(A357=\"\",\"\",IF(VLOOKUP(A357,eligibilité!$A$15:$AG$515,4,TRUE)=\"\",\"\",VLOOKUP(A357,eligibilité!$A$15:$AG$515,4,TRUE)))","v":""},{"$f":"IF(A357=\"\",\"\",IF(VLOOKUP(A357,eligibilité!$A$15:$AG$515,5,TRUE)=\"\",\"\",VLOOKUP(A357,eligibilité!$A$15:$AG$515,5,TRUE)))","v":""},{"$f":"IF(A357=\"\",\"\",IF(VLOOKUP(A357,eligibilité!$A$15:$AG$515,6,TRUE)=\"\",\"\",VLOOKUP(A357,eligibilité!$A$15:$AG$515,6,TRUE)))","v":""},{"$f":"IF(A357=\"\",\"\",IF(VLOOKUP(A357,eligibilité!$A$15:$AG$515,7,TRUE)=\"\",\"\",VLOOKUP(A357,eligibilité!$A$15:$AG$515,7,TRUE)))","v":""},{"$f":"IF(A357=\"\",\"\",IF(VLOOKUP(A357,eligibilité!$A$15:$AG$515,8,TRUE)=\"\",\"\",VLOOKUP(A357,eligibilité!$A$15:$AG$515,8,TRUE)))","v":""},{"$f":"IF(A357=\"\",\"\",IF(VLOOKUP(A357,eligibilité!$A$15:$AG$515,9,TRUE)=\"\",\"\",VLOOKUP(A357,eligibilité!$A$15:$AG$515,9,TRUE)))","v":""},{"$f":"IF(A357=\"\",\"\",IF(VLOOKUP(A357,eligibilité!$A$15:$AG$515,10,TRUE)=\"\",\"\",VLOOKUP(A357,eligibilité!$A$15:$AG$515,10,TRUE)))","v":""},{"$f":"IF(A357=\"\",\"\",IF(VLOOKUP(A357,eligibilité!$A$15:$AG$515,30,FALSE)=0,\"\",VLOOKUP(A357,eligibilité!$A$15:$AG$515,30,FALSE)))","v":""},"","","","","","","",1305,"","","","","","","Temps restant : ",""]
[{"$f":"IF(eligibilité!AG360=\"\",\"\",eligibilité!A360)","v":""},{"$f":"IF(A358=\"\",\"\",IF(VLOOKUP(A358,eligibilité!$A$15:$J$515,2,TRUE)=\"\",\"\",VLOOKUP(A358,eligibilité!$A$15:$J$515,2,TRUE)))","v":""},{"$f":"IF(A358=\"\",\"\",IF(VLOOKUP(A358,eligibilité!$A$15:$AG$515,3,TRUE)=\"\",\"\",VLOOKUP(A358,eligibilité!$A$15:$AG$515,3,TRUE)))","v":""},{"$f":"IF(A358=\"\",\"\",IF(VLOOKUP(A358,eligibilité!$A$15:$AG$515,4,TRUE)=\"\",\"\",VLOOKUP(A358,eligibilité!$A$15:$AG$515,4,TRUE)))","v":""},{"$f":"IF(A358=\"\",\"\",IF(VLOOKUP(A358,eligibilité!$A$15:$AG$515,5,TRUE)=\"\",\"\",VLOOKUP(A358,eligibilité!$A$15:$AG$515,5,TRUE)))","v":""},{"$f":"IF(A358=\"\",\"\",IF(VLOOKUP(A358,eligibilité!$A$15:$AG$515,6,TRUE)=\"\",\"\",VLOOKUP(A358,eligibilité!$A$15:$AG$515,6,TRUE)))","v":""},{"$f":"IF(A358=\"\",\"\",IF(VLOOKUP(A358,eligibilité!$A$15:$AG$515,7,TRUE)=\"\",\"\",VLOOKUP(A358,eligibilité!$A$15:$AG$515,7,TRUE)))","v":""},{"$f":"IF(A358=\"\",\"\",IF(VLOOKUP(A358,eligibilité!$A$15:$AG$515,8,TRUE)=\"\",\"\",VLOOKUP(A358,eligibilité!$A$15:$AG$515,8,TRUE)))","v":""},{"$f":"IF(A358=\"\",\"\",IF(VLOOKUP(A358,eligibilité!$A$15:$AG$515,9,TRUE)=\"\",\"\",VLOOKUP(A358,eligibilité!$A$15:$AG$515,9,TRUE)))","v":""},{"$f":"IF(A358=\"\",\"\",IF(VLOOKUP(A358,eligibilité!$A$15:$AG$515,10,TRUE)=\"\",\"\",VLOOKUP(A358,eligibilité!$A$15:$AG$515,10,TRUE)))","v":""},{"$f":"IF(A358=\"\",\"\",IF(VLOOKUP(A358,eligibilité!$A$15:$AG$515,30,FALSE)=0,\"\",VLOOKUP(A358,eligibilité!$A$15:$AG$515,30,FALSE)))","v":""},"","","","","","","",1305,"","","","","","","Temps restant : ",""]
[{"$f":"IF(eligibilité!AG361=\"\",\"\",eligibilité!A361)","v":""},{"$f":"IF(A359=\"\",\"\",IF(VLOOKUP(A359,eligibilité!$A$15:$J$515,2,TRUE)=\"\",\"\",VLOOKUP(A359,eligibilité!$A$15:$J$515,2,TRUE)))","v":""},{"$f":"IF(A359=\"\",\"\",IF(VLOOKUP(A359,eligibilité!$A$15:$AG$515,3,TRUE)=\"\",\"\",VLOOKUP(A359,eligibilité!$A$15:$AG$515,3,TRUE)))","v":""},{"$f":"IF(A359=\"\",\"\",IF(VLOOKUP(A359,eligibilité!$A$15:$AG$515,4,TRUE)=\"\",\"\",VLOOKUP(A359,eligibilité!$A$15:$AG$515,4,TRUE)))","v":""},{"$f":"IF(A359=\"\",\"\",IF(VLOOKUP(A359,eligibilité!$A$15:$AG$515,5,TRUE)=\"\",\"\",VLOOKUP(A359,eligibilité!$A$15:$AG$515,5,TRUE)))","v":""},{"$f":"IF(A359=\"\",\"\",IF(VLOOKUP(A359,eligibilité!$A$15:$AG$515,6,TRUE)=\"\",\"\",VLOOKUP(A359,eligibilité!$A$15:$AG$515,6,TRUE)))","v":""},{"$f":"IF(A359=\"\",\"\",IF(VLOOKUP(A359,eligibilité!$A$15:$AG$515,7,TRUE)=\"\",\"\",VLOOKUP(A359,eligibilité!$A$15:$AG$515,7,TRUE)))","v":""},{"$f":"IF(A359=\"\",\"\",IF(VLOOKUP(A359,eligibilité!$A$15:$AG$515,8,TRUE)=\"\",\"\",VLOOKUP(A359,eligibilité!$A$15:$AG$515,8,TRUE)))","v":""},{"$f":"IF(A359=\"\",\"\",IF(VLOOKUP(A359,eligibilité!$A$15:$AG$515,9,TRUE)=\"\",\"\",VLOOKUP(A359,eligibilité!$A$15:$AG$515,9,TRUE)))","v":""},{"$f":"IF(A359=\"\",\"\",IF(VLOOKUP(A359,eligibilité!$A$15:$AG$515,10,TRUE)=\"\",\"\",VLOOKUP(A359,eligibilité!$A$15:$AG$515,10,TRUE)))","v":""},{"$f":"IF(A359=\"\",\"\",IF(VLOOKUP(A359,eligibilité!$A$15:$AG$515,30,FALSE)=0,\"\",VLOOKUP(A359,eligibilité!$A$15:$AG$515,30,FALSE)))","v":""},"","","","","","","",1305,"","","","","","","Temps restant : ",""]
[{"$f":"IF(eligibilité!AG362=\"\",\"\",eligibilité!A362)","v":""},{"$f":"IF(A360=\"\",\"\",IF(VLOOKUP(A360,eligibilité!$A$15:$J$515,2,TRUE)=\"\",\"\",VLOOKUP(A360,eligibilité!$A$15:$J$515,2,TRUE)))","v":""},{"$f":"IF(A360=\"\",\"\",IF(VLOOKUP(A360,eligibilité!$A$15:$AG$515,3,TRUE)=\"\",\"\",VLOOKUP(A360,eligibilité!$A$15:$AG$515,3,TRUE)))","v":""},{"$f":"IF(A360=\"\",\"\",IF(VLOOKUP(A360,eligibilité!$A$15:$AG$515,4,TRUE)=\"\",\"\",VLOOKUP(A360,eligibilité!$A$15:$AG$515,4,TRUE)))","v":""},{"$f":"IF(A360=\"\",\"\",IF(VLOOKUP(A360,eligibilité!$A$15:$AG$515,5,TRUE)=\"\",\"\",VLOOKUP(A360,eligibilité!$A$15:$AG$515,5,TRUE)))","v":""},{"$f":"IF(A360=\"\",\"\",IF(VLOOKUP(A360,eligibilité!$A$15:$AG$515,6,TRUE)=\"\",\"\",VLOOKUP(A360,eligibilité!$A$15:$AG$515,6,TRUE)))","v":""},{"$f":"IF(A360=\"\",\"\",IF(VLOOKUP(A360,eligibilité!$A$15:$AG$515,7,TRUE)=\"\",\"\",VLOOKUP(A360,eligibilité!$A$15:$AG$515,7,TRUE)))","v":""},{"$f":"IF(A360=\"\",\"\",IF(VLOOKUP(A360,eligibilité!$A$15:$AG$515,8,TRUE)=\"\",\"\",VLOOKUP(A360,eligibilité!$A$15:$AG$515,8,TRUE)))","v":""},{"$f":"IF(A360=\"\",\"\",IF(VLOOKUP(A360,eligibilité!$A$15:$AG$515,9,TRUE)=\"\",\"\",VLOOKUP(A360,eligibilité!$A$15:$AG$515,9,TRUE)))","v":""},{"$f":"IF(A360=\"\",\"\",IF(VLOOKUP(A360,eligibilité!$A$15:$AG$515,10,TRUE)=\"\",\"\",VLOOKUP(A360,eligibilité!$A$15:$AG$515,10,TRUE)))","v":""},{"$f":"IF(A360=\"\",\"\",IF(VLOOKUP(A360,eligibilité!$A$15:$AG$515,30,FALSE)=0,\"\",VLOOKUP(A360,eligibilité!$A$15:$AG$515,30,FALSE)))","v":""},"","","","","","","",1305,"","","","","","","Temps restant : ",""]
[{"$f":"IF(eligibilité!AG363=\"\",\"\",eligibilité!A363)","v":""},{"$f":"IF(A361=\"\",\"\",IF(VLOOKUP(A361,eligibilité!$A$15:$J$515,2,TRUE)=\"\",\"\",VLOOKUP(A361,eligibilité!$A$15:$J$515,2,TRUE)))","v":""},{"$f":"IF(A361=\"\",\"\",IF(VLOOKUP(A361,eligibilité!$A$15:$AG$515,3,TRUE)=\"\",\"\",VLOOKUP(A361,eligibilité!$A$15:$AG$515,3,TRUE)))","v":""},{"$f":"IF(A361=\"\",\"\",IF(VLOOKUP(A361,eligibilité!$A$15:$AG$515,4,TRUE)=\"\",\"\",VLOOKUP(A361,eligibilité!$A$15:$AG$515,4,TRUE)))","v":""},{"$f":"IF(A361=\"\",\"\",IF(VLOOKUP(A361,eligibilité!$A$15:$AG$515,5,TRUE)=\"\",\"\",VLOOKUP(A361,eligibilité!$A$15:$AG$515,5,TRUE)))","v":""},{"$f":"IF(A361=\"\",\"\",IF(VLOOKUP(A361,eligibilité!$A$15:$AG$515,6,TRUE)=\"\",\"\",VLOOKUP(A361,eligibilité!$A$15:$AG$515,6,TRUE)))","v":""},{"$f":"IF(A361=\"\",\"\",IF(VLOOKUP(A361,eligibilité!$A$15:$AG$515,7,TRUE)=\"\",\"\",VLOOKUP(A361,eligibilité!$A$15:$AG$515,7,TRUE)))","v":""},{"$f":"IF(A361=\"\",\"\",IF(VLOOKUP(A361,eligibilité!$A$15:$AG$515,8,TRUE)=\"\",\"\",VLOOKUP(A361,eligibilité!$A$15:$AG$515,8,TRUE)))","v":""},{"$f":"IF(A361=\"\",\"\",IF(VLOOKUP(A361,eligibilité!$A$15:$AG$515,9,TRUE)=\"\",\"\",VLOOKUP(A361,eligibilité!$A$15:$AG$515,9,TRUE)))","v":""},{"$f":"IF(A361=\"\",\"\",IF(VLOOKUP(A361,eligibilité!$A$15:$AG$515,10,TRUE)=\"\",\"\",VLOOKUP(A361,eligibilité!$A$15:$AG$515,10,TRUE)))","v":""},{"$f":"IF(A361=\"\",\"\",IF(VLOOKUP(A361,eligibilité!$A$15:$AG$515,30,FALSE)=0,\"\",VLOOKUP(A361,eligibilité!$A$15:$AG$515,30,FALSE)))","v":""},"","","","","","","",1305,"","","","","","","Temps restant : ",""]
[{"$f":"IF(eligibilité!AG364=\"\",\"\",eligibilité!A364)","v":""},{"$f":"IF(A362=\"\",\"\",IF(VLOOKUP(A362,eligibilité!$A$15:$J$515,2,TRUE)=\"\",\"\",VLOOKUP(A362,eligibilité!$A$15:$J$515,2,TRUE)))","v":""},{"$f":"IF(A362=\"\",\"\",IF(VLOOKUP(A362,eligibilité!$A$15:$AG$515,3,TRUE)=\"\",\"\",VLOOKUP(A362,eligibilité!$A$15:$AG$515,3,TRUE)))","v":""},{"$f":"IF(A362=\"\",\"\",IF(VLOOKUP(A362,eligibilité!$A$15:$AG$515,4,TRUE)=\"\",\"\",VLOOKUP(A362,eligibilité!$A$15:$AG$515,4,TRUE)))","v":""},{"$f":"IF(A362=\"\",\"\",IF(VLOOKUP(A362,eligibilité!$A$15:$AG$515,5,TRUE)=\"\",\"\",VLOOKUP(A362,eligibilité!$A$15:$AG$515,5,TRUE)))","v":""},{"$f":"IF(A362=\"\",\"\",IF(VLOOKUP(A362,eligibilité!$A$15:$AG$515,6,TRUE)=\"\",\"\",VLOOKUP(A362,eligibilité!$A$15:$AG$515,6,TRUE)))","v":""},{"$f":"IF(A362=\"\",\"\",IF(VLOOKUP(A362,eligibilité!$A$15:$AG$515,7,TRUE)=\"\",\"\",VLOOKUP(A362,eligibilité!$A$15:$AG$515,7,TRUE)))","v":""},{"$f":"IF(A362=\"\",\"\",IF(VLOOKUP(A362,eligibilité!$A$15:$AG$515,8,TRUE)=\"\",\"\",VLOOKUP(A362,eligibilité!$A$15:$AG$515,8,TRUE)))","v":""},{"$f":"IF(A362=\"\",\"\",IF(VLOOKUP(A362,eligibilité!$A$15:$AG$515,9,TRUE)=\"\",\"\",VLOOKUP(A362,eligibilité!$A$15:$AG$515,9,TRUE)))","v":""},{"$f":"IF(A362=\"\",\"\",IF(VLOOKUP(A362,eligibilité!$A$15:$AG$515,10,TRUE)=\"\",\"\",VLOOKUP(A362,eligibilité!$A$15:$AG$515,10,TRUE)))","v":""},{"$f":"IF(A362=\"\",\"\",IF(VLOOKUP(A362,eligibilité!$A$15:$AG$515,30,FALSE)=0,\"\",VLOOKUP(A362,eligibilité!$A$15:$AG$515,30,FALSE)))","v":""},"","","","","","","",1305,"","","","","","","Temps restant : ",""]
[{"$f":"IF(eligibilité!AG365=\"\",\"\",eligibilité!A365)","v":""},{"$f":"IF(A363=\"\",\"\",IF(VLOOKUP(A363,eligibilité!$A$15:$J$515,2,TRUE)=\"\",\"\",VLOOKUP(A363,eligibilité!$A$15:$J$515,2,TRUE)))","v":""},{"$f":"IF(A363=\"\",\"\",IF(VLOOKUP(A363,eligibilité!$A$15:$AG$515,3,TRUE)=\"\",\"\",VLOOKUP(A363,eligibilité!$A$15:$AG$515,3,TRUE)))","v":""},{"$f":"IF(A363=\"\",\"\",IF(VLOOKUP(A363,eligibilité!$A$15:$AG$515,4,TRUE)=\"\",\"\",VLOOKUP(A363,eligibilité!$A$15:$AG$515,4,TRUE)))","v":""},{"$f":"IF(A363=\"\",\"\",IF(VLOOKUP(A363,eligibilité!$A$15:$AG$515,5,TRUE)=\"\",\"\",VLOOKUP(A363,eligibilité!$A$15:$AG$515,5,TRUE)))","v":""},{"$f":"IF(A363=\"\",\"\",IF(VLOOKUP(A363,eligibilité!$A$15:$AG$515,6,TRUE)=\"\",\"\",VLOOKUP(A363,eligibilité!$A$15:$AG$515,6,TRUE)))","v":""},{"$f":"IF(A363=\"\",\"\",IF(VLOOKUP(A363,eligibilité!$A$15:$AG$515,7,TRUE)=\"\",\"\",VLOOKUP(A363,eligibilité!$A$15:$AG$515,7,TRUE)))","v":""},{"$f":"IF(A363=\"\",\"\",IF(VLOOKUP(A363,eligibilité!$A$15:$AG$515,8,TRUE)=\"\",\"\",VLOOKUP(A363,eligibilité!$A$15:$AG$515,8,TRUE)))","v":""},{"$f":"IF(A363=\"\",\"\",IF(VLOOKUP(A363,eligibilité!$A$15:$AG$515,9,TRUE)=\"\",\"\",VLOOKUP(A363,eligibilité!$A$15:$AG$515,9,TRUE)))","v":""},{"$f":"IF(A363=\"\",\"\",IF(VLOOKUP(A363,eligibilité!$A$15:$AG$515,10,TRUE)=\"\",\"\",VLOOKUP(A363,eligibilité!$A$15:$AG$515,10,TRUE)))","v":""},{"$f":"IF(A363=\"\",\"\",IF(VLOOKUP(A363,eligibilité!$A$15:$AG$515,30,FALSE)=0,\"\",VLOOKUP(A363,eligibilité!$A$15:$AG$515,30,FALSE)))","v":""},"","","","","","","",1305,"","","","","","","Temps restant : ",""]
[{"$f":"IF(eligibilité!AG366=\"\",\"\",eligibilité!A366)","v":""},{"$f":"IF(A364=\"\",\"\",IF(VLOOKUP(A364,eligibilité!$A$15:$J$515,2,TRUE)=\"\",\"\",VLOOKUP(A364,eligibilité!$A$15:$J$515,2,TRUE)))","v":""},{"$f":"IF(A364=\"\",\"\",IF(VLOOKUP(A364,eligibilité!$A$15:$AG$515,3,TRUE)=\"\",\"\",VLOOKUP(A364,eligibilité!$A$15:$AG$515,3,TRUE)))","v":""},{"$f":"IF(A364=\"\",\"\",IF(VLOOKUP(A364,eligibilité!$A$15:$AG$515,4,TRUE)=\"\",\"\",VLOOKUP(A364,eligibilité!$A$15:$AG$515,4,TRUE)))","v":""},{"$f":"IF(A364=\"\",\"\",IF(VLOOKUP(A364,eligibilité!$A$15:$AG$515,5,TRUE)=\"\",\"\",VLOOKUP(A364,eligibilité!$A$15:$AG$515,5,TRUE)))","v":""},{"$f":"IF(A364=\"\",\"\",IF(VLOOKUP(A364,eligibilité!$A$15:$AG$515,6,TRUE)=\"\",\"\",VLOOKUP(A364,eligibilité!$A$15:$AG$515,6,TRUE)))","v":""},{"$f":"IF(A364=\"\",\"\",IF(VLOOKUP(A364,eligibilité!$A$15:$AG$515,7,TRUE)=\"\",\"\",VLOOKUP(A364,eligibilité!$A$15:$AG$515,7,TRUE)))","v":""},{"$f":"IF(A364=\"\",\"\",IF(VLOOKUP(A364,eligibilité!$A$15:$AG$515,8,TRUE)=\"\",\"\",VLOOKUP(A364,eligibilité!$A$15:$AG$515,8,TRUE)))","v":""},{"$f":"IF(A364=\"\",\"\",IF(VLOOKUP(A364,eligibilité!$A$15:$AG$515,9,TRUE)=\"\",\"\",VLOOKUP(A364,eligibilité!$A$15:$AG$515,9,TRUE)))","v":""},{"$f":"IF(A364=\"\",\"\",IF(VLOOKUP(A364,eligibilité!$A$15:$AG$515,10,TRUE)=\"\",\"\",VLOOKUP(A364,eligibilité!$A$15:$AG$515,10,TRUE)))","v":""},{"$f":"IF(A364=\"\",\"\",IF(VLOOKUP(A364,eligibilité!$A$15:$AG$515,30,FALSE)=0,\"\",VLOOKUP(A364,eligibilité!$A$15:$AG$515,30,FALSE)))","v":""},"","","","","","","",1305,"","","","","","","Temps restant : ",""]
[{"$f":"IF(eligibilité!AG367=\"\",\"\",eligibilité!A367)","v":""},{"$f":"IF(A365=\"\",\"\",IF(VLOOKUP(A365,eligibilité!$A$15:$J$515,2,TRUE)=\"\",\"\",VLOOKUP(A365,eligibilité!$A$15:$J$515,2,TRUE)))","v":""},{"$f":"IF(A365=\"\",\"\",IF(VLOOKUP(A365,eligibilité!$A$15:$AG$515,3,TRUE)=\"\",\"\",VLOOKUP(A365,eligibilité!$A$15:$AG$515,3,TRUE)))","v":""},{"$f":"IF(A365=\"\",\"\",IF(VLOOKUP(A365,eligibilité!$A$15:$AG$515,4,TRUE)=\"\",\"\",VLOOKUP(A365,eligibilité!$A$15:$AG$515,4,TRUE)))","v":""},{"$f":"IF(A365=\"\",\"\",IF(VLOOKUP(A365,eligibilité!$A$15:$AG$515,5,TRUE)=\"\",\"\",VLOOKUP(A365,eligibilité!$A$15:$AG$515,5,TRUE)))","v":""},{"$f":"IF(A365=\"\",\"\",IF(VLOOKUP(A365,eligibilité!$A$15:$AG$515,6,TRUE)=\"\",\"\",VLOOKUP(A365,eligibilité!$A$15:$AG$515,6,TRUE)))","v":""},{"$f":"IF(A365=\"\",\"\",IF(VLOOKUP(A365,eligibilité!$A$15:$AG$515,7,TRUE)=\"\",\"\",VLOOKUP(A365,eligibilité!$A$15:$AG$515,7,TRUE)))","v":""},{"$f":"IF(A365=\"\",\"\",IF(VLOOKUP(A365,eligibilité!$A$15:$AG$515,8,TRUE)=\"\",\"\",VLOOKUP(A365,eligibilité!$A$15:$AG$515,8,TRUE)))","v":""},{"$f":"IF(A365=\"\",\"\",IF(VLOOKUP(A365,eligibilité!$A$15:$AG$515,9,TRUE)=\"\",\"\",VLOOKUP(A365,eligibilité!$A$15:$AG$515,9,TRUE)))","v":""},{"$f":"IF(A365=\"\",\"\",IF(VLOOKUP(A365,eligibilité!$A$15:$AG$515,10,TRUE)=\"\",\"\",VLOOKUP(A365,eligibilité!$A$15:$AG$515,10,TRUE)))","v":""},{"$f":"IF(A365=\"\",\"\",IF(VLOOKUP(A365,eligibilité!$A$15:$AG$515,30,FALSE)=0,\"\",VLOOKUP(A365,eligibilité!$A$15:$AG$515,30,FALSE)))","v":""},"","","","","","","",1305,"","","","","","","Temps restant : ",""]
[{"$f":"IF(eligibilité!AG368=\"\",\"\",eligibilité!A368)","v":""},{"$f":"IF(A366=\"\",\"\",IF(VLOOKUP(A366,eligibilité!$A$15:$J$515,2,TRUE)=\"\",\"\",VLOOKUP(A366,eligibilité!$A$15:$J$515,2,TRUE)))","v":""},{"$f":"IF(A366=\"\",\"\",IF(VLOOKUP(A366,eligibilité!$A$15:$AG$515,3,TRUE)=\"\",\"\",VLOOKUP(A366,eligibilité!$A$15:$AG$515,3,TRUE)))","v":""},{"$f":"IF(A366=\"\",\"\",IF(VLOOKUP(A366,eligibilité!$A$15:$AG$515,4,TRUE)=\"\",\"\",VLOOKUP(A366,eligibilité!$A$15:$AG$515,4,TRUE)))","v":""},{"$f":"IF(A366=\"\",\"\",IF(VLOOKUP(A366,eligibilité!$A$15:$AG$515,5,TRUE)=\"\",\"\",VLOOKUP(A366,eligibilité!$A$15:$AG$515,5,TRUE)))","v":""},{"$f":"IF(A366=\"\",\"\",IF(VLOOKUP(A366,eligibilité!$A$15:$AG$515,6,TRUE)=\"\",\"\",VLOOKUP(A366,eligibilité!$A$15:$AG$515,6,TRUE)))","v":""},{"$f":"IF(A366=\"\",\"\",IF(VLOOKUP(A366,eligibilité!$A$15:$AG$515,7,TRUE)=\"\",\"\",VLOOKUP(A366,eligibilité!$A$15:$AG$515,7,TRUE)))","v":""},{"$f":"IF(A366=\"\",\"\",IF(VLOOKUP(A366,eligibilité!$A$15:$AG$515,8,TRUE)=\"\",\"\",VLOOKUP(A366,eligibilité!$A$15:$AG$515,8,TRUE)))","v":""},{"$f":"IF(A366=\"\",\"\",IF(VLOOKUP(A366,eligibilité!$A$15:$AG$515,9,TRUE)=\"\",\"\",VLOOKUP(A366,eligibilité!$A$15:$AG$515,9,TRUE)))","v":""},{"$f":"IF(A366=\"\",\"\",IF(VLOOKUP(A366,eligibilité!$A$15:$AG$515,10,TRUE)=\"\",\"\",VLOOKUP(A366,eligibilité!$A$15:$AG$515,10,TRUE)))","v":""},{"$f":"IF(A366=\"\",\"\",IF(VLOOKUP(A366,eligibilité!$A$15:$AG$515,30,FALSE)=0,\"\",VLOOKUP(A366,eligibilité!$A$15:$AG$515,30,FALSE)))","v":""},"","","","","","","",1305,"","","","","","","Temps restant : ",""]
[{"$f":"IF(eligibilité!AG369=\"\",\"\",eligibilité!A369)","v":""},{"$f":"IF(A367=\"\",\"\",IF(VLOOKUP(A367,eligibilité!$A$15:$J$515,2,TRUE)=\"\",\"\",VLOOKUP(A367,eligibilité!$A$15:$J$515,2,TRUE)))","v":""},{"$f":"IF(A367=\"\",\"\",IF(VLOOKUP(A367,eligibilité!$A$15:$AG$515,3,TRUE)=\"\",\"\",VLOOKUP(A367,eligibilité!$A$15:$AG$515,3,TRUE)))","v":""},{"$f":"IF(A367=\"\",\"\",IF(VLOOKUP(A367,eligibilité!$A$15:$AG$515,4,TRUE)=\"\",\"\",VLOOKUP(A367,eligibilité!$A$15:$AG$515,4,TRUE)))","v":""},{"$f":"IF(A367=\"\",\"\",IF(VLOOKUP(A367,eligibilité!$A$15:$AG$515,5,TRUE)=\"\",\"\",VLOOKUP(A367,eligibilité!$A$15:$AG$515,5,TRUE)))","v":""},{"$f":"IF(A367=\"\",\"\",IF(VLOOKUP(A367,eligibilité!$A$15:$AG$515,6,TRUE)=\"\",\"\",VLOOKUP(A367,eligibilité!$A$15:$AG$515,6,TRUE)))","v":""},{"$f":"IF(A367=\"\",\"\",IF(VLOOKUP(A367,eligibilité!$A$15:$AG$515,7,TRUE)=\"\",\"\",VLOOKUP(A367,eligibilité!$A$15:$AG$515,7,TRUE)))","v":""},{"$f":"IF(A367=\"\",\"\",IF(VLOOKUP(A367,eligibilité!$A$15:$AG$515,8,TRUE)=\"\",\"\",VLOOKUP(A367,eligibilité!$A$15:$AG$515,8,TRUE)))","v":""},{"$f":"IF(A367=\"\",\"\",IF(VLOOKUP(A367,eligibilité!$A$15:$AG$515,9,TRUE)=\"\",\"\",VLOOKUP(A367,eligibilité!$A$15:$AG$515,9,TRUE)))","v":""},{"$f":"IF(A367=\"\",\"\",IF(VLOOKUP(A367,eligibilité!$A$15:$AG$515,10,TRUE)=\"\",\"\",VLOOKUP(A367,eligibilité!$A$15:$AG$515,10,TRUE)))","v":""},{"$f":"IF(A367=\"\",\"\",IF(VLOOKUP(A367,eligibilité!$A$15:$AG$515,30,FALSE)=0,\"\",VLOOKUP(A367,eligibilité!$A$15:$AG$515,30,FALSE)))","v":""},"","","","","","","",1305,"","","","","","","Temps restant : ",""]
[{"$f":"IF(eligibilité!AG370=\"\",\"\",eligibilité!A370)","v":""},{"$f":"IF(A368=\"\",\"\",IF(VLOOKUP(A368,eligibilité!$A$15:$J$515,2,TRUE)=\"\",\"\",VLOOKUP(A368,eligibilité!$A$15:$J$515,2,TRUE)))","v":""},{"$f":"IF(A368=\"\",\"\",IF(VLOOKUP(A368,eligibilité!$A$15:$AG$515,3,TRUE)=\"\",\"\",VLOOKUP(A368,eligibilité!$A$15:$AG$515,3,TRUE)))","v":""},{"$f":"IF(A368=\"\",\"\",IF(VLOOKUP(A368,eligibilité!$A$15:$AG$515,4,TRUE)=\"\",\"\",VLOOKUP(A368,eligibilité!$A$15:$AG$515,4,TRUE)))","v":""},{"$f":"IF(A368=\"\",\"\",IF(VLOOKUP(A368,eligibilité!$A$15:$AG$515,5,TRUE)=\"\",\"\",VLOOKUP(A368,eligibilité!$A$15:$AG$515,5,TRUE)))","v":""},{"$f":"IF(A368=\"\",\"\",IF(VLOOKUP(A368,eligibilité!$A$15:$AG$515,6,TRUE)=\"\",\"\",VLOOKUP(A368,eligibilité!$A$15:$AG$515,6,TRUE)))","v":""},{"$f":"IF(A368=\"\",\"\",IF(VLOOKUP(A368,eligibilité!$A$15:$AG$515,7,TRUE)=\"\",\"\",VLOOKUP(A368,eligibilité!$A$15:$AG$515,7,TRUE)))","v":""},{"$f":"IF(A368=\"\",\"\",IF(VLOOKUP(A368,eligibilité!$A$15:$AG$515,8,TRUE)=\"\",\"\",VLOOKUP(A368,eligibilité!$A$15:$AG$515,8,TRUE)))","v":""},{"$f":"IF(A368=\"\",\"\",IF(VLOOKUP(A368,eligibilité!$A$15:$AG$515,9,TRUE)=\"\",\"\",VLOOKUP(A368,eligibilité!$A$15:$AG$515,9,TRUE)))","v":""},{"$f":"IF(A368=\"\",\"\",IF(VLOOKUP(A368,eligibilité!$A$15:$AG$515,10,TRUE)=\"\",\"\",VLOOKUP(A368,eligibilité!$A$15:$AG$515,10,TRUE)))","v":""},{"$f":"IF(A368=\"\",\"\",IF(VLOOKUP(A368,eligibilité!$A$15:$AG$515,30,FALSE)=0,\"\",VLOOKUP(A368,eligibilité!$A$15:$AG$515,30,FALSE)))","v":""},"","","","","","","",1305,"","","","","","","Temps restant : ",""]
[{"$f":"IF(eligibilité!AG371=\"\",\"\",eligibilité!A371)","v":""},{"$f":"IF(A369=\"\",\"\",IF(VLOOKUP(A369,eligibilité!$A$15:$J$515,2,TRUE)=\"\",\"\",VLOOKUP(A369,eligibilité!$A$15:$J$515,2,TRUE)))","v":""},{"$f":"IF(A369=\"\",\"\",IF(VLOOKUP(A369,eligibilité!$A$15:$AG$515,3,TRUE)=\"\",\"\",VLOOKUP(A369,eligibilité!$A$15:$AG$515,3,TRUE)))","v":""},{"$f":"IF(A369=\"\",\"\",IF(VLOOKUP(A369,eligibilité!$A$15:$AG$515,4,TRUE)=\"\",\"\",VLOOKUP(A369,eligibilité!$A$15:$AG$515,4,TRUE)))","v":""},{"$f":"IF(A369=\"\",\"\",IF(VLOOKUP(A369,eligibilité!$A$15:$AG$515,5,TRUE)=\"\",\"\",VLOOKUP(A369,eligibilité!$A$15:$AG$515,5,TRUE)))","v":""},{"$f":"IF(A369=\"\",\"\",IF(VLOOKUP(A369,eligibilité!$A$15:$AG$515,6,TRUE)=\"\",\"\",VLOOKUP(A369,eligibilité!$A$15:$AG$515,6,TRUE)))","v":""},{"$f":"IF(A369=\"\",\"\",IF(VLOOKUP(A369,eligibilité!$A$15:$AG$515,7,TRUE)=\"\",\"\",VLOOKUP(A369,eligibilité!$A$15:$AG$515,7,TRUE)))","v":""},{"$f":"IF(A369=\"\",\"\",IF(VLOOKUP(A369,eligibilité!$A$15:$AG$515,8,TRUE)=\"\",\"\",VLOOKUP(A369,eligibilité!$A$15:$AG$515,8,TRUE)))","v":""},{"$f":"IF(A369=\"\",\"\",IF(VLOOKUP(A369,eligibilité!$A$15:$AG$515,9,TRUE)=\"\",\"\",VLOOKUP(A369,eligibilité!$A$15:$AG$515,9,TRUE)))","v":""},{"$f":"IF(A369=\"\",\"\",IF(VLOOKUP(A369,eligibilité!$A$15:$AG$515,10,TRUE)=\"\",\"\",VLOOKUP(A369,eligibilité!$A$15:$AG$515,10,TRUE)))","v":""},{"$f":"IF(A369=\"\",\"\",IF(VLOOKUP(A369,eligibilité!$A$15:$AG$515,30,FALSE)=0,\"\",VLOOKUP(A369,eligibilité!$A$15:$AG$515,30,FALSE)))","v":""},"","","","","","","",1305,"","","","","","","Temps restant : ",""]
[{"$f":"IF(eligibilité!AG372=\"\",\"\",eligibilité!A372)","v":""},{"$f":"IF(A370=\"\",\"\",IF(VLOOKUP(A370,eligibilité!$A$15:$J$515,2,TRUE)=\"\",\"\",VLOOKUP(A370,eligibilité!$A$15:$J$515,2,TRUE)))","v":""},{"$f":"IF(A370=\"\",\"\",IF(VLOOKUP(A370,eligibilité!$A$15:$AG$515,3,TRUE)=\"\",\"\",VLOOKUP(A370,eligibilité!$A$15:$AG$515,3,TRUE)))","v":""},{"$f":"IF(A370=\"\",\"\",IF(VLOOKUP(A370,eligibilité!$A$15:$AG$515,4,TRUE)=\"\",\"\",VLOOKUP(A370,eligibilité!$A$15:$AG$515,4,TRUE)))","v":""},{"$f":"IF(A370=\"\",\"\",IF(VLOOKUP(A370,eligibilité!$A$15:$AG$515,5,TRUE)=\"\",\"\",VLOOKUP(A370,eligibilité!$A$15:$AG$515,5,TRUE)))","v":""},{"$f":"IF(A370=\"\",\"\",IF(VLOOKUP(A370,eligibilité!$A$15:$AG$515,6,TRUE)=\"\",\"\",VLOOKUP(A370,eligibilité!$A$15:$AG$515,6,TRUE)))","v":""},{"$f":"IF(A370=\"\",\"\",IF(VLOOKUP(A370,eligibilité!$A$15:$AG$515,7,TRUE)=\"\",\"\",VLOOKUP(A370,eligibilité!$A$15:$AG$515,7,TRUE)))","v":""},{"$f":"IF(A370=\"\",\"\",IF(VLOOKUP(A370,eligibilité!$A$15:$AG$515,8,TRUE)=\"\",\"\",VLOOKUP(A370,eligibilité!$A$15:$AG$515,8,TRUE)))","v":""},{"$f":"IF(A370=\"\",\"\",IF(VLOOKUP(A370,eligibilité!$A$15:$AG$515,9,TRUE)=\"\",\"\",VLOOKUP(A370,eligibilité!$A$15:$AG$515,9,TRUE)))","v":""},{"$f":"IF(A370=\"\",\"\",IF(VLOOKUP(A370,eligibilité!$A$15:$AG$515,10,TRUE)=\"\",\"\",VLOOKUP(A370,eligibilité!$A$15:$AG$515,10,TRUE)))","v":""},{"$f":"IF(A370=\"\",\"\",IF(VLOOKUP(A370,eligibilité!$A$15:$AG$515,30,FALSE)=0,\"\",VLOOKUP(A370,eligibilité!$A$15:$AG$515,30,FALSE)))","v":""},"","","","","","","",1305,"","","","","","","Temps restant : ",""]
[{"$f":"IF(eligibilité!AG373=\"\",\"\",eligibilité!A373)","v":""},{"$f":"IF(A371=\"\",\"\",IF(VLOOKUP(A371,eligibilité!$A$15:$J$515,2,TRUE)=\"\",\"\",VLOOKUP(A371,eligibilité!$A$15:$J$515,2,TRUE)))","v":""},{"$f":"IF(A371=\"\",\"\",IF(VLOOKUP(A371,eligibilité!$A$15:$AG$515,3,TRUE)=\"\",\"\",VLOOKUP(A371,eligibilité!$A$15:$AG$515,3,TRUE)))","v":""},{"$f":"IF(A371=\"\",\"\",IF(VLOOKUP(A371,eligibilité!$A$15:$AG$515,4,TRUE)=\"\",\"\",VLOOKUP(A371,eligibilité!$A$15:$AG$515,4,TRUE)))","v":""},{"$f":"IF(A371=\"\",\"\",IF(VLOOKUP(A371,eligibilité!$A$15:$AG$515,5,TRUE)=\"\",\"\",VLOOKUP(A371,eligibilité!$A$15:$AG$515,5,TRUE)))","v":""},{"$f":"IF(A371=\"\",\"\",IF(VLOOKUP(A371,eligibilité!$A$15:$AG$515,6,TRUE)=\"\",\"\",VLOOKUP(A371,eligibilité!$A$15:$AG$515,6,TRUE)))","v":""},{"$f":"IF(A371=\"\",\"\",IF(VLOOKUP(A371,eligibilité!$A$15:$AG$515,7,TRUE)=\"\",\"\",VLOOKUP(A371,eligibilité!$A$15:$AG$515,7,TRUE)))","v":""},{"$f":"IF(A371=\"\",\"\",IF(VLOOKUP(A371,eligibilité!$A$15:$AG$515,8,TRUE)=\"\",\"\",VLOOKUP(A371,eligibilité!$A$15:$AG$515,8,TRUE)))","v":""},{"$f":"IF(A371=\"\",\"\",IF(VLOOKUP(A371,eligibilité!$A$15:$AG$515,9,TRUE)=\"\",\"\",VLOOKUP(A371,eligibilité!$A$15:$AG$515,9,TRUE)))","v":""},{"$f":"IF(A371=\"\",\"\",IF(VLOOKUP(A371,eligibilité!$A$15:$AG$515,10,TRUE)=\"\",\"\",VLOOKUP(A371,eligibilité!$A$15:$AG$515,10,TRUE)))","v":""},{"$f":"IF(A371=\"\",\"\",IF(VLOOKUP(A371,eligibilité!$A$15:$AG$515,30,FALSE)=0,\"\",VLOOKUP(A371,eligibilité!$A$15:$AG$515,30,FALSE)))","v":""},"","","","","","","",1305,"","","","","","","Temps restant : ",""]
[{"$f":"IF(eligibilité!AG374=\"\",\"\",eligibilité!A374)","v":""},{"$f":"IF(A372=\"\",\"\",IF(VLOOKUP(A372,eligibilité!$A$15:$J$515,2,TRUE)=\"\",\"\",VLOOKUP(A372,eligibilité!$A$15:$J$515,2,TRUE)))","v":""},{"$f":"IF(A372=\"\",\"\",IF(VLOOKUP(A372,eligibilité!$A$15:$AG$515,3,TRUE)=\"\",\"\",VLOOKUP(A372,eligibilité!$A$15:$AG$515,3,TRUE)))","v":""},{"$f":"IF(A372=\"\",\"\",IF(VLOOKUP(A372,eligibilité!$A$15:$AG$515,4,TRUE)=\"\",\"\",VLOOKUP(A372,eligibilité!$A$15:$AG$515,4,TRUE)))","v":""},{"$f":"IF(A372=\"\",\"\",IF(VLOOKUP(A372,eligibilité!$A$15:$AG$515,5,TRUE)=\"\",\"\",VLOOKUP(A372,eligibilité!$A$15:$AG$515,5,TRUE)))","v":""},{"$f":"IF(A372=\"\",\"\",IF(VLOOKUP(A372,eligibilité!$A$15:$AG$515,6,TRUE)=\"\",\"\",VLOOKUP(A372,eligibilité!$A$15:$AG$515,6,TRUE)))","v":""},{"$f":"IF(A372=\"\",\"\",IF(VLOOKUP(A372,eligibilité!$A$15:$AG$515,7,TRUE)=\"\",\"\",VLOOKUP(A372,eligibilité!$A$15:$AG$515,7,TRUE)))","v":""},{"$f":"IF(A372=\"\",\"\",IF(VLOOKUP(A372,eligibilité!$A$15:$AG$515,8,TRUE)=\"\",\"\",VLOOKUP(A372,eligibilité!$A$15:$AG$515,8,TRUE)))","v":""},{"$f":"IF(A372=\"\",\"\",IF(VLOOKUP(A372,eligibilité!$A$15:$AG$515,9,TRUE)=\"\",\"\",VLOOKUP(A372,eligibilité!$A$15:$AG$515,9,TRUE)))","v":""},{"$f":"IF(A372=\"\",\"\",IF(VLOOKUP(A372,eligibilité!$A$15:$AG$515,10,TRUE)=\"\",\"\",VLOOKUP(A372,eligibilité!$A$15:$AG$515,10,TRUE)))","v":""},{"$f":"IF(A372=\"\",\"\",IF(VLOOKUP(A372,eligibilité!$A$15:$AG$515,30,FALSE)=0,\"\",VLOOKUP(A372,eligibilité!$A$15:$AG$515,30,FALSE)))","v":""},"","","","","","","",1305,"","","","","","","Temps restant : ",""]
[{"$f":"IF(eligibilité!AG375=\"\",\"\",eligibilité!A375)","v":""},{"$f":"IF(A373=\"\",\"\",IF(VLOOKUP(A373,eligibilité!$A$15:$J$515,2,TRUE)=\"\",\"\",VLOOKUP(A373,eligibilité!$A$15:$J$515,2,TRUE)))","v":""},{"$f":"IF(A373=\"\",\"\",IF(VLOOKUP(A373,eligibilité!$A$15:$AG$515,3,TRUE)=\"\",\"\",VLOOKUP(A373,eligibilité!$A$15:$AG$515,3,TRUE)))","v":""},{"$f":"IF(A373=\"\",\"\",IF(VLOOKUP(A373,eligibilité!$A$15:$AG$515,4,TRUE)=\"\",\"\",VLOOKUP(A373,eligibilité!$A$15:$AG$515,4,TRUE)))","v":""},{"$f":"IF(A373=\"\",\"\",IF(VLOOKUP(A373,eligibilité!$A$15:$AG$515,5,TRUE)=\"\",\"\",VLOOKUP(A373,eligibilité!$A$15:$AG$515,5,TRUE)))","v":""},{"$f":"IF(A373=\"\",\"\",IF(VLOOKUP(A373,eligibilité!$A$15:$AG$515,6,TRUE)=\"\",\"\",VLOOKUP(A373,eligibilité!$A$15:$AG$515,6,TRUE)))","v":""},{"$f":"IF(A373=\"\",\"\",IF(VLOOKUP(A373,eligibilité!$A$15:$AG$515,7,TRUE)=\"\",\"\",VLOOKUP(A373,eligibilité!$A$15:$AG$515,7,TRUE)))","v":""},{"$f":"IF(A373=\"\",\"\",IF(VLOOKUP(A373,eligibilité!$A$15:$AG$515,8,TRUE)=\"\",\"\",VLOOKUP(A373,eligibilité!$A$15:$AG$515,8,TRUE)))","v":""},{"$f":"IF(A373=\"\",\"\",IF(VLOOKUP(A373,eligibilité!$A$15:$AG$515,9,TRUE)=\"\",\"\",VLOOKUP(A373,eligibilité!$A$15:$AG$515,9,TRUE)))","v":""},{"$f":"IF(A373=\"\",\"\",IF(VLOOKUP(A373,eligibilité!$A$15:$AG$515,10,TRUE)=\"\",\"\",VLOOKUP(A373,eligibilité!$A$15:$AG$515,10,TRUE)))","v":""},{"$f":"IF(A373=\"\",\"\",IF(VLOOKUP(A373,eligibilité!$A$15:$AG$515,30,FALSE)=0,\"\",VLOOKUP(A373,eligibilité!$A$15:$AG$515,30,FALSE)))","v":""},"","","","","","","",1305,"","","","","","","Temps restant : ",""]
[{"$f":"IF(eligibilité!AG376=\"\",\"\",eligibilité!A376)","v":""},{"$f":"IF(A374=\"\",\"\",IF(VLOOKUP(A374,eligibilité!$A$15:$J$515,2,TRUE)=\"\",\"\",VLOOKUP(A374,eligibilité!$A$15:$J$515,2,TRUE)))","v":""},{"$f":"IF(A374=\"\",\"\",IF(VLOOKUP(A374,eligibilité!$A$15:$AG$515,3,TRUE)=\"\",\"\",VLOOKUP(A374,eligibilité!$A$15:$AG$515,3,TRUE)))","v":""},{"$f":"IF(A374=\"\",\"\",IF(VLOOKUP(A374,eligibilité!$A$15:$AG$515,4,TRUE)=\"\",\"\",VLOOKUP(A374,eligibilité!$A$15:$AG$515,4,TRUE)))","v":""},{"$f":"IF(A374=\"\",\"\",IF(VLOOKUP(A374,eligibilité!$A$15:$AG$515,5,TRUE)=\"\",\"\",VLOOKUP(A374,eligibilité!$A$15:$AG$515,5,TRUE)))","v":""},{"$f":"IF(A374=\"\",\"\",IF(VLOOKUP(A374,eligibilité!$A$15:$AG$515,6,TRUE)=\"\",\"\",VLOOKUP(A374,eligibilité!$A$15:$AG$515,6,TRUE)))","v":""},{"$f":"IF(A374=\"\",\"\",IF(VLOOKUP(A374,eligibilité!$A$15:$AG$515,7,TRUE)=\"\",\"\",VLOOKUP(A374,eligibilité!$A$15:$AG$515,7,TRUE)))","v":""},{"$f":"IF(A374=\"\",\"\",IF(VLOOKUP(A374,eligibilité!$A$15:$AG$515,8,TRUE)=\"\",\"\",VLOOKUP(A374,eligibilité!$A$15:$AG$515,8,TRUE)))","v":""},{"$f":"IF(A374=\"\",\"\",IF(VLOOKUP(A374,eligibilité!$A$15:$AG$515,9,TRUE)=\"\",\"\",VLOOKUP(A374,eligibilité!$A$15:$AG$515,9,TRUE)))","v":""},{"$f":"IF(A374=\"\",\"\",IF(VLOOKUP(A374,eligibilité!$A$15:$AG$515,10,TRUE)=\"\",\"\",VLOOKUP(A374,eligibilité!$A$15:$AG$515,10,TRUE)))","v":""},{"$f":"IF(A374=\"\",\"\",IF(VLOOKUP(A374,eligibilité!$A$15:$AG$515,30,FALSE)=0,\"\",VLOOKUP(A374,eligibilité!$A$15:$AG$515,30,FALSE)))","v":""},"","","","","","","",1305,"","","","","","","Temps restant : ",""]
[{"$f":"IF(eligibilité!AG377=\"\",\"\",eligibilité!A377)","v":""},{"$f":"IF(A375=\"\",\"\",IF(VLOOKUP(A375,eligibilité!$A$15:$J$515,2,TRUE)=\"\",\"\",VLOOKUP(A375,eligibilité!$A$15:$J$515,2,TRUE)))","v":""},{"$f":"IF(A375=\"\",\"\",IF(VLOOKUP(A375,eligibilité!$A$15:$AG$515,3,TRUE)=\"\",\"\",VLOOKUP(A375,eligibilité!$A$15:$AG$515,3,TRUE)))","v":""},{"$f":"IF(A375=\"\",\"\",IF(VLOOKUP(A375,eligibilité!$A$15:$AG$515,4,TRUE)=\"\",\"\",VLOOKUP(A375,eligibilité!$A$15:$AG$515,4,TRUE)))","v":""},{"$f":"IF(A375=\"\",\"\",IF(VLOOKUP(A375,eligibilité!$A$15:$AG$515,5,TRUE)=\"\",\"\",VLOOKUP(A375,eligibilité!$A$15:$AG$515,5,TRUE)))","v":""},{"$f":"IF(A375=\"\",\"\",IF(VLOOKUP(A375,eligibilité!$A$15:$AG$515,6,TRUE)=\"\",\"\",VLOOKUP(A375,eligibilité!$A$15:$AG$515,6,TRUE)))","v":""},{"$f":"IF(A375=\"\",\"\",IF(VLOOKUP(A375,eligibilité!$A$15:$AG$515,7,TRUE)=\"\",\"\",VLOOKUP(A375,eligibilité!$A$15:$AG$515,7,TRUE)))","v":""},{"$f":"IF(A375=\"\",\"\",IF(VLOOKUP(A375,eligibilité!$A$15:$AG$515,8,TRUE)=\"\",\"\",VLOOKUP(A375,eligibilité!$A$15:$AG$515,8,TRUE)))","v":""},{"$f":"IF(A375=\"\",\"\",IF(VLOOKUP(A375,eligibilité!$A$15:$AG$515,9,TRUE)=\"\",\"\",VLOOKUP(A375,eligibilité!$A$15:$AG$515,9,TRUE)))","v":""},{"$f":"IF(A375=\"\",\"\",IF(VLOOKUP(A375,eligibilité!$A$15:$AG$515,10,TRUE)=\"\",\"\",VLOOKUP(A375,eligibilité!$A$15:$AG$515,10,TRUE)))","v":""},{"$f":"IF(A375=\"\",\"\",IF(VLOOKUP(A375,eligibilité!$A$15:$AG$515,30,FALSE)=0,\"\",VLOOKUP(A375,eligibilité!$A$15:$AG$515,30,FALSE)))","v":""},"","","","","","","",1305,"","","","","","","Temps restant : ",""]
[{"$f":"IF(eligibilité!AG378=\"\",\"\",eligibilité!A378)","v":""},{"$f":"IF(A376=\"\",\"\",IF(VLOOKUP(A376,eligibilité!$A$15:$J$515,2,TRUE)=\"\",\"\",VLOOKUP(A376,eligibilité!$A$15:$J$515,2,TRUE)))","v":""},{"$f":"IF(A376=\"\",\"\",IF(VLOOKUP(A376,eligibilité!$A$15:$AG$515,3,TRUE)=\"\",\"\",VLOOKUP(A376,eligibilité!$A$15:$AG$515,3,TRUE)))","v":""},{"$f":"IF(A376=\"\",\"\",IF(VLOOKUP(A376,eligibilité!$A$15:$AG$515,4,TRUE)=\"\",\"\",VLOOKUP(A376,eligibilité!$A$15:$AG$515,4,TRUE)))","v":""},{"$f":"IF(A376=\"\",\"\",IF(VLOOKUP(A376,eligibilité!$A$15:$AG$515,5,TRUE)=\"\",\"\",VLOOKUP(A376,eligibilité!$A$15:$AG$515,5,TRUE)))","v":""},{"$f":"IF(A376=\"\",\"\",IF(VLOOKUP(A376,eligibilité!$A$15:$AG$515,6,TRUE)=\"\",\"\",VLOOKUP(A376,eligibilité!$A$15:$AG$515,6,TRUE)))","v":""},{"$f":"IF(A376=\"\",\"\",IF(VLOOKUP(A376,eligibilité!$A$15:$AG$515,7,TRUE)=\"\",\"\",VLOOKUP(A376,eligibilité!$A$15:$AG$515,7,TRUE)))","v":""},{"$f":"IF(A376=\"\",\"\",IF(VLOOKUP(A376,eligibilité!$A$15:$AG$515,8,TRUE)=\"\",\"\",VLOOKUP(A376,eligibilité!$A$15:$AG$515,8,TRUE)))","v":""},{"$f":"IF(A376=\"\",\"\",IF(VLOOKUP(A376,eligibilité!$A$15:$AG$515,9,TRUE)=\"\",\"\",VLOOKUP(A376,eligibilité!$A$15:$AG$515,9,TRUE)))","v":""},{"$f":"IF(A376=\"\",\"\",IF(VLOOKUP(A376,eligibilité!$A$15:$AG$515,10,TRUE)=\"\",\"\",VLOOKUP(A376,eligibilité!$A$15:$AG$515,10,TRUE)))","v":""},{"$f":"IF(A376=\"\",\"\",IF(VLOOKUP(A376,eligibilité!$A$15:$AG$515,30,FALSE)=0,\"\",VLOOKUP(A376,eligibilité!$A$15:$AG$515,30,FALSE)))","v":""},"","","","","","","",1305,"","","","","","","Temps restant : ",""]
[{"$f":"IF(eligibilité!AG379=\"\",\"\",eligibilité!A379)","v":""},{"$f":"IF(A377=\"\",\"\",IF(VLOOKUP(A377,eligibilité!$A$15:$J$515,2,TRUE)=\"\",\"\",VLOOKUP(A377,eligibilité!$A$15:$J$515,2,TRUE)))","v":""},{"$f":"IF(A377=\"\",\"\",IF(VLOOKUP(A377,eligibilité!$A$15:$AG$515,3,TRUE)=\"\",\"\",VLOOKUP(A377,eligibilité!$A$15:$AG$515,3,TRUE)))","v":""},{"$f":"IF(A377=\"\",\"\",IF(VLOOKUP(A377,eligibilité!$A$15:$AG$515,4,TRUE)=\"\",\"\",VLOOKUP(A377,eligibilité!$A$15:$AG$515,4,TRUE)))","v":""},{"$f":"IF(A377=\"\",\"\",IF(VLOOKUP(A377,eligibilité!$A$15:$AG$515,5,TRUE)=\"\",\"\",VLOOKUP(A377,eligibilité!$A$15:$AG$515,5,TRUE)))","v":""},{"$f":"IF(A377=\"\",\"\",IF(VLOOKUP(A377,eligibilité!$A$15:$AG$515,6,TRUE)=\"\",\"\",VLOOKUP(A377,eligibilité!$A$15:$AG$515,6,TRUE)))","v":""},{"$f":"IF(A377=\"\",\"\",IF(VLOOKUP(A377,eligibilité!$A$15:$AG$515,7,TRUE)=\"\",\"\",VLOOKUP(A377,eligibilité!$A$15:$AG$515,7,TRUE)))","v":""},{"$f":"IF(A377=\"\",\"\",IF(VLOOKUP(A377,eligibilité!$A$15:$AG$515,8,TRUE)=\"\",\"\",VLOOKUP(A377,eligibilité!$A$15:$AG$515,8,TRUE)))","v":""},{"$f":"IF(A377=\"\",\"\",IF(VLOOKUP(A377,eligibilité!$A$15:$AG$515,9,TRUE)=\"\",\"\",VLOOKUP(A377,eligibilité!$A$15:$AG$515,9,TRUE)))","v":""},{"$f":"IF(A377=\"\",\"\",IF(VLOOKUP(A377,eligibilité!$A$15:$AG$515,10,TRUE)=\"\",\"\",VLOOKUP(A377,eligibilité!$A$15:$AG$515,10,TRUE)))","v":""},{"$f":"IF(A377=\"\",\"\",IF(VLOOKUP(A377,eligibilité!$A$15:$AG$515,30,FALSE)=0,\"\",VLOOKUP(A377,eligibilité!$A$15:$AG$515,30,FALSE)))","v":""},"","","","","","","",1305,"","","","","","","Temps restant : ",""]
[{"$f":"IF(eligibilité!AG380=\"\",\"\",eligibilité!A380)","v":""},{"$f":"IF(A378=\"\",\"\",IF(VLOOKUP(A378,eligibilité!$A$15:$J$515,2,TRUE)=\"\",\"\",VLOOKUP(A378,eligibilité!$A$15:$J$515,2,TRUE)))","v":""},{"$f":"IF(A378=\"\",\"\",IF(VLOOKUP(A378,eligibilité!$A$15:$AG$515,3,TRUE)=\"\",\"\",VLOOKUP(A378,eligibilité!$A$15:$AG$515,3,TRUE)))","v":""},{"$f":"IF(A378=\"\",\"\",IF(VLOOKUP(A378,eligibilité!$A$15:$AG$515,4,TRUE)=\"\",\"\",VLOOKUP(A378,eligibilité!$A$15:$AG$515,4,TRUE)))","v":""},{"$f":"IF(A378=\"\",\"\",IF(VLOOKUP(A378,eligibilité!$A$15:$AG$515,5,TRUE)=\"\",\"\",VLOOKUP(A378,eligibilité!$A$15:$AG$515,5,TRUE)))","v":""},{"$f":"IF(A378=\"\",\"\",IF(VLOOKUP(A378,eligibilité!$A$15:$AG$515,6,TRUE)=\"\",\"\",VLOOKUP(A378,eligibilité!$A$15:$AG$515,6,TRUE)))","v":""},{"$f":"IF(A378=\"\",\"\",IF(VLOOKUP(A378,eligibilité!$A$15:$AG$515,7,TRUE)=\"\",\"\",VLOOKUP(A378,eligibilité!$A$15:$AG$515,7,TRUE)))","v":""},{"$f":"IF(A378=\"\",\"\",IF(VLOOKUP(A378,eligibilité!$A$15:$AG$515,8,TRUE)=\"\",\"\",VLOOKUP(A378,eligibilité!$A$15:$AG$515,8,TRUE)))","v":""},{"$f":"IF(A378=\"\",\"\",IF(VLOOKUP(A378,eligibilité!$A$15:$AG$515,9,TRUE)=\"\",\"\",VLOOKUP(A378,eligibilité!$A$15:$AG$515,9,TRUE)))","v":""},{"$f":"IF(A378=\"\",\"\",IF(VLOOKUP(A378,eligibilité!$A$15:$AG$515,10,TRUE)=\"\",\"\",VLOOKUP(A378,eligibilité!$A$15:$AG$515,10,TRUE)))","v":""},{"$f":"IF(A378=\"\",\"\",IF(VLOOKUP(A378,eligibilité!$A$15:$AG$515,30,FALSE)=0,\"\",VLOOKUP(A378,eligibilité!$A$15:$AG$515,30,FALSE)))","v":""},"","","","","","","",1305,"","","","","","","Temps restant : ",""]
[{"$f":"IF(eligibilité!AG381=\"\",\"\",eligibilité!A381)","v":""},{"$f":"IF(A379=\"\",\"\",IF(VLOOKUP(A379,eligibilité!$A$15:$J$515,2,TRUE)=\"\",\"\",VLOOKUP(A379,eligibilité!$A$15:$J$515,2,TRUE)))","v":""},{"$f":"IF(A379=\"\",\"\",IF(VLOOKUP(A379,eligibilité!$A$15:$AG$515,3,TRUE)=\"\",\"\",VLOOKUP(A379,eligibilité!$A$15:$AG$515,3,TRUE)))","v":""},{"$f":"IF(A379=\"\",\"\",IF(VLOOKUP(A379,eligibilité!$A$15:$AG$515,4,TRUE)=\"\",\"\",VLOOKUP(A379,eligibilité!$A$15:$AG$515,4,TRUE)))","v":""},{"$f":"IF(A379=\"\",\"\",IF(VLOOKUP(A379,eligibilité!$A$15:$AG$515,5,TRUE)=\"\",\"\",VLOOKUP(A379,eligibilité!$A$15:$AG$515,5,TRUE)))","v":""},{"$f":"IF(A379=\"\",\"\",IF(VLOOKUP(A379,eligibilité!$A$15:$AG$515,6,TRUE)=\"\",\"\",VLOOKUP(A379,eligibilité!$A$15:$AG$515,6,TRUE)))","v":""},{"$f":"IF(A379=\"\",\"\",IF(VLOOKUP(A379,eligibilité!$A$15:$AG$515,7,TRUE)=\"\",\"\",VLOOKUP(A379,eligibilité!$A$15:$AG$515,7,TRUE)))","v":""},{"$f":"IF(A379=\"\",\"\",IF(VLOOKUP(A379,eligibilité!$A$15:$AG$515,8,TRUE)=\"\",\"\",VLOOKUP(A379,eligibilité!$A$15:$AG$515,8,TRUE)))","v":""},{"$f":"IF(A379=\"\",\"\",IF(VLOOKUP(A379,eligibilité!$A$15:$AG$515,9,TRUE)=\"\",\"\",VLOOKUP(A379,eligibilité!$A$15:$AG$515,9,TRUE)))","v":""},{"$f":"IF(A379=\"\",\"\",IF(VLOOKUP(A379,eligibilité!$A$15:$AG$515,10,TRUE)=\"\",\"\",VLOOKUP(A379,eligibilité!$A$15:$AG$515,10,TRUE)))","v":""},{"$f":"IF(A379=\"\",\"\",IF(VLOOKUP(A379,eligibilité!$A$15:$AG$515,30,FALSE)=0,\"\",VLOOKUP(A379,eligibilité!$A$15:$AG$515,30,FALSE)))","v":""},"","","","","","","",1305,"","","","","","","Temps restant : ",""]
[{"$f":"IF(eligibilité!AG382=\"\",\"\",eligibilité!A382)","v":""},{"$f":"IF(A380=\"\",\"\",IF(VLOOKUP(A380,eligibilité!$A$15:$J$515,2,TRUE)=\"\",\"\",VLOOKUP(A380,eligibilité!$A$15:$J$515,2,TRUE)))","v":""},{"$f":"IF(A380=\"\",\"\",IF(VLOOKUP(A380,eligibilité!$A$15:$AG$515,3,TRUE)=\"\",\"\",VLOOKUP(A380,eligibilité!$A$15:$AG$515,3,TRUE)))","v":""},{"$f":"IF(A380=\"\",\"\",IF(VLOOKUP(A380,eligibilité!$A$15:$AG$515,4,TRUE)=\"\",\"\",VLOOKUP(A380,eligibilité!$A$15:$AG$515,4,TRUE)))","v":""},{"$f":"IF(A380=\"\",\"\",IF(VLOOKUP(A380,eligibilité!$A$15:$AG$515,5,TRUE)=\"\",\"\",VLOOKUP(A380,eligibilité!$A$15:$AG$515,5,TRUE)))","v":""},{"$f":"IF(A380=\"\",\"\",IF(VLOOKUP(A380,eligibilité!$A$15:$AG$515,6,TRUE)=\"\",\"\",VLOOKUP(A380,eligibilité!$A$15:$AG$515,6,TRUE)))","v":""},{"$f":"IF(A380=\"\",\"\",IF(VLOOKUP(A380,eligibilité!$A$15:$AG$515,7,TRUE)=\"\",\"\",VLOOKUP(A380,eligibilité!$A$15:$AG$515,7,TRUE)))","v":""},{"$f":"IF(A380=\"\",\"\",IF(VLOOKUP(A380,eligibilité!$A$15:$AG$515,8,TRUE)=\"\",\"\",VLOOKUP(A380,eligibilité!$A$15:$AG$515,8,TRUE)))","v":""},{"$f":"IF(A380=\"\",\"\",IF(VLOOKUP(A380,eligibilité!$A$15:$AG$515,9,TRUE)=\"\",\"\",VLOOKUP(A380,eligibilité!$A$15:$AG$515,9,TRUE)))","v":""},{"$f":"IF(A380=\"\",\"\",IF(VLOOKUP(A380,eligibilité!$A$15:$AG$515,10,TRUE)=\"\",\"\",VLOOKUP(A380,eligibilité!$A$15:$AG$515,10,TRUE)))","v":""},{"$f":"IF(A380=\"\",\"\",IF(VLOOKUP(A380,eligibilité!$A$15:$AG$515,30,FALSE)=0,\"\",VLOOKUP(A380,eligibilité!$A$15:$AG$515,30,FALSE)))","v":""},"","","","","","","",1305,"","","","","","","Temps restant : ",""]
[{"$f":"IF(eligibilité!AG383=\"\",\"\",eligibilité!A383)","v":""},{"$f":"IF(A381=\"\",\"\",IF(VLOOKUP(A381,eligibilité!$A$15:$J$515,2,TRUE)=\"\",\"\",VLOOKUP(A381,eligibilité!$A$15:$J$515,2,TRUE)))","v":""},{"$f":"IF(A381=\"\",\"\",IF(VLOOKUP(A381,eligibilité!$A$15:$AG$515,3,TRUE)=\"\",\"\",VLOOKUP(A381,eligibilité!$A$15:$AG$515,3,TRUE)))","v":""},{"$f":"IF(A381=\"\",\"\",IF(VLOOKUP(A381,eligibilité!$A$15:$AG$515,4,TRUE)=\"\",\"\",VLOOKUP(A381,eligibilité!$A$15:$AG$515,4,TRUE)))","v":""},{"$f":"IF(A381=\"\",\"\",IF(VLOOKUP(A381,eligibilité!$A$15:$AG$515,5,TRUE)=\"\",\"\",VLOOKUP(A381,eligibilité!$A$15:$AG$515,5,TRUE)))","v":""},{"$f":"IF(A381=\"\",\"\",IF(VLOOKUP(A381,eligibilité!$A$15:$AG$515,6,TRUE)=\"\",\"\",VLOOKUP(A381,eligibilité!$A$15:$AG$515,6,TRUE)))","v":""},{"$f":"IF(A381=\"\",\"\",IF(VLOOKUP(A381,eligibilité!$A$15:$AG$515,7,TRUE)=\"\",\"\",VLOOKUP(A381,eligibilité!$A$15:$AG$515,7,TRUE)))","v":""},{"$f":"IF(A381=\"\",\"\",IF(VLOOKUP(A381,eligibilité!$A$15:$AG$515,8,TRUE)=\"\",\"\",VLOOKUP(A381,eligibilité!$A$15:$AG$515,8,TRUE)))","v":""},{"$f":"IF(A381=\"\",\"\",IF(VLOOKUP(A381,eligibilité!$A$15:$AG$515,9,TRUE)=\"\",\"\",VLOOKUP(A381,eligibilité!$A$15:$AG$515,9,TRUE)))","v":""},{"$f":"IF(A381=\"\",\"\",IF(VLOOKUP(A381,eligibilité!$A$15:$AG$515,10,TRUE)=\"\",\"\",VLOOKUP(A381,eligibilité!$A$15:$AG$515,10,TRUE)))","v":""},{"$f":"IF(A381=\"\",\"\",IF(VLOOKUP(A381,eligibilité!$A$15:$AG$515,30,FALSE)=0,\"\",VLOOKUP(A381,eligibilité!$A$15:$AG$515,30,FALSE)))","v":""},"","","","","","","",1305,"","","","","","","Temps restant : ",""]
[{"$f":"IF(eligibilité!AG384=\"\",\"\",eligibilité!A384)","v":""},{"$f":"IF(A382=\"\",\"\",IF(VLOOKUP(A382,eligibilité!$A$15:$J$515,2,TRUE)=\"\",\"\",VLOOKUP(A382,eligibilité!$A$15:$J$515,2,TRUE)))","v":""},{"$f":"IF(A382=\"\",\"\",IF(VLOOKUP(A382,eligibilité!$A$15:$AG$515,3,TRUE)=\"\",\"\",VLOOKUP(A382,eligibilité!$A$15:$AG$515,3,TRUE)))","v":""},{"$f":"IF(A382=\"\",\"\",IF(VLOOKUP(A382,eligibilité!$A$15:$AG$515,4,TRUE)=\"\",\"\",VLOOKUP(A382,eligibilité!$A$15:$AG$515,4,TRUE)))","v":""},{"$f":"IF(A382=\"\",\"\",IF(VLOOKUP(A382,eligibilité!$A$15:$AG$515,5,TRUE)=\"\",\"\",VLOOKUP(A382,eligibilité!$A$15:$AG$515,5,TRUE)))","v":""},{"$f":"IF(A382=\"\",\"\",IF(VLOOKUP(A382,eligibilité!$A$15:$AG$515,6,TRUE)=\"\",\"\",VLOOKUP(A382,eligibilité!$A$15:$AG$515,6,TRUE)))","v":""},{"$f":"IF(A382=\"\",\"\",IF(VLOOKUP(A382,eligibilité!$A$15:$AG$515,7,TRUE)=\"\",\"\",VLOOKUP(A382,eligibilité!$A$15:$AG$515,7,TRUE)))","v":""},{"$f":"IF(A382=\"\",\"\",IF(VLOOKUP(A382,eligibilité!$A$15:$AG$515,8,TRUE)=\"\",\"\",VLOOKUP(A382,eligibilité!$A$15:$AG$515,8,TRUE)))","v":""},{"$f":"IF(A382=\"\",\"\",IF(VLOOKUP(A382,eligibilité!$A$15:$AG$515,9,TRUE)=\"\",\"\",VLOOKUP(A382,eligibilité!$A$15:$AG$515,9,TRUE)))","v":""},{"$f":"IF(A382=\"\",\"\",IF(VLOOKUP(A382,eligibilité!$A$15:$AG$515,10,TRUE)=\"\",\"\",VLOOKUP(A382,eligibilité!$A$15:$AG$515,10,TRUE)))","v":""},{"$f":"IF(A382=\"\",\"\",IF(VLOOKUP(A382,eligibilité!$A$15:$AG$515,30,FALSE)=0,\"\",VLOOKUP(A382,eligibilité!$A$15:$AG$515,30,FALSE)))","v":""},"","","","","","","",1305,"","","","","","","Temps restant : ",""]
[{"$f":"IF(eligibilité!AG385=\"\",\"\",eligibilité!A385)","v":""},{"$f":"IF(A383=\"\",\"\",IF(VLOOKUP(A383,eligibilité!$A$15:$J$515,2,TRUE)=\"\",\"\",VLOOKUP(A383,eligibilité!$A$15:$J$515,2,TRUE)))","v":""},{"$f":"IF(A383=\"\",\"\",IF(VLOOKUP(A383,eligibilité!$A$15:$AG$515,3,TRUE)=\"\",\"\",VLOOKUP(A383,eligibilité!$A$15:$AG$515,3,TRUE)))","v":""},{"$f":"IF(A383=\"\",\"\",IF(VLOOKUP(A383,eligibilité!$A$15:$AG$515,4,TRUE)=\"\",\"\",VLOOKUP(A383,eligibilité!$A$15:$AG$515,4,TRUE)))","v":""},{"$f":"IF(A383=\"\",\"\",IF(VLOOKUP(A383,eligibilité!$A$15:$AG$515,5,TRUE)=\"\",\"\",VLOOKUP(A383,eligibilité!$A$15:$AG$515,5,TRUE)))","v":""},{"$f":"IF(A383=\"\",\"\",IF(VLOOKUP(A383,eligibilité!$A$15:$AG$515,6,TRUE)=\"\",\"\",VLOOKUP(A383,eligibilité!$A$15:$AG$515,6,TRUE)))","v":""},{"$f":"IF(A383=\"\",\"\",IF(VLOOKUP(A383,eligibilité!$A$15:$AG$515,7,TRUE)=\"\",\"\",VLOOKUP(A383,eligibilité!$A$15:$AG$515,7,TRUE)))","v":""},{"$f":"IF(A383=\"\",\"\",IF(VLOOKUP(A383,eligibilité!$A$15:$AG$515,8,TRUE)=\"\",\"\",VLOOKUP(A383,eligibilité!$A$15:$AG$515,8,TRUE)))","v":""},{"$f":"IF(A383=\"\",\"\",IF(VLOOKUP(A383,eligibilité!$A$15:$AG$515,9,TRUE)=\"\",\"\",VLOOKUP(A383,eligibilité!$A$15:$AG$515,9,TRUE)))","v":""},{"$f":"IF(A383=\"\",\"\",IF(VLOOKUP(A383,eligibilité!$A$15:$AG$515,10,TRUE)=\"\",\"\",VLOOKUP(A383,eligibilité!$A$15:$AG$515,10,TRUE)))","v":""},{"$f":"IF(A383=\"\",\"\",IF(VLOOKUP(A383,eligibilité!$A$15:$AG$515,30,FALSE)=0,\"\",VLOOKUP(A383,eligibilité!$A$15:$AG$515,30,FALSE)))","v":""},"","","","","","","",1305,"","","","","","","Temps restant : ",""]
[{"$f":"IF(eligibilité!AG386=\"\",\"\",eligibilité!A386)","v":""},{"$f":"IF(A384=\"\",\"\",IF(VLOOKUP(A384,eligibilité!$A$15:$J$515,2,TRUE)=\"\",\"\",VLOOKUP(A384,eligibilité!$A$15:$J$515,2,TRUE)))","v":""},{"$f":"IF(A384=\"\",\"\",IF(VLOOKUP(A384,eligibilité!$A$15:$AG$515,3,TRUE)=\"\",\"\",VLOOKUP(A384,eligibilité!$A$15:$AG$515,3,TRUE)))","v":""},{"$f":"IF(A384=\"\",\"\",IF(VLOOKUP(A384,eligibilité!$A$15:$AG$515,4,TRUE)=\"\",\"\",VLOOKUP(A384,eligibilité!$A$15:$AG$515,4,TRUE)))","v":""},{"$f":"IF(A384=\"\",\"\",IF(VLOOKUP(A384,eligibilité!$A$15:$AG$515,5,TRUE)=\"\",\"\",VLOOKUP(A384,eligibilité!$A$15:$AG$515,5,TRUE)))","v":""},{"$f":"IF(A384=\"\",\"\",IF(VLOOKUP(A384,eligibilité!$A$15:$AG$515,6,TRUE)=\"\",\"\",VLOOKUP(A384,eligibilité!$A$15:$AG$515,6,TRUE)))","v":""},{"$f":"IF(A384=\"\",\"\",IF(VLOOKUP(A384,eligibilité!$A$15:$AG$515,7,TRUE)=\"\",\"\",VLOOKUP(A384,eligibilité!$A$15:$AG$515,7,TRUE)))","v":""},{"$f":"IF(A384=\"\",\"\",IF(VLOOKUP(A384,eligibilité!$A$15:$AG$515,8,TRUE)=\"\",\"\",VLOOKUP(A384,eligibilité!$A$15:$AG$515,8,TRUE)))","v":""},{"$f":"IF(A384=\"\",\"\",IF(VLOOKUP(A384,eligibilité!$A$15:$AG$515,9,TRUE)=\"\",\"\",VLOOKUP(A384,eligibilité!$A$15:$AG$515,9,TRUE)))","v":""},{"$f":"IF(A384=\"\",\"\",IF(VLOOKUP(A384,eligibilité!$A$15:$AG$515,10,TRUE)=\"\",\"\",VLOOKUP(A384,eligibilité!$A$15:$AG$515,10,TRUE)))","v":""},{"$f":"IF(A384=\"\",\"\",IF(VLOOKUP(A384,eligibilité!$A$15:$AG$515,30,FALSE)=0,\"\",VLOOKUP(A384,eligibilité!$A$15:$AG$515,30,FALSE)))","v":""},"","","","","","","",1305,"","","","","","","Temps restant : ",""]
[{"$f":"IF(eligibilité!AG387=\"\",\"\",eligibilité!A387)","v":""},{"$f":"IF(A385=\"\",\"\",IF(VLOOKUP(A385,eligibilité!$A$15:$J$515,2,TRUE)=\"\",\"\",VLOOKUP(A385,eligibilité!$A$15:$J$515,2,TRUE)))","v":""},{"$f":"IF(A385=\"\",\"\",IF(VLOOKUP(A385,eligibilité!$A$15:$AG$515,3,TRUE)=\"\",\"\",VLOOKUP(A385,eligibilité!$A$15:$AG$515,3,TRUE)))","v":""},{"$f":"IF(A385=\"\",\"\",IF(VLOOKUP(A385,eligibilité!$A$15:$AG$515,4,TRUE)=\"\",\"\",VLOOKUP(A385,eligibilité!$A$15:$AG$515,4,TRUE)))","v":""},{"$f":"IF(A385=\"\",\"\",IF(VLOOKUP(A385,eligibilité!$A$15:$AG$515,5,TRUE)=\"\",\"\",VLOOKUP(A385,eligibilité!$A$15:$AG$515,5,TRUE)))","v":""},{"$f":"IF(A385=\"\",\"\",IF(VLOOKUP(A385,eligibilité!$A$15:$AG$515,6,TRUE)=\"\",\"\",VLOOKUP(A385,eligibilité!$A$15:$AG$515,6,TRUE)))","v":""},{"$f":"IF(A385=\"\",\"\",IF(VLOOKUP(A385,eligibilité!$A$15:$AG$515,7,TRUE)=\"\",\"\",VLOOKUP(A385,eligibilité!$A$15:$AG$515,7,TRUE)))","v":""},{"$f":"IF(A385=\"\",\"\",IF(VLOOKUP(A385,eligibilité!$A$15:$AG$515,8,TRUE)=\"\",\"\",VLOOKUP(A385,eligibilité!$A$15:$AG$515,8,TRUE)))","v":""},{"$f":"IF(A385=\"\",\"\",IF(VLOOKUP(A385,eligibilité!$A$15:$AG$515,9,TRUE)=\"\",\"\",VLOOKUP(A385,eligibilité!$A$15:$AG$515,9,TRUE)))","v":""},{"$f":"IF(A385=\"\",\"\",IF(VLOOKUP(A385,eligibilité!$A$15:$AG$515,10,TRUE)=\"\",\"\",VLOOKUP(A385,eligibilité!$A$15:$AG$515,10,TRUE)))","v":""},{"$f":"IF(A385=\"\",\"\",IF(VLOOKUP(A385,eligibilité!$A$15:$AG$515,30,FALSE)=0,\"\",VLOOKUP(A385,eligibilité!$A$15:$AG$515,30,FALSE)))","v":""},"","","","","","","",1305,"","","","","","","Temps restant : ",""]
[{"$f":"IF(eligibilité!AG388=\"\",\"\",eligibilité!A388)","v":""},{"$f":"IF(A386=\"\",\"\",IF(VLOOKUP(A386,eligibilité!$A$15:$J$515,2,TRUE)=\"\",\"\",VLOOKUP(A386,eligibilité!$A$15:$J$515,2,TRUE)))","v":""},{"$f":"IF(A386=\"\",\"\",IF(VLOOKUP(A386,eligibilité!$A$15:$AG$515,3,TRUE)=\"\",\"\",VLOOKUP(A386,eligibilité!$A$15:$AG$515,3,TRUE)))","v":""},{"$f":"IF(A386=\"\",\"\",IF(VLOOKUP(A386,eligibilité!$A$15:$AG$515,4,TRUE)=\"\",\"\",VLOOKUP(A386,eligibilité!$A$15:$AG$515,4,TRUE)))","v":""},{"$f":"IF(A386=\"\",\"\",IF(VLOOKUP(A386,eligibilité!$A$15:$AG$515,5,TRUE)=\"\",\"\",VLOOKUP(A386,eligibilité!$A$15:$AG$515,5,TRUE)))","v":""},{"$f":"IF(A386=\"\",\"\",IF(VLOOKUP(A386,eligibilité!$A$15:$AG$515,6,TRUE)=\"\",\"\",VLOOKUP(A386,eligibilité!$A$15:$AG$515,6,TRUE)))","v":""},{"$f":"IF(A386=\"\",\"\",IF(VLOOKUP(A386,eligibilité!$A$15:$AG$515,7,TRUE)=\"\",\"\",VLOOKUP(A386,eligibilité!$A$15:$AG$515,7,TRUE)))","v":""},{"$f":"IF(A386=\"\",\"\",IF(VLOOKUP(A386,eligibilité!$A$15:$AG$515,8,TRUE)=\"\",\"\",VLOOKUP(A386,eligibilité!$A$15:$AG$515,8,TRUE)))","v":""},{"$f":"IF(A386=\"\",\"\",IF(VLOOKUP(A386,eligibilité!$A$15:$AG$515,9,TRUE)=\"\",\"\",VLOOKUP(A386,eligibilité!$A$15:$AG$515,9,TRUE)))","v":""},{"$f":"IF(A386=\"\",\"\",IF(VLOOKUP(A386,eligibilité!$A$15:$AG$515,10,TRUE)=\"\",\"\",VLOOKUP(A386,eligibilité!$A$15:$AG$515,10,TRUE)))","v":""},{"$f":"IF(A386=\"\",\"\",IF(VLOOKUP(A386,eligibilité!$A$15:$AG$515,30,FALSE)=0,\"\",VLOOKUP(A386,eligibilité!$A$15:$AG$515,30,FALSE)))","v":""},"","","","","","","",1305,"","","","","","","Temps restant : ",""]
[{"$f":"IF(eligibilité!AG389=\"\",\"\",eligibilité!A389)","v":""},{"$f":"IF(A387=\"\",\"\",IF(VLOOKUP(A387,eligibilité!$A$15:$J$515,2,TRUE)=\"\",\"\",VLOOKUP(A387,eligibilité!$A$15:$J$515,2,TRUE)))","v":""},{"$f":"IF(A387=\"\",\"\",IF(VLOOKUP(A387,eligibilité!$A$15:$AG$515,3,TRUE)=\"\",\"\",VLOOKUP(A387,eligibilité!$A$15:$AG$515,3,TRUE)))","v":""},{"$f":"IF(A387=\"\",\"\",IF(VLOOKUP(A387,eligibilité!$A$15:$AG$515,4,TRUE)=\"\",\"\",VLOOKUP(A387,eligibilité!$A$15:$AG$515,4,TRUE)))","v":""},{"$f":"IF(A387=\"\",\"\",IF(VLOOKUP(A387,eligibilité!$A$15:$AG$515,5,TRUE)=\"\",\"\",VLOOKUP(A387,eligibilité!$A$15:$AG$515,5,TRUE)))","v":""},{"$f":"IF(A387=\"\",\"\",IF(VLOOKUP(A387,eligibilité!$A$15:$AG$515,6,TRUE)=\"\",\"\",VLOOKUP(A387,eligibilité!$A$15:$AG$515,6,TRUE)))","v":""},{"$f":"IF(A387=\"\",\"\",IF(VLOOKUP(A387,eligibilité!$A$15:$AG$515,7,TRUE)=\"\",\"\",VLOOKUP(A387,eligibilité!$A$15:$AG$515,7,TRUE)))","v":""},{"$f":"IF(A387=\"\",\"\",IF(VLOOKUP(A387,eligibilité!$A$15:$AG$515,8,TRUE)=\"\",\"\",VLOOKUP(A387,eligibilité!$A$15:$AG$515,8,TRUE)))","v":""},{"$f":"IF(A387=\"\",\"\",IF(VLOOKUP(A387,eligibilité!$A$15:$AG$515,9,TRUE)=\"\",\"\",VLOOKUP(A387,eligibilité!$A$15:$AG$515,9,TRUE)))","v":""},{"$f":"IF(A387=\"\",\"\",IF(VLOOKUP(A387,eligibilité!$A$15:$AG$515,10,TRUE)=\"\",\"\",VLOOKUP(A387,eligibilité!$A$15:$AG$515,10,TRUE)))","v":""},{"$f":"IF(A387=\"\",\"\",IF(VLOOKUP(A387,eligibilité!$A$15:$AG$515,30,FALSE)=0,\"\",VLOOKUP(A387,eligibilité!$A$15:$AG$515,30,FALSE)))","v":""},"","","","","","","",1305,"","","","","","","Temps restant : ",""]
[{"$f":"IF(eligibilité!AG390=\"\",\"\",eligibilité!A390)","v":""},{"$f":"IF(A388=\"\",\"\",IF(VLOOKUP(A388,eligibilité!$A$15:$J$515,2,TRUE)=\"\",\"\",VLOOKUP(A388,eligibilité!$A$15:$J$515,2,TRUE)))","v":""},{"$f":"IF(A388=\"\",\"\",IF(VLOOKUP(A388,eligibilité!$A$15:$AG$515,3,TRUE)=\"\",\"\",VLOOKUP(A388,eligibilité!$A$15:$AG$515,3,TRUE)))","v":""},{"$f":"IF(A388=\"\",\"\",IF(VLOOKUP(A388,eligibilité!$A$15:$AG$515,4,TRUE)=\"\",\"\",VLOOKUP(A388,eligibilité!$A$15:$AG$515,4,TRUE)))","v":""},{"$f":"IF(A388=\"\",\"\",IF(VLOOKUP(A388,eligibilité!$A$15:$AG$515,5,TRUE)=\"\",\"\",VLOOKUP(A388,eligibilité!$A$15:$AG$515,5,TRUE)))","v":""},{"$f":"IF(A388=\"\",\"\",IF(VLOOKUP(A388,eligibilité!$A$15:$AG$515,6,TRUE)=\"\",\"\",VLOOKUP(A388,eligibilité!$A$15:$AG$515,6,TRUE)))","v":""},{"$f":"IF(A388=\"\",\"\",IF(VLOOKUP(A388,eligibilité!$A$15:$AG$515,7,TRUE)=\"\",\"\",VLOOKUP(A388,eligibilité!$A$15:$AG$515,7,TRUE)))","v":""},{"$f":"IF(A388=\"\",\"\",IF(VLOOKUP(A388,eligibilité!$A$15:$AG$515,8,TRUE)=\"\",\"\",VLOOKUP(A388,eligibilité!$A$15:$AG$515,8,TRUE)))","v":""},{"$f":"IF(A388=\"\",\"\",IF(VLOOKUP(A388,eligibilité!$A$15:$AG$515,9,TRUE)=\"\",\"\",VLOOKUP(A388,eligibilité!$A$15:$AG$515,9,TRUE)))","v":""},{"$f":"IF(A388=\"\",\"\",IF(VLOOKUP(A388,eligibilité!$A$15:$AG$515,10,TRUE)=\"\",\"\",VLOOKUP(A388,eligibilité!$A$15:$AG$515,10,TRUE)))","v":""},{"$f":"IF(A388=\"\",\"\",IF(VLOOKUP(A388,eligibilité!$A$15:$AG$515,30,FALSE)=0,\"\",VLOOKUP(A388,eligibilité!$A$15:$AG$515,30,FALSE)))","v":""},"","","","","","","",1305,"","","","","","","Temps restant : ",""]
[{"$f":"IF(eligibilité!AG391=\"\",\"\",eligibilité!A391)","v":""},{"$f":"IF(A389=\"\",\"\",IF(VLOOKUP(A389,eligibilité!$A$15:$J$515,2,TRUE)=\"\",\"\",VLOOKUP(A389,eligibilité!$A$15:$J$515,2,TRUE)))","v":""},{"$f":"IF(A389=\"\",\"\",IF(VLOOKUP(A389,eligibilité!$A$15:$AG$515,3,TRUE)=\"\",\"\",VLOOKUP(A389,eligibilité!$A$15:$AG$515,3,TRUE)))","v":""},{"$f":"IF(A389=\"\",\"\",IF(VLOOKUP(A389,eligibilité!$A$15:$AG$515,4,TRUE)=\"\",\"\",VLOOKUP(A389,eligibilité!$A$15:$AG$515,4,TRUE)))","v":""},{"$f":"IF(A389=\"\",\"\",IF(VLOOKUP(A389,eligibilité!$A$15:$AG$515,5,TRUE)=\"\",\"\",VLOOKUP(A389,eligibilité!$A$15:$AG$515,5,TRUE)))","v":""},{"$f":"IF(A389=\"\",\"\",IF(VLOOKUP(A389,eligibilité!$A$15:$AG$515,6,TRUE)=\"\",\"\",VLOOKUP(A389,eligibilité!$A$15:$AG$515,6,TRUE)))","v":""},{"$f":"IF(A389=\"\",\"\",IF(VLOOKUP(A389,eligibilité!$A$15:$AG$515,7,TRUE)=\"\",\"\",VLOOKUP(A389,eligibilité!$A$15:$AG$515,7,TRUE)))","v":""},{"$f":"IF(A389=\"\",\"\",IF(VLOOKUP(A389,eligibilité!$A$15:$AG$515,8,TRUE)=\"\",\"\",VLOOKUP(A389,eligibilité!$A$15:$AG$515,8,TRUE)))","v":""},{"$f":"IF(A389=\"\",\"\",IF(VLOOKUP(A389,eligibilité!$A$15:$AG$515,9,TRUE)=\"\",\"\",VLOOKUP(A389,eligibilité!$A$15:$AG$515,9,TRUE)))","v":""},{"$f":"IF(A389=\"\",\"\",IF(VLOOKUP(A389,eligibilité!$A$15:$AG$515,10,TRUE)=\"\",\"\",VLOOKUP(A389,eligibilité!$A$15:$AG$515,10,TRUE)))","v":""},{"$f":"IF(A389=\"\",\"\",IF(VLOOKUP(A389,eligibilité!$A$15:$AG$515,30,FALSE)=0,\"\",VLOOKUP(A389,eligibilité!$A$15:$AG$515,30,FALSE)))","v":""},"","","","","","","",1305,"","","","","","","Temps restant : ",""]
[{"$f":"IF(eligibilité!AG392=\"\",\"\",eligibilité!A392)","v":""},{"$f":"IF(A390=\"\",\"\",IF(VLOOKUP(A390,eligibilité!$A$15:$J$515,2,TRUE)=\"\",\"\",VLOOKUP(A390,eligibilité!$A$15:$J$515,2,TRUE)))","v":""},{"$f":"IF(A390=\"\",\"\",IF(VLOOKUP(A390,eligibilité!$A$15:$AG$515,3,TRUE)=\"\",\"\",VLOOKUP(A390,eligibilité!$A$15:$AG$515,3,TRUE)))","v":""},{"$f":"IF(A390=\"\",\"\",IF(VLOOKUP(A390,eligibilité!$A$15:$AG$515,4,TRUE)=\"\",\"\",VLOOKUP(A390,eligibilité!$A$15:$AG$515,4,TRUE)))","v":""},{"$f":"IF(A390=\"\",\"\",IF(VLOOKUP(A390,eligibilité!$A$15:$AG$515,5,TRUE)=\"\",\"\",VLOOKUP(A390,eligibilité!$A$15:$AG$515,5,TRUE)))","v":""},{"$f":"IF(A390=\"\",\"\",IF(VLOOKUP(A390,eligibilité!$A$15:$AG$515,6,TRUE)=\"\",\"\",VLOOKUP(A390,eligibilité!$A$15:$AG$515,6,TRUE)))","v":""},{"$f":"IF(A390=\"\",\"\",IF(VLOOKUP(A390,eligibilité!$A$15:$AG$515,7,TRUE)=\"\",\"\",VLOOKUP(A390,eligibilité!$A$15:$AG$515,7,TRUE)))","v":""},{"$f":"IF(A390=\"\",\"\",IF(VLOOKUP(A390,eligibilité!$A$15:$AG$515,8,TRUE)=\"\",\"\",VLOOKUP(A390,eligibilité!$A$15:$AG$515,8,TRUE)))","v":""},{"$f":"IF(A390=\"\",\"\",IF(VLOOKUP(A390,eligibilité!$A$15:$AG$515,9,TRUE)=\"\",\"\",VLOOKUP(A390,eligibilité!$A$15:$AG$515,9,TRUE)))","v":""},{"$f":"IF(A390=\"\",\"\",IF(VLOOKUP(A390,eligibilité!$A$15:$AG$515,10,TRUE)=\"\",\"\",VLOOKUP(A390,eligibilité!$A$15:$AG$515,10,TRUE)))","v":""},{"$f":"IF(A390=\"\",\"\",IF(VLOOKUP(A390,eligibilité!$A$15:$AG$515,30,FALSE)=0,\"\",VLOOKUP(A390,eligibilité!$A$15:$AG$515,30,FALSE)))","v":""},"","","","","","","",1305,"","","","","","","Temps restant : ",""]
[{"$f":"IF(eligibilité!AG393=\"\",\"\",eligibilité!A393)","v":""},{"$f":"IF(A391=\"\",\"\",IF(VLOOKUP(A391,eligibilité!$A$15:$J$515,2,TRUE)=\"\",\"\",VLOOKUP(A391,eligibilité!$A$15:$J$515,2,TRUE)))","v":""},{"$f":"IF(A391=\"\",\"\",IF(VLOOKUP(A391,eligibilité!$A$15:$AG$515,3,TRUE)=\"\",\"\",VLOOKUP(A391,eligibilité!$A$15:$AG$515,3,TRUE)))","v":""},{"$f":"IF(A391=\"\",\"\",IF(VLOOKUP(A391,eligibilité!$A$15:$AG$515,4,TRUE)=\"\",\"\",VLOOKUP(A391,eligibilité!$A$15:$AG$515,4,TRUE)))","v":""},{"$f":"IF(A391=\"\",\"\",IF(VLOOKUP(A391,eligibilité!$A$15:$AG$515,5,TRUE)=\"\",\"\",VLOOKUP(A391,eligibilité!$A$15:$AG$515,5,TRUE)))","v":""},{"$f":"IF(A391=\"\",\"\",IF(VLOOKUP(A391,eligibilité!$A$15:$AG$515,6,TRUE)=\"\",\"\",VLOOKUP(A391,eligibilité!$A$15:$AG$515,6,TRUE)))","v":""},{"$f":"IF(A391=\"\",\"\",IF(VLOOKUP(A391,eligibilité!$A$15:$AG$515,7,TRUE)=\"\",\"\",VLOOKUP(A391,eligibilité!$A$15:$AG$515,7,TRUE)))","v":""},{"$f":"IF(A391=\"\",\"\",IF(VLOOKUP(A391,eligibilité!$A$15:$AG$515,8,TRUE)=\"\",\"\",VLOOKUP(A391,eligibilité!$A$15:$AG$515,8,TRUE)))","v":""},{"$f":"IF(A391=\"\",\"\",IF(VLOOKUP(A391,eligibilité!$A$15:$AG$515,9,TRUE)=\"\",\"\",VLOOKUP(A391,eligibilité!$A$15:$AG$515,9,TRUE)))","v":""},{"$f":"IF(A391=\"\",\"\",IF(VLOOKUP(A391,eligibilité!$A$15:$AG$515,10,TRUE)=\"\",\"\",VLOOKUP(A391,eligibilité!$A$15:$AG$515,10,TRUE)))","v":""},{"$f":"IF(A391=\"\",\"\",IF(VLOOKUP(A391,eligibilité!$A$15:$AG$515,30,FALSE)=0,\"\",VLOOKUP(A391,eligibilité!$A$15:$AG$515,30,FALSE)))","v":""},"","","","","","","",1305,"","","","","","","Temps restant : ",""]
[{"$f":"IF(eligibilité!AG394=\"\",\"\",eligibilité!A394)","v":""},{"$f":"IF(A392=\"\",\"\",IF(VLOOKUP(A392,eligibilité!$A$15:$J$515,2,TRUE)=\"\",\"\",VLOOKUP(A392,eligibilité!$A$15:$J$515,2,TRUE)))","v":""},{"$f":"IF(A392=\"\",\"\",IF(VLOOKUP(A392,eligibilité!$A$15:$AG$515,3,TRUE)=\"\",\"\",VLOOKUP(A392,eligibilité!$A$15:$AG$515,3,TRUE)))","v":""},{"$f":"IF(A392=\"\",\"\",IF(VLOOKUP(A392,eligibilité!$A$15:$AG$515,4,TRUE)=\"\",\"\",VLOOKUP(A392,eligibilité!$A$15:$AG$515,4,TRUE)))","v":""},{"$f":"IF(A392=\"\",\"\",IF(VLOOKUP(A392,eligibilité!$A$15:$AG$515,5,TRUE)=\"\",\"\",VLOOKUP(A392,eligibilité!$A$15:$AG$515,5,TRUE)))","v":""},{"$f":"IF(A392=\"\",\"\",IF(VLOOKUP(A392,eligibilité!$A$15:$AG$515,6,TRUE)=\"\",\"\",VLOOKUP(A392,eligibilité!$A$15:$AG$515,6,TRUE)))","v":""},{"$f":"IF(A392=\"\",\"\",IF(VLOOKUP(A392,eligibilité!$A$15:$AG$515,7,TRUE)=\"\",\"\",VLOOKUP(A392,eligibilité!$A$15:$AG$515,7,TRUE)))","v":""},{"$f":"IF(A392=\"\",\"\",IF(VLOOKUP(A392,eligibilité!$A$15:$AG$515,8,TRUE)=\"\",\"\",VLOOKUP(A392,eligibilité!$A$15:$AG$515,8,TRUE)))","v":""},{"$f":"IF(A392=\"\",\"\",IF(VLOOKUP(A392,eligibilité!$A$15:$AG$515,9,TRUE)=\"\",\"\",VLOOKUP(A392,eligibilité!$A$15:$AG$515,9,TRUE)))","v":""},{"$f":"IF(A392=\"\",\"\",IF(VLOOKUP(A392,eligibilité!$A$15:$AG$515,10,TRUE)=\"\",\"\",VLOOKUP(A392,eligibilité!$A$15:$AG$515,10,TRUE)))","v":""},{"$f":"IF(A392=\"\",\"\",IF(VLOOKUP(A392,eligibilité!$A$15:$AG$515,30,FALSE)=0,\"\",VLOOKUP(A392,eligibilité!$A$15:$AG$515,30,FALSE)))","v":""},"","","","","","","",1305,"","","","","","","Temps restant : ",""]
[{"$f":"IF(eligibilité!AG395=\"\",\"\",eligibilité!A395)","v":""},{"$f":"IF(A393=\"\",\"\",IF(VLOOKUP(A393,eligibilité!$A$15:$J$515,2,TRUE)=\"\",\"\",VLOOKUP(A393,eligibilité!$A$15:$J$515,2,TRUE)))","v":""},{"$f":"IF(A393=\"\",\"\",IF(VLOOKUP(A393,eligibilité!$A$15:$AG$515,3,TRUE)=\"\",\"\",VLOOKUP(A393,eligibilité!$A$15:$AG$515,3,TRUE)))","v":""},{"$f":"IF(A393=\"\",\"\",IF(VLOOKUP(A393,eligibilité!$A$15:$AG$515,4,TRUE)=\"\",\"\",VLOOKUP(A393,eligibilité!$A$15:$AG$515,4,TRUE)))","v":""},{"$f":"IF(A393=\"\",\"\",IF(VLOOKUP(A393,eligibilité!$A$15:$AG$515,5,TRUE)=\"\",\"\",VLOOKUP(A393,eligibilité!$A$15:$AG$515,5,TRUE)))","v":""},{"$f":"IF(A393=\"\",\"\",IF(VLOOKUP(A393,eligibilité!$A$15:$AG$515,6,TRUE)=\"\",\"\",VLOOKUP(A393,eligibilité!$A$15:$AG$515,6,TRUE)))","v":""},{"$f":"IF(A393=\"\",\"\",IF(VLOOKUP(A393,eligibilité!$A$15:$AG$515,7,TRUE)=\"\",\"\",VLOOKUP(A393,eligibilité!$A$15:$AG$515,7,TRUE)))","v":""},{"$f":"IF(A393=\"\",\"\",IF(VLOOKUP(A393,eligibilité!$A$15:$AG$515,8,TRUE)=\"\",\"\",VLOOKUP(A393,eligibilité!$A$15:$AG$515,8,TRUE)))","v":""},{"$f":"IF(A393=\"\",\"\",IF(VLOOKUP(A393,eligibilité!$A$15:$AG$515,9,TRUE)=\"\",\"\",VLOOKUP(A393,eligibilité!$A$15:$AG$515,9,TRUE)))","v":""},{"$f":"IF(A393=\"\",\"\",IF(VLOOKUP(A393,eligibilité!$A$15:$AG$515,10,TRUE)=\"\",\"\",VLOOKUP(A393,eligibilité!$A$15:$AG$515,10,TRUE)))","v":""},{"$f":"IF(A393=\"\",\"\",IF(VLOOKUP(A393,eligibilité!$A$15:$AG$515,30,FALSE)=0,\"\",VLOOKUP(A393,eligibilité!$A$15:$AG$515,30,FALSE)))","v":""},"","","","","","","",1305,"","","","","","","Temps restant : ",""]
[{"$f":"IF(eligibilité!AG396=\"\",\"\",eligibilité!A396)","v":""},{"$f":"IF(A394=\"\",\"\",IF(VLOOKUP(A394,eligibilité!$A$15:$J$515,2,TRUE)=\"\",\"\",VLOOKUP(A394,eligibilité!$A$15:$J$515,2,TRUE)))","v":""},{"$f":"IF(A394=\"\",\"\",IF(VLOOKUP(A394,eligibilité!$A$15:$AG$515,3,TRUE)=\"\",\"\",VLOOKUP(A394,eligibilité!$A$15:$AG$515,3,TRUE)))","v":""},{"$f":"IF(A394=\"\",\"\",IF(VLOOKUP(A394,eligibilité!$A$15:$AG$515,4,TRUE)=\"\",\"\",VLOOKUP(A394,eligibilité!$A$15:$AG$515,4,TRUE)))","v":""},{"$f":"IF(A394=\"\",\"\",IF(VLOOKUP(A394,eligibilité!$A$15:$AG$515,5,TRUE)=\"\",\"\",VLOOKUP(A394,eligibilité!$A$15:$AG$515,5,TRUE)))","v":""},{"$f":"IF(A394=\"\",\"\",IF(VLOOKUP(A394,eligibilité!$A$15:$AG$515,6,TRUE)=\"\",\"\",VLOOKUP(A394,eligibilité!$A$15:$AG$515,6,TRUE)))","v":""},{"$f":"IF(A394=\"\",\"\",IF(VLOOKUP(A394,eligibilité!$A$15:$AG$515,7,TRUE)=\"\",\"\",VLOOKUP(A394,eligibilité!$A$15:$AG$515,7,TRUE)))","v":""},{"$f":"IF(A394=\"\",\"\",IF(VLOOKUP(A394,eligibilité!$A$15:$AG$515,8,TRUE)=\"\",\"\",VLOOKUP(A394,eligibilité!$A$15:$AG$515,8,TRUE)))","v":""},{"$f":"IF(A394=\"\",\"\",IF(VLOOKUP(A394,eligibilité!$A$15:$AG$515,9,TRUE)=\"\",\"\",VLOOKUP(A394,eligibilité!$A$15:$AG$515,9,TRUE)))","v":""},{"$f":"IF(A394=\"\",\"\",IF(VLOOKUP(A394,eligibilité!$A$15:$AG$515,10,TRUE)=\"\",\"\",VLOOKUP(A394,eligibilité!$A$15:$AG$515,10,TRUE)))","v":""},{"$f":"IF(A394=\"\",\"\",IF(VLOOKUP(A394,eligibilité!$A$15:$AG$515,30,FALSE)=0,\"\",VLOOKUP(A394,eligibilité!$A$15:$AG$515,30,FALSE)))","v":""},"","","","","","","",1305,"","","","","","","Temps restant : ",""]
[{"$f":"IF(eligibilité!AG397=\"\",\"\",eligibilité!A397)","v":""},{"$f":"IF(A395=\"\",\"\",IF(VLOOKUP(A395,eligibilité!$A$15:$J$515,2,TRUE)=\"\",\"\",VLOOKUP(A395,eligibilité!$A$15:$J$515,2,TRUE)))","v":""},{"$f":"IF(A395=\"\",\"\",IF(VLOOKUP(A395,eligibilité!$A$15:$AG$515,3,TRUE)=\"\",\"\",VLOOKUP(A395,eligibilité!$A$15:$AG$515,3,TRUE)))","v":""},{"$f":"IF(A395=\"\",\"\",IF(VLOOKUP(A395,eligibilité!$A$15:$AG$515,4,TRUE)=\"\",\"\",VLOOKUP(A395,eligibilité!$A$15:$AG$515,4,TRUE)))","v":""},{"$f":"IF(A395=\"\",\"\",IF(VLOOKUP(A395,eligibilité!$A$15:$AG$515,5,TRUE)=\"\",\"\",VLOOKUP(A395,eligibilité!$A$15:$AG$515,5,TRUE)))","v":""},{"$f":"IF(A395=\"\",\"\",IF(VLOOKUP(A395,eligibilité!$A$15:$AG$515,6,TRUE)=\"\",\"\",VLOOKUP(A395,eligibilité!$A$15:$AG$515,6,TRUE)))","v":""},{"$f":"IF(A395=\"\",\"\",IF(VLOOKUP(A395,eligibilité!$A$15:$AG$515,7,TRUE)=\"\",\"\",VLOOKUP(A395,eligibilité!$A$15:$AG$515,7,TRUE)))","v":""},{"$f":"IF(A395=\"\",\"\",IF(VLOOKUP(A395,eligibilité!$A$15:$AG$515,8,TRUE)=\"\",\"\",VLOOKUP(A395,eligibilité!$A$15:$AG$515,8,TRUE)))","v":""},{"$f":"IF(A395=\"\",\"\",IF(VLOOKUP(A395,eligibilité!$A$15:$AG$515,9,TRUE)=\"\",\"\",VLOOKUP(A395,eligibilité!$A$15:$AG$515,9,TRUE)))","v":""},{"$f":"IF(A395=\"\",\"\",IF(VLOOKUP(A395,eligibilité!$A$15:$AG$515,10,TRUE)=\"\",\"\",VLOOKUP(A395,eligibilité!$A$15:$AG$515,10,TRUE)))","v":""},{"$f":"IF(A395=\"\",\"\",IF(VLOOKUP(A395,eligibilité!$A$15:$AG$515,30,FALSE)=0,\"\",VLOOKUP(A395,eligibilité!$A$15:$AG$515,30,FALSE)))","v":""},"","","","","","","",1305,"","","","","","","Temps restant : ",""]
[{"$f":"IF(eligibilité!AG398=\"\",\"\",eligibilité!A398)","v":""},{"$f":"IF(A396=\"\",\"\",IF(VLOOKUP(A396,eligibilité!$A$15:$J$515,2,TRUE)=\"\",\"\",VLOOKUP(A396,eligibilité!$A$15:$J$515,2,TRUE)))","v":""},{"$f":"IF(A396=\"\",\"\",IF(VLOOKUP(A396,eligibilité!$A$15:$AG$515,3,TRUE)=\"\",\"\",VLOOKUP(A396,eligibilité!$A$15:$AG$515,3,TRUE)))","v":""},{"$f":"IF(A396=\"\",\"\",IF(VLOOKUP(A396,eligibilité!$A$15:$AG$515,4,TRUE)=\"\",\"\",VLOOKUP(A396,eligibilité!$A$15:$AG$515,4,TRUE)))","v":""},{"$f":"IF(A396=\"\",\"\",IF(VLOOKUP(A396,eligibilité!$A$15:$AG$515,5,TRUE)=\"\",\"\",VLOOKUP(A396,eligibilité!$A$15:$AG$515,5,TRUE)))","v":""},{"$f":"IF(A396=\"\",\"\",IF(VLOOKUP(A396,eligibilité!$A$15:$AG$515,6,TRUE)=\"\",\"\",VLOOKUP(A396,eligibilité!$A$15:$AG$515,6,TRUE)))","v":""},{"$f":"IF(A396=\"\",\"\",IF(VLOOKUP(A396,eligibilité!$A$15:$AG$515,7,TRUE)=\"\",\"\",VLOOKUP(A396,eligibilité!$A$15:$AG$515,7,TRUE)))","v":""},{"$f":"IF(A396=\"\",\"\",IF(VLOOKUP(A396,eligibilité!$A$15:$AG$515,8,TRUE)=\"\",\"\",VLOOKUP(A396,eligibilité!$A$15:$AG$515,8,TRUE)))","v":""},{"$f":"IF(A396=\"\",\"\",IF(VLOOKUP(A396,eligibilité!$A$15:$AG$515,9,TRUE)=\"\",\"\",VLOOKUP(A396,eligibilité!$A$15:$AG$515,9,TRUE)))","v":""},{"$f":"IF(A396=\"\",\"\",IF(VLOOKUP(A396,eligibilité!$A$15:$AG$515,10,TRUE)=\"\",\"\",VLOOKUP(A396,eligibilité!$A$15:$AG$515,10,TRUE)))","v":""},{"$f":"IF(A396=\"\",\"\",IF(VLOOKUP(A396,eligibilité!$A$15:$AG$515,30,FALSE)=0,\"\",VLOOKUP(A396,eligibilité!$A$15:$AG$515,30,FALSE)))","v":""},"","","","","","","",1305,"","","","","","","Temps restant : ",""]
[{"$f":"IF(eligibilité!AG399=\"\",\"\",eligibilité!A399)","v":""},{"$f":"IF(A397=\"\",\"\",IF(VLOOKUP(A397,eligibilité!$A$15:$J$515,2,TRUE)=\"\",\"\",VLOOKUP(A397,eligibilité!$A$15:$J$515,2,TRUE)))","v":""},{"$f":"IF(A397=\"\",\"\",IF(VLOOKUP(A397,eligibilité!$A$15:$AG$515,3,TRUE)=\"\",\"\",VLOOKUP(A397,eligibilité!$A$15:$AG$515,3,TRUE)))","v":""},{"$f":"IF(A397=\"\",\"\",IF(VLOOKUP(A397,eligibilité!$A$15:$AG$515,4,TRUE)=\"\",\"\",VLOOKUP(A397,eligibilité!$A$15:$AG$515,4,TRUE)))","v":""},{"$f":"IF(A397=\"\",\"\",IF(VLOOKUP(A397,eligibilité!$A$15:$AG$515,5,TRUE)=\"\",\"\",VLOOKUP(A397,eligibilité!$A$15:$AG$515,5,TRUE)))","v":""},{"$f":"IF(A397=\"\",\"\",IF(VLOOKUP(A397,eligibilité!$A$15:$AG$515,6,TRUE)=\"\",\"\",VLOOKUP(A397,eligibilité!$A$15:$AG$515,6,TRUE)))","v":""},{"$f":"IF(A397=\"\",\"\",IF(VLOOKUP(A397,eligibilité!$A$15:$AG$515,7,TRUE)=\"\",\"\",VLOOKUP(A397,eligibilité!$A$15:$AG$515,7,TRUE)))","v":""},{"$f":"IF(A397=\"\",\"\",IF(VLOOKUP(A397,eligibilité!$A$15:$AG$515,8,TRUE)=\"\",\"\",VLOOKUP(A397,eligibilité!$A$15:$AG$515,8,TRUE)))","v":""},{"$f":"IF(A397=\"\",\"\",IF(VLOOKUP(A397,eligibilité!$A$15:$AG$515,9,TRUE)=\"\",\"\",VLOOKUP(A397,eligibilité!$A$15:$AG$515,9,TRUE)))","v":""},{"$f":"IF(A397=\"\",\"\",IF(VLOOKUP(A397,eligibilité!$A$15:$AG$515,10,TRUE)=\"\",\"\",VLOOKUP(A397,eligibilité!$A$15:$AG$515,10,TRUE)))","v":""},{"$f":"IF(A397=\"\",\"\",IF(VLOOKUP(A397,eligibilité!$A$15:$AG$515,30,FALSE)=0,\"\",VLOOKUP(A397,eligibilité!$A$15:$AG$515,30,FALSE)))","v":""},"","","","","","","",1305,"","","","","","","Temps restant : ",""]
[{"$f":"IF(eligibilité!AG400=\"\",\"\",eligibilité!A400)","v":""},{"$f":"IF(A398=\"\",\"\",IF(VLOOKUP(A398,eligibilité!$A$15:$J$515,2,TRUE)=\"\",\"\",VLOOKUP(A398,eligibilité!$A$15:$J$515,2,TRUE)))","v":""},{"$f":"IF(A398=\"\",\"\",IF(VLOOKUP(A398,eligibilité!$A$15:$AG$515,3,TRUE)=\"\",\"\",VLOOKUP(A398,eligibilité!$A$15:$AG$515,3,TRUE)))","v":""},{"$f":"IF(A398=\"\",\"\",IF(VLOOKUP(A398,eligibilité!$A$15:$AG$515,4,TRUE)=\"\",\"\",VLOOKUP(A398,eligibilité!$A$15:$AG$515,4,TRUE)))","v":""},{"$f":"IF(A398=\"\",\"\",IF(VLOOKUP(A398,eligibilité!$A$15:$AG$515,5,TRUE)=\"\",\"\",VLOOKUP(A398,eligibilité!$A$15:$AG$515,5,TRUE)))","v":""},{"$f":"IF(A398=\"\",\"\",IF(VLOOKUP(A398,eligibilité!$A$15:$AG$515,6,TRUE)=\"\",\"\",VLOOKUP(A398,eligibilité!$A$15:$AG$515,6,TRUE)))","v":""},{"$f":"IF(A398=\"\",\"\",IF(VLOOKUP(A398,eligibilité!$A$15:$AG$515,7,TRUE)=\"\",\"\",VLOOKUP(A398,eligibilité!$A$15:$AG$515,7,TRUE)))","v":""},{"$f":"IF(A398=\"\",\"\",IF(VLOOKUP(A398,eligibilité!$A$15:$AG$515,8,TRUE)=\"\",\"\",VLOOKUP(A398,eligibilité!$A$15:$AG$515,8,TRUE)))","v":""},{"$f":"IF(A398=\"\",\"\",IF(VLOOKUP(A398,eligibilité!$A$15:$AG$515,9,TRUE)=\"\",\"\",VLOOKUP(A398,eligibilité!$A$15:$AG$515,9,TRUE)))","v":""},{"$f":"IF(A398=\"\",\"\",IF(VLOOKUP(A398,eligibilité!$A$15:$AG$515,10,TRUE)=\"\",\"\",VLOOKUP(A398,eligibilité!$A$15:$AG$515,10,TRUE)))","v":""},{"$f":"IF(A398=\"\",\"\",IF(VLOOKUP(A398,eligibilité!$A$15:$AG$515,30,FALSE)=0,\"\",VLOOKUP(A398,eligibilité!$A$15:$AG$515,30,FALSE)))","v":""},{"$f":"IF(K398=\"\",\"\",48-K398)","v":""},{"$f":"IF(L398=\"\",\"\",INT(L398/12))","v":""},{"$f":"IF(L398=\"\",\"\",(L398-M398*12))","v":""},{"$f":"IF(L398=\"\",\"\",INT(N398))","v":""},{"$f":"IF(L398=\"\",\"\",ROUNDDOWN((N398-O398)*30.44,0))","v":""},{"$f":"IF(K398=\"\",\"\",CONCATENATE(M398,\" an(s) \",O398,\" mois \",P398,\" jour(s)\"))","v":""},{"$f":"IF(K398=\"\",\"\",M398*365.25+O398*30.44+P398)","v":""},1305,{"$f":"IF(R398=\"\",\"\",R398-S398)","v":""},{"$f":"IF(L398=\"\",\"\",IF(T398<=365.25,0,INT(T398/365.25)))","v":""},{"$f":"IF(T398=\"\",\"\",T398-U398)","v":""},{"$f":"IF(L398=\"\",\"\",IF(U398=0,(T398/30.44),(T398/30.44)-12))","v":""},{"$f":"IF(W398=\"\",\"\",ABS(ROUNDDOWN(W398,0)))","v":""},{"$f":"IF(T398=\"\",\"\",ROUNDDOWN(ABS(W398-ROUNDDOWN(W398,0))*30.44,0))","v":""},{"$f":"IF(T398<=0,\"Temps écoulé depuis : \",\"Temps restant : \")","v":"Temps restant : "},{"$f":"IF(L398=\"\",\"\",CONCATENATE(Z398,U398,\" an(s) \",X398,\" mois \",Y398,\" jour(s) \"))","v":""}]
[{"$f":"IF(eligibilité!AG401=\"\",\"\",eligibilité!A401)","v":""},{"$f":"IF(A399=\"\",\"\",IF(VLOOKUP(A399,eligibilité!$A$15:$J$515,2,TRUE)=\"\",\"\",VLOOKUP(A399,eligibilité!$A$15:$J$515,2,TRUE)))","v":""},{"$f":"IF(A399=\"\",\"\",IF(VLOOKUP(A399,eligibilité!$A$15:$AG$515,3,TRUE)=\"\",\"\",VLOOKUP(A399,eligibilité!$A$15:$AG$515,3,TRUE)))","v":""},{"$f":"IF(A399=\"\",\"\",IF(VLOOKUP(A399,eligibilité!$A$15:$AG$515,4,TRUE)=\"\",\"\",VLOOKUP(A399,eligibilité!$A$15:$AG$515,4,TRUE)))","v":""},{"$f":"IF(A399=\"\",\"\",IF(VLOOKUP(A399,eligibilité!$A$15:$AG$515,5,TRUE)=\"\",\"\",VLOOKUP(A399,eligibilité!$A$15:$AG$515,5,TRUE)))","v":""},{"$f":"IF(A399=\"\",\"\",IF(VLOOKUP(A399,eligibilité!$A$15:$AG$515,6,TRUE)=\"\",\"\",VLOOKUP(A399,eligibilité!$A$15:$AG$515,6,TRUE)))","v":""},{"$f":"IF(A399=\"\",\"\",IF(VLOOKUP(A399,eligibilité!$A$15:$AG$515,7,TRUE)=\"\",\"\",VLOOKUP(A399,eligibilité!$A$15:$AG$515,7,TRUE)))","v":""},{"$f":"IF(A399=\"\",\"\",IF(VLOOKUP(A399,eligibilité!$A$15:$AG$515,8,TRUE)=\"\",\"\",VLOOKUP(A399,eligibilité!$A$15:$AG$515,8,TRUE)))","v":""},{"$f":"IF(A399=\"\",\"\",IF(VLOOKUP(A399,eligibilité!$A$15:$AG$515,9,TRUE)=\"\",\"\",VLOOKUP(A399,eligibilité!$A$15:$AG$515,9,TRUE)))","v":""},{"$f":"IF(A399=\"\",\"\",IF(VLOOKUP(A399,eligibilité!$A$15:$AG$515,10,TRUE)=\"\",\"\",VLOOKUP(A399,eligibilité!$A$15:$AG$515,10,TRUE)))","v":""},{"$f":"IF(A399=\"\",\"\",IF(VLOOKUP(A399,eligibilité!$A$15:$AG$515,30,FALSE)=0,\"\",VLOOKUP(A399,eligibilité!$A$15:$AG$515,30,FALSE)))","v":""},"","","","","","","",{"$f":"TODAY()-DATE(2013,4,1)","v":1305},"","","","","","","Temps restant : ",""]
[{"$f":"IF(eligibilité!AG402=\"\",\"\",eligibilité!A402)","v":""},{"$f":"IF(A400=\"\",\"\",IF(VLOOKUP(A400,eligibilité!$A$15:$J$515,2,TRUE)=\"\",\"\",VLOOKUP(A400,eligibilité!$A$15:$J$515,2,TRUE)))","v":""},{"$f":"IF(A400=\"\",\"\",IF(VLOOKUP(A400,eligibilité!$A$15:$AG$515,3,TRUE)=\"\",\"\",VLOOKUP(A400,eligibilité!$A$15:$AG$515,3,TRUE)))","v":""},{"$f":"IF(A400=\"\",\"\",IF(VLOOKUP(A400,eligibilité!$A$15:$AG$515,4,TRUE)=\"\",\"\",VLOOKUP(A400,eligibilité!$A$15:$AG$515,4,TRUE)))","v":""},{"$f":"IF(A400=\"\",\"\",IF(VLOOKUP(A400,eligibilité!$A$15:$AG$515,5,TRUE)=\"\",\"\",VLOOKUP(A400,eligibilité!$A$15:$AG$515,5,TRUE)))","v":""},{"$f":"IF(A400=\"\",\"\",IF(VLOOKUP(A400,eligibilité!$A$15:$AG$515,6,TRUE)=\"\",\"\",VLOOKUP(A400,eligibilité!$A$15:$AG$515,6,TRUE)))","v":""},{"$f":"IF(A400=\"\",\"\",IF(VLOOKUP(A400,eligibilité!$A$15:$AG$515,7,TRUE)=\"\",\"\",VLOOKUP(A400,eligibilité!$A$15:$AG$515,7,TRUE)))","v":""},{"$f":"IF(A400=\"\",\"\",IF(VLOOKUP(A400,eligibilité!$A$15:$AG$515,8,TRUE)=\"\",\"\",VLOOKUP(A400,eligibilité!$A$15:$AG$515,8,TRUE)))","v":""},{"$f":"IF(A400=\"\",\"\",IF(VLOOKUP(A400,eligibilité!$A$15:$AG$515,9,TRUE)=\"\",\"\",VLOOKUP(A400,eligibilité!$A$15:$AG$515,9,TRUE)))","v":""},{"$f":"IF(A400=\"\",\"\",IF(VLOOKUP(A400,eligibilité!$A$15:$AG$515,10,TRUE)=\"\",\"\",VLOOKUP(A400,eligibilité!$A$15:$AG$515,10,TRUE)))","v":""},{"$f":"IF(A400=\"\",\"\",IF(VLOOKUP(A400,eligibilité!$A$15:$AG$515,30,FALSE)=0,\"\",VLOOKUP(A400,eligibilité!$A$15:$AG$515,30,FALSE)))","v":""},"","","","","","","",1305,"","","","","","","Temps restant : ",""]
[{"$f":"IF(eligibilité!AG403=\"\",\"\",eligibilité!A403)","v":""},{"$f":"IF(A401=\"\",\"\",IF(VLOOKUP(A401,eligibilité!$A$15:$J$515,2,TRUE)=\"\",\"\",VLOOKUP(A401,eligibilité!$A$15:$J$515,2,TRUE)))","v":""},{"$f":"IF(A401=\"\",\"\",IF(VLOOKUP(A401,eligibilité!$A$15:$AG$515,3,TRUE)=\"\",\"\",VLOOKUP(A401,eligibilité!$A$15:$AG$515,3,TRUE)))","v":""},{"$f":"IF(A401=\"\",\"\",IF(VLOOKUP(A401,eligibilité!$A$15:$AG$515,4,TRUE)=\"\",\"\",VLOOKUP(A401,eligibilité!$A$15:$AG$515,4,TRUE)))","v":""},{"$f":"IF(A401=\"\",\"\",IF(VLOOKUP(A401,eligibilité!$A$15:$AG$515,5,TRUE)=\"\",\"\",VLOOKUP(A401,eligibilité!$A$15:$AG$515,5,TRUE)))","v":""},{"$f":"IF(A401=\"\",\"\",IF(VLOOKUP(A401,eligibilité!$A$15:$AG$515,6,TRUE)=\"\",\"\",VLOOKUP(A401,eligibilité!$A$15:$AG$515,6,TRUE)))","v":""},{"$f":"IF(A401=\"\",\"\",IF(VLOOKUP(A401,eligibilité!$A$15:$AG$515,7,TRUE)=\"\",\"\",VLOOKUP(A401,eligibilité!$A$15:$AG$515,7,TRUE)))","v":""},{"$f":"IF(A401=\"\",\"\",IF(VLOOKUP(A401,eligibilité!$A$15:$AG$515,8,TRUE)=\"\",\"\",VLOOKUP(A401,eligibilité!$A$15:$AG$515,8,TRUE)))","v":""},{"$f":"IF(A401=\"\",\"\",IF(VLOOKUP(A401,eligibilité!$A$15:$AG$515,9,TRUE)=\"\",\"\",VLOOKUP(A401,eligibilité!$A$15:$AG$515,9,TRUE)))","v":""},{"$f":"IF(A401=\"\",\"\",IF(VLOOKUP(A401,eligibilité!$A$15:$AG$515,10,TRUE)=\"\",\"\",VLOOKUP(A401,eligibilité!$A$15:$AG$515,10,TRUE)))","v":""},{"$f":"IF(A401=\"\",\"\",IF(VLOOKUP(A401,eligibilité!$A$15:$AG$515,30,FALSE)=0,\"\",VLOOKUP(A401,eligibilité!$A$15:$AG$515,30,FALSE)))","v":""},"","","","","","","",1305,"","","","","","","Temps restant : ",""]
[{"$f":"IF(eligibilité!AG404=\"\",\"\",eligibilité!A404)","v":""},{"$f":"IF(A402=\"\",\"\",IF(VLOOKUP(A402,eligibilité!$A$15:$J$515,2,TRUE)=\"\",\"\",VLOOKUP(A402,eligibilité!$A$15:$J$515,2,TRUE)))","v":""},{"$f":"IF(A402=\"\",\"\",IF(VLOOKUP(A402,eligibilité!$A$15:$AG$515,3,TRUE)=\"\",\"\",VLOOKUP(A402,eligibilité!$A$15:$AG$515,3,TRUE)))","v":""},{"$f":"IF(A402=\"\",\"\",IF(VLOOKUP(A402,eligibilité!$A$15:$AG$515,4,TRUE)=\"\",\"\",VLOOKUP(A402,eligibilité!$A$15:$AG$515,4,TRUE)))","v":""},{"$f":"IF(A402=\"\",\"\",IF(VLOOKUP(A402,eligibilité!$A$15:$AG$515,5,TRUE)=\"\",\"\",VLOOKUP(A402,eligibilité!$A$15:$AG$515,5,TRUE)))","v":""},{"$f":"IF(A402=\"\",\"\",IF(VLOOKUP(A402,eligibilité!$A$15:$AG$515,6,TRUE)=\"\",\"\",VLOOKUP(A402,eligibilité!$A$15:$AG$515,6,TRUE)))","v":""},{"$f":"IF(A402=\"\",\"\",IF(VLOOKUP(A402,eligibilité!$A$15:$AG$515,7,TRUE)=\"\",\"\",VLOOKUP(A402,eligibilité!$A$15:$AG$515,7,TRUE)))","v":""},{"$f":"IF(A402=\"\",\"\",IF(VLOOKUP(A402,eligibilité!$A$15:$AG$515,8,TRUE)=\"\",\"\",VLOOKUP(A402,eligibilité!$A$15:$AG$515,8,TRUE)))","v":""},{"$f":"IF(A402=\"\",\"\",IF(VLOOKUP(A402,eligibilité!$A$15:$AG$515,9,TRUE)=\"\",\"\",VLOOKUP(A402,eligibilité!$A$15:$AG$515,9,TRUE)))","v":""},{"$f":"IF(A402=\"\",\"\",IF(VLOOKUP(A402,eligibilité!$A$15:$AG$515,10,TRUE)=\"\",\"\",VLOOKUP(A402,eligibilité!$A$15:$AG$515,10,TRUE)))","v":""},{"$f":"IF(A402=\"\",\"\",IF(VLOOKUP(A402,eligibilité!$A$15:$AG$515,30,FALSE)=0,\"\",VLOOKUP(A402,eligibilité!$A$15:$AG$515,30,FALSE)))","v":""},"","","","","","","",1305,"","","","","","","Temps restant : ",""]
[{"$f":"IF(eligibilité!AG405=\"\",\"\",eligibilité!A405)","v":""},{"$f":"IF(A403=\"\",\"\",IF(VLOOKUP(A403,eligibilité!$A$15:$J$515,2,TRUE)=\"\",\"\",VLOOKUP(A403,eligibilité!$A$15:$J$515,2,TRUE)))","v":""},{"$f":"IF(A403=\"\",\"\",IF(VLOOKUP(A403,eligibilité!$A$15:$AG$515,3,TRUE)=\"\",\"\",VLOOKUP(A403,eligibilité!$A$15:$AG$515,3,TRUE)))","v":""},{"$f":"IF(A403=\"\",\"\",IF(VLOOKUP(A403,eligibilité!$A$15:$AG$515,4,TRUE)=\"\",\"\",VLOOKUP(A403,eligibilité!$A$15:$AG$515,4,TRUE)))","v":""},{"$f":"IF(A403=\"\",\"\",IF(VLOOKUP(A403,eligibilité!$A$15:$AG$515,5,TRUE)=\"\",\"\",VLOOKUP(A403,eligibilité!$A$15:$AG$515,5,TRUE)))","v":""},{"$f":"IF(A403=\"\",\"\",IF(VLOOKUP(A403,eligibilité!$A$15:$AG$515,6,TRUE)=\"\",\"\",VLOOKUP(A403,eligibilité!$A$15:$AG$515,6,TRUE)))","v":""},{"$f":"IF(A403=\"\",\"\",IF(VLOOKUP(A403,eligibilité!$A$15:$AG$515,7,TRUE)=\"\",\"\",VLOOKUP(A403,eligibilité!$A$15:$AG$515,7,TRUE)))","v":""},{"$f":"IF(A403=\"\",\"\",IF(VLOOKUP(A403,eligibilité!$A$15:$AG$515,8,TRUE)=\"\",\"\",VLOOKUP(A403,eligibilité!$A$15:$AG$515,8,TRUE)))","v":""},{"$f":"IF(A403=\"\",\"\",IF(VLOOKUP(A403,eligibilité!$A$15:$AG$515,9,TRUE)=\"\",\"\",VLOOKUP(A403,eligibilité!$A$15:$AG$515,9,TRUE)))","v":""},{"$f":"IF(A403=\"\",\"\",IF(VLOOKUP(A403,eligibilité!$A$15:$AG$515,10,TRUE)=\"\",\"\",VLOOKUP(A403,eligibilité!$A$15:$AG$515,10,TRUE)))","v":""},{"$f":"IF(A403=\"\",\"\",IF(VLOOKUP(A403,eligibilité!$A$15:$AG$515,30,FALSE)=0,\"\",VLOOKUP(A403,eligibilité!$A$15:$AG$515,30,FALSE)))","v":""},"","","","","","","",1305,"","","","","","","Temps restant : ",""]
[{"$f":"IF(eligibilité!AG406=\"\",\"\",eligibilité!A406)","v":""},{"$f":"IF(A404=\"\",\"\",IF(VLOOKUP(A404,eligibilité!$A$15:$J$515,2,TRUE)=\"\",\"\",VLOOKUP(A404,eligibilité!$A$15:$J$515,2,TRUE)))","v":""},{"$f":"IF(A404=\"\",\"\",IF(VLOOKUP(A404,eligibilité!$A$15:$AG$515,3,TRUE)=\"\",\"\",VLOOKUP(A404,eligibilité!$A$15:$AG$515,3,TRUE)))","v":""},{"$f":"IF(A404=\"\",\"\",IF(VLOOKUP(A404,eligibilité!$A$15:$AG$515,4,TRUE)=\"\",\"\",VLOOKUP(A404,eligibilité!$A$15:$AG$515,4,TRUE)))","v":""},{"$f":"IF(A404=\"\",\"\",IF(VLOOKUP(A404,eligibilité!$A$15:$AG$515,5,TRUE)=\"\",\"\",VLOOKUP(A404,eligibilité!$A$15:$AG$515,5,TRUE)))","v":""},{"$f":"IF(A404=\"\",\"\",IF(VLOOKUP(A404,eligibilité!$A$15:$AG$515,6,TRUE)=\"\",\"\",VLOOKUP(A404,eligibilité!$A$15:$AG$515,6,TRUE)))","v":""},{"$f":"IF(A404=\"\",\"\",IF(VLOOKUP(A404,eligibilité!$A$15:$AG$515,7,TRUE)=\"\",\"\",VLOOKUP(A404,eligibilité!$A$15:$AG$515,7,TRUE)))","v":""},{"$f":"IF(A404=\"\",\"\",IF(VLOOKUP(A404,eligibilité!$A$15:$AG$515,8,TRUE)=\"\",\"\",VLOOKUP(A404,eligibilité!$A$15:$AG$515,8,TRUE)))","v":""},{"$f":"IF(A404=\"\",\"\",IF(VLOOKUP(A404,eligibilité!$A$15:$AG$515,9,TRUE)=\"\",\"\",VLOOKUP(A404,eligibilité!$A$15:$AG$515,9,TRUE)))","v":""},{"$f":"IF(A404=\"\",\"\",IF(VLOOKUP(A404,eligibilité!$A$15:$AG$515,10,TRUE)=\"\",\"\",VLOOKUP(A404,eligibilité!$A$15:$AG$515,10,TRUE)))","v":""},{"$f":"IF(A404=\"\",\"\",IF(VLOOKUP(A404,eligibilité!$A$15:$AG$515,30,FALSE)=0,\"\",VLOOKUP(A404,eligibilité!$A$15:$AG$515,30,FALSE)))","v":""},"","","","","","","",1305,"","","","","","","Temps restant : ",""]
[{"$f":"IF(eligibilité!AG407=\"\",\"\",eligibilité!A407)","v":""},{"$f":"IF(A405=\"\",\"\",IF(VLOOKUP(A405,eligibilité!$A$15:$J$515,2,TRUE)=\"\",\"\",VLOOKUP(A405,eligibilité!$A$15:$J$515,2,TRUE)))","v":""},{"$f":"IF(A405=\"\",\"\",IF(VLOOKUP(A405,eligibilité!$A$15:$AG$515,3,TRUE)=\"\",\"\",VLOOKUP(A405,eligibilité!$A$15:$AG$515,3,TRUE)))","v":""},{"$f":"IF(A405=\"\",\"\",IF(VLOOKUP(A405,eligibilité!$A$15:$AG$515,4,TRUE)=\"\",\"\",VLOOKUP(A405,eligibilité!$A$15:$AG$515,4,TRUE)))","v":""},{"$f":"IF(A405=\"\",\"\",IF(VLOOKUP(A405,eligibilité!$A$15:$AG$515,5,TRUE)=\"\",\"\",VLOOKUP(A405,eligibilité!$A$15:$AG$515,5,TRUE)))","v":""},{"$f":"IF(A405=\"\",\"\",IF(VLOOKUP(A405,eligibilité!$A$15:$AG$515,6,TRUE)=\"\",\"\",VLOOKUP(A405,eligibilité!$A$15:$AG$515,6,TRUE)))","v":""},{"$f":"IF(A405=\"\",\"\",IF(VLOOKUP(A405,eligibilité!$A$15:$AG$515,7,TRUE)=\"\",\"\",VLOOKUP(A405,eligibilité!$A$15:$AG$515,7,TRUE)))","v":""},{"$f":"IF(A405=\"\",\"\",IF(VLOOKUP(A405,eligibilité!$A$15:$AG$515,8,TRUE)=\"\",\"\",VLOOKUP(A405,eligibilité!$A$15:$AG$515,8,TRUE)))","v":""},{"$f":"IF(A405=\"\",\"\",IF(VLOOKUP(A405,eligibilité!$A$15:$AG$515,9,TRUE)=\"\",\"\",VLOOKUP(A405,eligibilité!$A$15:$AG$515,9,TRUE)))","v":""},{"$f":"IF(A405=\"\",\"\",IF(VLOOKUP(A405,eligibilité!$A$15:$AG$515,10,TRUE)=\"\",\"\",VLOOKUP(A405,eligibilité!$A$15:$AG$515,10,TRUE)))","v":""},{"$f":"IF(A405=\"\",\"\",IF(VLOOKUP(A405,eligibilité!$A$15:$AG$515,30,FALSE)=0,\"\",VLOOKUP(A405,eligibilité!$A$15:$AG$515,30,FALSE)))","v":""},"","","","","","","",1305,"","","","","","","Temps restant : ",""]
[{"$f":"IF(eligibilité!AG408=\"\",\"\",eligibilité!A408)","v":""},{"$f":"IF(A406=\"\",\"\",IF(VLOOKUP(A406,eligibilité!$A$15:$J$515,2,TRUE)=\"\",\"\",VLOOKUP(A406,eligibilité!$A$15:$J$515,2,TRUE)))","v":""},{"$f":"IF(A406=\"\",\"\",IF(VLOOKUP(A406,eligibilité!$A$15:$AG$515,3,TRUE)=\"\",\"\",VLOOKUP(A406,eligibilité!$A$15:$AG$515,3,TRUE)))","v":""},{"$f":"IF(A406=\"\",\"\",IF(VLOOKUP(A406,eligibilité!$A$15:$AG$515,4,TRUE)=\"\",\"\",VLOOKUP(A406,eligibilité!$A$15:$AG$515,4,TRUE)))","v":""},{"$f":"IF(A406=\"\",\"\",IF(VLOOKUP(A406,eligibilité!$A$15:$AG$515,5,TRUE)=\"\",\"\",VLOOKUP(A406,eligibilité!$A$15:$AG$515,5,TRUE)))","v":""},{"$f":"IF(A406=\"\",\"\",IF(VLOOKUP(A406,eligibilité!$A$15:$AG$515,6,TRUE)=\"\",\"\",VLOOKUP(A406,eligibilité!$A$15:$AG$515,6,TRUE)))","v":""},{"$f":"IF(A406=\"\",\"\",IF(VLOOKUP(A406,eligibilité!$A$15:$AG$515,7,TRUE)=\"\",\"\",VLOOKUP(A406,eligibilité!$A$15:$AG$515,7,TRUE)))","v":""},{"$f":"IF(A406=\"\",\"\",IF(VLOOKUP(A406,eligibilité!$A$15:$AG$515,8,TRUE)=\"\",\"\",VLOOKUP(A406,eligibilité!$A$15:$AG$515,8,TRUE)))","v":""},{"$f":"IF(A406=\"\",\"\",IF(VLOOKUP(A406,eligibilité!$A$15:$AG$515,9,TRUE)=\"\",\"\",VLOOKUP(A406,eligibilité!$A$15:$AG$515,9,TRUE)))","v":""},{"$f":"IF(A406=\"\",\"\",IF(VLOOKUP(A406,eligibilité!$A$15:$AG$515,10,TRUE)=\"\",\"\",VLOOKUP(A406,eligibilité!$A$15:$AG$515,10,TRUE)))","v":""},{"$f":"IF(A406=\"\",\"\",IF(VLOOKUP(A406,eligibilité!$A$15:$AG$515,30,FALSE)=0,\"\",VLOOKUP(A406,eligibilité!$A$15:$AG$515,30,FALSE)))","v":""},"","","","","","","",1305,"","","","","","","Temps restant : ",""]
[{"$f":"IF(eligibilité!AG409=\"\",\"\",eligibilité!A409)","v":""},{"$f":"IF(A407=\"\",\"\",IF(VLOOKUP(A407,eligibilité!$A$15:$J$515,2,TRUE)=\"\",\"\",VLOOKUP(A407,eligibilité!$A$15:$J$515,2,TRUE)))","v":""},{"$f":"IF(A407=\"\",\"\",IF(VLOOKUP(A407,eligibilité!$A$15:$AG$515,3,TRUE)=\"\",\"\",VLOOKUP(A407,eligibilité!$A$15:$AG$515,3,TRUE)))","v":""},{"$f":"IF(A407=\"\",\"\",IF(VLOOKUP(A407,eligibilité!$A$15:$AG$515,4,TRUE)=\"\",\"\",VLOOKUP(A407,eligibilité!$A$15:$AG$515,4,TRUE)))","v":""},{"$f":"IF(A407=\"\",\"\",IF(VLOOKUP(A407,eligibilité!$A$15:$AG$515,5,TRUE)=\"\",\"\",VLOOKUP(A407,eligibilité!$A$15:$AG$515,5,TRUE)))","v":""},{"$f":"IF(A407=\"\",\"\",IF(VLOOKUP(A407,eligibilité!$A$15:$AG$515,6,TRUE)=\"\",\"\",VLOOKUP(A407,eligibilité!$A$15:$AG$515,6,TRUE)))","v":""},{"$f":"IF(A407=\"\",\"\",IF(VLOOKUP(A407,eligibilité!$A$15:$AG$515,7,TRUE)=\"\",\"\",VLOOKUP(A407,eligibilité!$A$15:$AG$515,7,TRUE)))","v":""},{"$f":"IF(A407=\"\",\"\",IF(VLOOKUP(A407,eligibilité!$A$15:$AG$515,8,TRUE)=\"\",\"\",VLOOKUP(A407,eligibilité!$A$15:$AG$515,8,TRUE)))","v":""},{"$f":"IF(A407=\"\",\"\",IF(VLOOKUP(A407,eligibilité!$A$15:$AG$515,9,TRUE)=\"\",\"\",VLOOKUP(A407,eligibilité!$A$15:$AG$515,9,TRUE)))","v":""},{"$f":"IF(A407=\"\",\"\",IF(VLOOKUP(A407,eligibilité!$A$15:$AG$515,10,TRUE)=\"\",\"\",VLOOKUP(A407,eligibilité!$A$15:$AG$515,10,TRUE)))","v":""},{"$f":"IF(A407=\"\",\"\",IF(VLOOKUP(A407,eligibilité!$A$15:$AG$515,30,FALSE)=0,\"\",VLOOKUP(A407,eligibilité!$A$15:$AG$515,30,FALSE)))","v":""},"","","","","","","",1305,"","","","","","","Temps restant : ",""]
[{"$f":"IF(eligibilité!AG410=\"\",\"\",eligibilité!A410)","v":""},{"$f":"IF(A408=\"\",\"\",IF(VLOOKUP(A408,eligibilité!$A$15:$J$515,2,TRUE)=\"\",\"\",VLOOKUP(A408,eligibilité!$A$15:$J$515,2,TRUE)))","v":""},{"$f":"IF(A408=\"\",\"\",IF(VLOOKUP(A408,eligibilité!$A$15:$AG$515,3,TRUE)=\"\",\"\",VLOOKUP(A408,eligibilité!$A$15:$AG$515,3,TRUE)))","v":""},{"$f":"IF(A408=\"\",\"\",IF(VLOOKUP(A408,eligibilité!$A$15:$AG$515,4,TRUE)=\"\",\"\",VLOOKUP(A408,eligibilité!$A$15:$AG$515,4,TRUE)))","v":""},{"$f":"IF(A408=\"\",\"\",IF(VLOOKUP(A408,eligibilité!$A$15:$AG$515,5,TRUE)=\"\",\"\",VLOOKUP(A408,eligibilité!$A$15:$AG$515,5,TRUE)))","v":""},{"$f":"IF(A408=\"\",\"\",IF(VLOOKUP(A408,eligibilité!$A$15:$AG$515,6,TRUE)=\"\",\"\",VLOOKUP(A408,eligibilité!$A$15:$AG$515,6,TRUE)))","v":""},{"$f":"IF(A408=\"\",\"\",IF(VLOOKUP(A408,eligibilité!$A$15:$AG$515,7,TRUE)=\"\",\"\",VLOOKUP(A408,eligibilité!$A$15:$AG$515,7,TRUE)))","v":""},{"$f":"IF(A408=\"\",\"\",IF(VLOOKUP(A408,eligibilité!$A$15:$AG$515,8,TRUE)=\"\",\"\",VLOOKUP(A408,eligibilité!$A$15:$AG$515,8,TRUE)))","v":""},{"$f":"IF(A408=\"\",\"\",IF(VLOOKUP(A408,eligibilité!$A$15:$AG$515,9,TRUE)=\"\",\"\",VLOOKUP(A408,eligibilité!$A$15:$AG$515,9,TRUE)))","v":""},{"$f":"IF(A408=\"\",\"\",IF(VLOOKUP(A408,eligibilité!$A$15:$AG$515,10,TRUE)=\"\",\"\",VLOOKUP(A408,eligibilité!$A$15:$AG$515,10,TRUE)))","v":""},{"$f":"IF(A408=\"\",\"\",IF(VLOOKUP(A408,eligibilité!$A$15:$AG$515,30,FALSE)=0,\"\",VLOOKUP(A408,eligibilité!$A$15:$AG$515,30,FALSE)))","v":""},"","","","","","","",1305,"","","","","","","Temps restant : ",""]
[{"$f":"IF(eligibilité!AG411=\"\",\"\",eligibilité!A411)","v":""},{"$f":"IF(A409=\"\",\"\",IF(VLOOKUP(A409,eligibilité!$A$15:$J$515,2,TRUE)=\"\",\"\",VLOOKUP(A409,eligibilité!$A$15:$J$515,2,TRUE)))","v":""},{"$f":"IF(A409=\"\",\"\",IF(VLOOKUP(A409,eligibilité!$A$15:$AG$515,3,TRUE)=\"\",\"\",VLOOKUP(A409,eligibilité!$A$15:$AG$515,3,TRUE)))","v":""},{"$f":"IF(A409=\"\",\"\",IF(VLOOKUP(A409,eligibilité!$A$15:$AG$515,4,TRUE)=\"\",\"\",VLOOKUP(A409,eligibilité!$A$15:$AG$515,4,TRUE)))","v":""},{"$f":"IF(A409=\"\",\"\",IF(VLOOKUP(A409,eligibilité!$A$15:$AG$515,5,TRUE)=\"\",\"\",VLOOKUP(A409,eligibilité!$A$15:$AG$515,5,TRUE)))","v":""},{"$f":"IF(A409=\"\",\"\",IF(VLOOKUP(A409,eligibilité!$A$15:$AG$515,6,TRUE)=\"\",\"\",VLOOKUP(A409,eligibilité!$A$15:$AG$515,6,TRUE)))","v":""},{"$f":"IF(A409=\"\",\"\",IF(VLOOKUP(A409,eligibilité!$A$15:$AG$515,7,TRUE)=\"\",\"\",VLOOKUP(A409,eligibilité!$A$15:$AG$515,7,TRUE)))","v":""},{"$f":"IF(A409=\"\",\"\",IF(VLOOKUP(A409,eligibilité!$A$15:$AG$515,8,TRUE)=\"\",\"\",VLOOKUP(A409,eligibilité!$A$15:$AG$515,8,TRUE)))","v":""},{"$f":"IF(A409=\"\",\"\",IF(VLOOKUP(A409,eligibilité!$A$15:$AG$515,9,TRUE)=\"\",\"\",VLOOKUP(A409,eligibilité!$A$15:$AG$515,9,TRUE)))","v":""},{"$f":"IF(A409=\"\",\"\",IF(VLOOKUP(A409,eligibilité!$A$15:$AG$515,10,TRUE)=\"\",\"\",VLOOKUP(A409,eligibilité!$A$15:$AG$515,10,TRUE)))","v":""},{"$f":"IF(A409=\"\",\"\",IF(VLOOKUP(A409,eligibilité!$A$15:$AG$515,30,FALSE)=0,\"\",VLOOKUP(A409,eligibilité!$A$15:$AG$515,30,FALSE)))","v":""},"","","","","","","",1305,"","","","","","","Temps restant : ",""]
[{"$f":"IF(eligibilité!AG412=\"\",\"\",eligibilité!A412)","v":""},{"$f":"IF(A410=\"\",\"\",IF(VLOOKUP(A410,eligibilité!$A$15:$J$515,2,TRUE)=\"\",\"\",VLOOKUP(A410,eligibilité!$A$15:$J$515,2,TRUE)))","v":""},{"$f":"IF(A410=\"\",\"\",IF(VLOOKUP(A410,eligibilité!$A$15:$AG$515,3,TRUE)=\"\",\"\",VLOOKUP(A410,eligibilité!$A$15:$AG$515,3,TRUE)))","v":""},{"$f":"IF(A410=\"\",\"\",IF(VLOOKUP(A410,eligibilité!$A$15:$AG$515,4,TRUE)=\"\",\"\",VLOOKUP(A410,eligibilité!$A$15:$AG$515,4,TRUE)))","v":""},{"$f":"IF(A410=\"\",\"\",IF(VLOOKUP(A410,eligibilité!$A$15:$AG$515,5,TRUE)=\"\",\"\",VLOOKUP(A410,eligibilité!$A$15:$AG$515,5,TRUE)))","v":""},{"$f":"IF(A410=\"\",\"\",IF(VLOOKUP(A410,eligibilité!$A$15:$AG$515,6,TRUE)=\"\",\"\",VLOOKUP(A410,eligibilité!$A$15:$AG$515,6,TRUE)))","v":""},{"$f":"IF(A410=\"\",\"\",IF(VLOOKUP(A410,eligibilité!$A$15:$AG$515,7,TRUE)=\"\",\"\",VLOOKUP(A410,eligibilité!$A$15:$AG$515,7,TRUE)))","v":""},{"$f":"IF(A410=\"\",\"\",IF(VLOOKUP(A410,eligibilité!$A$15:$AG$515,8,TRUE)=\"\",\"\",VLOOKUP(A410,eligibilité!$A$15:$AG$515,8,TRUE)))","v":""},{"$f":"IF(A410=\"\",\"\",IF(VLOOKUP(A410,eligibilité!$A$15:$AG$515,9,TRUE)=\"\",\"\",VLOOKUP(A410,eligibilité!$A$15:$AG$515,9,TRUE)))","v":""},{"$f":"IF(A410=\"\",\"\",IF(VLOOKUP(A410,eligibilité!$A$15:$AG$515,10,TRUE)=\"\",\"\",VLOOKUP(A410,eligibilité!$A$15:$AG$515,10,TRUE)))","v":""},{"$f":"IF(A410=\"\",\"\",IF(VLOOKUP(A410,eligibilité!$A$15:$AG$515,30,FALSE)=0,\"\",VLOOKUP(A410,eligibilité!$A$15:$AG$515,30,FALSE)))","v":""},"","","","","","","",1305,"","","","","","","Temps restant : ",""]
[{"$f":"IF(eligibilité!AG413=\"\",\"\",eligibilité!A413)","v":""},{"$f":"IF(A411=\"\",\"\",IF(VLOOKUP(A411,eligibilité!$A$15:$J$515,2,TRUE)=\"\",\"\",VLOOKUP(A411,eligibilité!$A$15:$J$515,2,TRUE)))","v":""},{"$f":"IF(A411=\"\",\"\",IF(VLOOKUP(A411,eligibilité!$A$15:$AG$515,3,TRUE)=\"\",\"\",VLOOKUP(A411,eligibilité!$A$15:$AG$515,3,TRUE)))","v":""},{"$f":"IF(A411=\"\",\"\",IF(VLOOKUP(A411,eligibilité!$A$15:$AG$515,4,TRUE)=\"\",\"\",VLOOKUP(A411,eligibilité!$A$15:$AG$515,4,TRUE)))","v":""},{"$f":"IF(A411=\"\",\"\",IF(VLOOKUP(A411,eligibilité!$A$15:$AG$515,5,TRUE)=\"\",\"\",VLOOKUP(A411,eligibilité!$A$15:$AG$515,5,TRUE)))","v":""},{"$f":"IF(A411=\"\",\"\",IF(VLOOKUP(A411,eligibilité!$A$15:$AG$515,6,TRUE)=\"\",\"\",VLOOKUP(A411,eligibilité!$A$15:$AG$515,6,TRUE)))","v":""},{"$f":"IF(A411=\"\",\"\",IF(VLOOKUP(A411,eligibilité!$A$15:$AG$515,7,TRUE)=\"\",\"\",VLOOKUP(A411,eligibilité!$A$15:$AG$515,7,TRUE)))","v":""},{"$f":"IF(A411=\"\",\"\",IF(VLOOKUP(A411,eligibilité!$A$15:$AG$515,8,TRUE)=\"\",\"\",VLOOKUP(A411,eligibilité!$A$15:$AG$515,8,TRUE)))","v":""},{"$f":"IF(A411=\"\",\"\",IF(VLOOKUP(A411,eligibilité!$A$15:$AG$515,9,TRUE)=\"\",\"\",VLOOKUP(A411,eligibilité!$A$15:$AG$515,9,TRUE)))","v":""},{"$f":"IF(A411=\"\",\"\",IF(VLOOKUP(A411,eligibilité!$A$15:$AG$515,10,TRUE)=\"\",\"\",VLOOKUP(A411,eligibilité!$A$15:$AG$515,10,TRUE)))","v":""},{"$f":"IF(A411=\"\",\"\",IF(VLOOKUP(A411,eligibilité!$A$15:$AG$515,30,FALSE)=0,\"\",VLOOKUP(A411,eligibilité!$A$15:$AG$515,30,FALSE)))","v":""},"","","","","","","",1305,"","","","","","","Temps restant : ",""]
[{"$f":"IF(eligibilité!AG414=\"\",\"\",eligibilité!A414)","v":""},{"$f":"IF(A412=\"\",\"\",IF(VLOOKUP(A412,eligibilité!$A$15:$J$515,2,TRUE)=\"\",\"\",VLOOKUP(A412,eligibilité!$A$15:$J$515,2,TRUE)))","v":""},{"$f":"IF(A412=\"\",\"\",IF(VLOOKUP(A412,eligibilité!$A$15:$AG$515,3,TRUE)=\"\",\"\",VLOOKUP(A412,eligibilité!$A$15:$AG$515,3,TRUE)))","v":""},{"$f":"IF(A412=\"\",\"\",IF(VLOOKUP(A412,eligibilité!$A$15:$AG$515,4,TRUE)=\"\",\"\",VLOOKUP(A412,eligibilité!$A$15:$AG$515,4,TRUE)))","v":""},{"$f":"IF(A412=\"\",\"\",IF(VLOOKUP(A412,eligibilité!$A$15:$AG$515,5,TRUE)=\"\",\"\",VLOOKUP(A412,eligibilité!$A$15:$AG$515,5,TRUE)))","v":""},{"$f":"IF(A412=\"\",\"\",IF(VLOOKUP(A412,eligibilité!$A$15:$AG$515,6,TRUE)=\"\",\"\",VLOOKUP(A412,eligibilité!$A$15:$AG$515,6,TRUE)))","v":""},{"$f":"IF(A412=\"\",\"\",IF(VLOOKUP(A412,eligibilité!$A$15:$AG$515,7,TRUE)=\"\",\"\",VLOOKUP(A412,eligibilité!$A$15:$AG$515,7,TRUE)))","v":""},{"$f":"IF(A412=\"\",\"\",IF(VLOOKUP(A412,eligibilité!$A$15:$AG$515,8,TRUE)=\"\",\"\",VLOOKUP(A412,eligibilité!$A$15:$AG$515,8,TRUE)))","v":""},{"$f":"IF(A412=\"\",\"\",IF(VLOOKUP(A412,eligibilité!$A$15:$AG$515,9,TRUE)=\"\",\"\",VLOOKUP(A412,eligibilité!$A$15:$AG$515,9,TRUE)))","v":""},{"$f":"IF(A412=\"\",\"\",IF(VLOOKUP(A412,eligibilité!$A$15:$AG$515,10,TRUE)=\"\",\"\",VLOOKUP(A412,eligibilité!$A$15:$AG$515,10,TRUE)))","v":""},{"$f":"IF(A412=\"\",\"\",IF(VLOOKUP(A412,eligibilité!$A$15:$AG$515,30,FALSE)=0,\"\",VLOOKUP(A412,eligibilité!$A$15:$AG$515,30,FALSE)))","v":""},"","","","","","","",1305,"","","","","","","Temps restant : ",""]
[{"$f":"IF(eligibilité!AG415=\"\",\"\",eligibilité!A415)","v":""},{"$f":"IF(A413=\"\",\"\",IF(VLOOKUP(A413,eligibilité!$A$15:$J$515,2,TRUE)=\"\",\"\",VLOOKUP(A413,eligibilité!$A$15:$J$515,2,TRUE)))","v":""},{"$f":"IF(A413=\"\",\"\",IF(VLOOKUP(A413,eligibilité!$A$15:$AG$515,3,TRUE)=\"\",\"\",VLOOKUP(A413,eligibilité!$A$15:$AG$515,3,TRUE)))","v":""},{"$f":"IF(A413=\"\",\"\",IF(VLOOKUP(A413,eligibilité!$A$15:$AG$515,4,TRUE)=\"\",\"\",VLOOKUP(A413,eligibilité!$A$15:$AG$515,4,TRUE)))","v":""},{"$f":"IF(A413=\"\",\"\",IF(VLOOKUP(A413,eligibilité!$A$15:$AG$515,5,TRUE)=\"\",\"\",VLOOKUP(A413,eligibilité!$A$15:$AG$515,5,TRUE)))","v":""},{"$f":"IF(A413=\"\",\"\",IF(VLOOKUP(A413,eligibilité!$A$15:$AG$515,6,TRUE)=\"\",\"\",VLOOKUP(A413,eligibilité!$A$15:$AG$515,6,TRUE)))","v":""},{"$f":"IF(A413=\"\",\"\",IF(VLOOKUP(A413,eligibilité!$A$15:$AG$515,7,TRUE)=\"\",\"\",VLOOKUP(A413,eligibilité!$A$15:$AG$515,7,TRUE)))","v":""},{"$f":"IF(A413=\"\",\"\",IF(VLOOKUP(A413,eligibilité!$A$15:$AG$515,8,TRUE)=\"\",\"\",VLOOKUP(A413,eligibilité!$A$15:$AG$515,8,TRUE)))","v":""},{"$f":"IF(A413=\"\",\"\",IF(VLOOKUP(A413,eligibilité!$A$15:$AG$515,9,TRUE)=\"\",\"\",VLOOKUP(A413,eligibilité!$A$15:$AG$515,9,TRUE)))","v":""},{"$f":"IF(A413=\"\",\"\",IF(VLOOKUP(A413,eligibilité!$A$15:$AG$515,10,TRUE)=\"\",\"\",VLOOKUP(A413,eligibilité!$A$15:$AG$515,10,TRUE)))","v":""},{"$f":"IF(A413=\"\",\"\",IF(VLOOKUP(A413,eligibilité!$A$15:$AG$515,30,FALSE)=0,\"\",VLOOKUP(A413,eligibilité!$A$15:$AG$515,30,FALSE)))","v":""},"","","","","","","",1305,"","","","","","","Temps restant : ",""]
[{"$f":"IF(eligibilité!AG416=\"\",\"\",eligibilité!A416)","v":""},{"$f":"IF(A414=\"\",\"\",IF(VLOOKUP(A414,eligibilité!$A$15:$J$515,2,TRUE)=\"\",\"\",VLOOKUP(A414,eligibilité!$A$15:$J$515,2,TRUE)))","v":""},{"$f":"IF(A414=\"\",\"\",IF(VLOOKUP(A414,eligibilité!$A$15:$AG$515,3,TRUE)=\"\",\"\",VLOOKUP(A414,eligibilité!$A$15:$AG$515,3,TRUE)))","v":""},{"$f":"IF(A414=\"\",\"\",IF(VLOOKUP(A414,eligibilité!$A$15:$AG$515,4,TRUE)=\"\",\"\",VLOOKUP(A414,eligibilité!$A$15:$AG$515,4,TRUE)))","v":""},{"$f":"IF(A414=\"\",\"\",IF(VLOOKUP(A414,eligibilité!$A$15:$AG$515,5,TRUE)=\"\",\"\",VLOOKUP(A414,eligibilité!$A$15:$AG$515,5,TRUE)))","v":""},{"$f":"IF(A414=\"\",\"\",IF(VLOOKUP(A414,eligibilité!$A$15:$AG$515,6,TRUE)=\"\",\"\",VLOOKUP(A414,eligibilité!$A$15:$AG$515,6,TRUE)))","v":""},{"$f":"IF(A414=\"\",\"\",IF(VLOOKUP(A414,eligibilité!$A$15:$AG$515,7,TRUE)=\"\",\"\",VLOOKUP(A414,eligibilité!$A$15:$AG$515,7,TRUE)))","v":""},{"$f":"IF(A414=\"\",\"\",IF(VLOOKUP(A414,eligibilité!$A$15:$AG$515,8,TRUE)=\"\",\"\",VLOOKUP(A414,eligibilité!$A$15:$AG$515,8,TRUE)))","v":""},{"$f":"IF(A414=\"\",\"\",IF(VLOOKUP(A414,eligibilité!$A$15:$AG$515,9,TRUE)=\"\",\"\",VLOOKUP(A414,eligibilité!$A$15:$AG$515,9,TRUE)))","v":""},{"$f":"IF(A414=\"\",\"\",IF(VLOOKUP(A414,eligibilité!$A$15:$AG$515,10,TRUE)=\"\",\"\",VLOOKUP(A414,eligibilité!$A$15:$AG$515,10,TRUE)))","v":""},{"$f":"IF(A414=\"\",\"\",IF(VLOOKUP(A414,eligibilité!$A$15:$AG$515,30,FALSE)=0,\"\",VLOOKUP(A414,eligibilité!$A$15:$AG$515,30,FALSE)))","v":""},"","","","","","","",1305,"","","","","","","Temps restant : ",""]
[{"$f":"IF(eligibilité!AG417=\"\",\"\",eligibilité!A417)","v":""},{"$f":"IF(A415=\"\",\"\",IF(VLOOKUP(A415,eligibilité!$A$15:$J$515,2,TRUE)=\"\",\"\",VLOOKUP(A415,eligibilité!$A$15:$J$515,2,TRUE)))","v":""},{"$f":"IF(A415=\"\",\"\",IF(VLOOKUP(A415,eligibilité!$A$15:$AG$515,3,TRUE)=\"\",\"\",VLOOKUP(A415,eligibilité!$A$15:$AG$515,3,TRUE)))","v":""},{"$f":"IF(A415=\"\",\"\",IF(VLOOKUP(A415,eligibilité!$A$15:$AG$515,4,TRUE)=\"\",\"\",VLOOKUP(A415,eligibilité!$A$15:$AG$515,4,TRUE)))","v":""},{"$f":"IF(A415=\"\",\"\",IF(VLOOKUP(A415,eligibilité!$A$15:$AG$515,5,TRUE)=\"\",\"\",VLOOKUP(A415,eligibilité!$A$15:$AG$515,5,TRUE)))","v":""},{"$f":"IF(A415=\"\",\"\",IF(VLOOKUP(A415,eligibilité!$A$15:$AG$515,6,TRUE)=\"\",\"\",VLOOKUP(A415,eligibilité!$A$15:$AG$515,6,TRUE)))","v":""},{"$f":"IF(A415=\"\",\"\",IF(VLOOKUP(A415,eligibilité!$A$15:$AG$515,7,TRUE)=\"\",\"\",VLOOKUP(A415,eligibilité!$A$15:$AG$515,7,TRUE)))","v":""},{"$f":"IF(A415=\"\",\"\",IF(VLOOKUP(A415,eligibilité!$A$15:$AG$515,8,TRUE)=\"\",\"\",VLOOKUP(A415,eligibilité!$A$15:$AG$515,8,TRUE)))","v":""},{"$f":"IF(A415=\"\",\"\",IF(VLOOKUP(A415,eligibilité!$A$15:$AG$515,9,TRUE)=\"\",\"\",VLOOKUP(A415,eligibilité!$A$15:$AG$515,9,TRUE)))","v":""},{"$f":"IF(A415=\"\",\"\",IF(VLOOKUP(A415,eligibilité!$A$15:$AG$515,10,TRUE)=\"\",\"\",VLOOKUP(A415,eligibilité!$A$15:$AG$515,10,TRUE)))","v":""},{"$f":"IF(A415=\"\",\"\",IF(VLOOKUP(A415,eligibilité!$A$15:$AG$515,30,FALSE)=0,\"\",VLOOKUP(A415,eligibilité!$A$15:$AG$515,30,FALSE)))","v":""},"","","","","","","",1305,"","","","","","","Temps restant : ",""]
[{"$f":"IF(eligibilité!AG418=\"\",\"\",eligibilité!A418)","v":""},{"$f":"IF(A416=\"\",\"\",IF(VLOOKUP(A416,eligibilité!$A$15:$J$515,2,TRUE)=\"\",\"\",VLOOKUP(A416,eligibilité!$A$15:$J$515,2,TRUE)))","v":""},{"$f":"IF(A416=\"\",\"\",IF(VLOOKUP(A416,eligibilité!$A$15:$AG$515,3,TRUE)=\"\",\"\",VLOOKUP(A416,eligibilité!$A$15:$AG$515,3,TRUE)))","v":""},{"$f":"IF(A416=\"\",\"\",IF(VLOOKUP(A416,eligibilité!$A$15:$AG$515,4,TRUE)=\"\",\"\",VLOOKUP(A416,eligibilité!$A$15:$AG$515,4,TRUE)))","v":""},{"$f":"IF(A416=\"\",\"\",IF(VLOOKUP(A416,eligibilité!$A$15:$AG$515,5,TRUE)=\"\",\"\",VLOOKUP(A416,eligibilité!$A$15:$AG$515,5,TRUE)))","v":""},{"$f":"IF(A416=\"\",\"\",IF(VLOOKUP(A416,eligibilité!$A$15:$AG$515,6,TRUE)=\"\",\"\",VLOOKUP(A416,eligibilité!$A$15:$AG$515,6,TRUE)))","v":""},{"$f":"IF(A416=\"\",\"\",IF(VLOOKUP(A416,eligibilité!$A$15:$AG$515,7,TRUE)=\"\",\"\",VLOOKUP(A416,eligibilité!$A$15:$AG$515,7,TRUE)))","v":""},{"$f":"IF(A416=\"\",\"\",IF(VLOOKUP(A416,eligibilité!$A$15:$AG$515,8,TRUE)=\"\",\"\",VLOOKUP(A416,eligibilité!$A$15:$AG$515,8,TRUE)))","v":""},{"$f":"IF(A416=\"\",\"\",IF(VLOOKUP(A416,eligibilité!$A$15:$AG$515,9,TRUE)=\"\",\"\",VLOOKUP(A416,eligibilité!$A$15:$AG$515,9,TRUE)))","v":""},{"$f":"IF(A416=\"\",\"\",IF(VLOOKUP(A416,eligibilité!$A$15:$AG$515,10,TRUE)=\"\",\"\",VLOOKUP(A416,eligibilité!$A$15:$AG$515,10,TRUE)))","v":""},{"$f":"IF(A416=\"\",\"\",IF(VLOOKUP(A416,eligibilité!$A$15:$AG$515,30,FALSE)=0,\"\",VLOOKUP(A416,eligibilité!$A$15:$AG$515,30,FALSE)))","v":""},"","","","","","","",1305,"","","","","","","Temps restant : ",""]
[{"$f":"IF(eligibilité!AG419=\"\",\"\",eligibilité!A419)","v":""},{"$f":"IF(A417=\"\",\"\",IF(VLOOKUP(A417,eligibilité!$A$15:$J$515,2,TRUE)=\"\",\"\",VLOOKUP(A417,eligibilité!$A$15:$J$515,2,TRUE)))","v":""},{"$f":"IF(A417=\"\",\"\",IF(VLOOKUP(A417,eligibilité!$A$15:$AG$515,3,TRUE)=\"\",\"\",VLOOKUP(A417,eligibilité!$A$15:$AG$515,3,TRUE)))","v":""},{"$f":"IF(A417=\"\",\"\",IF(VLOOKUP(A417,eligibilité!$A$15:$AG$515,4,TRUE)=\"\",\"\",VLOOKUP(A417,eligibilité!$A$15:$AG$515,4,TRUE)))","v":""},{"$f":"IF(A417=\"\",\"\",IF(VLOOKUP(A417,eligibilité!$A$15:$AG$515,5,TRUE)=\"\",\"\",VLOOKUP(A417,eligibilité!$A$15:$AG$515,5,TRUE)))","v":""},{"$f":"IF(A417=\"\",\"\",IF(VLOOKUP(A417,eligibilité!$A$15:$AG$515,6,TRUE)=\"\",\"\",VLOOKUP(A417,eligibilité!$A$15:$AG$515,6,TRUE)))","v":""},{"$f":"IF(A417=\"\",\"\",IF(VLOOKUP(A417,eligibilité!$A$15:$AG$515,7,TRUE)=\"\",\"\",VLOOKUP(A417,eligibilité!$A$15:$AG$515,7,TRUE)))","v":""},{"$f":"IF(A417=\"\",\"\",IF(VLOOKUP(A417,eligibilité!$A$15:$AG$515,8,TRUE)=\"\",\"\",VLOOKUP(A417,eligibilité!$A$15:$AG$515,8,TRUE)))","v":""},{"$f":"IF(A417=\"\",\"\",IF(VLOOKUP(A417,eligibilité!$A$15:$AG$515,9,TRUE)=\"\",\"\",VLOOKUP(A417,eligibilité!$A$15:$AG$515,9,TRUE)))","v":""},{"$f":"IF(A417=\"\",\"\",IF(VLOOKUP(A417,eligibilité!$A$15:$AG$515,10,TRUE)=\"\",\"\",VLOOKUP(A417,eligibilité!$A$15:$AG$515,10,TRUE)))","v":""},{"$f":"IF(A417=\"\",\"\",IF(VLOOKUP(A417,eligibilité!$A$15:$AG$515,30,FALSE)=0,\"\",VLOOKUP(A417,eligibilité!$A$15:$AG$515,30,FALSE)))","v":""},"","","","","","","",1305,"","","","","","","Temps restant : ",""]
[{"$f":"IF(eligibilité!AG420=\"\",\"\",eligibilité!A420)","v":""},{"$f":"IF(A418=\"\",\"\",IF(VLOOKUP(A418,eligibilité!$A$15:$J$515,2,TRUE)=\"\",\"\",VLOOKUP(A418,eligibilité!$A$15:$J$515,2,TRUE)))","v":""},{"$f":"IF(A418=\"\",\"\",IF(VLOOKUP(A418,eligibilité!$A$15:$AG$515,3,TRUE)=\"\",\"\",VLOOKUP(A418,eligibilité!$A$15:$AG$515,3,TRUE)))","v":""},{"$f":"IF(A418=\"\",\"\",IF(VLOOKUP(A418,eligibilité!$A$15:$AG$515,4,TRUE)=\"\",\"\",VLOOKUP(A418,eligibilité!$A$15:$AG$515,4,TRUE)))","v":""},{"$f":"IF(A418=\"\",\"\",IF(VLOOKUP(A418,eligibilité!$A$15:$AG$515,5,TRUE)=\"\",\"\",VLOOKUP(A418,eligibilité!$A$15:$AG$515,5,TRUE)))","v":""},{"$f":"IF(A418=\"\",\"\",IF(VLOOKUP(A418,eligibilité!$A$15:$AG$515,6,TRUE)=\"\",\"\",VLOOKUP(A418,eligibilité!$A$15:$AG$515,6,TRUE)))","v":""},{"$f":"IF(A418=\"\",\"\",IF(VLOOKUP(A418,eligibilité!$A$15:$AG$515,7,TRUE)=\"\",\"\",VLOOKUP(A418,eligibilité!$A$15:$AG$515,7,TRUE)))","v":""},{"$f":"IF(A418=\"\",\"\",IF(VLOOKUP(A418,eligibilité!$A$15:$AG$515,8,TRUE)=\"\",\"\",VLOOKUP(A418,eligibilité!$A$15:$AG$515,8,TRUE)))","v":""},{"$f":"IF(A418=\"\",\"\",IF(VLOOKUP(A418,eligibilité!$A$15:$AG$515,9,TRUE)=\"\",\"\",VLOOKUP(A418,eligibilité!$A$15:$AG$515,9,TRUE)))","v":""},{"$f":"IF(A418=\"\",\"\",IF(VLOOKUP(A418,eligibilité!$A$15:$AG$515,10,TRUE)=\"\",\"\",VLOOKUP(A418,eligibilité!$A$15:$AG$515,10,TRUE)))","v":""},{"$f":"IF(A418=\"\",\"\",IF(VLOOKUP(A418,eligibilité!$A$15:$AG$515,30,FALSE)=0,\"\",VLOOKUP(A418,eligibilité!$A$15:$AG$515,30,FALSE)))","v":""},"","","","","","","",1305,"","","","","","","Temps restant : ",""]
[{"$f":"IF(eligibilité!AG421=\"\",\"\",eligibilité!A421)","v":""},{"$f":"IF(A419=\"\",\"\",IF(VLOOKUP(A419,eligibilité!$A$15:$J$515,2,TRUE)=\"\",\"\",VLOOKUP(A419,eligibilité!$A$15:$J$515,2,TRUE)))","v":""},{"$f":"IF(A419=\"\",\"\",IF(VLOOKUP(A419,eligibilité!$A$15:$AG$515,3,TRUE)=\"\",\"\",VLOOKUP(A419,eligibilité!$A$15:$AG$515,3,TRUE)))","v":""},{"$f":"IF(A419=\"\",\"\",IF(VLOOKUP(A419,eligibilité!$A$15:$AG$515,4,TRUE)=\"\",\"\",VLOOKUP(A419,eligibilité!$A$15:$AG$515,4,TRUE)))","v":""},{"$f":"IF(A419=\"\",\"\",IF(VLOOKUP(A419,eligibilité!$A$15:$AG$515,5,TRUE)=\"\",\"\",VLOOKUP(A419,eligibilité!$A$15:$AG$515,5,TRUE)))","v":""},{"$f":"IF(A419=\"\",\"\",IF(VLOOKUP(A419,eligibilité!$A$15:$AG$515,6,TRUE)=\"\",\"\",VLOOKUP(A419,eligibilité!$A$15:$AG$515,6,TRUE)))","v":""},{"$f":"IF(A419=\"\",\"\",IF(VLOOKUP(A419,eligibilité!$A$15:$AG$515,7,TRUE)=\"\",\"\",VLOOKUP(A419,eligibilité!$A$15:$AG$515,7,TRUE)))","v":""},{"$f":"IF(A419=\"\",\"\",IF(VLOOKUP(A419,eligibilité!$A$15:$AG$515,8,TRUE)=\"\",\"\",VLOOKUP(A419,eligibilité!$A$15:$AG$515,8,TRUE)))","v":""},{"$f":"IF(A419=\"\",\"\",IF(VLOOKUP(A419,eligibilité!$A$15:$AG$515,9,TRUE)=\"\",\"\",VLOOKUP(A419,eligibilité!$A$15:$AG$515,9,TRUE)))","v":""},{"$f":"IF(A419=\"\",\"\",IF(VLOOKUP(A419,eligibilité!$A$15:$AG$515,10,TRUE)=\"\",\"\",VLOOKUP(A419,eligibilité!$A$15:$AG$515,10,TRUE)))","v":""},{"$f":"IF(A419=\"\",\"\",IF(VLOOKUP(A419,eligibilité!$A$15:$AG$515,30,FALSE)=0,\"\",VLOOKUP(A419,eligibilité!$A$15:$AG$515,30,FALSE)))","v":""},"","","","","","","",1305,"","","","","","","Temps restant : ",""]
[{"$f":"IF(eligibilité!AG422=\"\",\"\",eligibilité!A422)","v":""},{"$f":"IF(A420=\"\",\"\",IF(VLOOKUP(A420,eligibilité!$A$15:$J$515,2,TRUE)=\"\",\"\",VLOOKUP(A420,eligibilité!$A$15:$J$515,2,TRUE)))","v":""},{"$f":"IF(A420=\"\",\"\",IF(VLOOKUP(A420,eligibilité!$A$15:$AG$515,3,TRUE)=\"\",\"\",VLOOKUP(A420,eligibilité!$A$15:$AG$515,3,TRUE)))","v":""},{"$f":"IF(A420=\"\",\"\",IF(VLOOKUP(A420,eligibilité!$A$15:$AG$515,4,TRUE)=\"\",\"\",VLOOKUP(A420,eligibilité!$A$15:$AG$515,4,TRUE)))","v":""},{"$f":"IF(A420=\"\",\"\",IF(VLOOKUP(A420,eligibilité!$A$15:$AG$515,5,TRUE)=\"\",\"\",VLOOKUP(A420,eligibilité!$A$15:$AG$515,5,TRUE)))","v":""},{"$f":"IF(A420=\"\",\"\",IF(VLOOKUP(A420,eligibilité!$A$15:$AG$515,6,TRUE)=\"\",\"\",VLOOKUP(A420,eligibilité!$A$15:$AG$515,6,TRUE)))","v":""},{"$f":"IF(A420=\"\",\"\",IF(VLOOKUP(A420,eligibilité!$A$15:$AG$515,7,TRUE)=\"\",\"\",VLOOKUP(A420,eligibilité!$A$15:$AG$515,7,TRUE)))","v":""},{"$f":"IF(A420=\"\",\"\",IF(VLOOKUP(A420,eligibilité!$A$15:$AG$515,8,TRUE)=\"\",\"\",VLOOKUP(A420,eligibilité!$A$15:$AG$515,8,TRUE)))","v":""},{"$f":"IF(A420=\"\",\"\",IF(VLOOKUP(A420,eligibilité!$A$15:$AG$515,9,TRUE)=\"\",\"\",VLOOKUP(A420,eligibilité!$A$15:$AG$515,9,TRUE)))","v":""},{"$f":"IF(A420=\"\",\"\",IF(VLOOKUP(A420,eligibilité!$A$15:$AG$515,10,TRUE)=\"\",\"\",VLOOKUP(A420,eligibilité!$A$15:$AG$515,10,TRUE)))","v":""},{"$f":"IF(A420=\"\",\"\",IF(VLOOKUP(A420,eligibilité!$A$15:$AG$515,30,FALSE)=0,\"\",VLOOKUP(A420,eligibilité!$A$15:$AG$515,30,FALSE)))","v":""},"","","","","","","",1305,"","","","","","","Temps restant : ",""]
[{"$f":"IF(eligibilité!AG423=\"\",\"\",eligibilité!A423)","v":""},{"$f":"IF(A421=\"\",\"\",IF(VLOOKUP(A421,eligibilité!$A$15:$J$515,2,TRUE)=\"\",\"\",VLOOKUP(A421,eligibilité!$A$15:$J$515,2,TRUE)))","v":""},{"$f":"IF(A421=\"\",\"\",IF(VLOOKUP(A421,eligibilité!$A$15:$AG$515,3,TRUE)=\"\",\"\",VLOOKUP(A421,eligibilité!$A$15:$AG$515,3,TRUE)))","v":""},{"$f":"IF(A421=\"\",\"\",IF(VLOOKUP(A421,eligibilité!$A$15:$AG$515,4,TRUE)=\"\",\"\",VLOOKUP(A421,eligibilité!$A$15:$AG$515,4,TRUE)))","v":""},{"$f":"IF(A421=\"\",\"\",IF(VLOOKUP(A421,eligibilité!$A$15:$AG$515,5,TRUE)=\"\",\"\",VLOOKUP(A421,eligibilité!$A$15:$AG$515,5,TRUE)))","v":""},{"$f":"IF(A421=\"\",\"\",IF(VLOOKUP(A421,eligibilité!$A$15:$AG$515,6,TRUE)=\"\",\"\",VLOOKUP(A421,eligibilité!$A$15:$AG$515,6,TRUE)))","v":""},{"$f":"IF(A421=\"\",\"\",IF(VLOOKUP(A421,eligibilité!$A$15:$AG$515,7,TRUE)=\"\",\"\",VLOOKUP(A421,eligibilité!$A$15:$AG$515,7,TRUE)))","v":""},{"$f":"IF(A421=\"\",\"\",IF(VLOOKUP(A421,eligibilité!$A$15:$AG$515,8,TRUE)=\"\",\"\",VLOOKUP(A421,eligibilité!$A$15:$AG$515,8,TRUE)))","v":""},{"$f":"IF(A421=\"\",\"\",IF(VLOOKUP(A421,eligibilité!$A$15:$AG$515,9,TRUE)=\"\",\"\",VLOOKUP(A421,eligibilité!$A$15:$AG$515,9,TRUE)))","v":""},{"$f":"IF(A421=\"\",\"\",IF(VLOOKUP(A421,eligibilité!$A$15:$AG$515,10,TRUE)=\"\",\"\",VLOOKUP(A421,eligibilité!$A$15:$AG$515,10,TRUE)))","v":""},{"$f":"IF(A421=\"\",\"\",IF(VLOOKUP(A421,eligibilité!$A$15:$AG$515,30,FALSE)=0,\"\",VLOOKUP(A421,eligibilité!$A$15:$AG$515,30,FALSE)))","v":""},"","","","","","","",1305,"","","","","","","Temps restant : ",""]
[{"$f":"IF(eligibilité!AG424=\"\",\"\",eligibilité!A424)","v":""},{"$f":"IF(A422=\"\",\"\",IF(VLOOKUP(A422,eligibilité!$A$15:$J$515,2,TRUE)=\"\",\"\",VLOOKUP(A422,eligibilité!$A$15:$J$515,2,TRUE)))","v":""},{"$f":"IF(A422=\"\",\"\",IF(VLOOKUP(A422,eligibilité!$A$15:$AG$515,3,TRUE)=\"\",\"\",VLOOKUP(A422,eligibilité!$A$15:$AG$515,3,TRUE)))","v":""},{"$f":"IF(A422=\"\",\"\",IF(VLOOKUP(A422,eligibilité!$A$15:$AG$515,4,TRUE)=\"\",\"\",VLOOKUP(A422,eligibilité!$A$15:$AG$515,4,TRUE)))","v":""},{"$f":"IF(A422=\"\",\"\",IF(VLOOKUP(A422,eligibilité!$A$15:$AG$515,5,TRUE)=\"\",\"\",VLOOKUP(A422,eligibilité!$A$15:$AG$515,5,TRUE)))","v":""},{"$f":"IF(A422=\"\",\"\",IF(VLOOKUP(A422,eligibilité!$A$15:$AG$515,6,TRUE)=\"\",\"\",VLOOKUP(A422,eligibilité!$A$15:$AG$515,6,TRUE)))","v":""},{"$f":"IF(A422=\"\",\"\",IF(VLOOKUP(A422,eligibilité!$A$15:$AG$515,7,TRUE)=\"\",\"\",VLOOKUP(A422,eligibilité!$A$15:$AG$515,7,TRUE)))","v":""},{"$f":"IF(A422=\"\",\"\",IF(VLOOKUP(A422,eligibilité!$A$15:$AG$515,8,TRUE)=\"\",\"\",VLOOKUP(A422,eligibilité!$A$15:$AG$515,8,TRUE)))","v":""},{"$f":"IF(A422=\"\",\"\",IF(VLOOKUP(A422,eligibilité!$A$15:$AG$515,9,TRUE)=\"\",\"\",VLOOKUP(A422,eligibilité!$A$15:$AG$515,9,TRUE)))","v":""},{"$f":"IF(A422=\"\",\"\",IF(VLOOKUP(A422,eligibilité!$A$15:$AG$515,10,TRUE)=\"\",\"\",VLOOKUP(A422,eligibilité!$A$15:$AG$515,10,TRUE)))","v":""},{"$f":"IF(A422=\"\",\"\",IF(VLOOKUP(A422,eligibilité!$A$15:$AG$515,30,FALSE)=0,\"\",VLOOKUP(A422,eligibilité!$A$15:$AG$515,30,FALSE)))","v":""},"","","","","","","",1305,"","","","","","","Temps restant : ",""]
[{"$f":"IF(eligibilité!AG425=\"\",\"\",eligibilité!A425)","v":""},{"$f":"IF(A423=\"\",\"\",IF(VLOOKUP(A423,eligibilité!$A$15:$J$515,2,TRUE)=\"\",\"\",VLOOKUP(A423,eligibilité!$A$15:$J$515,2,TRUE)))","v":""},{"$f":"IF(A423=\"\",\"\",IF(VLOOKUP(A423,eligibilité!$A$15:$AG$515,3,TRUE)=\"\",\"\",VLOOKUP(A423,eligibilité!$A$15:$AG$515,3,TRUE)))","v":""},{"$f":"IF(A423=\"\",\"\",IF(VLOOKUP(A423,eligibilité!$A$15:$AG$515,4,TRUE)=\"\",\"\",VLOOKUP(A423,eligibilité!$A$15:$AG$515,4,TRUE)))","v":""},{"$f":"IF(A423=\"\",\"\",IF(VLOOKUP(A423,eligibilité!$A$15:$AG$515,5,TRUE)=\"\",\"\",VLOOKUP(A423,eligibilité!$A$15:$AG$515,5,TRUE)))","v":""},{"$f":"IF(A423=\"\",\"\",IF(VLOOKUP(A423,eligibilité!$A$15:$AG$515,6,TRUE)=\"\",\"\",VLOOKUP(A423,eligibilité!$A$15:$AG$515,6,TRUE)))","v":""},{"$f":"IF(A423=\"\",\"\",IF(VLOOKUP(A423,eligibilité!$A$15:$AG$515,7,TRUE)=\"\",\"\",VLOOKUP(A423,eligibilité!$A$15:$AG$515,7,TRUE)))","v":""},{"$f":"IF(A423=\"\",\"\",IF(VLOOKUP(A423,eligibilité!$A$15:$AG$515,8,TRUE)=\"\",\"\",VLOOKUP(A423,eligibilité!$A$15:$AG$515,8,TRUE)))","v":""},{"$f":"IF(A423=\"\",\"\",IF(VLOOKUP(A423,eligibilité!$A$15:$AG$515,9,TRUE)=\"\",\"\",VLOOKUP(A423,eligibilité!$A$15:$AG$515,9,TRUE)))","v":""},{"$f":"IF(A423=\"\",\"\",IF(VLOOKUP(A423,eligibilité!$A$15:$AG$515,10,TRUE)=\"\",\"\",VLOOKUP(A423,eligibilité!$A$15:$AG$515,10,TRUE)))","v":""},{"$f":"IF(A423=\"\",\"\",IF(VLOOKUP(A423,eligibilité!$A$15:$AG$515,30,FALSE)=0,\"\",VLOOKUP(A423,eligibilité!$A$15:$AG$515,30,FALSE)))","v":""},"","","","","","","",1305,"","","","","","","Temps restant : ",""]
[{"$f":"IF(eligibilité!AG426=\"\",\"\",eligibilité!A426)","v":""},{"$f":"IF(A424=\"\",\"\",IF(VLOOKUP(A424,eligibilité!$A$15:$J$515,2,TRUE)=\"\",\"\",VLOOKUP(A424,eligibilité!$A$15:$J$515,2,TRUE)))","v":""},{"$f":"IF(A424=\"\",\"\",IF(VLOOKUP(A424,eligibilité!$A$15:$AG$515,3,TRUE)=\"\",\"\",VLOOKUP(A424,eligibilité!$A$15:$AG$515,3,TRUE)))","v":""},{"$f":"IF(A424=\"\",\"\",IF(VLOOKUP(A424,eligibilité!$A$15:$AG$515,4,TRUE)=\"\",\"\",VLOOKUP(A424,eligibilité!$A$15:$AG$515,4,TRUE)))","v":""},{"$f":"IF(A424=\"\",\"\",IF(VLOOKUP(A424,eligibilité!$A$15:$AG$515,5,TRUE)=\"\",\"\",VLOOKUP(A424,eligibilité!$A$15:$AG$515,5,TRUE)))","v":""},{"$f":"IF(A424=\"\",\"\",IF(VLOOKUP(A424,eligibilité!$A$15:$AG$515,6,TRUE)=\"\",\"\",VLOOKUP(A424,eligibilité!$A$15:$AG$515,6,TRUE)))","v":""},{"$f":"IF(A424=\"\",\"\",IF(VLOOKUP(A424,eligibilité!$A$15:$AG$515,7,TRUE)=\"\",\"\",VLOOKUP(A424,eligibilité!$A$15:$AG$515,7,TRUE)))","v":""},{"$f":"IF(A424=\"\",\"\",IF(VLOOKUP(A424,eligibilité!$A$15:$AG$515,8,TRUE)=\"\",\"\",VLOOKUP(A424,eligibilité!$A$15:$AG$515,8,TRUE)))","v":""},{"$f":"IF(A424=\"\",\"\",IF(VLOOKUP(A424,eligibilité!$A$15:$AG$515,9,TRUE)=\"\",\"\",VLOOKUP(A424,eligibilité!$A$15:$AG$515,9,TRUE)))","v":""},{"$f":"IF(A424=\"\",\"\",IF(VLOOKUP(A424,eligibilité!$A$15:$AG$515,10,TRUE)=\"\",\"\",VLOOKUP(A424,eligibilité!$A$15:$AG$515,10,TRUE)))","v":""},{"$f":"IF(A424=\"\",\"\",IF(VLOOKUP(A424,eligibilité!$A$15:$AG$515,30,FALSE)=0,\"\",VLOOKUP(A424,eligibilité!$A$15:$AG$515,30,FALSE)))","v":""},"","","","","","","",1305,"","","","","","","Temps restant : ",""]
[{"$f":"IF(eligibilité!AG427=\"\",\"\",eligibilité!A427)","v":""},{"$f":"IF(A425=\"\",\"\",IF(VLOOKUP(A425,eligibilité!$A$15:$J$515,2,TRUE)=\"\",\"\",VLOOKUP(A425,eligibilité!$A$15:$J$515,2,TRUE)))","v":""},{"$f":"IF(A425=\"\",\"\",IF(VLOOKUP(A425,eligibilité!$A$15:$AG$515,3,TRUE)=\"\",\"\",VLOOKUP(A425,eligibilité!$A$15:$AG$515,3,TRUE)))","v":""},{"$f":"IF(A425=\"\",\"\",IF(VLOOKUP(A425,eligibilité!$A$15:$AG$515,4,TRUE)=\"\",\"\",VLOOKUP(A425,eligibilité!$A$15:$AG$515,4,TRUE)))","v":""},{"$f":"IF(A425=\"\",\"\",IF(VLOOKUP(A425,eligibilité!$A$15:$AG$515,5,TRUE)=\"\",\"\",VLOOKUP(A425,eligibilité!$A$15:$AG$515,5,TRUE)))","v":""},{"$f":"IF(A425=\"\",\"\",IF(VLOOKUP(A425,eligibilité!$A$15:$AG$515,6,TRUE)=\"\",\"\",VLOOKUP(A425,eligibilité!$A$15:$AG$515,6,TRUE)))","v":""},{"$f":"IF(A425=\"\",\"\",IF(VLOOKUP(A425,eligibilité!$A$15:$AG$515,7,TRUE)=\"\",\"\",VLOOKUP(A425,eligibilité!$A$15:$AG$515,7,TRUE)))","v":""},{"$f":"IF(A425=\"\",\"\",IF(VLOOKUP(A425,eligibilité!$A$15:$AG$515,8,TRUE)=\"\",\"\",VLOOKUP(A425,eligibilité!$A$15:$AG$515,8,TRUE)))","v":""},{"$f":"IF(A425=\"\",\"\",IF(VLOOKUP(A425,eligibilité!$A$15:$AG$515,9,TRUE)=\"\",\"\",VLOOKUP(A425,eligibilité!$A$15:$AG$515,9,TRUE)))","v":""},{"$f":"IF(A425=\"\",\"\",IF(VLOOKUP(A425,eligibilité!$A$15:$AG$515,10,TRUE)=\"\",\"\",VLOOKUP(A425,eligibilité!$A$15:$AG$515,10,TRUE)))","v":""},{"$f":"IF(A425=\"\",\"\",IF(VLOOKUP(A425,eligibilité!$A$15:$AG$515,30,FALSE)=0,\"\",VLOOKUP(A425,eligibilité!$A$15:$AG$515,30,FALSE)))","v":""},"","","","","","","",1305,"","","","","","","Temps restant : ",""]
[{"$f":"IF(eligibilité!AG428=\"\",\"\",eligibilité!A428)","v":""},{"$f":"IF(A426=\"\",\"\",IF(VLOOKUP(A426,eligibilité!$A$15:$J$515,2,TRUE)=\"\",\"\",VLOOKUP(A426,eligibilité!$A$15:$J$515,2,TRUE)))","v":""},{"$f":"IF(A426=\"\",\"\",IF(VLOOKUP(A426,eligibilité!$A$15:$AG$515,3,TRUE)=\"\",\"\",VLOOKUP(A426,eligibilité!$A$15:$AG$515,3,TRUE)))","v":""},{"$f":"IF(A426=\"\",\"\",IF(VLOOKUP(A426,eligibilité!$A$15:$AG$515,4,TRUE)=\"\",\"\",VLOOKUP(A426,eligibilité!$A$15:$AG$515,4,TRUE)))","v":""},{"$f":"IF(A426=\"\",\"\",IF(VLOOKUP(A426,eligibilité!$A$15:$AG$515,5,TRUE)=\"\",\"\",VLOOKUP(A426,eligibilité!$A$15:$AG$515,5,TRUE)))","v":""},{"$f":"IF(A426=\"\",\"\",IF(VLOOKUP(A426,eligibilité!$A$15:$AG$515,6,TRUE)=\"\",\"\",VLOOKUP(A426,eligibilité!$A$15:$AG$515,6,TRUE)))","v":""},{"$f":"IF(A426=\"\",\"\",IF(VLOOKUP(A426,eligibilité!$A$15:$AG$515,7,TRUE)=\"\",\"\",VLOOKUP(A426,eligibilité!$A$15:$AG$515,7,TRUE)))","v":""},{"$f":"IF(A426=\"\",\"\",IF(VLOOKUP(A426,eligibilité!$A$15:$AG$515,8,TRUE)=\"\",\"\",VLOOKUP(A426,eligibilité!$A$15:$AG$515,8,TRUE)))","v":""},{"$f":"IF(A426=\"\",\"\",IF(VLOOKUP(A426,eligibilité!$A$15:$AG$515,9,TRUE)=\"\",\"\",VLOOKUP(A426,eligibilité!$A$15:$AG$515,9,TRUE)))","v":""},{"$f":"IF(A426=\"\",\"\",IF(VLOOKUP(A426,eligibilité!$A$15:$AG$515,10,TRUE)=\"\",\"\",VLOOKUP(A426,eligibilité!$A$15:$AG$515,10,TRUE)))","v":""},{"$f":"IF(A426=\"\",\"\",IF(VLOOKUP(A426,eligibilité!$A$15:$AG$515,30,FALSE)=0,\"\",VLOOKUP(A426,eligibilité!$A$15:$AG$515,30,FALSE)))","v":""},"","","","","","","",1305,"","","","","","","Temps restant : ",""]
[{"$f":"IF(eligibilité!AG429=\"\",\"\",eligibilité!A429)","v":""},{"$f":"IF(A427=\"\",\"\",IF(VLOOKUP(A427,eligibilité!$A$15:$J$515,2,TRUE)=\"\",\"\",VLOOKUP(A427,eligibilité!$A$15:$J$515,2,TRUE)))","v":""},{"$f":"IF(A427=\"\",\"\",IF(VLOOKUP(A427,eligibilité!$A$15:$AG$515,3,TRUE)=\"\",\"\",VLOOKUP(A427,eligibilité!$A$15:$AG$515,3,TRUE)))","v":""},{"$f":"IF(A427=\"\",\"\",IF(VLOOKUP(A427,eligibilité!$A$15:$AG$515,4,TRUE)=\"\",\"\",VLOOKUP(A427,eligibilité!$A$15:$AG$515,4,TRUE)))","v":""},{"$f":"IF(A427=\"\",\"\",IF(VLOOKUP(A427,eligibilité!$A$15:$AG$515,5,TRUE)=\"\",\"\",VLOOKUP(A427,eligibilité!$A$15:$AG$515,5,TRUE)))","v":""},{"$f":"IF(A427=\"\",\"\",IF(VLOOKUP(A427,eligibilité!$A$15:$AG$515,6,TRUE)=\"\",\"\",VLOOKUP(A427,eligibilité!$A$15:$AG$515,6,TRUE)))","v":""},{"$f":"IF(A427=\"\",\"\",IF(VLOOKUP(A427,eligibilité!$A$15:$AG$515,7,TRUE)=\"\",\"\",VLOOKUP(A427,eligibilité!$A$15:$AG$515,7,TRUE)))","v":""},{"$f":"IF(A427=\"\",\"\",IF(VLOOKUP(A427,eligibilité!$A$15:$AG$515,8,TRUE)=\"\",\"\",VLOOKUP(A427,eligibilité!$A$15:$AG$515,8,TRUE)))","v":""},{"$f":"IF(A427=\"\",\"\",IF(VLOOKUP(A427,eligibilité!$A$15:$AG$515,9,TRUE)=\"\",\"\",VLOOKUP(A427,eligibilité!$A$15:$AG$515,9,TRUE)))","v":""},{"$f":"IF(A427=\"\",\"\",IF(VLOOKUP(A427,eligibilité!$A$15:$AG$515,10,TRUE)=\"\",\"\",VLOOKUP(A427,eligibilité!$A$15:$AG$515,10,TRUE)))","v":""},{"$f":"IF(A427=\"\",\"\",IF(VLOOKUP(A427,eligibilité!$A$15:$AG$515,30,FALSE)=0,\"\",VLOOKUP(A427,eligibilité!$A$15:$AG$515,30,FALSE)))","v":""},"","","","","","","",1305,"","","","","","","Temps restant : ",""]
[{"$f":"IF(eligibilité!AG430=\"\",\"\",eligibilité!A430)","v":""},{"$f":"IF(A428=\"\",\"\",IF(VLOOKUP(A428,eligibilité!$A$15:$J$515,2,TRUE)=\"\",\"\",VLOOKUP(A428,eligibilité!$A$15:$J$515,2,TRUE)))","v":""},{"$f":"IF(A428=\"\",\"\",IF(VLOOKUP(A428,eligibilité!$A$15:$AG$515,3,TRUE)=\"\",\"\",VLOOKUP(A428,eligibilité!$A$15:$AG$515,3,TRUE)))","v":""},{"$f":"IF(A428=\"\",\"\",IF(VLOOKUP(A428,eligibilité!$A$15:$AG$515,4,TRUE)=\"\",\"\",VLOOKUP(A428,eligibilité!$A$15:$AG$515,4,TRUE)))","v":""},{"$f":"IF(A428=\"\",\"\",IF(VLOOKUP(A428,eligibilité!$A$15:$AG$515,5,TRUE)=\"\",\"\",VLOOKUP(A428,eligibilité!$A$15:$AG$515,5,TRUE)))","v":""},{"$f":"IF(A428=\"\",\"\",IF(VLOOKUP(A428,eligibilité!$A$15:$AG$515,6,TRUE)=\"\",\"\",VLOOKUP(A428,eligibilité!$A$15:$AG$515,6,TRUE)))","v":""},{"$f":"IF(A428=\"\",\"\",IF(VLOOKUP(A428,eligibilité!$A$15:$AG$515,7,TRUE)=\"\",\"\",VLOOKUP(A428,eligibilité!$A$15:$AG$515,7,TRUE)))","v":""},{"$f":"IF(A428=\"\",\"\",IF(VLOOKUP(A428,eligibilité!$A$15:$AG$515,8,TRUE)=\"\",\"\",VLOOKUP(A428,eligibilité!$A$15:$AG$515,8,TRUE)))","v":""},{"$f":"IF(A428=\"\",\"\",IF(VLOOKUP(A428,eligibilité!$A$15:$AG$515,9,TRUE)=\"\",\"\",VLOOKUP(A428,eligibilité!$A$15:$AG$515,9,TRUE)))","v":""},{"$f":"IF(A428=\"\",\"\",IF(VLOOKUP(A428,eligibilité!$A$15:$AG$515,10,TRUE)=\"\",\"\",VLOOKUP(A428,eligibilité!$A$15:$AG$515,10,TRUE)))","v":""},{"$f":"IF(A428=\"\",\"\",IF(VLOOKUP(A428,eligibilité!$A$15:$AG$515,30,FALSE)=0,\"\",VLOOKUP(A428,eligibilité!$A$15:$AG$515,30,FALSE)))","v":""},"","","","","","","",1305,"","","","","","","Temps restant : ",""]
[{"$f":"IF(eligibilité!AG431=\"\",\"\",eligibilité!A431)","v":""},{"$f":"IF(A429=\"\",\"\",IF(VLOOKUP(A429,eligibilité!$A$15:$J$515,2,TRUE)=\"\",\"\",VLOOKUP(A429,eligibilité!$A$15:$J$515,2,TRUE)))","v":""},{"$f":"IF(A429=\"\",\"\",IF(VLOOKUP(A429,eligibilité!$A$15:$AG$515,3,TRUE)=\"\",\"\",VLOOKUP(A429,eligibilité!$A$15:$AG$515,3,TRUE)))","v":""},{"$f":"IF(A429=\"\",\"\",IF(VLOOKUP(A429,eligibilité!$A$15:$AG$515,4,TRUE)=\"\",\"\",VLOOKUP(A429,eligibilité!$A$15:$AG$515,4,TRUE)))","v":""},{"$f":"IF(A429=\"\",\"\",IF(VLOOKUP(A429,eligibilité!$A$15:$AG$515,5,TRUE)=\"\",\"\",VLOOKUP(A429,eligibilité!$A$15:$AG$515,5,TRUE)))","v":""},{"$f":"IF(A429=\"\",\"\",IF(VLOOKUP(A429,eligibilité!$A$15:$AG$515,6,TRUE)=\"\",\"\",VLOOKUP(A429,eligibilité!$A$15:$AG$515,6,TRUE)))","v":""},{"$f":"IF(A429=\"\",\"\",IF(VLOOKUP(A429,eligibilité!$A$15:$AG$515,7,TRUE)=\"\",\"\",VLOOKUP(A429,eligibilité!$A$15:$AG$515,7,TRUE)))","v":""},{"$f":"IF(A429=\"\",\"\",IF(VLOOKUP(A429,eligibilité!$A$15:$AG$515,8,TRUE)=\"\",\"\",VLOOKUP(A429,eligibilité!$A$15:$AG$515,8,TRUE)))","v":""},{"$f":"IF(A429=\"\",\"\",IF(VLOOKUP(A429,eligibilité!$A$15:$AG$515,9,TRUE)=\"\",\"\",VLOOKUP(A429,eligibilité!$A$15:$AG$515,9,TRUE)))","v":""},{"$f":"IF(A429=\"\",\"\",IF(VLOOKUP(A429,eligibilité!$A$15:$AG$515,10,TRUE)=\"\",\"\",VLOOKUP(A429,eligibilité!$A$15:$AG$515,10,TRUE)))","v":""},{"$f":"IF(A429=\"\",\"\",IF(VLOOKUP(A429,eligibilité!$A$15:$AG$515,30,FALSE)=0,\"\",VLOOKUP(A429,eligibilité!$A$15:$AG$515,30,FALSE)))","v":""},"","","","","","","",1305,"","","","","","","Temps restant : ",""]
[{"$f":"IF(eligibilité!AG432=\"\",\"\",eligibilité!A432)","v":""},{"$f":"IF(A430=\"\",\"\",IF(VLOOKUP(A430,eligibilité!$A$15:$J$515,2,TRUE)=\"\",\"\",VLOOKUP(A430,eligibilité!$A$15:$J$515,2,TRUE)))","v":""},{"$f":"IF(A430=\"\",\"\",IF(VLOOKUP(A430,eligibilité!$A$15:$AG$515,3,TRUE)=\"\",\"\",VLOOKUP(A430,eligibilité!$A$15:$AG$515,3,TRUE)))","v":""},{"$f":"IF(A430=\"\",\"\",IF(VLOOKUP(A430,eligibilité!$A$15:$AG$515,4,TRUE)=\"\",\"\",VLOOKUP(A430,eligibilité!$A$15:$AG$515,4,TRUE)))","v":""},{"$f":"IF(A430=\"\",\"\",IF(VLOOKUP(A430,eligibilité!$A$15:$AG$515,5,TRUE)=\"\",\"\",VLOOKUP(A430,eligibilité!$A$15:$AG$515,5,TRUE)))","v":""},{"$f":"IF(A430=\"\",\"\",IF(VLOOKUP(A430,eligibilité!$A$15:$AG$515,6,TRUE)=\"\",\"\",VLOOKUP(A430,eligibilité!$A$15:$AG$515,6,TRUE)))","v":""},{"$f":"IF(A430=\"\",\"\",IF(VLOOKUP(A430,eligibilité!$A$15:$AG$515,7,TRUE)=\"\",\"\",VLOOKUP(A430,eligibilité!$A$15:$AG$515,7,TRUE)))","v":""},{"$f":"IF(A430=\"\",\"\",IF(VLOOKUP(A430,eligibilité!$A$15:$AG$515,8,TRUE)=\"\",\"\",VLOOKUP(A430,eligibilité!$A$15:$AG$515,8,TRUE)))","v":""},{"$f":"IF(A430=\"\",\"\",IF(VLOOKUP(A430,eligibilité!$A$15:$AG$515,9,TRUE)=\"\",\"\",VLOOKUP(A430,eligibilité!$A$15:$AG$515,9,TRUE)))","v":""},{"$f":"IF(A430=\"\",\"\",IF(VLOOKUP(A430,eligibilité!$A$15:$AG$515,10,TRUE)=\"\",\"\",VLOOKUP(A430,eligibilité!$A$15:$AG$515,10,TRUE)))","v":""},{"$f":"IF(A430=\"\",\"\",IF(VLOOKUP(A430,eligibilité!$A$15:$AG$515,30,FALSE)=0,\"\",VLOOKUP(A430,eligibilité!$A$15:$AG$515,30,FALSE)))","v":""},"","","","","","","",1305,"","","","","","","Temps restant : ",""]
[{"$f":"IF(eligibilité!AG433=\"\",\"\",eligibilité!A433)","v":""},{"$f":"IF(A431=\"\",\"\",IF(VLOOKUP(A431,eligibilité!$A$15:$J$515,2,TRUE)=\"\",\"\",VLOOKUP(A431,eligibilité!$A$15:$J$515,2,TRUE)))","v":""},{"$f":"IF(A431=\"\",\"\",IF(VLOOKUP(A431,eligibilité!$A$15:$AG$515,3,TRUE)=\"\",\"\",VLOOKUP(A431,eligibilité!$A$15:$AG$515,3,TRUE)))","v":""},{"$f":"IF(A431=\"\",\"\",IF(VLOOKUP(A431,eligibilité!$A$15:$AG$515,4,TRUE)=\"\",\"\",VLOOKUP(A431,eligibilité!$A$15:$AG$515,4,TRUE)))","v":""},{"$f":"IF(A431=\"\",\"\",IF(VLOOKUP(A431,eligibilité!$A$15:$AG$515,5,TRUE)=\"\",\"\",VLOOKUP(A431,eligibilité!$A$15:$AG$515,5,TRUE)))","v":""},{"$f":"IF(A431=\"\",\"\",IF(VLOOKUP(A431,eligibilité!$A$15:$AG$515,6,TRUE)=\"\",\"\",VLOOKUP(A431,eligibilité!$A$15:$AG$515,6,TRUE)))","v":""},{"$f":"IF(A431=\"\",\"\",IF(VLOOKUP(A431,eligibilité!$A$15:$AG$515,7,TRUE)=\"\",\"\",VLOOKUP(A431,eligibilité!$A$15:$AG$515,7,TRUE)))","v":""},{"$f":"IF(A431=\"\",\"\",IF(VLOOKUP(A431,eligibilité!$A$15:$AG$515,8,TRUE)=\"\",\"\",VLOOKUP(A431,eligibilité!$A$15:$AG$515,8,TRUE)))","v":""},{"$f":"IF(A431=\"\",\"\",IF(VLOOKUP(A431,eligibilité!$A$15:$AG$515,9,TRUE)=\"\",\"\",VLOOKUP(A431,eligibilité!$A$15:$AG$515,9,TRUE)))","v":""},{"$f":"IF(A431=\"\",\"\",IF(VLOOKUP(A431,eligibilité!$A$15:$AG$515,10,TRUE)=\"\",\"\",VLOOKUP(A431,eligibilité!$A$15:$AG$515,10,TRUE)))","v":""},{"$f":"IF(A431=\"\",\"\",IF(VLOOKUP(A431,eligibilité!$A$15:$AG$515,30,FALSE)=0,\"\",VLOOKUP(A431,eligibilité!$A$15:$AG$515,30,FALSE)))","v":""},"","","","","","","",1305,"","","","","","","Temps restant : ",""]
[{"$f":"IF(eligibilité!AG434=\"\",\"\",eligibilité!A434)","v":""},{"$f":"IF(A432=\"\",\"\",IF(VLOOKUP(A432,eligibilité!$A$15:$J$515,2,TRUE)=\"\",\"\",VLOOKUP(A432,eligibilité!$A$15:$J$515,2,TRUE)))","v":""},{"$f":"IF(A432=\"\",\"\",IF(VLOOKUP(A432,eligibilité!$A$15:$AG$515,3,TRUE)=\"\",\"\",VLOOKUP(A432,eligibilité!$A$15:$AG$515,3,TRUE)))","v":""},{"$f":"IF(A432=\"\",\"\",IF(VLOOKUP(A432,eligibilité!$A$15:$AG$515,4,TRUE)=\"\",\"\",VLOOKUP(A432,eligibilité!$A$15:$AG$515,4,TRUE)))","v":""},{"$f":"IF(A432=\"\",\"\",IF(VLOOKUP(A432,eligibilité!$A$15:$AG$515,5,TRUE)=\"\",\"\",VLOOKUP(A432,eligibilité!$A$15:$AG$515,5,TRUE)))","v":""},{"$f":"IF(A432=\"\",\"\",IF(VLOOKUP(A432,eligibilité!$A$15:$AG$515,6,TRUE)=\"\",\"\",VLOOKUP(A432,eligibilité!$A$15:$AG$515,6,TRUE)))","v":""},{"$f":"IF(A432=\"\",\"\",IF(VLOOKUP(A432,eligibilité!$A$15:$AG$515,7,TRUE)=\"\",\"\",VLOOKUP(A432,eligibilité!$A$15:$AG$515,7,TRUE)))","v":""},{"$f":"IF(A432=\"\",\"\",IF(VLOOKUP(A432,eligibilité!$A$15:$AG$515,8,TRUE)=\"\",\"\",VLOOKUP(A432,eligibilité!$A$15:$AG$515,8,TRUE)))","v":""},{"$f":"IF(A432=\"\",\"\",IF(VLOOKUP(A432,eligibilité!$A$15:$AG$515,9,TRUE)=\"\",\"\",VLOOKUP(A432,eligibilité!$A$15:$AG$515,9,TRUE)))","v":""},{"$f":"IF(A432=\"\",\"\",IF(VLOOKUP(A432,eligibilité!$A$15:$AG$515,10,TRUE)=\"\",\"\",VLOOKUP(A432,eligibilité!$A$15:$AG$515,10,TRUE)))","v":""},{"$f":"IF(A432=\"\",\"\",IF(VLOOKUP(A432,eligibilité!$A$15:$AG$515,30,FALSE)=0,\"\",VLOOKUP(A432,eligibilité!$A$15:$AG$515,30,FALSE)))","v":""},"","","","","","","",1305,"","","","","","","Temps restant : ",""]
[{"$f":"IF(eligibilité!AG435=\"\",\"\",eligibilité!A435)","v":""},{"$f":"IF(A433=\"\",\"\",IF(VLOOKUP(A433,eligibilité!$A$15:$J$515,2,TRUE)=\"\",\"\",VLOOKUP(A433,eligibilité!$A$15:$J$515,2,TRUE)))","v":""},{"$f":"IF(A433=\"\",\"\",IF(VLOOKUP(A433,eligibilité!$A$15:$AG$515,3,TRUE)=\"\",\"\",VLOOKUP(A433,eligibilité!$A$15:$AG$515,3,TRUE)))","v":""},{"$f":"IF(A433=\"\",\"\",IF(VLOOKUP(A433,eligibilité!$A$15:$AG$515,4,TRUE)=\"\",\"\",VLOOKUP(A433,eligibilité!$A$15:$AG$515,4,TRUE)))","v":""},{"$f":"IF(A433=\"\",\"\",IF(VLOOKUP(A433,eligibilité!$A$15:$AG$515,5,TRUE)=\"\",\"\",VLOOKUP(A433,eligibilité!$A$15:$AG$515,5,TRUE)))","v":""},{"$f":"IF(A433=\"\",\"\",IF(VLOOKUP(A433,eligibilité!$A$15:$AG$515,6,TRUE)=\"\",\"\",VLOOKUP(A433,eligibilité!$A$15:$AG$515,6,TRUE)))","v":""},{"$f":"IF(A433=\"\",\"\",IF(VLOOKUP(A433,eligibilité!$A$15:$AG$515,7,TRUE)=\"\",\"\",VLOOKUP(A433,eligibilité!$A$15:$AG$515,7,TRUE)))","v":""},{"$f":"IF(A433=\"\",\"\",IF(VLOOKUP(A433,eligibilité!$A$15:$AG$515,8,TRUE)=\"\",\"\",VLOOKUP(A433,eligibilité!$A$15:$AG$515,8,TRUE)))","v":""},{"$f":"IF(A433=\"\",\"\",IF(VLOOKUP(A433,eligibilité!$A$15:$AG$515,9,TRUE)=\"\",\"\",VLOOKUP(A433,eligibilité!$A$15:$AG$515,9,TRUE)))","v":""},{"$f":"IF(A433=\"\",\"\",IF(VLOOKUP(A433,eligibilité!$A$15:$AG$515,10,TRUE)=\"\",\"\",VLOOKUP(A433,eligibilité!$A$15:$AG$515,10,TRUE)))","v":""},{"$f":"IF(A433=\"\",\"\",IF(VLOOKUP(A433,eligibilité!$A$15:$AG$515,30,FALSE)=0,\"\",VLOOKUP(A433,eligibilité!$A$15:$AG$515,30,FALSE)))","v":""},"","","","","","","",1305,"","","","","","","Temps restant : ",""]
[{"$f":"IF(eligibilité!AG436=\"\",\"\",eligibilité!A436)","v":""},{"$f":"IF(A434=\"\",\"\",IF(VLOOKUP(A434,eligibilité!$A$15:$J$515,2,TRUE)=\"\",\"\",VLOOKUP(A434,eligibilité!$A$15:$J$515,2,TRUE)))","v":""},{"$f":"IF(A434=\"\",\"\",IF(VLOOKUP(A434,eligibilité!$A$15:$AG$515,3,TRUE)=\"\",\"\",VLOOKUP(A434,eligibilité!$A$15:$AG$515,3,TRUE)))","v":""},{"$f":"IF(A434=\"\",\"\",IF(VLOOKUP(A434,eligibilité!$A$15:$AG$515,4,TRUE)=\"\",\"\",VLOOKUP(A434,eligibilité!$A$15:$AG$515,4,TRUE)))","v":""},{"$f":"IF(A434=\"\",\"\",IF(VLOOKUP(A434,eligibilité!$A$15:$AG$515,5,TRUE)=\"\",\"\",VLOOKUP(A434,eligibilité!$A$15:$AG$515,5,TRUE)))","v":""},{"$f":"IF(A434=\"\",\"\",IF(VLOOKUP(A434,eligibilité!$A$15:$AG$515,6,TRUE)=\"\",\"\",VLOOKUP(A434,eligibilité!$A$15:$AG$515,6,TRUE)))","v":""},{"$f":"IF(A434=\"\",\"\",IF(VLOOKUP(A434,eligibilité!$A$15:$AG$515,7,TRUE)=\"\",\"\",VLOOKUP(A434,eligibilité!$A$15:$AG$515,7,TRUE)))","v":""},{"$f":"IF(A434=\"\",\"\",IF(VLOOKUP(A434,eligibilité!$A$15:$AG$515,8,TRUE)=\"\",\"\",VLOOKUP(A434,eligibilité!$A$15:$AG$515,8,TRUE)))","v":""},{"$f":"IF(A434=\"\",\"\",IF(VLOOKUP(A434,eligibilité!$A$15:$AG$515,9,TRUE)=\"\",\"\",VLOOKUP(A434,eligibilité!$A$15:$AG$515,9,TRUE)))","v":""},{"$f":"IF(A434=\"\",\"\",IF(VLOOKUP(A434,eligibilité!$A$15:$AG$515,10,TRUE)=\"\",\"\",VLOOKUP(A434,eligibilité!$A$15:$AG$515,10,TRUE)))","v":""},{"$f":"IF(A434=\"\",\"\",IF(VLOOKUP(A434,eligibilité!$A$15:$AG$515,30,FALSE)=0,\"\",VLOOKUP(A434,eligibilité!$A$15:$AG$515,30,FALSE)))","v":""},"","","","","","","",1305,"","","","","","","Temps restant : ",""]
[{"$f":"IF(eligibilité!AG437=\"\",\"\",eligibilité!A437)","v":""},{"$f":"IF(A435=\"\",\"\",IF(VLOOKUP(A435,eligibilité!$A$15:$J$515,2,TRUE)=\"\",\"\",VLOOKUP(A435,eligibilité!$A$15:$J$515,2,TRUE)))","v":""},{"$f":"IF(A435=\"\",\"\",IF(VLOOKUP(A435,eligibilité!$A$15:$AG$515,3,TRUE)=\"\",\"\",VLOOKUP(A435,eligibilité!$A$15:$AG$515,3,TRUE)))","v":""},{"$f":"IF(A435=\"\",\"\",IF(VLOOKUP(A435,eligibilité!$A$15:$AG$515,4,TRUE)=\"\",\"\",VLOOKUP(A435,eligibilité!$A$15:$AG$515,4,TRUE)))","v":""},{"$f":"IF(A435=\"\",\"\",IF(VLOOKUP(A435,eligibilité!$A$15:$AG$515,5,TRUE)=\"\",\"\",VLOOKUP(A435,eligibilité!$A$15:$AG$515,5,TRUE)))","v":""},{"$f":"IF(A435=\"\",\"\",IF(VLOOKUP(A435,eligibilité!$A$15:$AG$515,6,TRUE)=\"\",\"\",VLOOKUP(A435,eligibilité!$A$15:$AG$515,6,TRUE)))","v":""},{"$f":"IF(A435=\"\",\"\",IF(VLOOKUP(A435,eligibilité!$A$15:$AG$515,7,TRUE)=\"\",\"\",VLOOKUP(A435,eligibilité!$A$15:$AG$515,7,TRUE)))","v":""},{"$f":"IF(A435=\"\",\"\",IF(VLOOKUP(A435,eligibilité!$A$15:$AG$515,8,TRUE)=\"\",\"\",VLOOKUP(A435,eligibilité!$A$15:$AG$515,8,TRUE)))","v":""},{"$f":"IF(A435=\"\",\"\",IF(VLOOKUP(A435,eligibilité!$A$15:$AG$515,9,TRUE)=\"\",\"\",VLOOKUP(A435,eligibilité!$A$15:$AG$515,9,TRUE)))","v":""},{"$f":"IF(A435=\"\",\"\",IF(VLOOKUP(A435,eligibilité!$A$15:$AG$515,10,TRUE)=\"\",\"\",VLOOKUP(A435,eligibilité!$A$15:$AG$515,10,TRUE)))","v":""},{"$f":"IF(A435=\"\",\"\",IF(VLOOKUP(A435,eligibilité!$A$15:$AG$515,30,FALSE)=0,\"\",VLOOKUP(A435,eligibilité!$A$15:$AG$515,30,FALSE)))","v":""},"","","","","","","",1305,"","","","","","","Temps restant : ",""]
[{"$f":"IF(eligibilité!AG438=\"\",\"\",eligibilité!A438)","v":""},{"$f":"IF(A436=\"\",\"\",IF(VLOOKUP(A436,eligibilité!$A$15:$J$515,2,TRUE)=\"\",\"\",VLOOKUP(A436,eligibilité!$A$15:$J$515,2,TRUE)))","v":""},{"$f":"IF(A436=\"\",\"\",IF(VLOOKUP(A436,eligibilité!$A$15:$AG$515,3,TRUE)=\"\",\"\",VLOOKUP(A436,eligibilité!$A$15:$AG$515,3,TRUE)))","v":""},{"$f":"IF(A436=\"\",\"\",IF(VLOOKUP(A436,eligibilité!$A$15:$AG$515,4,TRUE)=\"\",\"\",VLOOKUP(A436,eligibilité!$A$15:$AG$515,4,TRUE)))","v":""},{"$f":"IF(A436=\"\",\"\",IF(VLOOKUP(A436,eligibilité!$A$15:$AG$515,5,TRUE)=\"\",\"\",VLOOKUP(A436,eligibilité!$A$15:$AG$515,5,TRUE)))","v":""},{"$f":"IF(A436=\"\",\"\",IF(VLOOKUP(A436,eligibilité!$A$15:$AG$515,6,TRUE)=\"\",\"\",VLOOKUP(A436,eligibilité!$A$15:$AG$515,6,TRUE)))","v":""},{"$f":"IF(A436=\"\",\"\",IF(VLOOKUP(A436,eligibilité!$A$15:$AG$515,7,TRUE)=\"\",\"\",VLOOKUP(A436,eligibilité!$A$15:$AG$515,7,TRUE)))","v":""},{"$f":"IF(A436=\"\",\"\",IF(VLOOKUP(A436,eligibilité!$A$15:$AG$515,8,TRUE)=\"\",\"\",VLOOKUP(A436,eligibilité!$A$15:$AG$515,8,TRUE)))","v":""},{"$f":"IF(A436=\"\",\"\",IF(VLOOKUP(A436,eligibilité!$A$15:$AG$515,9,TRUE)=\"\",\"\",VLOOKUP(A436,eligibilité!$A$15:$AG$515,9,TRUE)))","v":""},{"$f":"IF(A436=\"\",\"\",IF(VLOOKUP(A436,eligibilité!$A$15:$AG$515,10,TRUE)=\"\",\"\",VLOOKUP(A436,eligibilité!$A$15:$AG$515,10,TRUE)))","v":""},{"$f":"IF(A436=\"\",\"\",IF(VLOOKUP(A436,eligibilité!$A$15:$AG$515,30,FALSE)=0,\"\",VLOOKUP(A436,eligibilité!$A$15:$AG$515,30,FALSE)))","v":""},"","","","","","","",1305,"","","","","","","Temps restant : ",""]
[{"$f":"IF(eligibilité!AG439=\"\",\"\",eligibilité!A439)","v":""},{"$f":"IF(A437=\"\",\"\",IF(VLOOKUP(A437,eligibilité!$A$15:$J$515,2,TRUE)=\"\",\"\",VLOOKUP(A437,eligibilité!$A$15:$J$515,2,TRUE)))","v":""},{"$f":"IF(A437=\"\",\"\",IF(VLOOKUP(A437,eligibilité!$A$15:$AG$515,3,TRUE)=\"\",\"\",VLOOKUP(A437,eligibilité!$A$15:$AG$515,3,TRUE)))","v":""},{"$f":"IF(A437=\"\",\"\",IF(VLOOKUP(A437,eligibilité!$A$15:$AG$515,4,TRUE)=\"\",\"\",VLOOKUP(A437,eligibilité!$A$15:$AG$515,4,TRUE)))","v":""},{"$f":"IF(A437=\"\",\"\",IF(VLOOKUP(A437,eligibilité!$A$15:$AG$515,5,TRUE)=\"\",\"\",VLOOKUP(A437,eligibilité!$A$15:$AG$515,5,TRUE)))","v":""},{"$f":"IF(A437=\"\",\"\",IF(VLOOKUP(A437,eligibilité!$A$15:$AG$515,6,TRUE)=\"\",\"\",VLOOKUP(A437,eligibilité!$A$15:$AG$515,6,TRUE)))","v":""},{"$f":"IF(A437=\"\",\"\",IF(VLOOKUP(A437,eligibilité!$A$15:$AG$515,7,TRUE)=\"\",\"\",VLOOKUP(A437,eligibilité!$A$15:$AG$515,7,TRUE)))","v":""},{"$f":"IF(A437=\"\",\"\",IF(VLOOKUP(A437,eligibilité!$A$15:$AG$515,8,TRUE)=\"\",\"\",VLOOKUP(A437,eligibilité!$A$15:$AG$515,8,TRUE)))","v":""},{"$f":"IF(A437=\"\",\"\",IF(VLOOKUP(A437,eligibilité!$A$15:$AG$515,9,TRUE)=\"\",\"\",VLOOKUP(A437,eligibilité!$A$15:$AG$515,9,TRUE)))","v":""},{"$f":"IF(A437=\"\",\"\",IF(VLOOKUP(A437,eligibilité!$A$15:$AG$515,10,TRUE)=\"\",\"\",VLOOKUP(A437,eligibilité!$A$15:$AG$515,10,TRUE)))","v":""},{"$f":"IF(A437=\"\",\"\",IF(VLOOKUP(A437,eligibilité!$A$15:$AG$515,30,FALSE)=0,\"\",VLOOKUP(A437,eligibilité!$A$15:$AG$515,30,FALSE)))","v":""},"","","","","","","",1305,"","","","","","","Temps restant : ",""]
[{"$f":"IF(eligibilité!AG440=\"\",\"\",eligibilité!A440)","v":""},{"$f":"IF(A438=\"\",\"\",IF(VLOOKUP(A438,eligibilité!$A$15:$J$515,2,TRUE)=\"\",\"\",VLOOKUP(A438,eligibilité!$A$15:$J$515,2,TRUE)))","v":""},{"$f":"IF(A438=\"\",\"\",IF(VLOOKUP(A438,eligibilité!$A$15:$AG$515,3,TRUE)=\"\",\"\",VLOOKUP(A438,eligibilité!$A$15:$AG$515,3,TRUE)))","v":""},{"$f":"IF(A438=\"\",\"\",IF(VLOOKUP(A438,eligibilité!$A$15:$AG$515,4,TRUE)=\"\",\"\",VLOOKUP(A438,eligibilité!$A$15:$AG$515,4,TRUE)))","v":""},{"$f":"IF(A438=\"\",\"\",IF(VLOOKUP(A438,eligibilité!$A$15:$AG$515,5,TRUE)=\"\",\"\",VLOOKUP(A438,eligibilité!$A$15:$AG$515,5,TRUE)))","v":""},{"$f":"IF(A438=\"\",\"\",IF(VLOOKUP(A438,eligibilité!$A$15:$AG$515,6,TRUE)=\"\",\"\",VLOOKUP(A438,eligibilité!$A$15:$AG$515,6,TRUE)))","v":""},{"$f":"IF(A438=\"\",\"\",IF(VLOOKUP(A438,eligibilité!$A$15:$AG$515,7,TRUE)=\"\",\"\",VLOOKUP(A438,eligibilité!$A$15:$AG$515,7,TRUE)))","v":""},{"$f":"IF(A438=\"\",\"\",IF(VLOOKUP(A438,eligibilité!$A$15:$AG$515,8,TRUE)=\"\",\"\",VLOOKUP(A438,eligibilité!$A$15:$AG$515,8,TRUE)))","v":""},{"$f":"IF(A438=\"\",\"\",IF(VLOOKUP(A438,eligibilité!$A$15:$AG$515,9,TRUE)=\"\",\"\",VLOOKUP(A438,eligibilité!$A$15:$AG$515,9,TRUE)))","v":""},{"$f":"IF(A438=\"\",\"\",IF(VLOOKUP(A438,eligibilité!$A$15:$AG$515,10,TRUE)=\"\",\"\",VLOOKUP(A438,eligibilité!$A$15:$AG$515,10,TRUE)))","v":""},{"$f":"IF(A438=\"\",\"\",IF(VLOOKUP(A438,eligibilité!$A$15:$AG$515,30,FALSE)=0,\"\",VLOOKUP(A438,eligibilité!$A$15:$AG$515,30,FALSE)))","v":""},"","","","","","","",1305,"","","","","","","Temps restant : ",""]
[{"$f":"IF(eligibilité!AG441=\"\",\"\",eligibilité!A441)","v":""},{"$f":"IF(A439=\"\",\"\",IF(VLOOKUP(A439,eligibilité!$A$15:$J$515,2,TRUE)=\"\",\"\",VLOOKUP(A439,eligibilité!$A$15:$J$515,2,TRUE)))","v":""},{"$f":"IF(A439=\"\",\"\",IF(VLOOKUP(A439,eligibilité!$A$15:$AG$515,3,TRUE)=\"\",\"\",VLOOKUP(A439,eligibilité!$A$15:$AG$515,3,TRUE)))","v":""},{"$f":"IF(A439=\"\",\"\",IF(VLOOKUP(A439,eligibilité!$A$15:$AG$515,4,TRUE)=\"\",\"\",VLOOKUP(A439,eligibilité!$A$15:$AG$515,4,TRUE)))","v":""},{"$f":"IF(A439=\"\",\"\",IF(VLOOKUP(A439,eligibilité!$A$15:$AG$515,5,TRUE)=\"\",\"\",VLOOKUP(A439,eligibilité!$A$15:$AG$515,5,TRUE)))","v":""},{"$f":"IF(A439=\"\",\"\",IF(VLOOKUP(A439,eligibilité!$A$15:$AG$515,6,TRUE)=\"\",\"\",VLOOKUP(A439,eligibilité!$A$15:$AG$515,6,TRUE)))","v":""},{"$f":"IF(A439=\"\",\"\",IF(VLOOKUP(A439,eligibilité!$A$15:$AG$515,7,TRUE)=\"\",\"\",VLOOKUP(A439,eligibilité!$A$15:$AG$515,7,TRUE)))","v":""},{"$f":"IF(A439=\"\",\"\",IF(VLOOKUP(A439,eligibilité!$A$15:$AG$515,8,TRUE)=\"\",\"\",VLOOKUP(A439,eligibilité!$A$15:$AG$515,8,TRUE)))","v":""},{"$f":"IF(A439=\"\",\"\",IF(VLOOKUP(A439,eligibilité!$A$15:$AG$515,9,TRUE)=\"\",\"\",VLOOKUP(A439,eligibilité!$A$15:$AG$515,9,TRUE)))","v":""},{"$f":"IF(A439=\"\",\"\",IF(VLOOKUP(A439,eligibilité!$A$15:$AG$515,10,TRUE)=\"\",\"\",VLOOKUP(A439,eligibilité!$A$15:$AG$515,10,TRUE)))","v":""},{"$f":"IF(A439=\"\",\"\",IF(VLOOKUP(A439,eligibilité!$A$15:$AG$515,30,FALSE)=0,\"\",VLOOKUP(A439,eligibilité!$A$15:$AG$515,30,FALSE)))","v":""},"","","","","","","",1305,"","","","","","","Temps restant : ",""]
[{"$f":"IF(eligibilité!AG442=\"\",\"\",eligibilité!A442)","v":""},{"$f":"IF(A440=\"\",\"\",IF(VLOOKUP(A440,eligibilité!$A$15:$J$515,2,TRUE)=\"\",\"\",VLOOKUP(A440,eligibilité!$A$15:$J$515,2,TRUE)))","v":""},{"$f":"IF(A440=\"\",\"\",IF(VLOOKUP(A440,eligibilité!$A$15:$AG$515,3,TRUE)=\"\",\"\",VLOOKUP(A440,eligibilité!$A$15:$AG$515,3,TRUE)))","v":""},{"$f":"IF(A440=\"\",\"\",IF(VLOOKUP(A440,eligibilité!$A$15:$AG$515,4,TRUE)=\"\",\"\",VLOOKUP(A440,eligibilité!$A$15:$AG$515,4,TRUE)))","v":""},{"$f":"IF(A440=\"\",\"\",IF(VLOOKUP(A440,eligibilité!$A$15:$AG$515,5,TRUE)=\"\",\"\",VLOOKUP(A440,eligibilité!$A$15:$AG$515,5,TRUE)))","v":""},{"$f":"IF(A440=\"\",\"\",IF(VLOOKUP(A440,eligibilité!$A$15:$AG$515,6,TRUE)=\"\",\"\",VLOOKUP(A440,eligibilité!$A$15:$AG$515,6,TRUE)))","v":""},{"$f":"IF(A440=\"\",\"\",IF(VLOOKUP(A440,eligibilité!$A$15:$AG$515,7,TRUE)=\"\",\"\",VLOOKUP(A440,eligibilité!$A$15:$AG$515,7,TRUE)))","v":""},{"$f":"IF(A440=\"\",\"\",IF(VLOOKUP(A440,eligibilité!$A$15:$AG$515,8,TRUE)=\"\",\"\",VLOOKUP(A440,eligibilité!$A$15:$AG$515,8,TRUE)))","v":""},{"$f":"IF(A440=\"\",\"\",IF(VLOOKUP(A440,eligibilité!$A$15:$AG$515,9,TRUE)=\"\",\"\",VLOOKUP(A440,eligibilité!$A$15:$AG$515,9,TRUE)))","v":""},{"$f":"IF(A440=\"\",\"\",IF(VLOOKUP(A440,eligibilité!$A$15:$AG$515,10,TRUE)=\"\",\"\",VLOOKUP(A440,eligibilité!$A$15:$AG$515,10,TRUE)))","v":""},{"$f":"IF(A440=\"\",\"\",IF(VLOOKUP(A440,eligibilité!$A$15:$AG$515,30,FALSE)=0,\"\",VLOOKUP(A440,eligibilité!$A$15:$AG$515,30,FALSE)))","v":""},"","","","","","","",1305,"","","","","","","Temps restant : ",""]
[{"$f":"IF(eligibilité!AG443=\"\",\"\",eligibilité!A443)","v":""},{"$f":"IF(A441=\"\",\"\",IF(VLOOKUP(A441,eligibilité!$A$15:$J$515,2,TRUE)=\"\",\"\",VLOOKUP(A441,eligibilité!$A$15:$J$515,2,TRUE)))","v":""},{"$f":"IF(A441=\"\",\"\",IF(VLOOKUP(A441,eligibilité!$A$15:$AG$515,3,TRUE)=\"\",\"\",VLOOKUP(A441,eligibilité!$A$15:$AG$515,3,TRUE)))","v":""},{"$f":"IF(A441=\"\",\"\",IF(VLOOKUP(A441,eligibilité!$A$15:$AG$515,4,TRUE)=\"\",\"\",VLOOKUP(A441,eligibilité!$A$15:$AG$515,4,TRUE)))","v":""},{"$f":"IF(A441=\"\",\"\",IF(VLOOKUP(A441,eligibilité!$A$15:$AG$515,5,TRUE)=\"\",\"\",VLOOKUP(A441,eligibilité!$A$15:$AG$515,5,TRUE)))","v":""},{"$f":"IF(A441=\"\",\"\",IF(VLOOKUP(A441,eligibilité!$A$15:$AG$515,6,TRUE)=\"\",\"\",VLOOKUP(A441,eligibilité!$A$15:$AG$515,6,TRUE)))","v":""},{"$f":"IF(A441=\"\",\"\",IF(VLOOKUP(A441,eligibilité!$A$15:$AG$515,7,TRUE)=\"\",\"\",VLOOKUP(A441,eligibilité!$A$15:$AG$515,7,TRUE)))","v":""},{"$f":"IF(A441=\"\",\"\",IF(VLOOKUP(A441,eligibilité!$A$15:$AG$515,8,TRUE)=\"\",\"\",VLOOKUP(A441,eligibilité!$A$15:$AG$515,8,TRUE)))","v":""},{"$f":"IF(A441=\"\",\"\",IF(VLOOKUP(A441,eligibilité!$A$15:$AG$515,9,TRUE)=\"\",\"\",VLOOKUP(A441,eligibilité!$A$15:$AG$515,9,TRUE)))","v":""},{"$f":"IF(A441=\"\",\"\",IF(VLOOKUP(A441,eligibilité!$A$15:$AG$515,10,TRUE)=\"\",\"\",VLOOKUP(A441,eligibilité!$A$15:$AG$515,10,TRUE)))","v":""},{"$f":"IF(A441=\"\",\"\",IF(VLOOKUP(A441,eligibilité!$A$15:$AG$515,30,FALSE)=0,\"\",VLOOKUP(A441,eligibilité!$A$15:$AG$515,30,FALSE)))","v":""},"","","","","","","",1305,"","","","","","","Temps restant : ",""]
[{"$f":"IF(eligibilité!AG444=\"\",\"\",eligibilité!A444)","v":""},{"$f":"IF(A442=\"\",\"\",IF(VLOOKUP(A442,eligibilité!$A$15:$J$515,2,TRUE)=\"\",\"\",VLOOKUP(A442,eligibilité!$A$15:$J$515,2,TRUE)))","v":""},{"$f":"IF(A442=\"\",\"\",IF(VLOOKUP(A442,eligibilité!$A$15:$AG$515,3,TRUE)=\"\",\"\",VLOOKUP(A442,eligibilité!$A$15:$AG$515,3,TRUE)))","v":""},{"$f":"IF(A442=\"\",\"\",IF(VLOOKUP(A442,eligibilité!$A$15:$AG$515,4,TRUE)=\"\",\"\",VLOOKUP(A442,eligibilité!$A$15:$AG$515,4,TRUE)))","v":""},{"$f":"IF(A442=\"\",\"\",IF(VLOOKUP(A442,eligibilité!$A$15:$AG$515,5,TRUE)=\"\",\"\",VLOOKUP(A442,eligibilité!$A$15:$AG$515,5,TRUE)))","v":""},{"$f":"IF(A442=\"\",\"\",IF(VLOOKUP(A442,eligibilité!$A$15:$AG$515,6,TRUE)=\"\",\"\",VLOOKUP(A442,eligibilité!$A$15:$AG$515,6,TRUE)))","v":""},{"$f":"IF(A442=\"\",\"\",IF(VLOOKUP(A442,eligibilité!$A$15:$AG$515,7,TRUE)=\"\",\"\",VLOOKUP(A442,eligibilité!$A$15:$AG$515,7,TRUE)))","v":""},{"$f":"IF(A442=\"\",\"\",IF(VLOOKUP(A442,eligibilité!$A$15:$AG$515,8,TRUE)=\"\",\"\",VLOOKUP(A442,eligibilité!$A$15:$AG$515,8,TRUE)))","v":""},{"$f":"IF(A442=\"\",\"\",IF(VLOOKUP(A442,eligibilité!$A$15:$AG$515,9,TRUE)=\"\",\"\",VLOOKUP(A442,eligibilité!$A$15:$AG$515,9,TRUE)))","v":""},{"$f":"IF(A442=\"\",\"\",IF(VLOOKUP(A442,eligibilité!$A$15:$AG$515,10,TRUE)=\"\",\"\",VLOOKUP(A442,eligibilité!$A$15:$AG$515,10,TRUE)))","v":""},{"$f":"IF(A442=\"\",\"\",IF(VLOOKUP(A442,eligibilité!$A$15:$AG$515,30,FALSE)=0,\"\",VLOOKUP(A442,eligibilité!$A$15:$AG$515,30,FALSE)))","v":""},"","","","","","","",1305,"","","","","","","Temps restant : ",""]
[{"$f":"IF(eligibilité!AG445=\"\",\"\",eligibilité!A445)","v":""},{"$f":"IF(A443=\"\",\"\",IF(VLOOKUP(A443,eligibilité!$A$15:$J$515,2,TRUE)=\"\",\"\",VLOOKUP(A443,eligibilité!$A$15:$J$515,2,TRUE)))","v":""},{"$f":"IF(A443=\"\",\"\",IF(VLOOKUP(A443,eligibilité!$A$15:$AG$515,3,TRUE)=\"\",\"\",VLOOKUP(A443,eligibilité!$A$15:$AG$515,3,TRUE)))","v":""},{"$f":"IF(A443=\"\",\"\",IF(VLOOKUP(A443,eligibilité!$A$15:$AG$515,4,TRUE)=\"\",\"\",VLOOKUP(A443,eligibilité!$A$15:$AG$515,4,TRUE)))","v":""},{"$f":"IF(A443=\"\",\"\",IF(VLOOKUP(A443,eligibilité!$A$15:$AG$515,5,TRUE)=\"\",\"\",VLOOKUP(A443,eligibilité!$A$15:$AG$515,5,TRUE)))","v":""},{"$f":"IF(A443=\"\",\"\",IF(VLOOKUP(A443,eligibilité!$A$15:$AG$515,6,TRUE)=\"\",\"\",VLOOKUP(A443,eligibilité!$A$15:$AG$515,6,TRUE)))","v":""},{"$f":"IF(A443=\"\",\"\",IF(VLOOKUP(A443,eligibilité!$A$15:$AG$515,7,TRUE)=\"\",\"\",VLOOKUP(A443,eligibilité!$A$15:$AG$515,7,TRUE)))","v":""},{"$f":"IF(A443=\"\",\"\",IF(VLOOKUP(A443,eligibilité!$A$15:$AG$515,8,TRUE)=\"\",\"\",VLOOKUP(A443,eligibilité!$A$15:$AG$515,8,TRUE)))","v":""},{"$f":"IF(A443=\"\",\"\",IF(VLOOKUP(A443,eligibilité!$A$15:$AG$515,9,TRUE)=\"\",\"\",VLOOKUP(A443,eligibilité!$A$15:$AG$515,9,TRUE)))","v":""},{"$f":"IF(A443=\"\",\"\",IF(VLOOKUP(A443,eligibilité!$A$15:$AG$515,10,TRUE)=\"\",\"\",VLOOKUP(A443,eligibilité!$A$15:$AG$515,10,TRUE)))","v":""},{"$f":"IF(A443=\"\",\"\",IF(VLOOKUP(A443,eligibilité!$A$15:$AG$515,30,FALSE)=0,\"\",VLOOKUP(A443,eligibilité!$A$15:$AG$515,30,FALSE)))","v":""},"","","","","","","",1305,"","","","","","","Temps restant : ",""]
[{"$f":"IF(eligibilité!AG446=\"\",\"\",eligibilité!A446)","v":""},{"$f":"IF(A444=\"\",\"\",IF(VLOOKUP(A444,eligibilité!$A$15:$J$515,2,TRUE)=\"\",\"\",VLOOKUP(A444,eligibilité!$A$15:$J$515,2,TRUE)))","v":""},{"$f":"IF(A444=\"\",\"\",IF(VLOOKUP(A444,eligibilité!$A$15:$AG$515,3,TRUE)=\"\",\"\",VLOOKUP(A444,eligibilité!$A$15:$AG$515,3,TRUE)))","v":""},{"$f":"IF(A444=\"\",\"\",IF(VLOOKUP(A444,eligibilité!$A$15:$AG$515,4,TRUE)=\"\",\"\",VLOOKUP(A444,eligibilité!$A$15:$AG$515,4,TRUE)))","v":""},{"$f":"IF(A444=\"\",\"\",IF(VLOOKUP(A444,eligibilité!$A$15:$AG$515,5,TRUE)=\"\",\"\",VLOOKUP(A444,eligibilité!$A$15:$AG$515,5,TRUE)))","v":""},{"$f":"IF(A444=\"\",\"\",IF(VLOOKUP(A444,eligibilité!$A$15:$AG$515,6,TRUE)=\"\",\"\",VLOOKUP(A444,eligibilité!$A$15:$AG$515,6,TRUE)))","v":""},{"$f":"IF(A444=\"\",\"\",IF(VLOOKUP(A444,eligibilité!$A$15:$AG$515,7,TRUE)=\"\",\"\",VLOOKUP(A444,eligibilité!$A$15:$AG$515,7,TRUE)))","v":""},{"$f":"IF(A444=\"\",\"\",IF(VLOOKUP(A444,eligibilité!$A$15:$AG$515,8,TRUE)=\"\",\"\",VLOOKUP(A444,eligibilité!$A$15:$AG$515,8,TRUE)))","v":""},{"$f":"IF(A444=\"\",\"\",IF(VLOOKUP(A444,eligibilité!$A$15:$AG$515,9,TRUE)=\"\",\"\",VLOOKUP(A444,eligibilité!$A$15:$AG$515,9,TRUE)))","v":""},{"$f":"IF(A444=\"\",\"\",IF(VLOOKUP(A444,eligibilité!$A$15:$AG$515,10,TRUE)=\"\",\"\",VLOOKUP(A444,eligibilité!$A$15:$AG$515,10,TRUE)))","v":""},{"$f":"IF(A444=\"\",\"\",IF(VLOOKUP(A444,eligibilité!$A$15:$AG$515,30,FALSE)=0,\"\",VLOOKUP(A444,eligibilité!$A$15:$AG$515,30,FALSE)))","v":""},"","","","","","","",1305,"","","","","","","Temps restant : ",""]
[{"$f":"IF(eligibilité!AG447=\"\",\"\",eligibilité!A447)","v":""},{"$f":"IF(A445=\"\",\"\",IF(VLOOKUP(A445,eligibilité!$A$15:$J$515,2,TRUE)=\"\",\"\",VLOOKUP(A445,eligibilité!$A$15:$J$515,2,TRUE)))","v":""},{"$f":"IF(A445=\"\",\"\",IF(VLOOKUP(A445,eligibilité!$A$15:$AG$515,3,TRUE)=\"\",\"\",VLOOKUP(A445,eligibilité!$A$15:$AG$515,3,TRUE)))","v":""},{"$f":"IF(A445=\"\",\"\",IF(VLOOKUP(A445,eligibilité!$A$15:$AG$515,4,TRUE)=\"\",\"\",VLOOKUP(A445,eligibilité!$A$15:$AG$515,4,TRUE)))","v":""},{"$f":"IF(A445=\"\",\"\",IF(VLOOKUP(A445,eligibilité!$A$15:$AG$515,5,TRUE)=\"\",\"\",VLOOKUP(A445,eligibilité!$A$15:$AG$515,5,TRUE)))","v":""},{"$f":"IF(A445=\"\",\"\",IF(VLOOKUP(A445,eligibilité!$A$15:$AG$515,6,TRUE)=\"\",\"\",VLOOKUP(A445,eligibilité!$A$15:$AG$515,6,TRUE)))","v":""},{"$f":"IF(A445=\"\",\"\",IF(VLOOKUP(A445,eligibilité!$A$15:$AG$515,7,TRUE)=\"\",\"\",VLOOKUP(A445,eligibilité!$A$15:$AG$515,7,TRUE)))","v":""},{"$f":"IF(A445=\"\",\"\",IF(VLOOKUP(A445,eligibilité!$A$15:$AG$515,8,TRUE)=\"\",\"\",VLOOKUP(A445,eligibilité!$A$15:$AG$515,8,TRUE)))","v":""},{"$f":"IF(A445=\"\",\"\",IF(VLOOKUP(A445,eligibilité!$A$15:$AG$515,9,TRUE)=\"\",\"\",VLOOKUP(A445,eligibilité!$A$15:$AG$515,9,TRUE)))","v":""},{"$f":"IF(A445=\"\",\"\",IF(VLOOKUP(A445,eligibilité!$A$15:$AG$515,10,TRUE)=\"\",\"\",VLOOKUP(A445,eligibilité!$A$15:$AG$515,10,TRUE)))","v":""},{"$f":"IF(A445=\"\",\"\",IF(VLOOKUP(A445,eligibilité!$A$15:$AG$515,30,FALSE)=0,\"\",VLOOKUP(A445,eligibilité!$A$15:$AG$515,30,FALSE)))","v":""},"","","","","","","",1305,"","","","","","","Temps restant : ",""]
[{"$f":"IF(eligibilité!AG448=\"\",\"\",eligibilité!A448)","v":""},{"$f":"IF(A446=\"\",\"\",IF(VLOOKUP(A446,eligibilité!$A$15:$J$515,2,TRUE)=\"\",\"\",VLOOKUP(A446,eligibilité!$A$15:$J$515,2,TRUE)))","v":""},{"$f":"IF(A446=\"\",\"\",IF(VLOOKUP(A446,eligibilité!$A$15:$AG$515,3,TRUE)=\"\",\"\",VLOOKUP(A446,eligibilité!$A$15:$AG$515,3,TRUE)))","v":""},{"$f":"IF(A446=\"\",\"\",IF(VLOOKUP(A446,eligibilité!$A$15:$AG$515,4,TRUE)=\"\",\"\",VLOOKUP(A446,eligibilité!$A$15:$AG$515,4,TRUE)))","v":""},{"$f":"IF(A446=\"\",\"\",IF(VLOOKUP(A446,eligibilité!$A$15:$AG$515,5,TRUE)=\"\",\"\",VLOOKUP(A446,eligibilité!$A$15:$AG$515,5,TRUE)))","v":""},{"$f":"IF(A446=\"\",\"\",IF(VLOOKUP(A446,eligibilité!$A$15:$AG$515,6,TRUE)=\"\",\"\",VLOOKUP(A446,eligibilité!$A$15:$AG$515,6,TRUE)))","v":""},{"$f":"IF(A446=\"\",\"\",IF(VLOOKUP(A446,eligibilité!$A$15:$AG$515,7,TRUE)=\"\",\"\",VLOOKUP(A446,eligibilité!$A$15:$AG$515,7,TRUE)))","v":""},{"$f":"IF(A446=\"\",\"\",IF(VLOOKUP(A446,eligibilité!$A$15:$AG$515,8,TRUE)=\"\",\"\",VLOOKUP(A446,eligibilité!$A$15:$AG$515,8,TRUE)))","v":""},{"$f":"IF(A446=\"\",\"\",IF(VLOOKUP(A446,eligibilité!$A$15:$AG$515,9,TRUE)=\"\",\"\",VLOOKUP(A446,eligibilité!$A$15:$AG$515,9,TRUE)))","v":""},{"$f":"IF(A446=\"\",\"\",IF(VLOOKUP(A446,eligibilité!$A$15:$AG$515,10,TRUE)=\"\",\"\",VLOOKUP(A446,eligibilité!$A$15:$AG$515,10,TRUE)))","v":""},{"$f":"IF(A446=\"\",\"\",IF(VLOOKUP(A446,eligibilité!$A$15:$AG$515,30,FALSE)=0,\"\",VLOOKUP(A446,eligibilité!$A$15:$AG$515,30,FALSE)))","v":""},"","","","","","","",1305,"","","","","","","Temps restant : ",""]
[{"$f":"IF(eligibilité!AG449=\"\",\"\",eligibilité!A449)","v":""},{"$f":"IF(A447=\"\",\"\",IF(VLOOKUP(A447,eligibilité!$A$15:$J$515,2,TRUE)=\"\",\"\",VLOOKUP(A447,eligibilité!$A$15:$J$515,2,TRUE)))","v":""},{"$f":"IF(A447=\"\",\"\",IF(VLOOKUP(A447,eligibilité!$A$15:$AG$515,3,TRUE)=\"\",\"\",VLOOKUP(A447,eligibilité!$A$15:$AG$515,3,TRUE)))","v":""},{"$f":"IF(A447=\"\",\"\",IF(VLOOKUP(A447,eligibilité!$A$15:$AG$515,4,TRUE)=\"\",\"\",VLOOKUP(A447,eligibilité!$A$15:$AG$515,4,TRUE)))","v":""},{"$f":"IF(A447=\"\",\"\",IF(VLOOKUP(A447,eligibilité!$A$15:$AG$515,5,TRUE)=\"\",\"\",VLOOKUP(A447,eligibilité!$A$15:$AG$515,5,TRUE)))","v":""},{"$f":"IF(A447=\"\",\"\",IF(VLOOKUP(A447,eligibilité!$A$15:$AG$515,6,TRUE)=\"\",\"\",VLOOKUP(A447,eligibilité!$A$15:$AG$515,6,TRUE)))","v":""},{"$f":"IF(A447=\"\",\"\",IF(VLOOKUP(A447,eligibilité!$A$15:$AG$515,7,TRUE)=\"\",\"\",VLOOKUP(A447,eligibilité!$A$15:$AG$515,7,TRUE)))","v":""},{"$f":"IF(A447=\"\",\"\",IF(VLOOKUP(A447,eligibilité!$A$15:$AG$515,8,TRUE)=\"\",\"\",VLOOKUP(A447,eligibilité!$A$15:$AG$515,8,TRUE)))","v":""},{"$f":"IF(A447=\"\",\"\",IF(VLOOKUP(A447,eligibilité!$A$15:$AG$515,9,TRUE)=\"\",\"\",VLOOKUP(A447,eligibilité!$A$15:$AG$515,9,TRUE)))","v":""},{"$f":"IF(A447=\"\",\"\",IF(VLOOKUP(A447,eligibilité!$A$15:$AG$515,10,TRUE)=\"\",\"\",VLOOKUP(A447,eligibilité!$A$15:$AG$515,10,TRUE)))","v":""},{"$f":"IF(A447=\"\",\"\",IF(VLOOKUP(A447,eligibilité!$A$15:$AG$515,30,FALSE)=0,\"\",VLOOKUP(A447,eligibilité!$A$15:$AG$515,30,FALSE)))","v":""},"","","","","","","",1305,"","","","","","","Temps restant : ",""]
[{"$f":"IF(eligibilité!AG450=\"\",\"\",eligibilité!A450)","v":""},{"$f":"IF(A448=\"\",\"\",IF(VLOOKUP(A448,eligibilité!$A$15:$J$515,2,TRUE)=\"\",\"\",VLOOKUP(A448,eligibilité!$A$15:$J$515,2,TRUE)))","v":""},{"$f":"IF(A448=\"\",\"\",IF(VLOOKUP(A448,eligibilité!$A$15:$AG$515,3,TRUE)=\"\",\"\",VLOOKUP(A448,eligibilité!$A$15:$AG$515,3,TRUE)))","v":""},{"$f":"IF(A448=\"\",\"\",IF(VLOOKUP(A448,eligibilité!$A$15:$AG$515,4,TRUE)=\"\",\"\",VLOOKUP(A448,eligibilité!$A$15:$AG$515,4,TRUE)))","v":""},{"$f":"IF(A448=\"\",\"\",IF(VLOOKUP(A448,eligibilité!$A$15:$AG$515,5,TRUE)=\"\",\"\",VLOOKUP(A448,eligibilité!$A$15:$AG$515,5,TRUE)))","v":""},{"$f":"IF(A448=\"\",\"\",IF(VLOOKUP(A448,eligibilité!$A$15:$AG$515,6,TRUE)=\"\",\"\",VLOOKUP(A448,eligibilité!$A$15:$AG$515,6,TRUE)))","v":""},{"$f":"IF(A448=\"\",\"\",IF(VLOOKUP(A448,eligibilité!$A$15:$AG$515,7,TRUE)=\"\",\"\",VLOOKUP(A448,eligibilité!$A$15:$AG$515,7,TRUE)))","v":""},{"$f":"IF(A448=\"\",\"\",IF(VLOOKUP(A448,eligibilité!$A$15:$AG$515,8,TRUE)=\"\",\"\",VLOOKUP(A448,eligibilité!$A$15:$AG$515,8,TRUE)))","v":""},{"$f":"IF(A448=\"\",\"\",IF(VLOOKUP(A448,eligibilité!$A$15:$AG$515,9,TRUE)=\"\",\"\",VLOOKUP(A448,eligibilité!$A$15:$AG$515,9,TRUE)))","v":""},{"$f":"IF(A448=\"\",\"\",IF(VLOOKUP(A448,eligibilité!$A$15:$AG$515,10,TRUE)=\"\",\"\",VLOOKUP(A448,eligibilité!$A$15:$AG$515,10,TRUE)))","v":""},{"$f":"IF(A448=\"\",\"\",IF(VLOOKUP(A448,eligibilité!$A$15:$AG$515,30,FALSE)=0,\"\",VLOOKUP(A448,eligibilité!$A$15:$AG$515,30,FALSE)))","v":""},"","","","","","","",1305,"","","","","","","Temps restant : ",""]
[{"$f":"IF(eligibilité!AG451=\"\",\"\",eligibilité!A451)","v":""},{"$f":"IF(A449=\"\",\"\",IF(VLOOKUP(A449,eligibilité!$A$15:$J$515,2,TRUE)=\"\",\"\",VLOOKUP(A449,eligibilité!$A$15:$J$515,2,TRUE)))","v":""},{"$f":"IF(A449=\"\",\"\",IF(VLOOKUP(A449,eligibilité!$A$15:$AG$515,3,TRUE)=\"\",\"\",VLOOKUP(A449,eligibilité!$A$15:$AG$515,3,TRUE)))","v":""},{"$f":"IF(A449=\"\",\"\",IF(VLOOKUP(A449,eligibilité!$A$15:$AG$515,4,TRUE)=\"\",\"\",VLOOKUP(A449,eligibilité!$A$15:$AG$515,4,TRUE)))","v":""},{"$f":"IF(A449=\"\",\"\",IF(VLOOKUP(A449,eligibilité!$A$15:$AG$515,5,TRUE)=\"\",\"\",VLOOKUP(A449,eligibilité!$A$15:$AG$515,5,TRUE)))","v":""},{"$f":"IF(A449=\"\",\"\",IF(VLOOKUP(A449,eligibilité!$A$15:$AG$515,6,TRUE)=\"\",\"\",VLOOKUP(A449,eligibilité!$A$15:$AG$515,6,TRUE)))","v":""},{"$f":"IF(A449=\"\",\"\",IF(VLOOKUP(A449,eligibilité!$A$15:$AG$515,7,TRUE)=\"\",\"\",VLOOKUP(A449,eligibilité!$A$15:$AG$515,7,TRUE)))","v":""},{"$f":"IF(A449=\"\",\"\",IF(VLOOKUP(A449,eligibilité!$A$15:$AG$515,8,TRUE)=\"\",\"\",VLOOKUP(A449,eligibilité!$A$15:$AG$515,8,TRUE)))","v":""},{"$f":"IF(A449=\"\",\"\",IF(VLOOKUP(A449,eligibilité!$A$15:$AG$515,9,TRUE)=\"\",\"\",VLOOKUP(A449,eligibilité!$A$15:$AG$515,9,TRUE)))","v":""},{"$f":"IF(A449=\"\",\"\",IF(VLOOKUP(A449,eligibilité!$A$15:$AG$515,10,TRUE)=\"\",\"\",VLOOKUP(A449,eligibilité!$A$15:$AG$515,10,TRUE)))","v":""},{"$f":"IF(A449=\"\",\"\",IF(VLOOKUP(A449,eligibilité!$A$15:$AG$515,30,FALSE)=0,\"\",VLOOKUP(A449,eligibilité!$A$15:$AG$515,30,FALSE)))","v":""},"","","","","","","",1305,"","","","","","","Temps restant : ",""]
[{"$f":"IF(eligibilité!AG452=\"\",\"\",eligibilité!A452)","v":""},{"$f":"IF(A450=\"\",\"\",IF(VLOOKUP(A450,eligibilité!$A$15:$J$515,2,TRUE)=\"\",\"\",VLOOKUP(A450,eligibilité!$A$15:$J$515,2,TRUE)))","v":""},{"$f":"IF(A450=\"\",\"\",IF(VLOOKUP(A450,eligibilité!$A$15:$AG$515,3,TRUE)=\"\",\"\",VLOOKUP(A450,eligibilité!$A$15:$AG$515,3,TRUE)))","v":""},{"$f":"IF(A450=\"\",\"\",IF(VLOOKUP(A450,eligibilité!$A$15:$AG$515,4,TRUE)=\"\",\"\",VLOOKUP(A450,eligibilité!$A$15:$AG$515,4,TRUE)))","v":""},{"$f":"IF(A450=\"\",\"\",IF(VLOOKUP(A450,eligibilité!$A$15:$AG$515,5,TRUE)=\"\",\"\",VLOOKUP(A450,eligibilité!$A$15:$AG$515,5,TRUE)))","v":""},{"$f":"IF(A450=\"\",\"\",IF(VLOOKUP(A450,eligibilité!$A$15:$AG$515,6,TRUE)=\"\",\"\",VLOOKUP(A450,eligibilité!$A$15:$AG$515,6,TRUE)))","v":""},{"$f":"IF(A450=\"\",\"\",IF(VLOOKUP(A450,eligibilité!$A$15:$AG$515,7,TRUE)=\"\",\"\",VLOOKUP(A450,eligibilité!$A$15:$AG$515,7,TRUE)))","v":""},{"$f":"IF(A450=\"\",\"\",IF(VLOOKUP(A450,eligibilité!$A$15:$AG$515,8,TRUE)=\"\",\"\",VLOOKUP(A450,eligibilité!$A$15:$AG$515,8,TRUE)))","v":""},{"$f":"IF(A450=\"\",\"\",IF(VLOOKUP(A450,eligibilité!$A$15:$AG$515,9,TRUE)=\"\",\"\",VLOOKUP(A450,eligibilité!$A$15:$AG$515,9,TRUE)))","v":""},{"$f":"IF(A450=\"\",\"\",IF(VLOOKUP(A450,eligibilité!$A$15:$AG$515,10,TRUE)=\"\",\"\",VLOOKUP(A450,eligibilité!$A$15:$AG$515,10,TRUE)))","v":""},{"$f":"IF(A450=\"\",\"\",IF(VLOOKUP(A450,eligibilité!$A$15:$AG$515,30,FALSE)=0,\"\",VLOOKUP(A450,eligibilité!$A$15:$AG$515,30,FALSE)))","v":""},"","","","","","","",1305,"","","","","","","Temps restant : ",""]
[{"$f":"IF(eligibilité!AG453=\"\",\"\",eligibilité!A453)","v":""},{"$f":"IF(A451=\"\",\"\",IF(VLOOKUP(A451,eligibilité!$A$15:$J$515,2,TRUE)=\"\",\"\",VLOOKUP(A451,eligibilité!$A$15:$J$515,2,TRUE)))","v":""},{"$f":"IF(A451=\"\",\"\",IF(VLOOKUP(A451,eligibilité!$A$15:$AG$515,3,TRUE)=\"\",\"\",VLOOKUP(A451,eligibilité!$A$15:$AG$515,3,TRUE)))","v":""},{"$f":"IF(A451=\"\",\"\",IF(VLOOKUP(A451,eligibilité!$A$15:$AG$515,4,TRUE)=\"\",\"\",VLOOKUP(A451,eligibilité!$A$15:$AG$515,4,TRUE)))","v":""},{"$f":"IF(A451=\"\",\"\",IF(VLOOKUP(A451,eligibilité!$A$15:$AG$515,5,TRUE)=\"\",\"\",VLOOKUP(A451,eligibilité!$A$15:$AG$515,5,TRUE)))","v":""},{"$f":"IF(A451=\"\",\"\",IF(VLOOKUP(A451,eligibilité!$A$15:$AG$515,6,TRUE)=\"\",\"\",VLOOKUP(A451,eligibilité!$A$15:$AG$515,6,TRUE)))","v":""},{"$f":"IF(A451=\"\",\"\",IF(VLOOKUP(A451,eligibilité!$A$15:$AG$515,7,TRUE)=\"\",\"\",VLOOKUP(A451,eligibilité!$A$15:$AG$515,7,TRUE)))","v":""},{"$f":"IF(A451=\"\",\"\",IF(VLOOKUP(A451,eligibilité!$A$15:$AG$515,8,TRUE)=\"\",\"\",VLOOKUP(A451,eligibilité!$A$15:$AG$515,8,TRUE)))","v":""},{"$f":"IF(A451=\"\",\"\",IF(VLOOKUP(A451,eligibilité!$A$15:$AG$515,9,TRUE)=\"\",\"\",VLOOKUP(A451,eligibilité!$A$15:$AG$515,9,TRUE)))","v":""},{"$f":"IF(A451=\"\",\"\",IF(VLOOKUP(A451,eligibilité!$A$15:$AG$515,10,TRUE)=\"\",\"\",VLOOKUP(A451,eligibilité!$A$15:$AG$515,10,TRUE)))","v":""},{"$f":"IF(A451=\"\",\"\",IF(VLOOKUP(A451,eligibilité!$A$15:$AG$515,30,FALSE)=0,\"\",VLOOKUP(A451,eligibilité!$A$15:$AG$515,30,FALSE)))","v":""},"","","","","","","",1305,"","","","","","","Temps restant : ",""]
[{"$f":"IF(eligibilité!AG454=\"\",\"\",eligibilité!A454)","v":""},{"$f":"IF(A452=\"\",\"\",IF(VLOOKUP(A452,eligibilité!$A$15:$J$515,2,TRUE)=\"\",\"\",VLOOKUP(A452,eligibilité!$A$15:$J$515,2,TRUE)))","v":""},{"$f":"IF(A452=\"\",\"\",IF(VLOOKUP(A452,eligibilité!$A$15:$AG$515,3,TRUE)=\"\",\"\",VLOOKUP(A452,eligibilité!$A$15:$AG$515,3,TRUE)))","v":""},{"$f":"IF(A452=\"\",\"\",IF(VLOOKUP(A452,eligibilité!$A$15:$AG$515,4,TRUE)=\"\",\"\",VLOOKUP(A452,eligibilité!$A$15:$AG$515,4,TRUE)))","v":""},{"$f":"IF(A452=\"\",\"\",IF(VLOOKUP(A452,eligibilité!$A$15:$AG$515,5,TRUE)=\"\",\"\",VLOOKUP(A452,eligibilité!$A$15:$AG$515,5,TRUE)))","v":""},{"$f":"IF(A452=\"\",\"\",IF(VLOOKUP(A452,eligibilité!$A$15:$AG$515,6,TRUE)=\"\",\"\",VLOOKUP(A452,eligibilité!$A$15:$AG$515,6,TRUE)))","v":""},{"$f":"IF(A452=\"\",\"\",IF(VLOOKUP(A452,eligibilité!$A$15:$AG$515,7,TRUE)=\"\",\"\",VLOOKUP(A452,eligibilité!$A$15:$AG$515,7,TRUE)))","v":""},{"$f":"IF(A452=\"\",\"\",IF(VLOOKUP(A452,eligibilité!$A$15:$AG$515,8,TRUE)=\"\",\"\",VLOOKUP(A452,eligibilité!$A$15:$AG$515,8,TRUE)))","v":""},{"$f":"IF(A452=\"\",\"\",IF(VLOOKUP(A452,eligibilité!$A$15:$AG$515,9,TRUE)=\"\",\"\",VLOOKUP(A452,eligibilité!$A$15:$AG$515,9,TRUE)))","v":""},{"$f":"IF(A452=\"\",\"\",IF(VLOOKUP(A452,eligibilité!$A$15:$AG$515,10,TRUE)=\"\",\"\",VLOOKUP(A452,eligibilité!$A$15:$AG$515,10,TRUE)))","v":""},{"$f":"IF(A452=\"\",\"\",IF(VLOOKUP(A452,eligibilité!$A$15:$AG$515,30,FALSE)=0,\"\",VLOOKUP(A452,eligibilité!$A$15:$AG$515,30,FALSE)))","v":""},"","","","","","","",1305,"","","","","","","Temps restant : ",""]
[{"$f":"IF(eligibilité!AG455=\"\",\"\",eligibilité!A455)","v":""},{"$f":"IF(A453=\"\",\"\",IF(VLOOKUP(A453,eligibilité!$A$15:$J$515,2,TRUE)=\"\",\"\",VLOOKUP(A453,eligibilité!$A$15:$J$515,2,TRUE)))","v":""},{"$f":"IF(A453=\"\",\"\",IF(VLOOKUP(A453,eligibilité!$A$15:$AG$515,3,TRUE)=\"\",\"\",VLOOKUP(A453,eligibilité!$A$15:$AG$515,3,TRUE)))","v":""},{"$f":"IF(A453=\"\",\"\",IF(VLOOKUP(A453,eligibilité!$A$15:$AG$515,4,TRUE)=\"\",\"\",VLOOKUP(A453,eligibilité!$A$15:$AG$515,4,TRUE)))","v":""},{"$f":"IF(A453=\"\",\"\",IF(VLOOKUP(A453,eligibilité!$A$15:$AG$515,5,TRUE)=\"\",\"\",VLOOKUP(A453,eligibilité!$A$15:$AG$515,5,TRUE)))","v":""},{"$f":"IF(A453=\"\",\"\",IF(VLOOKUP(A453,eligibilité!$A$15:$AG$515,6,TRUE)=\"\",\"\",VLOOKUP(A453,eligibilité!$A$15:$AG$515,6,TRUE)))","v":""},{"$f":"IF(A453=\"\",\"\",IF(VLOOKUP(A453,eligibilité!$A$15:$AG$515,7,TRUE)=\"\",\"\",VLOOKUP(A453,eligibilité!$A$15:$AG$515,7,TRUE)))","v":""},{"$f":"IF(A453=\"\",\"\",IF(VLOOKUP(A453,eligibilité!$A$15:$AG$515,8,TRUE)=\"\",\"\",VLOOKUP(A453,eligibilité!$A$15:$AG$515,8,TRUE)))","v":""},{"$f":"IF(A453=\"\",\"\",IF(VLOOKUP(A453,eligibilité!$A$15:$AG$515,9,TRUE)=\"\",\"\",VLOOKUP(A453,eligibilité!$A$15:$AG$515,9,TRUE)))","v":""},{"$f":"IF(A453=\"\",\"\",IF(VLOOKUP(A453,eligibilité!$A$15:$AG$515,10,TRUE)=\"\",\"\",VLOOKUP(A453,eligibilité!$A$15:$AG$515,10,TRUE)))","v":""},{"$f":"IF(A453=\"\",\"\",IF(VLOOKUP(A453,eligibilité!$A$15:$AG$515,30,FALSE)=0,\"\",VLOOKUP(A453,eligibilité!$A$15:$AG$515,30,FALSE)))","v":""},"","","","","","","",1305,"","","","","","","Temps restant : ",""]
[{"$f":"IF(eligibilité!AG456=\"\",\"\",eligibilité!A456)","v":""},{"$f":"IF(A454=\"\",\"\",IF(VLOOKUP(A454,eligibilité!$A$15:$J$515,2,TRUE)=\"\",\"\",VLOOKUP(A454,eligibilité!$A$15:$J$515,2,TRUE)))","v":""},{"$f":"IF(A454=\"\",\"\",IF(VLOOKUP(A454,eligibilité!$A$15:$AG$515,3,TRUE)=\"\",\"\",VLOOKUP(A454,eligibilité!$A$15:$AG$515,3,TRUE)))","v":""},{"$f":"IF(A454=\"\",\"\",IF(VLOOKUP(A454,eligibilité!$A$15:$AG$515,4,TRUE)=\"\",\"\",VLOOKUP(A454,eligibilité!$A$15:$AG$515,4,TRUE)))","v":""},{"$f":"IF(A454=\"\",\"\",IF(VLOOKUP(A454,eligibilité!$A$15:$AG$515,5,TRUE)=\"\",\"\",VLOOKUP(A454,eligibilité!$A$15:$AG$515,5,TRUE)))","v":""},{"$f":"IF(A454=\"\",\"\",IF(VLOOKUP(A454,eligibilité!$A$15:$AG$515,6,TRUE)=\"\",\"\",VLOOKUP(A454,eligibilité!$A$15:$AG$515,6,TRUE)))","v":""},{"$f":"IF(A454=\"\",\"\",IF(VLOOKUP(A454,eligibilité!$A$15:$AG$515,7,TRUE)=\"\",\"\",VLOOKUP(A454,eligibilité!$A$15:$AG$515,7,TRUE)))","v":""},{"$f":"IF(A454=\"\",\"\",IF(VLOOKUP(A454,eligibilité!$A$15:$AG$515,8,TRUE)=\"\",\"\",VLOOKUP(A454,eligibilité!$A$15:$AG$515,8,TRUE)))","v":""},{"$f":"IF(A454=\"\",\"\",IF(VLOOKUP(A454,eligibilité!$A$15:$AG$515,9,TRUE)=\"\",\"\",VLOOKUP(A454,eligibilité!$A$15:$AG$515,9,TRUE)))","v":""},{"$f":"IF(A454=\"\",\"\",IF(VLOOKUP(A454,eligibilité!$A$15:$AG$515,10,TRUE)=\"\",\"\",VLOOKUP(A454,eligibilité!$A$15:$AG$515,10,TRUE)))","v":""},{"$f":"IF(A454=\"\",\"\",IF(VLOOKUP(A454,eligibilité!$A$15:$AG$515,30,FALSE)=0,\"\",VLOOKUP(A454,eligibilité!$A$15:$AG$515,30,FALSE)))","v":""},"","","","","","","",1305,"","","","","","","Temps restant : ",""]
[{"$f":"IF(eligibilité!AG457=\"\",\"\",eligibilité!A457)","v":""},{"$f":"IF(A455=\"\",\"\",IF(VLOOKUP(A455,eligibilité!$A$15:$J$515,2,TRUE)=\"\",\"\",VLOOKUP(A455,eligibilité!$A$15:$J$515,2,TRUE)))","v":""},{"$f":"IF(A455=\"\",\"\",IF(VLOOKUP(A455,eligibilité!$A$15:$AG$515,3,TRUE)=\"\",\"\",VLOOKUP(A455,eligibilité!$A$15:$AG$515,3,TRUE)))","v":""},{"$f":"IF(A455=\"\",\"\",IF(VLOOKUP(A455,eligibilité!$A$15:$AG$515,4,TRUE)=\"\",\"\",VLOOKUP(A455,eligibilité!$A$15:$AG$515,4,TRUE)))","v":""},{"$f":"IF(A455=\"\",\"\",IF(VLOOKUP(A455,eligibilité!$A$15:$AG$515,5,TRUE)=\"\",\"\",VLOOKUP(A455,eligibilité!$A$15:$AG$515,5,TRUE)))","v":""},{"$f":"IF(A455=\"\",\"\",IF(VLOOKUP(A455,eligibilité!$A$15:$AG$515,6,TRUE)=\"\",\"\",VLOOKUP(A455,eligibilité!$A$15:$AG$515,6,TRUE)))","v":""},{"$f":"IF(A455=\"\",\"\",IF(VLOOKUP(A455,eligibilité!$A$15:$AG$515,7,TRUE)=\"\",\"\",VLOOKUP(A455,eligibilité!$A$15:$AG$515,7,TRUE)))","v":""},{"$f":"IF(A455=\"\",\"\",IF(VLOOKUP(A455,eligibilité!$A$15:$AG$515,8,TRUE)=\"\",\"\",VLOOKUP(A455,eligibilité!$A$15:$AG$515,8,TRUE)))","v":""},{"$f":"IF(A455=\"\",\"\",IF(VLOOKUP(A455,eligibilité!$A$15:$AG$515,9,TRUE)=\"\",\"\",VLOOKUP(A455,eligibilité!$A$15:$AG$515,9,TRUE)))","v":""},{"$f":"IF(A455=\"\",\"\",IF(VLOOKUP(A455,eligibilité!$A$15:$AG$515,10,TRUE)=\"\",\"\",VLOOKUP(A455,eligibilité!$A$15:$AG$515,10,TRUE)))","v":""},{"$f":"IF(A455=\"\",\"\",IF(VLOOKUP(A455,eligibilité!$A$15:$AG$515,30,FALSE)=0,\"\",VLOOKUP(A455,eligibilité!$A$15:$AG$515,30,FALSE)))","v":""},"","","","","","","",1305,"","","","","","","Temps restant : ",""]
[{"$f":"IF(eligibilité!AG458=\"\",\"\",eligibilité!A458)","v":""},{"$f":"IF(A456=\"\",\"\",IF(VLOOKUP(A456,eligibilité!$A$15:$J$515,2,TRUE)=\"\",\"\",VLOOKUP(A456,eligibilité!$A$15:$J$515,2,TRUE)))","v":""},{"$f":"IF(A456=\"\",\"\",IF(VLOOKUP(A456,eligibilité!$A$15:$AG$515,3,TRUE)=\"\",\"\",VLOOKUP(A456,eligibilité!$A$15:$AG$515,3,TRUE)))","v":""},{"$f":"IF(A456=\"\",\"\",IF(VLOOKUP(A456,eligibilité!$A$15:$AG$515,4,TRUE)=\"\",\"\",VLOOKUP(A456,eligibilité!$A$15:$AG$515,4,TRUE)))","v":""},{"$f":"IF(A456=\"\",\"\",IF(VLOOKUP(A456,eligibilité!$A$15:$AG$515,5,TRUE)=\"\",\"\",VLOOKUP(A456,eligibilité!$A$15:$AG$515,5,TRUE)))","v":""},{"$f":"IF(A456=\"\",\"\",IF(VLOOKUP(A456,eligibilité!$A$15:$AG$515,6,TRUE)=\"\",\"\",VLOOKUP(A456,eligibilité!$A$15:$AG$515,6,TRUE)))","v":""},{"$f":"IF(A456=\"\",\"\",IF(VLOOKUP(A456,eligibilité!$A$15:$AG$515,7,TRUE)=\"\",\"\",VLOOKUP(A456,eligibilité!$A$15:$AG$515,7,TRUE)))","v":""},{"$f":"IF(A456=\"\",\"\",IF(VLOOKUP(A456,eligibilité!$A$15:$AG$515,8,TRUE)=\"\",\"\",VLOOKUP(A456,eligibilité!$A$15:$AG$515,8,TRUE)))","v":""},{"$f":"IF(A456=\"\",\"\",IF(VLOOKUP(A456,eligibilité!$A$15:$AG$515,9,TRUE)=\"\",\"\",VLOOKUP(A456,eligibilité!$A$15:$AG$515,9,TRUE)))","v":""},{"$f":"IF(A456=\"\",\"\",IF(VLOOKUP(A456,eligibilité!$A$15:$AG$515,10,TRUE)=\"\",\"\",VLOOKUP(A456,eligibilité!$A$15:$AG$515,10,TRUE)))","v":""},{"$f":"IF(A456=\"\",\"\",IF(VLOOKUP(A456,eligibilité!$A$15:$AG$515,30,FALSE)=0,\"\",VLOOKUP(A456,eligibilité!$A$15:$AG$515,30,FALSE)))","v":""},"","","","","","","",1305,"","","","","","","Temps restant : ",""]
[{"$f":"IF(eligibilité!AG459=\"\",\"\",eligibilité!A459)","v":""},{"$f":"IF(A457=\"\",\"\",IF(VLOOKUP(A457,eligibilité!$A$15:$J$515,2,TRUE)=\"\",\"\",VLOOKUP(A457,eligibilité!$A$15:$J$515,2,TRUE)))","v":""},{"$f":"IF(A457=\"\",\"\",IF(VLOOKUP(A457,eligibilité!$A$15:$AG$515,3,TRUE)=\"\",\"\",VLOOKUP(A457,eligibilité!$A$15:$AG$515,3,TRUE)))","v":""},{"$f":"IF(A457=\"\",\"\",IF(VLOOKUP(A457,eligibilité!$A$15:$AG$515,4,TRUE)=\"\",\"\",VLOOKUP(A457,eligibilité!$A$15:$AG$515,4,TRUE)))","v":""},{"$f":"IF(A457=\"\",\"\",IF(VLOOKUP(A457,eligibilité!$A$15:$AG$515,5,TRUE)=\"\",\"\",VLOOKUP(A457,eligibilité!$A$15:$AG$515,5,TRUE)))","v":""},{"$f":"IF(A457=\"\",\"\",IF(VLOOKUP(A457,eligibilité!$A$15:$AG$515,6,TRUE)=\"\",\"\",VLOOKUP(A457,eligibilité!$A$15:$AG$515,6,TRUE)))","v":""},{"$f":"IF(A457=\"\",\"\",IF(VLOOKUP(A457,eligibilité!$A$15:$AG$515,7,TRUE)=\"\",\"\",VLOOKUP(A457,eligibilité!$A$15:$AG$515,7,TRUE)))","v":""},{"$f":"IF(A457=\"\",\"\",IF(VLOOKUP(A457,eligibilité!$A$15:$AG$515,8,TRUE)=\"\",\"\",VLOOKUP(A457,eligibilité!$A$15:$AG$515,8,TRUE)))","v":""},{"$f":"IF(A457=\"\",\"\",IF(VLOOKUP(A457,eligibilité!$A$15:$AG$515,9,TRUE)=\"\",\"\",VLOOKUP(A457,eligibilité!$A$15:$AG$515,9,TRUE)))","v":""},{"$f":"IF(A457=\"\",\"\",IF(VLOOKUP(A457,eligibilité!$A$15:$AG$515,10,TRUE)=\"\",\"\",VLOOKUP(A457,eligibilité!$A$15:$AG$515,10,TRUE)))","v":""},{"$f":"IF(A457=\"\",\"\",IF(VLOOKUP(A457,eligibilité!$A$15:$AG$515,30,FALSE)=0,\"\",VLOOKUP(A457,eligibilité!$A$15:$AG$515,30,FALSE)))","v":""},"","","","","","","",1305,"","","","","","","Temps restant : ",""]
[{"$f":"IF(eligibilité!AG460=\"\",\"\",eligibilité!A460)","v":""},{"$f":"IF(A458=\"\",\"\",IF(VLOOKUP(A458,eligibilité!$A$15:$J$515,2,TRUE)=\"\",\"\",VLOOKUP(A458,eligibilité!$A$15:$J$515,2,TRUE)))","v":""},{"$f":"IF(A458=\"\",\"\",IF(VLOOKUP(A458,eligibilité!$A$15:$AG$515,3,TRUE)=\"\",\"\",VLOOKUP(A458,eligibilité!$A$15:$AG$515,3,TRUE)))","v":""},{"$f":"IF(A458=\"\",\"\",IF(VLOOKUP(A458,eligibilité!$A$15:$AG$515,4,TRUE)=\"\",\"\",VLOOKUP(A458,eligibilité!$A$15:$AG$515,4,TRUE)))","v":""},{"$f":"IF(A458=\"\",\"\",IF(VLOOKUP(A458,eligibilité!$A$15:$AG$515,5,TRUE)=\"\",\"\",VLOOKUP(A458,eligibilité!$A$15:$AG$515,5,TRUE)))","v":""},{"$f":"IF(A458=\"\",\"\",IF(VLOOKUP(A458,eligibilité!$A$15:$AG$515,6,TRUE)=\"\",\"\",VLOOKUP(A458,eligibilité!$A$15:$AG$515,6,TRUE)))","v":""},{"$f":"IF(A458=\"\",\"\",IF(VLOOKUP(A458,eligibilité!$A$15:$AG$515,7,TRUE)=\"\",\"\",VLOOKUP(A458,eligibilité!$A$15:$AG$515,7,TRUE)))","v":""},{"$f":"IF(A458=\"\",\"\",IF(VLOOKUP(A458,eligibilité!$A$15:$AG$515,8,TRUE)=\"\",\"\",VLOOKUP(A458,eligibilité!$A$15:$AG$515,8,TRUE)))","v":""},{"$f":"IF(A458=\"\",\"\",IF(VLOOKUP(A458,eligibilité!$A$15:$AG$515,9,TRUE)=\"\",\"\",VLOOKUP(A458,eligibilité!$A$15:$AG$515,9,TRUE)))","v":""},{"$f":"IF(A458=\"\",\"\",IF(VLOOKUP(A458,eligibilité!$A$15:$AG$515,10,TRUE)=\"\",\"\",VLOOKUP(A458,eligibilité!$A$15:$AG$515,10,TRUE)))","v":""},{"$f":"IF(A458=\"\",\"\",IF(VLOOKUP(A458,eligibilité!$A$15:$AG$515,30,FALSE)=0,\"\",VLOOKUP(A458,eligibilité!$A$15:$AG$515,30,FALSE)))","v":""},"","","","","","","",1305,"","","","","","","Temps restant : ",""]
[{"$f":"IF(eligibilité!AG461=\"\",\"\",eligibilité!A461)","v":""},{"$f":"IF(A459=\"\",\"\",IF(VLOOKUP(A459,eligibilité!$A$15:$J$515,2,TRUE)=\"\",\"\",VLOOKUP(A459,eligibilité!$A$15:$J$515,2,TRUE)))","v":""},{"$f":"IF(A459=\"\",\"\",IF(VLOOKUP(A459,eligibilité!$A$15:$AG$515,3,TRUE)=\"\",\"\",VLOOKUP(A459,eligibilité!$A$15:$AG$515,3,TRUE)))","v":""},{"$f":"IF(A459=\"\",\"\",IF(VLOOKUP(A459,eligibilité!$A$15:$AG$515,4,TRUE)=\"\",\"\",VLOOKUP(A459,eligibilité!$A$15:$AG$515,4,TRUE)))","v":""},{"$f":"IF(A459=\"\",\"\",IF(VLOOKUP(A459,eligibilité!$A$15:$AG$515,5,TRUE)=\"\",\"\",VLOOKUP(A459,eligibilité!$A$15:$AG$515,5,TRUE)))","v":""},{"$f":"IF(A459=\"\",\"\",IF(VLOOKUP(A459,eligibilité!$A$15:$AG$515,6,TRUE)=\"\",\"\",VLOOKUP(A459,eligibilité!$A$15:$AG$515,6,TRUE)))","v":""},{"$f":"IF(A459=\"\",\"\",IF(VLOOKUP(A459,eligibilité!$A$15:$AG$515,7,TRUE)=\"\",\"\",VLOOKUP(A459,eligibilité!$A$15:$AG$515,7,TRUE)))","v":""},{"$f":"IF(A459=\"\",\"\",IF(VLOOKUP(A459,eligibilité!$A$15:$AG$515,8,TRUE)=\"\",\"\",VLOOKUP(A459,eligibilité!$A$15:$AG$515,8,TRUE)))","v":""},{"$f":"IF(A459=\"\",\"\",IF(VLOOKUP(A459,eligibilité!$A$15:$AG$515,9,TRUE)=\"\",\"\",VLOOKUP(A459,eligibilité!$A$15:$AG$515,9,TRUE)))","v":""},{"$f":"IF(A459=\"\",\"\",IF(VLOOKUP(A459,eligibilité!$A$15:$AG$515,10,TRUE)=\"\",\"\",VLOOKUP(A459,eligibilité!$A$15:$AG$515,10,TRUE)))","v":""},{"$f":"IF(A459=\"\",\"\",IF(VLOOKUP(A459,eligibilité!$A$15:$AG$515,30,FALSE)=0,\"\",VLOOKUP(A459,eligibilité!$A$15:$AG$515,30,FALSE)))","v":""},"","","","","","","",1305,"","","","","","","Temps restant : ",""]
[{"$f":"IF(eligibilité!AG462=\"\",\"\",eligibilité!A462)","v":""},{"$f":"IF(A460=\"\",\"\",IF(VLOOKUP(A460,eligibilité!$A$15:$J$515,2,TRUE)=\"\",\"\",VLOOKUP(A460,eligibilité!$A$15:$J$515,2,TRUE)))","v":""},{"$f":"IF(A460=\"\",\"\",IF(VLOOKUP(A460,eligibilité!$A$15:$AG$515,3,TRUE)=\"\",\"\",VLOOKUP(A460,eligibilité!$A$15:$AG$515,3,TRUE)))","v":""},{"$f":"IF(A460=\"\",\"\",IF(VLOOKUP(A460,eligibilité!$A$15:$AG$515,4,TRUE)=\"\",\"\",VLOOKUP(A460,eligibilité!$A$15:$AG$515,4,TRUE)))","v":""},{"$f":"IF(A460=\"\",\"\",IF(VLOOKUP(A460,eligibilité!$A$15:$AG$515,5,TRUE)=\"\",\"\",VLOOKUP(A460,eligibilité!$A$15:$AG$515,5,TRUE)))","v":""},{"$f":"IF(A460=\"\",\"\",IF(VLOOKUP(A460,eligibilité!$A$15:$AG$515,6,TRUE)=\"\",\"\",VLOOKUP(A460,eligibilité!$A$15:$AG$515,6,TRUE)))","v":""},{"$f":"IF(A460=\"\",\"\",IF(VLOOKUP(A460,eligibilité!$A$15:$AG$515,7,TRUE)=\"\",\"\",VLOOKUP(A460,eligibilité!$A$15:$AG$515,7,TRUE)))","v":""},{"$f":"IF(A460=\"\",\"\",IF(VLOOKUP(A460,eligibilité!$A$15:$AG$515,8,TRUE)=\"\",\"\",VLOOKUP(A460,eligibilité!$A$15:$AG$515,8,TRUE)))","v":""},{"$f":"IF(A460=\"\",\"\",IF(VLOOKUP(A460,eligibilité!$A$15:$AG$515,9,TRUE)=\"\",\"\",VLOOKUP(A460,eligibilité!$A$15:$AG$515,9,TRUE)))","v":""},{"$f":"IF(A460=\"\",\"\",IF(VLOOKUP(A460,eligibilité!$A$15:$AG$515,10,TRUE)=\"\",\"\",VLOOKUP(A460,eligibilité!$A$15:$AG$515,10,TRUE)))","v":""},{"$f":"IF(A460=\"\",\"\",IF(VLOOKUP(A460,eligibilité!$A$15:$AG$515,30,FALSE)=0,\"\",VLOOKUP(A460,eligibilité!$A$15:$AG$515,30,FALSE)))","v":""},"","","","","","","",1305,"","","","","","","Temps restant : ",""]
[{"$f":"IF(eligibilité!AG463=\"\",\"\",eligibilité!A463)","v":""},{"$f":"IF(A461=\"\",\"\",IF(VLOOKUP(A461,eligibilité!$A$15:$J$515,2,TRUE)=\"\",\"\",VLOOKUP(A461,eligibilité!$A$15:$J$515,2,TRUE)))","v":""},{"$f":"IF(A461=\"\",\"\",IF(VLOOKUP(A461,eligibilité!$A$15:$AG$515,3,TRUE)=\"\",\"\",VLOOKUP(A461,eligibilité!$A$15:$AG$515,3,TRUE)))","v":""},{"$f":"IF(A461=\"\",\"\",IF(VLOOKUP(A461,eligibilité!$A$15:$AG$515,4,TRUE)=\"\",\"\",VLOOKUP(A461,eligibilité!$A$15:$AG$515,4,TRUE)))","v":""},{"$f":"IF(A461=\"\",\"\",IF(VLOOKUP(A461,eligibilité!$A$15:$AG$515,5,TRUE)=\"\",\"\",VLOOKUP(A461,eligibilité!$A$15:$AG$515,5,TRUE)))","v":""},{"$f":"IF(A461=\"\",\"\",IF(VLOOKUP(A461,eligibilité!$A$15:$AG$515,6,TRUE)=\"\",\"\",VLOOKUP(A461,eligibilité!$A$15:$AG$515,6,TRUE)))","v":""},{"$f":"IF(A461=\"\",\"\",IF(VLOOKUP(A461,eligibilité!$A$15:$AG$515,7,TRUE)=\"\",\"\",VLOOKUP(A461,eligibilité!$A$15:$AG$515,7,TRUE)))","v":""},{"$f":"IF(A461=\"\",\"\",IF(VLOOKUP(A461,eligibilité!$A$15:$AG$515,8,TRUE)=\"\",\"\",VLOOKUP(A461,eligibilité!$A$15:$AG$515,8,TRUE)))","v":""},{"$f":"IF(A461=\"\",\"\",IF(VLOOKUP(A461,eligibilité!$A$15:$AG$515,9,TRUE)=\"\",\"\",VLOOKUP(A461,eligibilité!$A$15:$AG$515,9,TRUE)))","v":""},{"$f":"IF(A461=\"\",\"\",IF(VLOOKUP(A461,eligibilité!$A$15:$AG$515,10,TRUE)=\"\",\"\",VLOOKUP(A461,eligibilité!$A$15:$AG$515,10,TRUE)))","v":""},{"$f":"IF(A461=\"\",\"\",IF(VLOOKUP(A461,eligibilité!$A$15:$AG$515,30,FALSE)=0,\"\",VLOOKUP(A461,eligibilité!$A$15:$AG$515,30,FALSE)))","v":""},"","","","","","","",1305,"","","","","","","Temps restant : ",""]
[{"$f":"IF(eligibilité!AG464=\"\",\"\",eligibilité!A464)","v":""},{"$f":"IF(A462=\"\",\"\",IF(VLOOKUP(A462,eligibilité!$A$15:$J$515,2,TRUE)=\"\",\"\",VLOOKUP(A462,eligibilité!$A$15:$J$515,2,TRUE)))","v":""},{"$f":"IF(A462=\"\",\"\",IF(VLOOKUP(A462,eligibilité!$A$15:$AG$515,3,TRUE)=\"\",\"\",VLOOKUP(A462,eligibilité!$A$15:$AG$515,3,TRUE)))","v":""},{"$f":"IF(A462=\"\",\"\",IF(VLOOKUP(A462,eligibilité!$A$15:$AG$515,4,TRUE)=\"\",\"\",VLOOKUP(A462,eligibilité!$A$15:$AG$515,4,TRUE)))","v":""},{"$f":"IF(A462=\"\",\"\",IF(VLOOKUP(A462,eligibilité!$A$15:$AG$515,5,TRUE)=\"\",\"\",VLOOKUP(A462,eligibilité!$A$15:$AG$515,5,TRUE)))","v":""},{"$f":"IF(A462=\"\",\"\",IF(VLOOKUP(A462,eligibilité!$A$15:$AG$515,6,TRUE)=\"\",\"\",VLOOKUP(A462,eligibilité!$A$15:$AG$515,6,TRUE)))","v":""},{"$f":"IF(A462=\"\",\"\",IF(VLOOKUP(A462,eligibilité!$A$15:$AG$515,7,TRUE)=\"\",\"\",VLOOKUP(A462,eligibilité!$A$15:$AG$515,7,TRUE)))","v":""},{"$f":"IF(A462=\"\",\"\",IF(VLOOKUP(A462,eligibilité!$A$15:$AG$515,8,TRUE)=\"\",\"\",VLOOKUP(A462,eligibilité!$A$15:$AG$515,8,TRUE)))","v":""},{"$f":"IF(A462=\"\",\"\",IF(VLOOKUP(A462,eligibilité!$A$15:$AG$515,9,TRUE)=\"\",\"\",VLOOKUP(A462,eligibilité!$A$15:$AG$515,9,TRUE)))","v":""},{"$f":"IF(A462=\"\",\"\",IF(VLOOKUP(A462,eligibilité!$A$15:$AG$515,10,TRUE)=\"\",\"\",VLOOKUP(A462,eligibilité!$A$15:$AG$515,10,TRUE)))","v":""},{"$f":"IF(A462=\"\",\"\",IF(VLOOKUP(A462,eligibilité!$A$15:$AG$515,30,FALSE)=0,\"\",VLOOKUP(A462,eligibilité!$A$15:$AG$515,30,FALSE)))","v":""},{"$f":"IF(K462=\"\",\"\",48-K462)","v":""},{"$f":"IF(L462=\"\",\"\",INT(L462/12))","v":""},{"$f":"IF(L462=\"\",\"\",(L462-M462*12))","v":""},{"$f":"IF(L462=\"\",\"\",INT(N462))","v":""},{"$f":"IF(L462=\"\",\"\",ROUNDDOWN((N462-O462)*30.44,0))","v":""},{"$f":"IF(K462=\"\",\"\",CONCATENATE(M462,\" an(s) \",O462,\" mois \",P462,\" jour(s)\"))","v":""},{"$f":"IF(K462=\"\",\"\",M462*365.25+O462*30.44+P462)","v":""},1305,{"$f":"IF(R462=\"\",\"\",R462-S462)","v":""},{"$f":"IF(L462=\"\",\"\",IF(T462<=365.25,0,INT(T462/365.25)))","v":""},{"$f":"IF(T462=\"\",\"\",T462-U462)","v":""},{"$f":"IF(L462=\"\",\"\",IF(U462=0,(T462/30.44),(T462/30.44)-12))","v":""},{"$f":"IF(W462=\"\",\"\",ABS(ROUNDDOWN(W462,0)))","v":""},{"$f":"IF(T462=\"\",\"\",ROUNDDOWN(ABS(W462-ROUNDDOWN(W462,0))*30.44,0))","v":""},{"$f":"IF(T462<=0,\"Temps écoulé depuis : \",\"Temps restant : \")","v":"Temps restant : "},{"$f":"IF(L462=\"\",\"\",CONCATENATE(Z462,U462,\" an(s) \",X462,\" mois \",Y462,\" jour(s) \"))","v":""}]
[{"$f":"IF(eligibilité!AG465=\"\",\"\",eligibilité!A465)","v":""},{"$f":"IF(A463=\"\",\"\",IF(VLOOKUP(A463,eligibilité!$A$15:$J$515,2,TRUE)=\"\",\"\",VLOOKUP(A463,eligibilité!$A$15:$J$515,2,TRUE)))","v":""},{"$f":"IF(A463=\"\",\"\",IF(VLOOKUP(A463,eligibilité!$A$15:$AG$515,3,TRUE)=\"\",\"\",VLOOKUP(A463,eligibilité!$A$15:$AG$515,3,TRUE)))","v":""},{"$f":"IF(A463=\"\",\"\",IF(VLOOKUP(A463,eligibilité!$A$15:$AG$515,4,TRUE)=\"\",\"\",VLOOKUP(A463,eligibilité!$A$15:$AG$515,4,TRUE)))","v":""},{"$f":"IF(A463=\"\",\"\",IF(VLOOKUP(A463,eligibilité!$A$15:$AG$515,5,TRUE)=\"\",\"\",VLOOKUP(A463,eligibilité!$A$15:$AG$515,5,TRUE)))","v":""},{"$f":"IF(A463=\"\",\"\",IF(VLOOKUP(A463,eligibilité!$A$15:$AG$515,6,TRUE)=\"\",\"\",VLOOKUP(A463,eligibilité!$A$15:$AG$515,6,TRUE)))","v":""},{"$f":"IF(A463=\"\",\"\",IF(VLOOKUP(A463,eligibilité!$A$15:$AG$515,7,TRUE)=\"\",\"\",VLOOKUP(A463,eligibilité!$A$15:$AG$515,7,TRUE)))","v":""},{"$f":"IF(A463=\"\",\"\",IF(VLOOKUP(A463,eligibilité!$A$15:$AG$515,8,TRUE)=\"\",\"\",VLOOKUP(A463,eligibilité!$A$15:$AG$515,8,TRUE)))","v":""},{"$f":"IF(A463=\"\",\"\",IF(VLOOKUP(A463,eligibilité!$A$15:$AG$515,9,TRUE)=\"\",\"\",VLOOKUP(A463,eligibilité!$A$15:$AG$515,9,TRUE)))","v":""},{"$f":"IF(A463=\"\",\"\",IF(VLOOKUP(A463,eligibilité!$A$15:$AG$515,10,TRUE)=\"\",\"\",VLOOKUP(A463,eligibilité!$A$15:$AG$515,10,TRUE)))","v":""},{"$f":"IF(A463=\"\",\"\",IF(VLOOKUP(A463,eligibilité!$A$15:$AG$515,30,FALSE)=0,\"\",VLOOKUP(A463,eligibilité!$A$15:$AG$515,30,FALSE)))","v":""},"","","","","","","",{"$f":"TODAY()-DATE(2013,4,1)","v":1305},"","","","","","","Temps restant : ",""]
[{"$f":"IF(eligibilité!AG466=\"\",\"\",eligibilité!A466)","v":""},{"$f":"IF(A464=\"\",\"\",IF(VLOOKUP(A464,eligibilité!$A$15:$J$515,2,TRUE)=\"\",\"\",VLOOKUP(A464,eligibilité!$A$15:$J$515,2,TRUE)))","v":""},{"$f":"IF(A464=\"\",\"\",IF(VLOOKUP(A464,eligibilité!$A$15:$AG$515,3,TRUE)=\"\",\"\",VLOOKUP(A464,eligibilité!$A$15:$AG$515,3,TRUE)))","v":""},{"$f":"IF(A464=\"\",\"\",IF(VLOOKUP(A464,eligibilité!$A$15:$AG$515,4,TRUE)=\"\",\"\",VLOOKUP(A464,eligibilité!$A$15:$AG$515,4,TRUE)))","v":""},{"$f":"IF(A464=\"\",\"\",IF(VLOOKUP(A464,eligibilité!$A$15:$AG$515,5,TRUE)=\"\",\"\",VLOOKUP(A464,eligibilité!$A$15:$AG$515,5,TRUE)))","v":""},{"$f":"IF(A464=\"\",\"\",IF(VLOOKUP(A464,eligibilité!$A$15:$AG$515,6,TRUE)=\"\",\"\",VLOOKUP(A464,eligibilité!$A$15:$AG$515,6,TRUE)))","v":""},{"$f":"IF(A464=\"\",\"\",IF(VLOOKUP(A464,eligibilité!$A$15:$AG$515,7,TRUE)=\"\",\"\",VLOOKUP(A464,eligibilité!$A$15:$AG$515,7,TRUE)))","v":""},{"$f":"IF(A464=\"\",\"\",IF(VLOOKUP(A464,eligibilité!$A$15:$AG$515,8,TRUE)=\"\",\"\",VLOOKUP(A464,eligibilité!$A$15:$AG$515,8,TRUE)))","v":""},{"$f":"IF(A464=\"\",\"\",IF(VLOOKUP(A464,eligibilité!$A$15:$AG$515,9,TRUE)=\"\",\"\",VLOOKUP(A464,eligibilité!$A$15:$AG$515,9,TRUE)))","v":""},{"$f":"IF(A464=\"\",\"\",IF(VLOOKUP(A464,eligibilité!$A$15:$AG$515,10,TRUE)=\"\",\"\",VLOOKUP(A464,eligibilité!$A$15:$AG$515,10,TRUE)))","v":""},{"$f":"IF(A464=\"\",\"\",IF(VLOOKUP(A464,eligibilité!$A$15:$AG$515,30,FALSE)=0,\"\",VLOOKUP(A464,eligibilité!$A$15:$AG$515,30,FALSE)))","v":""},"","","","","","","",1305,"","","","","","","Temps restant : ",""]
[{"$f":"IF(eligibilité!AG467=\"\",\"\",eligibilité!A467)","v":""},{"$f":"IF(A465=\"\",\"\",IF(VLOOKUP(A465,eligibilité!$A$15:$J$515,2,TRUE)=\"\",\"\",VLOOKUP(A465,eligibilité!$A$15:$J$515,2,TRUE)))","v":""},{"$f":"IF(A465=\"\",\"\",IF(VLOOKUP(A465,eligibilité!$A$15:$AG$515,3,TRUE)=\"\",\"\",VLOOKUP(A465,eligibilité!$A$15:$AG$515,3,TRUE)))","v":""},{"$f":"IF(A465=\"\",\"\",IF(VLOOKUP(A465,eligibilité!$A$15:$AG$515,4,TRUE)=\"\",\"\",VLOOKUP(A465,eligibilité!$A$15:$AG$515,4,TRUE)))","v":""},{"$f":"IF(A465=\"\",\"\",IF(VLOOKUP(A465,eligibilité!$A$15:$AG$515,5,TRUE)=\"\",\"\",VLOOKUP(A465,eligibilité!$A$15:$AG$515,5,TRUE)))","v":""},{"$f":"IF(A465=\"\",\"\",IF(VLOOKUP(A465,eligibilité!$A$15:$AG$515,6,TRUE)=\"\",\"\",VLOOKUP(A465,eligibilité!$A$15:$AG$515,6,TRUE)))","v":""},{"$f":"IF(A465=\"\",\"\",IF(VLOOKUP(A465,eligibilité!$A$15:$AG$515,7,TRUE)=\"\",\"\",VLOOKUP(A465,eligibilité!$A$15:$AG$515,7,TRUE)))","v":""},{"$f":"IF(A465=\"\",\"\",IF(VLOOKUP(A465,eligibilité!$A$15:$AG$515,8,TRUE)=\"\",\"\",VLOOKUP(A465,eligibilité!$A$15:$AG$515,8,TRUE)))","v":""},{"$f":"IF(A465=\"\",\"\",IF(VLOOKUP(A465,eligibilité!$A$15:$AG$515,9,TRUE)=\"\",\"\",VLOOKUP(A465,eligibilité!$A$15:$AG$515,9,TRUE)))","v":""},{"$f":"IF(A465=\"\",\"\",IF(VLOOKUP(A465,eligibilité!$A$15:$AG$515,10,TRUE)=\"\",\"\",VLOOKUP(A465,eligibilité!$A$15:$AG$515,10,TRUE)))","v":""},{"$f":"IF(A465=\"\",\"\",IF(VLOOKUP(A465,eligibilité!$A$15:$AG$515,30,FALSE)=0,\"\",VLOOKUP(A465,eligibilité!$A$15:$AG$515,30,FALSE)))","v":""},"","","","","","","",1305,"","","","","","","Temps restant : ",""]
[{"$f":"IF(eligibilité!AG468=\"\",\"\",eligibilité!A468)","v":""},{"$f":"IF(A466=\"\",\"\",IF(VLOOKUP(A466,eligibilité!$A$15:$J$515,2,TRUE)=\"\",\"\",VLOOKUP(A466,eligibilité!$A$15:$J$515,2,TRUE)))","v":""},{"$f":"IF(A466=\"\",\"\",IF(VLOOKUP(A466,eligibilité!$A$15:$AG$515,3,TRUE)=\"\",\"\",VLOOKUP(A466,eligibilité!$A$15:$AG$515,3,TRUE)))","v":""},{"$f":"IF(A466=\"\",\"\",IF(VLOOKUP(A466,eligibilité!$A$15:$AG$515,4,TRUE)=\"\",\"\",VLOOKUP(A466,eligibilité!$A$15:$AG$515,4,TRUE)))","v":""},{"$f":"IF(A466=\"\",\"\",IF(VLOOKUP(A466,eligibilité!$A$15:$AG$515,5,TRUE)=\"\",\"\",VLOOKUP(A466,eligibilité!$A$15:$AG$515,5,TRUE)))","v":""},{"$f":"IF(A466=\"\",\"\",IF(VLOOKUP(A466,eligibilité!$A$15:$AG$515,6,TRUE)=\"\",\"\",VLOOKUP(A466,eligibilité!$A$15:$AG$515,6,TRUE)))","v":""},{"$f":"IF(A466=\"\",\"\",IF(VLOOKUP(A466,eligibilité!$A$15:$AG$515,7,TRUE)=\"\",\"\",VLOOKUP(A466,eligibilité!$A$15:$AG$515,7,TRUE)))","v":""},{"$f":"IF(A466=\"\",\"\",IF(VLOOKUP(A466,eligibilité!$A$15:$AG$515,8,TRUE)=\"\",\"\",VLOOKUP(A466,eligibilité!$A$15:$AG$515,8,TRUE)))","v":""},{"$f":"IF(A466=\"\",\"\",IF(VLOOKUP(A466,eligibilité!$A$15:$AG$515,9,TRUE)=\"\",\"\",VLOOKUP(A466,eligibilité!$A$15:$AG$515,9,TRUE)))","v":""},{"$f":"IF(A466=\"\",\"\",IF(VLOOKUP(A466,eligibilité!$A$15:$AG$515,10,TRUE)=\"\",\"\",VLOOKUP(A466,eligibilité!$A$15:$AG$515,10,TRUE)))","v":""},{"$f":"IF(A466=\"\",\"\",IF(VLOOKUP(A466,eligibilité!$A$15:$AG$515,30,FALSE)=0,\"\",VLOOKUP(A466,eligibilité!$A$15:$AG$515,30,FALSE)))","v":""},"","","","","","","",1305,"","","","","","","Temps restant : ",""]
[{"$f":"IF(eligibilité!AG469=\"\",\"\",eligibilité!A469)","v":""},{"$f":"IF(A467=\"\",\"\",IF(VLOOKUP(A467,eligibilité!$A$15:$J$515,2,TRUE)=\"\",\"\",VLOOKUP(A467,eligibilité!$A$15:$J$515,2,TRUE)))","v":""},{"$f":"IF(A467=\"\",\"\",IF(VLOOKUP(A467,eligibilité!$A$15:$AG$515,3,TRUE)=\"\",\"\",VLOOKUP(A467,eligibilité!$A$15:$AG$515,3,TRUE)))","v":""},{"$f":"IF(A467=\"\",\"\",IF(VLOOKUP(A467,eligibilité!$A$15:$AG$515,4,TRUE)=\"\",\"\",VLOOKUP(A467,eligibilité!$A$15:$AG$515,4,TRUE)))","v":""},{"$f":"IF(A467=\"\",\"\",IF(VLOOKUP(A467,eligibilité!$A$15:$AG$515,5,TRUE)=\"\",\"\",VLOOKUP(A467,eligibilité!$A$15:$AG$515,5,TRUE)))","v":""},{"$f":"IF(A467=\"\",\"\",IF(VLOOKUP(A467,eligibilité!$A$15:$AG$515,6,TRUE)=\"\",\"\",VLOOKUP(A467,eligibilité!$A$15:$AG$515,6,TRUE)))","v":""},{"$f":"IF(A467=\"\",\"\",IF(VLOOKUP(A467,eligibilité!$A$15:$AG$515,7,TRUE)=\"\",\"\",VLOOKUP(A467,eligibilité!$A$15:$AG$515,7,TRUE)))","v":""},{"$f":"IF(A467=\"\",\"\",IF(VLOOKUP(A467,eligibilité!$A$15:$AG$515,8,TRUE)=\"\",\"\",VLOOKUP(A467,eligibilité!$A$15:$AG$515,8,TRUE)))","v":""},{"$f":"IF(A467=\"\",\"\",IF(VLOOKUP(A467,eligibilité!$A$15:$AG$515,9,TRUE)=\"\",\"\",VLOOKUP(A467,eligibilité!$A$15:$AG$515,9,TRUE)))","v":""},{"$f":"IF(A467=\"\",\"\",IF(VLOOKUP(A467,eligibilité!$A$15:$AG$515,10,TRUE)=\"\",\"\",VLOOKUP(A467,eligibilité!$A$15:$AG$515,10,TRUE)))","v":""},{"$f":"IF(A467=\"\",\"\",IF(VLOOKUP(A467,eligibilité!$A$15:$AG$515,30,FALSE)=0,\"\",VLOOKUP(A467,eligibilité!$A$15:$AG$515,30,FALSE)))","v":""},"","","","","","","",1305,"","","","","","","Temps restant : ",""]
[{"$f":"IF(eligibilité!AG470=\"\",\"\",eligibilité!A470)","v":""},{"$f":"IF(A468=\"\",\"\",IF(VLOOKUP(A468,eligibilité!$A$15:$J$515,2,TRUE)=\"\",\"\",VLOOKUP(A468,eligibilité!$A$15:$J$515,2,TRUE)))","v":""},{"$f":"IF(A468=\"\",\"\",IF(VLOOKUP(A468,eligibilité!$A$15:$AG$515,3,TRUE)=\"\",\"\",VLOOKUP(A468,eligibilité!$A$15:$AG$515,3,TRUE)))","v":""},{"$f":"IF(A468=\"\",\"\",IF(VLOOKUP(A468,eligibilité!$A$15:$AG$515,4,TRUE)=\"\",\"\",VLOOKUP(A468,eligibilité!$A$15:$AG$515,4,TRUE)))","v":""},{"$f":"IF(A468=\"\",\"\",IF(VLOOKUP(A468,eligibilité!$A$15:$AG$515,5,TRUE)=\"\",\"\",VLOOKUP(A468,eligibilité!$A$15:$AG$515,5,TRUE)))","v":""},{"$f":"IF(A468=\"\",\"\",IF(VLOOKUP(A468,eligibilité!$A$15:$AG$515,6,TRUE)=\"\",\"\",VLOOKUP(A468,eligibilité!$A$15:$AG$515,6,TRUE)))","v":""},{"$f":"IF(A468=\"\",\"\",IF(VLOOKUP(A468,eligibilité!$A$15:$AG$515,7,TRUE)=\"\",\"\",VLOOKUP(A468,eligibilité!$A$15:$AG$515,7,TRUE)))","v":""},{"$f":"IF(A468=\"\",\"\",IF(VLOOKUP(A468,eligibilité!$A$15:$AG$515,8,TRUE)=\"\",\"\",VLOOKUP(A468,eligibilité!$A$15:$AG$515,8,TRUE)))","v":""},{"$f":"IF(A468=\"\",\"\",IF(VLOOKUP(A468,eligibilité!$A$15:$AG$515,9,TRUE)=\"\",\"\",VLOOKUP(A468,eligibilité!$A$15:$AG$515,9,TRUE)))","v":""},{"$f":"IF(A468=\"\",\"\",IF(VLOOKUP(A468,eligibilité!$A$15:$AG$515,10,TRUE)=\"\",\"\",VLOOKUP(A468,eligibilité!$A$15:$AG$515,10,TRUE)))","v":""},{"$f":"IF(A468=\"\",\"\",IF(VLOOKUP(A468,eligibilité!$A$15:$AG$515,30,FALSE)=0,\"\",VLOOKUP(A468,eligibilité!$A$15:$AG$515,30,FALSE)))","v":""},"","","","","","","",1305,"","","","","","","Temps restant : ",""]
[{"$f":"IF(eligibilité!AG471=\"\",\"\",eligibilité!A471)","v":""},{"$f":"IF(A469=\"\",\"\",IF(VLOOKUP(A469,eligibilité!$A$15:$J$515,2,TRUE)=\"\",\"\",VLOOKUP(A469,eligibilité!$A$15:$J$515,2,TRUE)))","v":""},{"$f":"IF(A469=\"\",\"\",IF(VLOOKUP(A469,eligibilité!$A$15:$AG$515,3,TRUE)=\"\",\"\",VLOOKUP(A469,eligibilité!$A$15:$AG$515,3,TRUE)))","v":""},{"$f":"IF(A469=\"\",\"\",IF(VLOOKUP(A469,eligibilité!$A$15:$AG$515,4,TRUE)=\"\",\"\",VLOOKUP(A469,eligibilité!$A$15:$AG$515,4,TRUE)))","v":""},{"$f":"IF(A469=\"\",\"\",IF(VLOOKUP(A469,eligibilité!$A$15:$AG$515,5,TRUE)=\"\",\"\",VLOOKUP(A469,eligibilité!$A$15:$AG$515,5,TRUE)))","v":""},{"$f":"IF(A469=\"\",\"\",IF(VLOOKUP(A469,eligibilité!$A$15:$AG$515,6,TRUE)=\"\",\"\",VLOOKUP(A469,eligibilité!$A$15:$AG$515,6,TRUE)))","v":""},{"$f":"IF(A469=\"\",\"\",IF(VLOOKUP(A469,eligibilité!$A$15:$AG$515,7,TRUE)=\"\",\"\",VLOOKUP(A469,eligibilité!$A$15:$AG$515,7,TRUE)))","v":""},{"$f":"IF(A469=\"\",\"\",IF(VLOOKUP(A469,eligibilité!$A$15:$AG$515,8,TRUE)=\"\",\"\",VLOOKUP(A469,eligibilité!$A$15:$AG$515,8,TRUE)))","v":""},{"$f":"IF(A469=\"\",\"\",IF(VLOOKUP(A469,eligibilité!$A$15:$AG$515,9,TRUE)=\"\",\"\",VLOOKUP(A469,eligibilité!$A$15:$AG$515,9,TRUE)))","v":""},{"$f":"IF(A469=\"\",\"\",IF(VLOOKUP(A469,eligibilité!$A$15:$AG$515,10,TRUE)=\"\",\"\",VLOOKUP(A469,eligibilité!$A$15:$AG$515,10,TRUE)))","v":""},{"$f":"IF(A469=\"\",\"\",IF(VLOOKUP(A469,eligibilité!$A$15:$AG$515,30,FALSE)=0,\"\",VLOOKUP(A469,eligibilité!$A$15:$AG$515,30,FALSE)))","v":""},"","","","","","","",1305,"","","","","","","Temps restant : ",""]
[{"$f":"IF(eligibilité!AG472=\"\",\"\",eligibilité!A472)","v":""},{"$f":"IF(A470=\"\",\"\",IF(VLOOKUP(A470,eligibilité!$A$15:$J$515,2,TRUE)=\"\",\"\",VLOOKUP(A470,eligibilité!$A$15:$J$515,2,TRUE)))","v":""},{"$f":"IF(A470=\"\",\"\",IF(VLOOKUP(A470,eligibilité!$A$15:$AG$515,3,TRUE)=\"\",\"\",VLOOKUP(A470,eligibilité!$A$15:$AG$515,3,TRUE)))","v":""},{"$f":"IF(A470=\"\",\"\",IF(VLOOKUP(A470,eligibilité!$A$15:$AG$515,4,TRUE)=\"\",\"\",VLOOKUP(A470,eligibilité!$A$15:$AG$515,4,TRUE)))","v":""},{"$f":"IF(A470=\"\",\"\",IF(VLOOKUP(A470,eligibilité!$A$15:$AG$515,5,TRUE)=\"\",\"\",VLOOKUP(A470,eligibilité!$A$15:$AG$515,5,TRUE)))","v":""},{"$f":"IF(A470=\"\",\"\",IF(VLOOKUP(A470,eligibilité!$A$15:$AG$515,6,TRUE)=\"\",\"\",VLOOKUP(A470,eligibilité!$A$15:$AG$515,6,TRUE)))","v":""},{"$f":"IF(A470=\"\",\"\",IF(VLOOKUP(A470,eligibilité!$A$15:$AG$515,7,TRUE)=\"\",\"\",VLOOKUP(A470,eligibilité!$A$15:$AG$515,7,TRUE)))","v":""},{"$f":"IF(A470=\"\",\"\",IF(VLOOKUP(A470,eligibilité!$A$15:$AG$515,8,TRUE)=\"\",\"\",VLOOKUP(A470,eligibilité!$A$15:$AG$515,8,TRUE)))","v":""},{"$f":"IF(A470=\"\",\"\",IF(VLOOKUP(A470,eligibilité!$A$15:$AG$515,9,TRUE)=\"\",\"\",VLOOKUP(A470,eligibilité!$A$15:$AG$515,9,TRUE)))","v":""},{"$f":"IF(A470=\"\",\"\",IF(VLOOKUP(A470,eligibilité!$A$15:$AG$515,10,TRUE)=\"\",\"\",VLOOKUP(A470,eligibilité!$A$15:$AG$515,10,TRUE)))","v":""},{"$f":"IF(A470=\"\",\"\",IF(VLOOKUP(A470,eligibilité!$A$15:$AG$515,30,FALSE)=0,\"\",VLOOKUP(A470,eligibilité!$A$15:$AG$515,30,FALSE)))","v":""},"","","","","","","",1305,"","","","","","","Temps restant : ",""]
[{"$f":"IF(eligibilité!AG473=\"\",\"\",eligibilité!A473)","v":""},{"$f":"IF(A471=\"\",\"\",IF(VLOOKUP(A471,eligibilité!$A$15:$J$515,2,TRUE)=\"\",\"\",VLOOKUP(A471,eligibilité!$A$15:$J$515,2,TRUE)))","v":""},{"$f":"IF(A471=\"\",\"\",IF(VLOOKUP(A471,eligibilité!$A$15:$AG$515,3,TRUE)=\"\",\"\",VLOOKUP(A471,eligibilité!$A$15:$AG$515,3,TRUE)))","v":""},{"$f":"IF(A471=\"\",\"\",IF(VLOOKUP(A471,eligibilité!$A$15:$AG$515,4,TRUE)=\"\",\"\",VLOOKUP(A471,eligibilité!$A$15:$AG$515,4,TRUE)))","v":""},{"$f":"IF(A471=\"\",\"\",IF(VLOOKUP(A471,eligibilité!$A$15:$AG$515,5,TRUE)=\"\",\"\",VLOOKUP(A471,eligibilité!$A$15:$AG$515,5,TRUE)))","v":""},{"$f":"IF(A471=\"\",\"\",IF(VLOOKUP(A471,eligibilité!$A$15:$AG$515,6,TRUE)=\"\",\"\",VLOOKUP(A471,eligibilité!$A$15:$AG$515,6,TRUE)))","v":""},{"$f":"IF(A471=\"\",\"\",IF(VLOOKUP(A471,eligibilité!$A$15:$AG$515,7,TRUE)=\"\",\"\",VLOOKUP(A471,eligibilité!$A$15:$AG$515,7,TRUE)))","v":""},{"$f":"IF(A471=\"\",\"\",IF(VLOOKUP(A471,eligibilité!$A$15:$AG$515,8,TRUE)=\"\",\"\",VLOOKUP(A471,eligibilité!$A$15:$AG$515,8,TRUE)))","v":""},{"$f":"IF(A471=\"\",\"\",IF(VLOOKUP(A471,eligibilité!$A$15:$AG$515,9,TRUE)=\"\",\"\",VLOOKUP(A471,eligibilité!$A$15:$AG$515,9,TRUE)))","v":""},{"$f":"IF(A471=\"\",\"\",IF(VLOOKUP(A471,eligibilité!$A$15:$AG$515,10,TRUE)=\"\",\"\",VLOOKUP(A471,eligibilité!$A$15:$AG$515,10,TRUE)))","v":""},{"$f":"IF(A471=\"\",\"\",IF(VLOOKUP(A471,eligibilité!$A$15:$AG$515,30,FALSE)=0,\"\",VLOOKUP(A471,eligibilité!$A$15:$AG$515,30,FALSE)))","v":""},"","","","","","","",1305,"","","","","","","Temps restant : ",""]
[{"$f":"IF(eligibilité!AG474=\"\",\"\",eligibilité!A474)","v":""},{"$f":"IF(A472=\"\",\"\",IF(VLOOKUP(A472,eligibilité!$A$15:$J$515,2,TRUE)=\"\",\"\",VLOOKUP(A472,eligibilité!$A$15:$J$515,2,TRUE)))","v":""},{"$f":"IF(A472=\"\",\"\",IF(VLOOKUP(A472,eligibilité!$A$15:$AG$515,3,TRUE)=\"\",\"\",VLOOKUP(A472,eligibilité!$A$15:$AG$515,3,TRUE)))","v":""},{"$f":"IF(A472=\"\",\"\",IF(VLOOKUP(A472,eligibilité!$A$15:$AG$515,4,TRUE)=\"\",\"\",VLOOKUP(A472,eligibilité!$A$15:$AG$515,4,TRUE)))","v":""},{"$f":"IF(A472=\"\",\"\",IF(VLOOKUP(A472,eligibilité!$A$15:$AG$515,5,TRUE)=\"\",\"\",VLOOKUP(A472,eligibilité!$A$15:$AG$515,5,TRUE)))","v":""},{"$f":"IF(A472=\"\",\"\",IF(VLOOKUP(A472,eligibilité!$A$15:$AG$515,6,TRUE)=\"\",\"\",VLOOKUP(A472,eligibilité!$A$15:$AG$515,6,TRUE)))","v":""},{"$f":"IF(A472=\"\",\"\",IF(VLOOKUP(A472,eligibilité!$A$15:$AG$515,7,TRUE)=\"\",\"\",VLOOKUP(A472,eligibilité!$A$15:$AG$515,7,TRUE)))","v":""},{"$f":"IF(A472=\"\",\"\",IF(VLOOKUP(A472,eligibilité!$A$15:$AG$515,8,TRUE)=\"\",\"\",VLOOKUP(A472,eligibilité!$A$15:$AG$515,8,TRUE)))","v":""},{"$f":"IF(A472=\"\",\"\",IF(VLOOKUP(A472,eligibilité!$A$15:$AG$515,9,TRUE)=\"\",\"\",VLOOKUP(A472,eligibilité!$A$15:$AG$515,9,TRUE)))","v":""},{"$f":"IF(A472=\"\",\"\",IF(VLOOKUP(A472,eligibilité!$A$15:$AG$515,10,TRUE)=\"\",\"\",VLOOKUP(A472,eligibilité!$A$15:$AG$515,10,TRUE)))","v":""},{"$f":"IF(A472=\"\",\"\",IF(VLOOKUP(A472,eligibilité!$A$15:$AG$515,30,FALSE)=0,\"\",VLOOKUP(A472,eligibilité!$A$15:$AG$515,30,FALSE)))","v":""},"","","","","","","",1305,"","","","","","","Temps restant : ",""]
[{"$f":"IF(eligibilité!AG475=\"\",\"\",eligibilité!A475)","v":""},{"$f":"IF(A473=\"\",\"\",IF(VLOOKUP(A473,eligibilité!$A$15:$J$515,2,TRUE)=\"\",\"\",VLOOKUP(A473,eligibilité!$A$15:$J$515,2,TRUE)))","v":""},{"$f":"IF(A473=\"\",\"\",IF(VLOOKUP(A473,eligibilité!$A$15:$AG$515,3,TRUE)=\"\",\"\",VLOOKUP(A473,eligibilité!$A$15:$AG$515,3,TRUE)))","v":""},{"$f":"IF(A473=\"\",\"\",IF(VLOOKUP(A473,eligibilité!$A$15:$AG$515,4,TRUE)=\"\",\"\",VLOOKUP(A473,eligibilité!$A$15:$AG$515,4,TRUE)))","v":""},{"$f":"IF(A473=\"\",\"\",IF(VLOOKUP(A473,eligibilité!$A$15:$AG$515,5,TRUE)=\"\",\"\",VLOOKUP(A473,eligibilité!$A$15:$AG$515,5,TRUE)))","v":""},{"$f":"IF(A473=\"\",\"\",IF(VLOOKUP(A473,eligibilité!$A$15:$AG$515,6,TRUE)=\"\",\"\",VLOOKUP(A473,eligibilité!$A$15:$AG$515,6,TRUE)))","v":""},{"$f":"IF(A473=\"\",\"\",IF(VLOOKUP(A473,eligibilité!$A$15:$AG$515,7,TRUE)=\"\",\"\",VLOOKUP(A473,eligibilité!$A$15:$AG$515,7,TRUE)))","v":""},{"$f":"IF(A473=\"\",\"\",IF(VLOOKUP(A473,eligibilité!$A$15:$AG$515,8,TRUE)=\"\",\"\",VLOOKUP(A473,eligibilité!$A$15:$AG$515,8,TRUE)))","v":""},{"$f":"IF(A473=\"\",\"\",IF(VLOOKUP(A473,eligibilité!$A$15:$AG$515,9,TRUE)=\"\",\"\",VLOOKUP(A473,eligibilité!$A$15:$AG$515,9,TRUE)))","v":""},{"$f":"IF(A473=\"\",\"\",IF(VLOOKUP(A473,eligibilité!$A$15:$AG$515,10,TRUE)=\"\",\"\",VLOOKUP(A473,eligibilité!$A$15:$AG$515,10,TRUE)))","v":""},{"$f":"IF(A473=\"\",\"\",IF(VLOOKUP(A473,eligibilité!$A$15:$AG$515,30,FALSE)=0,\"\",VLOOKUP(A473,eligibilité!$A$15:$AG$515,30,FALSE)))","v":""},"","","","","","","",1305,"","","","","","","Temps restant : ",""]
[{"$f":"IF(eligibilité!AG476=\"\",\"\",eligibilité!A476)","v":""},{"$f":"IF(A474=\"\",\"\",IF(VLOOKUP(A474,eligibilité!$A$15:$J$515,2,TRUE)=\"\",\"\",VLOOKUP(A474,eligibilité!$A$15:$J$515,2,TRUE)))","v":""},{"$f":"IF(A474=\"\",\"\",IF(VLOOKUP(A474,eligibilité!$A$15:$AG$515,3,TRUE)=\"\",\"\",VLOOKUP(A474,eligibilité!$A$15:$AG$515,3,TRUE)))","v":""},{"$f":"IF(A474=\"\",\"\",IF(VLOOKUP(A474,eligibilité!$A$15:$AG$515,4,TRUE)=\"\",\"\",VLOOKUP(A474,eligibilité!$A$15:$AG$515,4,TRUE)))","v":""},{"$f":"IF(A474=\"\",\"\",IF(VLOOKUP(A474,eligibilité!$A$15:$AG$515,5,TRUE)=\"\",\"\",VLOOKUP(A474,eligibilité!$A$15:$AG$515,5,TRUE)))","v":""},{"$f":"IF(A474=\"\",\"\",IF(VLOOKUP(A474,eligibilité!$A$15:$AG$515,6,TRUE)=\"\",\"\",VLOOKUP(A474,eligibilité!$A$15:$AG$515,6,TRUE)))","v":""},{"$f":"IF(A474=\"\",\"\",IF(VLOOKUP(A474,eligibilité!$A$15:$AG$515,7,TRUE)=\"\",\"\",VLOOKUP(A474,eligibilité!$A$15:$AG$515,7,TRUE)))","v":""},{"$f":"IF(A474=\"\",\"\",IF(VLOOKUP(A474,eligibilité!$A$15:$AG$515,8,TRUE)=\"\",\"\",VLOOKUP(A474,eligibilité!$A$15:$AG$515,8,TRUE)))","v":""},{"$f":"IF(A474=\"\",\"\",IF(VLOOKUP(A474,eligibilité!$A$15:$AG$515,9,TRUE)=\"\",\"\",VLOOKUP(A474,eligibilité!$A$15:$AG$515,9,TRUE)))","v":""},{"$f":"IF(A474=\"\",\"\",IF(VLOOKUP(A474,eligibilité!$A$15:$AG$515,10,TRUE)=\"\",\"\",VLOOKUP(A474,eligibilité!$A$15:$AG$515,10,TRUE)))","v":""},{"$f":"IF(A474=\"\",\"\",IF(VLOOKUP(A474,eligibilité!$A$15:$AG$515,30,FALSE)=0,\"\",VLOOKUP(A474,eligibilité!$A$15:$AG$515,30,FALSE)))","v":""},"","","","","","","",1305,"","","","","","","Temps restant : ",""]
[{"$f":"IF(eligibilité!AG477=\"\",\"\",eligibilité!A477)","v":""},{"$f":"IF(A475=\"\",\"\",IF(VLOOKUP(A475,eligibilité!$A$15:$J$515,2,TRUE)=\"\",\"\",VLOOKUP(A475,eligibilité!$A$15:$J$515,2,TRUE)))","v":""},{"$f":"IF(A475=\"\",\"\",IF(VLOOKUP(A475,eligibilité!$A$15:$AG$515,3,TRUE)=\"\",\"\",VLOOKUP(A475,eligibilité!$A$15:$AG$515,3,TRUE)))","v":""},{"$f":"IF(A475=\"\",\"\",IF(VLOOKUP(A475,eligibilité!$A$15:$AG$515,4,TRUE)=\"\",\"\",VLOOKUP(A475,eligibilité!$A$15:$AG$515,4,TRUE)))","v":""},{"$f":"IF(A475=\"\",\"\",IF(VLOOKUP(A475,eligibilité!$A$15:$AG$515,5,TRUE)=\"\",\"\",VLOOKUP(A475,eligibilité!$A$15:$AG$515,5,TRUE)))","v":""},{"$f":"IF(A475=\"\",\"\",IF(VLOOKUP(A475,eligibilité!$A$15:$AG$515,6,TRUE)=\"\",\"\",VLOOKUP(A475,eligibilité!$A$15:$AG$515,6,TRUE)))","v":""},{"$f":"IF(A475=\"\",\"\",IF(VLOOKUP(A475,eligibilité!$A$15:$AG$515,7,TRUE)=\"\",\"\",VLOOKUP(A475,eligibilité!$A$15:$AG$515,7,TRUE)))","v":""},{"$f":"IF(A475=\"\",\"\",IF(VLOOKUP(A475,eligibilité!$A$15:$AG$515,8,TRUE)=\"\",\"\",VLOOKUP(A475,eligibilité!$A$15:$AG$515,8,TRUE)))","v":""},{"$f":"IF(A475=\"\",\"\",IF(VLOOKUP(A475,eligibilité!$A$15:$AG$515,9,TRUE)=\"\",\"\",VLOOKUP(A475,eligibilité!$A$15:$AG$515,9,TRUE)))","v":""},{"$f":"IF(A475=\"\",\"\",IF(VLOOKUP(A475,eligibilité!$A$15:$AG$515,10,TRUE)=\"\",\"\",VLOOKUP(A475,eligibilité!$A$15:$AG$515,10,TRUE)))","v":""},{"$f":"IF(A475=\"\",\"\",IF(VLOOKUP(A475,eligibilité!$A$15:$AG$515,30,FALSE)=0,\"\",VLOOKUP(A475,eligibilité!$A$15:$AG$515,30,FALSE)))","v":""},"","","","","","","",1305,"","","","","","","Temps restant : ",""]
[{"$f":"IF(eligibilité!AG478=\"\",\"\",eligibilité!A478)","v":""},{"$f":"IF(A476=\"\",\"\",IF(VLOOKUP(A476,eligibilité!$A$15:$J$515,2,TRUE)=\"\",\"\",VLOOKUP(A476,eligibilité!$A$15:$J$515,2,TRUE)))","v":""},{"$f":"IF(A476=\"\",\"\",IF(VLOOKUP(A476,eligibilité!$A$15:$AG$515,3,TRUE)=\"\",\"\",VLOOKUP(A476,eligibilité!$A$15:$AG$515,3,TRUE)))","v":""},{"$f":"IF(A476=\"\",\"\",IF(VLOOKUP(A476,eligibilité!$A$15:$AG$515,4,TRUE)=\"\",\"\",VLOOKUP(A476,eligibilité!$A$15:$AG$515,4,TRUE)))","v":""},{"$f":"IF(A476=\"\",\"\",IF(VLOOKUP(A476,eligibilité!$A$15:$AG$515,5,TRUE)=\"\",\"\",VLOOKUP(A476,eligibilité!$A$15:$AG$515,5,TRUE)))","v":""},{"$f":"IF(A476=\"\",\"\",IF(VLOOKUP(A476,eligibilité!$A$15:$AG$515,6,TRUE)=\"\",\"\",VLOOKUP(A476,eligibilité!$A$15:$AG$515,6,TRUE)))","v":""},{"$f":"IF(A476=\"\",\"\",IF(VLOOKUP(A476,eligibilité!$A$15:$AG$515,7,TRUE)=\"\",\"\",VLOOKUP(A476,eligibilité!$A$15:$AG$515,7,TRUE)))","v":""},{"$f":"IF(A476=\"\",\"\",IF(VLOOKUP(A476,eligibilité!$A$15:$AG$515,8,TRUE)=\"\",\"\",VLOOKUP(A476,eligibilité!$A$15:$AG$515,8,TRUE)))","v":""},{"$f":"IF(A476=\"\",\"\",IF(VLOOKUP(A476,eligibilité!$A$15:$AG$515,9,TRUE)=\"\",\"\",VLOOKUP(A476,eligibilité!$A$15:$AG$515,9,TRUE)))","v":""},{"$f":"IF(A476=\"\",\"\",IF(VLOOKUP(A476,eligibilité!$A$15:$AG$515,10,TRUE)=\"\",\"\",VLOOKUP(A476,eligibilité!$A$15:$AG$515,10,TRUE)))","v":""},{"$f":"IF(A476=\"\",\"\",IF(VLOOKUP(A476,eligibilité!$A$15:$AG$515,30,FALSE)=0,\"\",VLOOKUP(A476,eligibilité!$A$15:$AG$515,30,FALSE)))","v":""},"","","","","","","",1305,"","","","","","","Temps restant : ",""]
[{"$f":"IF(eligibilité!AG479=\"\",\"\",eligibilité!A479)","v":""},{"$f":"IF(A477=\"\",\"\",IF(VLOOKUP(A477,eligibilité!$A$15:$J$515,2,TRUE)=\"\",\"\",VLOOKUP(A477,eligibilité!$A$15:$J$515,2,TRUE)))","v":""},{"$f":"IF(A477=\"\",\"\",IF(VLOOKUP(A477,eligibilité!$A$15:$AG$515,3,TRUE)=\"\",\"\",VLOOKUP(A477,eligibilité!$A$15:$AG$515,3,TRUE)))","v":""},{"$f":"IF(A477=\"\",\"\",IF(VLOOKUP(A477,eligibilité!$A$15:$AG$515,4,TRUE)=\"\",\"\",VLOOKUP(A477,eligibilité!$A$15:$AG$515,4,TRUE)))","v":""},{"$f":"IF(A477=\"\",\"\",IF(VLOOKUP(A477,eligibilité!$A$15:$AG$515,5,TRUE)=\"\",\"\",VLOOKUP(A477,eligibilité!$A$15:$AG$515,5,TRUE)))","v":""},{"$f":"IF(A477=\"\",\"\",IF(VLOOKUP(A477,eligibilité!$A$15:$AG$515,6,TRUE)=\"\",\"\",VLOOKUP(A477,eligibilité!$A$15:$AG$515,6,TRUE)))","v":""},{"$f":"IF(A477=\"\",\"\",IF(VLOOKUP(A477,eligibilité!$A$15:$AG$515,7,TRUE)=\"\",\"\",VLOOKUP(A477,eligibilité!$A$15:$AG$515,7,TRUE)))","v":""},{"$f":"IF(A477=\"\",\"\",IF(VLOOKUP(A477,eligibilité!$A$15:$AG$515,8,TRUE)=\"\",\"\",VLOOKUP(A477,eligibilité!$A$15:$AG$515,8,TRUE)))","v":""},{"$f":"IF(A477=\"\",\"\",IF(VLOOKUP(A477,eligibilité!$A$15:$AG$515,9,TRUE)=\"\",\"\",VLOOKUP(A477,eligibilité!$A$15:$AG$515,9,TRUE)))","v":""},{"$f":"IF(A477=\"\",\"\",IF(VLOOKUP(A477,eligibilité!$A$15:$AG$515,10,TRUE)=\"\",\"\",VLOOKUP(A477,eligibilité!$A$15:$AG$515,10,TRUE)))","v":""},{"$f":"IF(A477=\"\",\"\",IF(VLOOKUP(A477,eligibilité!$A$15:$AG$515,30,FALSE)=0,\"\",VLOOKUP(A477,eligibilité!$A$15:$AG$515,30,FALSE)))","v":""},"","","","","","","",1305,"","","","","","","Temps restant : ",""]
[{"$f":"IF(eligibilité!AG480=\"\",\"\",eligibilité!A480)","v":""},{"$f":"IF(A478=\"\",\"\",IF(VLOOKUP(A478,eligibilité!$A$15:$J$515,2,TRUE)=\"\",\"\",VLOOKUP(A478,eligibilité!$A$15:$J$515,2,TRUE)))","v":""},{"$f":"IF(A478=\"\",\"\",IF(VLOOKUP(A478,eligibilité!$A$15:$AG$515,3,TRUE)=\"\",\"\",VLOOKUP(A478,eligibilité!$A$15:$AG$515,3,TRUE)))","v":""},{"$f":"IF(A478=\"\",\"\",IF(VLOOKUP(A478,eligibilité!$A$15:$AG$515,4,TRUE)=\"\",\"\",VLOOKUP(A478,eligibilité!$A$15:$AG$515,4,TRUE)))","v":""},{"$f":"IF(A478=\"\",\"\",IF(VLOOKUP(A478,eligibilité!$A$15:$AG$515,5,TRUE)=\"\",\"\",VLOOKUP(A478,eligibilité!$A$15:$AG$515,5,TRUE)))","v":""},{"$f":"IF(A478=\"\",\"\",IF(VLOOKUP(A478,eligibilité!$A$15:$AG$515,6,TRUE)=\"\",\"\",VLOOKUP(A478,eligibilité!$A$15:$AG$515,6,TRUE)))","v":""},{"$f":"IF(A478=\"\",\"\",IF(VLOOKUP(A478,eligibilité!$A$15:$AG$515,7,TRUE)=\"\",\"\",VLOOKUP(A478,eligibilité!$A$15:$AG$515,7,TRUE)))","v":""},{"$f":"IF(A478=\"\",\"\",IF(VLOOKUP(A478,eligibilité!$A$15:$AG$515,8,TRUE)=\"\",\"\",VLOOKUP(A478,eligibilité!$A$15:$AG$515,8,TRUE)))","v":""},{"$f":"IF(A478=\"\",\"\",IF(VLOOKUP(A478,eligibilité!$A$15:$AG$515,9,TRUE)=\"\",\"\",VLOOKUP(A478,eligibilité!$A$15:$AG$515,9,TRUE)))","v":""},{"$f":"IF(A478=\"\",\"\",IF(VLOOKUP(A478,eligibilité!$A$15:$AG$515,10,TRUE)=\"\",\"\",VLOOKUP(A478,eligibilité!$A$15:$AG$515,10,TRUE)))","v":""},{"$f":"IF(A478=\"\",\"\",IF(VLOOKUP(A478,eligibilité!$A$15:$AG$515,30,FALSE)=0,\"\",VLOOKUP(A478,eligibilité!$A$15:$AG$515,30,FALSE)))","v":""},"","","","","","","",1305,"","","","","","","Temps restant : ",""]
[{"$f":"IF(eligibilité!AG481=\"\",\"\",eligibilité!A481)","v":""},{"$f":"IF(A479=\"\",\"\",IF(VLOOKUP(A479,eligibilité!$A$15:$J$515,2,TRUE)=\"\",\"\",VLOOKUP(A479,eligibilité!$A$15:$J$515,2,TRUE)))","v":""},{"$f":"IF(A479=\"\",\"\",IF(VLOOKUP(A479,eligibilité!$A$15:$AG$515,3,TRUE)=\"\",\"\",VLOOKUP(A479,eligibilité!$A$15:$AG$515,3,TRUE)))","v":""},{"$f":"IF(A479=\"\",\"\",IF(VLOOKUP(A479,eligibilité!$A$15:$AG$515,4,TRUE)=\"\",\"\",VLOOKUP(A479,eligibilité!$A$15:$AG$515,4,TRUE)))","v":""},{"$f":"IF(A479=\"\",\"\",IF(VLOOKUP(A479,eligibilité!$A$15:$AG$515,5,TRUE)=\"\",\"\",VLOOKUP(A479,eligibilité!$A$15:$AG$515,5,TRUE)))","v":""},{"$f":"IF(A479=\"\",\"\",IF(VLOOKUP(A479,eligibilité!$A$15:$AG$515,6,TRUE)=\"\",\"\",VLOOKUP(A479,eligibilité!$A$15:$AG$515,6,TRUE)))","v":""},{"$f":"IF(A479=\"\",\"\",IF(VLOOKUP(A479,eligibilité!$A$15:$AG$515,7,TRUE)=\"\",\"\",VLOOKUP(A479,eligibilité!$A$15:$AG$515,7,TRUE)))","v":""},{"$f":"IF(A479=\"\",\"\",IF(VLOOKUP(A479,eligibilité!$A$15:$AG$515,8,TRUE)=\"\",\"\",VLOOKUP(A479,eligibilité!$A$15:$AG$515,8,TRUE)))","v":""},{"$f":"IF(A479=\"\",\"\",IF(VLOOKUP(A479,eligibilité!$A$15:$AG$515,9,TRUE)=\"\",\"\",VLOOKUP(A479,eligibilité!$A$15:$AG$515,9,TRUE)))","v":""},{"$f":"IF(A479=\"\",\"\",IF(VLOOKUP(A479,eligibilité!$A$15:$AG$515,10,TRUE)=\"\",\"\",VLOOKUP(A479,eligibilité!$A$15:$AG$515,10,TRUE)))","v":""},{"$f":"IF(A479=\"\",\"\",IF(VLOOKUP(A479,eligibilité!$A$15:$AG$515,30,FALSE)=0,\"\",VLOOKUP(A479,eligibilité!$A$15:$AG$515,30,FALSE)))","v":""},"","","","","","","",1305,"","","","","","","Temps restant : ",""]
[{"$f":"IF(eligibilité!AG482=\"\",\"\",eligibilité!A482)","v":""},{"$f":"IF(A480=\"\",\"\",IF(VLOOKUP(A480,eligibilité!$A$15:$J$515,2,TRUE)=\"\",\"\",VLOOKUP(A480,eligibilité!$A$15:$J$515,2,TRUE)))","v":""},{"$f":"IF(A480=\"\",\"\",IF(VLOOKUP(A480,eligibilité!$A$15:$AG$515,3,TRUE)=\"\",\"\",VLOOKUP(A480,eligibilité!$A$15:$AG$515,3,TRUE)))","v":""},{"$f":"IF(A480=\"\",\"\",IF(VLOOKUP(A480,eligibilité!$A$15:$AG$515,4,TRUE)=\"\",\"\",VLOOKUP(A480,eligibilité!$A$15:$AG$515,4,TRUE)))","v":""},{"$f":"IF(A480=\"\",\"\",IF(VLOOKUP(A480,eligibilité!$A$15:$AG$515,5,TRUE)=\"\",\"\",VLOOKUP(A480,eligibilité!$A$15:$AG$515,5,TRUE)))","v":""},{"$f":"IF(A480=\"\",\"\",IF(VLOOKUP(A480,eligibilité!$A$15:$AG$515,6,TRUE)=\"\",\"\",VLOOKUP(A480,eligibilité!$A$15:$AG$515,6,TRUE)))","v":""},{"$f":"IF(A480=\"\",\"\",IF(VLOOKUP(A480,eligibilité!$A$15:$AG$515,7,TRUE)=\"\",\"\",VLOOKUP(A480,eligibilité!$A$15:$AG$515,7,TRUE)))","v":""},{"$f":"IF(A480=\"\",\"\",IF(VLOOKUP(A480,eligibilité!$A$15:$AG$515,8,TRUE)=\"\",\"\",VLOOKUP(A480,eligibilité!$A$15:$AG$515,8,TRUE)))","v":""},{"$f":"IF(A480=\"\",\"\",IF(VLOOKUP(A480,eligibilité!$A$15:$AG$515,9,TRUE)=\"\",\"\",VLOOKUP(A480,eligibilité!$A$15:$AG$515,9,TRUE)))","v":""},{"$f":"IF(A480=\"\",\"\",IF(VLOOKUP(A480,eligibilité!$A$15:$AG$515,10,TRUE)=\"\",\"\",VLOOKUP(A480,eligibilité!$A$15:$AG$515,10,TRUE)))","v":""},{"$f":"IF(A480=\"\",\"\",IF(VLOOKUP(A480,eligibilité!$A$15:$AG$515,30,FALSE)=0,\"\",VLOOKUP(A480,eligibilité!$A$15:$AG$515,30,FALSE)))","v":""},"","","","","","","",1305,"","","","","","","Temps restant : ",""]
[{"$f":"IF(eligibilité!AG483=\"\",\"\",eligibilité!A483)","v":""},{"$f":"IF(A481=\"\",\"\",IF(VLOOKUP(A481,eligibilité!$A$15:$J$515,2,TRUE)=\"\",\"\",VLOOKUP(A481,eligibilité!$A$15:$J$515,2,TRUE)))","v":""},{"$f":"IF(A481=\"\",\"\",IF(VLOOKUP(A481,eligibilité!$A$15:$AG$515,3,TRUE)=\"\",\"\",VLOOKUP(A481,eligibilité!$A$15:$AG$515,3,TRUE)))","v":""},{"$f":"IF(A481=\"\",\"\",IF(VLOOKUP(A481,eligibilité!$A$15:$AG$515,4,TRUE)=\"\",\"\",VLOOKUP(A481,eligibilité!$A$15:$AG$515,4,TRUE)))","v":""},{"$f":"IF(A481=\"\",\"\",IF(VLOOKUP(A481,eligibilité!$A$15:$AG$515,5,TRUE)=\"\",\"\",VLOOKUP(A481,eligibilité!$A$15:$AG$515,5,TRUE)))","v":""},{"$f":"IF(A481=\"\",\"\",IF(VLOOKUP(A481,eligibilité!$A$15:$AG$515,6,TRUE)=\"\",\"\",VLOOKUP(A481,eligibilité!$A$15:$AG$515,6,TRUE)))","v":""},{"$f":"IF(A481=\"\",\"\",IF(VLOOKUP(A481,eligibilité!$A$15:$AG$515,7,TRUE)=\"\",\"\",VLOOKUP(A481,eligibilité!$A$15:$AG$515,7,TRUE)))","v":""},{"$f":"IF(A481=\"\",\"\",IF(VLOOKUP(A481,eligibilité!$A$15:$AG$515,8,TRUE)=\"\",\"\",VLOOKUP(A481,eligibilité!$A$15:$AG$515,8,TRUE)))","v":""},{"$f":"IF(A481=\"\",\"\",IF(VLOOKUP(A481,eligibilité!$A$15:$AG$515,9,TRUE)=\"\",\"\",VLOOKUP(A481,eligibilité!$A$15:$AG$515,9,TRUE)))","v":""},{"$f":"IF(A481=\"\",\"\",IF(VLOOKUP(A481,eligibilité!$A$15:$AG$515,10,TRUE)=\"\",\"\",VLOOKUP(A481,eligibilité!$A$15:$AG$515,10,TRUE)))","v":""},{"$f":"IF(A481=\"\",\"\",IF(VLOOKUP(A481,eligibilité!$A$15:$AG$515,30,FALSE)=0,\"\",VLOOKUP(A481,eligibilité!$A$15:$AG$515,30,FALSE)))","v":""},"","","","","","","",1305,"","","","","","","Temps restant : ",""]
[{"$f":"IF(eligibilité!AG484=\"\",\"\",eligibilité!A484)","v":""},{"$f":"IF(A482=\"\",\"\",IF(VLOOKUP(A482,eligibilité!$A$15:$J$515,2,TRUE)=\"\",\"\",VLOOKUP(A482,eligibilité!$A$15:$J$515,2,TRUE)))","v":""},{"$f":"IF(A482=\"\",\"\",IF(VLOOKUP(A482,eligibilité!$A$15:$AG$515,3,TRUE)=\"\",\"\",VLOOKUP(A482,eligibilité!$A$15:$AG$515,3,TRUE)))","v":""},{"$f":"IF(A482=\"\",\"\",IF(VLOOKUP(A482,eligibilité!$A$15:$AG$515,4,TRUE)=\"\",\"\",VLOOKUP(A482,eligibilité!$A$15:$AG$515,4,TRUE)))","v":""},{"$f":"IF(A482=\"\",\"\",IF(VLOOKUP(A482,eligibilité!$A$15:$AG$515,5,TRUE)=\"\",\"\",VLOOKUP(A482,eligibilité!$A$15:$AG$515,5,TRUE)))","v":""},{"$f":"IF(A482=\"\",\"\",IF(VLOOKUP(A482,eligibilité!$A$15:$AG$515,6,TRUE)=\"\",\"\",VLOOKUP(A482,eligibilité!$A$15:$AG$515,6,TRUE)))","v":""},{"$f":"IF(A482=\"\",\"\",IF(VLOOKUP(A482,eligibilité!$A$15:$AG$515,7,TRUE)=\"\",\"\",VLOOKUP(A482,eligibilité!$A$15:$AG$515,7,TRUE)))","v":""},{"$f":"IF(A482=\"\",\"\",IF(VLOOKUP(A482,eligibilité!$A$15:$AG$515,8,TRUE)=\"\",\"\",VLOOKUP(A482,eligibilité!$A$15:$AG$515,8,TRUE)))","v":""},{"$f":"IF(A482=\"\",\"\",IF(VLOOKUP(A482,eligibilité!$A$15:$AG$515,9,TRUE)=\"\",\"\",VLOOKUP(A482,eligibilité!$A$15:$AG$515,9,TRUE)))","v":""},{"$f":"IF(A482=\"\",\"\",IF(VLOOKUP(A482,eligibilité!$A$15:$AG$515,10,TRUE)=\"\",\"\",VLOOKUP(A482,eligibilité!$A$15:$AG$515,10,TRUE)))","v":""},{"$f":"IF(A482=\"\",\"\",IF(VLOOKUP(A482,eligibilité!$A$15:$AG$515,30,FALSE)=0,\"\",VLOOKUP(A482,eligibilité!$A$15:$AG$515,30,FALSE)))","v":""},"","","","","","","",1305,"","","","","","","Temps restant : ",""]
[{"$f":"IF(eligibilité!AG485=\"\",\"\",eligibilité!A485)","v":""},{"$f":"IF(A483=\"\",\"\",IF(VLOOKUP(A483,eligibilité!$A$15:$J$515,2,TRUE)=\"\",\"\",VLOOKUP(A483,eligibilité!$A$15:$J$515,2,TRUE)))","v":""},{"$f":"IF(A483=\"\",\"\",IF(VLOOKUP(A483,eligibilité!$A$15:$AG$515,3,TRUE)=\"\",\"\",VLOOKUP(A483,eligibilité!$A$15:$AG$515,3,TRUE)))","v":""},{"$f":"IF(A483=\"\",\"\",IF(VLOOKUP(A483,eligibilité!$A$15:$AG$515,4,TRUE)=\"\",\"\",VLOOKUP(A483,eligibilité!$A$15:$AG$515,4,TRUE)))","v":""},{"$f":"IF(A483=\"\",\"\",IF(VLOOKUP(A483,eligibilité!$A$15:$AG$515,5,TRUE)=\"\",\"\",VLOOKUP(A483,eligibilité!$A$15:$AG$515,5,TRUE)))","v":""},{"$f":"IF(A483=\"\",\"\",IF(VLOOKUP(A483,eligibilité!$A$15:$AG$515,6,TRUE)=\"\",\"\",VLOOKUP(A483,eligibilité!$A$15:$AG$515,6,TRUE)))","v":""},{"$f":"IF(A483=\"\",\"\",IF(VLOOKUP(A483,eligibilité!$A$15:$AG$515,7,TRUE)=\"\",\"\",VLOOKUP(A483,eligibilité!$A$15:$AG$515,7,TRUE)))","v":""},{"$f":"IF(A483=\"\",\"\",IF(VLOOKUP(A483,eligibilité!$A$15:$AG$515,8,TRUE)=\"\",\"\",VLOOKUP(A483,eligibilité!$A$15:$AG$515,8,TRUE)))","v":""},{"$f":"IF(A483=\"\",\"\",IF(VLOOKUP(A483,eligibilité!$A$15:$AG$515,9,TRUE)=\"\",\"\",VLOOKUP(A483,eligibilité!$A$15:$AG$515,9,TRUE)))","v":""},{"$f":"IF(A483=\"\",\"\",IF(VLOOKUP(A483,eligibilité!$A$15:$AG$515,10,TRUE)=\"\",\"\",VLOOKUP(A483,eligibilité!$A$15:$AG$515,10,TRUE)))","v":""},{"$f":"IF(A483=\"\",\"\",IF(VLOOKUP(A483,eligibilité!$A$15:$AG$515,30,FALSE)=0,\"\",VLOOKUP(A483,eligibilité!$A$15:$AG$515,30,FALSE)))","v":""},"","","","","","","",1305,"","","","","","","Temps restant : ",""]
[{"$f":"IF(eligibilité!AG486=\"\",\"\",eligibilité!A486)","v":""},{"$f":"IF(A484=\"\",\"\",IF(VLOOKUP(A484,eligibilité!$A$15:$J$515,2,TRUE)=\"\",\"\",VLOOKUP(A484,eligibilité!$A$15:$J$515,2,TRUE)))","v":""},{"$f":"IF(A484=\"\",\"\",IF(VLOOKUP(A484,eligibilité!$A$15:$AG$515,3,TRUE)=\"\",\"\",VLOOKUP(A484,eligibilité!$A$15:$AG$515,3,TRUE)))","v":""},{"$f":"IF(A484=\"\",\"\",IF(VLOOKUP(A484,eligibilité!$A$15:$AG$515,4,TRUE)=\"\",\"\",VLOOKUP(A484,eligibilité!$A$15:$AG$515,4,TRUE)))","v":""},{"$f":"IF(A484=\"\",\"\",IF(VLOOKUP(A484,eligibilité!$A$15:$AG$515,5,TRUE)=\"\",\"\",VLOOKUP(A484,eligibilité!$A$15:$AG$515,5,TRUE)))","v":""},{"$f":"IF(A484=\"\",\"\",IF(VLOOKUP(A484,eligibilité!$A$15:$AG$515,6,TRUE)=\"\",\"\",VLOOKUP(A484,eligibilité!$A$15:$AG$515,6,TRUE)))","v":""},{"$f":"IF(A484=\"\",\"\",IF(VLOOKUP(A484,eligibilité!$A$15:$AG$515,7,TRUE)=\"\",\"\",VLOOKUP(A484,eligibilité!$A$15:$AG$515,7,TRUE)))","v":""},{"$f":"IF(A484=\"\",\"\",IF(VLOOKUP(A484,eligibilité!$A$15:$AG$515,8,TRUE)=\"\",\"\",VLOOKUP(A484,eligibilité!$A$15:$AG$515,8,TRUE)))","v":""},{"$f":"IF(A484=\"\",\"\",IF(VLOOKUP(A484,eligibilité!$A$15:$AG$515,9,TRUE)=\"\",\"\",VLOOKUP(A484,eligibilité!$A$15:$AG$515,9,TRUE)))","v":""},{"$f":"IF(A484=\"\",\"\",IF(VLOOKUP(A484,eligibilité!$A$15:$AG$515,10,TRUE)=\"\",\"\",VLOOKUP(A484,eligibilité!$A$15:$AG$515,10,TRUE)))","v":""},{"$f":"IF(A484=\"\",\"\",IF(VLOOKUP(A484,eligibilité!$A$15:$AG$515,30,FALSE)=0,\"\",VLOOKUP(A484,eligibilité!$A$15:$AG$515,30,FALSE)))","v":""},"","","","","","","",1305,"","","","","","","Temps restant : ",""]
[{"$f":"IF(eligibilité!AG487=\"\",\"\",eligibilité!A487)","v":""},{"$f":"IF(A485=\"\",\"\",IF(VLOOKUP(A485,eligibilité!$A$15:$J$515,2,TRUE)=\"\",\"\",VLOOKUP(A485,eligibilité!$A$15:$J$515,2,TRUE)))","v":""},{"$f":"IF(A485=\"\",\"\",IF(VLOOKUP(A485,eligibilité!$A$15:$AG$515,3,TRUE)=\"\",\"\",VLOOKUP(A485,eligibilité!$A$15:$AG$515,3,TRUE)))","v":""},{"$f":"IF(A485=\"\",\"\",IF(VLOOKUP(A485,eligibilité!$A$15:$AG$515,4,TRUE)=\"\",\"\",VLOOKUP(A485,eligibilité!$A$15:$AG$515,4,TRUE)))","v":""},{"$f":"IF(A485=\"\",\"\",IF(VLOOKUP(A485,eligibilité!$A$15:$AG$515,5,TRUE)=\"\",\"\",VLOOKUP(A485,eligibilité!$A$15:$AG$515,5,TRUE)))","v":""},{"$f":"IF(A485=\"\",\"\",IF(VLOOKUP(A485,eligibilité!$A$15:$AG$515,6,TRUE)=\"\",\"\",VLOOKUP(A485,eligibilité!$A$15:$AG$515,6,TRUE)))","v":""},{"$f":"IF(A485=\"\",\"\",IF(VLOOKUP(A485,eligibilité!$A$15:$AG$515,7,TRUE)=\"\",\"\",VLOOKUP(A485,eligibilité!$A$15:$AG$515,7,TRUE)))","v":""},{"$f":"IF(A485=\"\",\"\",IF(VLOOKUP(A485,eligibilité!$A$15:$AG$515,8,TRUE)=\"\",\"\",VLOOKUP(A485,eligibilité!$A$15:$AG$515,8,TRUE)))","v":""},{"$f":"IF(A485=\"\",\"\",IF(VLOOKUP(A485,eligibilité!$A$15:$AG$515,9,TRUE)=\"\",\"\",VLOOKUP(A485,eligibilité!$A$15:$AG$515,9,TRUE)))","v":""},{"$f":"IF(A485=\"\",\"\",IF(VLOOKUP(A485,eligibilité!$A$15:$AG$515,10,TRUE)=\"\",\"\",VLOOKUP(A485,eligibilité!$A$15:$AG$515,10,TRUE)))","v":""},{"$f":"IF(A485=\"\",\"\",IF(VLOOKUP(A485,eligibilité!$A$15:$AG$515,30,FALSE)=0,\"\",VLOOKUP(A485,eligibilité!$A$15:$AG$515,30,FALSE)))","v":""},"","","","","","","",1305,"","","","","","","Temps restant : ",""]
[{"$f":"IF(eligibilité!AG488=\"\",\"\",eligibilité!A488)","v":""},{"$f":"IF(A486=\"\",\"\",IF(VLOOKUP(A486,eligibilité!$A$15:$J$515,2,TRUE)=\"\",\"\",VLOOKUP(A486,eligibilité!$A$15:$J$515,2,TRUE)))","v":""},{"$f":"IF(A486=\"\",\"\",IF(VLOOKUP(A486,eligibilité!$A$15:$AG$515,3,TRUE)=\"\",\"\",VLOOKUP(A486,eligibilité!$A$15:$AG$515,3,TRUE)))","v":""},{"$f":"IF(A486=\"\",\"\",IF(VLOOKUP(A486,eligibilité!$A$15:$AG$515,4,TRUE)=\"\",\"\",VLOOKUP(A486,eligibilité!$A$15:$AG$515,4,TRUE)))","v":""},{"$f":"IF(A486=\"\",\"\",IF(VLOOKUP(A486,eligibilité!$A$15:$AG$515,5,TRUE)=\"\",\"\",VLOOKUP(A486,eligibilité!$A$15:$AG$515,5,TRUE)))","v":""},{"$f":"IF(A486=\"\",\"\",IF(VLOOKUP(A486,eligibilité!$A$15:$AG$515,6,TRUE)=\"\",\"\",VLOOKUP(A486,eligibilité!$A$15:$AG$515,6,TRUE)))","v":""},{"$f":"IF(A486=\"\",\"\",IF(VLOOKUP(A486,eligibilité!$A$15:$AG$515,7,TRUE)=\"\",\"\",VLOOKUP(A486,eligibilité!$A$15:$AG$515,7,TRUE)))","v":""},{"$f":"IF(A486=\"\",\"\",IF(VLOOKUP(A486,eligibilité!$A$15:$AG$515,8,TRUE)=\"\",\"\",VLOOKUP(A486,eligibilité!$A$15:$AG$515,8,TRUE)))","v":""},{"$f":"IF(A486=\"\",\"\",IF(VLOOKUP(A486,eligibilité!$A$15:$AG$515,9,TRUE)=\"\",\"\",VLOOKUP(A486,eligibilité!$A$15:$AG$515,9,TRUE)))","v":""},{"$f":"IF(A486=\"\",\"\",IF(VLOOKUP(A486,eligibilité!$A$15:$AG$515,10,TRUE)=\"\",\"\",VLOOKUP(A486,eligibilité!$A$15:$AG$515,10,TRUE)))","v":""},{"$f":"IF(A486=\"\",\"\",IF(VLOOKUP(A486,eligibilité!$A$15:$AG$515,30,FALSE)=0,\"\",VLOOKUP(A486,eligibilité!$A$15:$AG$515,30,FALSE)))","v":""},"","","","","","","",1305,"","","","","","","Temps restant : ",""]
[{"$f":"IF(eligibilité!AG489=\"\",\"\",eligibilité!A489)","v":""},{"$f":"IF(A487=\"\",\"\",IF(VLOOKUP(A487,eligibilité!$A$15:$J$515,2,TRUE)=\"\",\"\",VLOOKUP(A487,eligibilité!$A$15:$J$515,2,TRUE)))","v":""},{"$f":"IF(A487=\"\",\"\",IF(VLOOKUP(A487,eligibilité!$A$15:$AG$515,3,TRUE)=\"\",\"\",VLOOKUP(A487,eligibilité!$A$15:$AG$515,3,TRUE)))","v":""},{"$f":"IF(A487=\"\",\"\",IF(VLOOKUP(A487,eligibilité!$A$15:$AG$515,4,TRUE)=\"\",\"\",VLOOKUP(A487,eligibilité!$A$15:$AG$515,4,TRUE)))","v":""},{"$f":"IF(A487=\"\",\"\",IF(VLOOKUP(A487,eligibilité!$A$15:$AG$515,5,TRUE)=\"\",\"\",VLOOKUP(A487,eligibilité!$A$15:$AG$515,5,TRUE)))","v":""},{"$f":"IF(A487=\"\",\"\",IF(VLOOKUP(A487,eligibilité!$A$15:$AG$515,6,TRUE)=\"\",\"\",VLOOKUP(A487,eligibilité!$A$15:$AG$515,6,TRUE)))","v":""},{"$f":"IF(A487=\"\",\"\",IF(VLOOKUP(A487,eligibilité!$A$15:$AG$515,7,TRUE)=\"\",\"\",VLOOKUP(A487,eligibilité!$A$15:$AG$515,7,TRUE)))","v":""},{"$f":"IF(A487=\"\",\"\",IF(VLOOKUP(A487,eligibilité!$A$15:$AG$515,8,TRUE)=\"\",\"\",VLOOKUP(A487,eligibilité!$A$15:$AG$515,8,TRUE)))","v":""},{"$f":"IF(A487=\"\",\"\",IF(VLOOKUP(A487,eligibilité!$A$15:$AG$515,9,TRUE)=\"\",\"\",VLOOKUP(A487,eligibilité!$A$15:$AG$515,9,TRUE)))","v":""},{"$f":"IF(A487=\"\",\"\",IF(VLOOKUP(A487,eligibilité!$A$15:$AG$515,10,TRUE)=\"\",\"\",VLOOKUP(A487,eligibilité!$A$15:$AG$515,10,TRUE)))","v":""},{"$f":"IF(A487=\"\",\"\",IF(VLOOKUP(A487,eligibilité!$A$15:$AG$515,30,FALSE)=0,\"\",VLOOKUP(A487,eligibilité!$A$15:$AG$515,30,FALSE)))","v":""},"","","","","","","",1305,"","","","","","","Temps restant : ",""]
[{"$f":"IF(eligibilité!AG490=\"\",\"\",eligibilité!A490)","v":""},{"$f":"IF(A488=\"\",\"\",IF(VLOOKUP(A488,eligibilité!$A$15:$J$515,2,TRUE)=\"\",\"\",VLOOKUP(A488,eligibilité!$A$15:$J$515,2,TRUE)))","v":""},{"$f":"IF(A488=\"\",\"\",IF(VLOOKUP(A488,eligibilité!$A$15:$AG$515,3,TRUE)=\"\",\"\",VLOOKUP(A488,eligibilité!$A$15:$AG$515,3,TRUE)))","v":""},{"$f":"IF(A488=\"\",\"\",IF(VLOOKUP(A488,eligibilité!$A$15:$AG$515,4,TRUE)=\"\",\"\",VLOOKUP(A488,eligibilité!$A$15:$AG$515,4,TRUE)))","v":""},{"$f":"IF(A488=\"\",\"\",IF(VLOOKUP(A488,eligibilité!$A$15:$AG$515,5,TRUE)=\"\",\"\",VLOOKUP(A488,eligibilité!$A$15:$AG$515,5,TRUE)))","v":""},{"$f":"IF(A488=\"\",\"\",IF(VLOOKUP(A488,eligibilité!$A$15:$AG$515,6,TRUE)=\"\",\"\",VLOOKUP(A488,eligibilité!$A$15:$AG$515,6,TRUE)))","v":""},{"$f":"IF(A488=\"\",\"\",IF(VLOOKUP(A488,eligibilité!$A$15:$AG$515,7,TRUE)=\"\",\"\",VLOOKUP(A488,eligibilité!$A$15:$AG$515,7,TRUE)))","v":""},{"$f":"IF(A488=\"\",\"\",IF(VLOOKUP(A488,eligibilité!$A$15:$AG$515,8,TRUE)=\"\",\"\",VLOOKUP(A488,eligibilité!$A$15:$AG$515,8,TRUE)))","v":""},{"$f":"IF(A488=\"\",\"\",IF(VLOOKUP(A488,eligibilité!$A$15:$AG$515,9,TRUE)=\"\",\"\",VLOOKUP(A488,eligibilité!$A$15:$AG$515,9,TRUE)))","v":""},{"$f":"IF(A488=\"\",\"\",IF(VLOOKUP(A488,eligibilité!$A$15:$AG$515,10,TRUE)=\"\",\"\",VLOOKUP(A488,eligibilité!$A$15:$AG$515,10,TRUE)))","v":""},{"$f":"IF(A488=\"\",\"\",IF(VLOOKUP(A488,eligibilité!$A$15:$AG$515,30,FALSE)=0,\"\",VLOOKUP(A488,eligibilité!$A$15:$AG$515,30,FALSE)))","v":""},"","","","","","","",1305,"","","","","","","Temps restant : ",""]
[{"$f":"IF(eligibilité!AG491=\"\",\"\",eligibilité!A491)","v":""},{"$f":"IF(A489=\"\",\"\",IF(VLOOKUP(A489,eligibilité!$A$15:$J$515,2,TRUE)=\"\",\"\",VLOOKUP(A489,eligibilité!$A$15:$J$515,2,TRUE)))","v":""},{"$f":"IF(A489=\"\",\"\",IF(VLOOKUP(A489,eligibilité!$A$15:$AG$515,3,TRUE)=\"\",\"\",VLOOKUP(A489,eligibilité!$A$15:$AG$515,3,TRUE)))","v":""},{"$f":"IF(A489=\"\",\"\",IF(VLOOKUP(A489,eligibilité!$A$15:$AG$515,4,TRUE)=\"\",\"\",VLOOKUP(A489,eligibilité!$A$15:$AG$515,4,TRUE)))","v":""},{"$f":"IF(A489=\"\",\"\",IF(VLOOKUP(A489,eligibilité!$A$15:$AG$515,5,TRUE)=\"\",\"\",VLOOKUP(A489,eligibilité!$A$15:$AG$515,5,TRUE)))","v":""},{"$f":"IF(A489=\"\",\"\",IF(VLOOKUP(A489,eligibilité!$A$15:$AG$515,6,TRUE)=\"\",\"\",VLOOKUP(A489,eligibilité!$A$15:$AG$515,6,TRUE)))","v":""},{"$f":"IF(A489=\"\",\"\",IF(VLOOKUP(A489,eligibilité!$A$15:$AG$515,7,TRUE)=\"\",\"\",VLOOKUP(A489,eligibilité!$A$15:$AG$515,7,TRUE)))","v":""},{"$f":"IF(A489=\"\",\"\",IF(VLOOKUP(A489,eligibilité!$A$15:$AG$515,8,TRUE)=\"\",\"\",VLOOKUP(A489,eligibilité!$A$15:$AG$515,8,TRUE)))","v":""},{"$f":"IF(A489=\"\",\"\",IF(VLOOKUP(A489,eligibilité!$A$15:$AG$515,9,TRUE)=\"\",\"\",VLOOKUP(A489,eligibilité!$A$15:$AG$515,9,TRUE)))","v":""},{"$f":"IF(A489=\"\",\"\",IF(VLOOKUP(A489,eligibilité!$A$15:$AG$515,10,TRUE)=\"\",\"\",VLOOKUP(A489,eligibilité!$A$15:$AG$515,10,TRUE)))","v":""},{"$f":"IF(A489=\"\",\"\",IF(VLOOKUP(A489,eligibilité!$A$15:$AG$515,30,FALSE)=0,\"\",VLOOKUP(A489,eligibilité!$A$15:$AG$515,30,FALSE)))","v":""},"","","","","","","",1305,"","","","","","","Temps restant : ",""]
[{"$f":"IF(eligibilité!AG492=\"\",\"\",eligibilité!A492)","v":""},{"$f":"IF(A490=\"\",\"\",IF(VLOOKUP(A490,eligibilité!$A$15:$J$515,2,TRUE)=\"\",\"\",VLOOKUP(A490,eligibilité!$A$15:$J$515,2,TRUE)))","v":""},{"$f":"IF(A490=\"\",\"\",IF(VLOOKUP(A490,eligibilité!$A$15:$AG$515,3,TRUE)=\"\",\"\",VLOOKUP(A490,eligibilité!$A$15:$AG$515,3,TRUE)))","v":""},{"$f":"IF(A490=\"\",\"\",IF(VLOOKUP(A490,eligibilité!$A$15:$AG$515,4,TRUE)=\"\",\"\",VLOOKUP(A490,eligibilité!$A$15:$AG$515,4,TRUE)))","v":""},{"$f":"IF(A490=\"\",\"\",IF(VLOOKUP(A490,eligibilité!$A$15:$AG$515,5,TRUE)=\"\",\"\",VLOOKUP(A490,eligibilité!$A$15:$AG$515,5,TRUE)))","v":""},{"$f":"IF(A490=\"\",\"\",IF(VLOOKUP(A490,eligibilité!$A$15:$AG$515,6,TRUE)=\"\",\"\",VLOOKUP(A490,eligibilité!$A$15:$AG$515,6,TRUE)))","v":""},{"$f":"IF(A490=\"\",\"\",IF(VLOOKUP(A490,eligibilité!$A$15:$AG$515,7,TRUE)=\"\",\"\",VLOOKUP(A490,eligibilité!$A$15:$AG$515,7,TRUE)))","v":""},{"$f":"IF(A490=\"\",\"\",IF(VLOOKUP(A490,eligibilité!$A$15:$AG$515,8,TRUE)=\"\",\"\",VLOOKUP(A490,eligibilité!$A$15:$AG$515,8,TRUE)))","v":""},{"$f":"IF(A490=\"\",\"\",IF(VLOOKUP(A490,eligibilité!$A$15:$AG$515,9,TRUE)=\"\",\"\",VLOOKUP(A490,eligibilité!$A$15:$AG$515,9,TRUE)))","v":""},{"$f":"IF(A490=\"\",\"\",IF(VLOOKUP(A490,eligibilité!$A$15:$AG$515,10,TRUE)=\"\",\"\",VLOOKUP(A490,eligibilité!$A$15:$AG$515,10,TRUE)))","v":""},{"$f":"IF(A490=\"\",\"\",IF(VLOOKUP(A490,eligibilité!$A$15:$AG$515,30,FALSE)=0,\"\",VLOOKUP(A490,eligibilité!$A$15:$AG$515,30,FALSE)))","v":""},"","","","","","","",1305,"","","","","","","Temps restant : ",""]
[{"$f":"IF(eligibilité!AG493=\"\",\"\",eligibilité!A493)","v":""},{"$f":"IF(A491=\"\",\"\",IF(VLOOKUP(A491,eligibilité!$A$15:$J$515,2,TRUE)=\"\",\"\",VLOOKUP(A491,eligibilité!$A$15:$J$515,2,TRUE)))","v":""},{"$f":"IF(A491=\"\",\"\",IF(VLOOKUP(A491,eligibilité!$A$15:$AG$515,3,TRUE)=\"\",\"\",VLOOKUP(A491,eligibilité!$A$15:$AG$515,3,TRUE)))","v":""},{"$f":"IF(A491=\"\",\"\",IF(VLOOKUP(A491,eligibilité!$A$15:$AG$515,4,TRUE)=\"\",\"\",VLOOKUP(A491,eligibilité!$A$15:$AG$515,4,TRUE)))","v":""},{"$f":"IF(A491=\"\",\"\",IF(VLOOKUP(A491,eligibilité!$A$15:$AG$515,5,TRUE)=\"\",\"\",VLOOKUP(A491,eligibilité!$A$15:$AG$515,5,TRUE)))","v":""},{"$f":"IF(A491=\"\",\"\",IF(VLOOKUP(A491,eligibilité!$A$15:$AG$515,6,TRUE)=\"\",\"\",VLOOKUP(A491,eligibilité!$A$15:$AG$515,6,TRUE)))","v":""},{"$f":"IF(A491=\"\",\"\",IF(VLOOKUP(A491,eligibilité!$A$15:$AG$515,7,TRUE)=\"\",\"\",VLOOKUP(A491,eligibilité!$A$15:$AG$515,7,TRUE)))","v":""},{"$f":"IF(A491=\"\",\"\",IF(VLOOKUP(A491,eligibilité!$A$15:$AG$515,8,TRUE)=\"\",\"\",VLOOKUP(A491,eligibilité!$A$15:$AG$515,8,TRUE)))","v":""},{"$f":"IF(A491=\"\",\"\",IF(VLOOKUP(A491,eligibilité!$A$15:$AG$515,9,TRUE)=\"\",\"\",VLOOKUP(A491,eligibilité!$A$15:$AG$515,9,TRUE)))","v":""},{"$f":"IF(A491=\"\",\"\",IF(VLOOKUP(A491,eligibilité!$A$15:$AG$515,10,TRUE)=\"\",\"\",VLOOKUP(A491,eligibilité!$A$15:$AG$515,10,TRUE)))","v":""},{"$f":"IF(A491=\"\",\"\",IF(VLOOKUP(A491,eligibilité!$A$15:$AG$515,30,FALSE)=0,\"\",VLOOKUP(A491,eligibilité!$A$15:$AG$515,30,FALSE)))","v":""},"","","","","","","",1305,"","","","","","","Temps restant : ",""]
[{"$f":"IF(eligibilité!AG494=\"\",\"\",eligibilité!A494)","v":""},{"$f":"IF(A492=\"\",\"\",IF(VLOOKUP(A492,eligibilité!$A$15:$J$515,2,TRUE)=\"\",\"\",VLOOKUP(A492,eligibilité!$A$15:$J$515,2,TRUE)))","v":""},{"$f":"IF(A492=\"\",\"\",IF(VLOOKUP(A492,eligibilité!$A$15:$AG$515,3,TRUE)=\"\",\"\",VLOOKUP(A492,eligibilité!$A$15:$AG$515,3,TRUE)))","v":""},{"$f":"IF(A492=\"\",\"\",IF(VLOOKUP(A492,eligibilité!$A$15:$AG$515,4,TRUE)=\"\",\"\",VLOOKUP(A492,eligibilité!$A$15:$AG$515,4,TRUE)))","v":""},{"$f":"IF(A492=\"\",\"\",IF(VLOOKUP(A492,eligibilité!$A$15:$AG$515,5,TRUE)=\"\",\"\",VLOOKUP(A492,eligibilité!$A$15:$AG$515,5,TRUE)))","v":""},{"$f":"IF(A492=\"\",\"\",IF(VLOOKUP(A492,eligibilité!$A$15:$AG$515,6,TRUE)=\"\",\"\",VLOOKUP(A492,eligibilité!$A$15:$AG$515,6,TRUE)))","v":""},{"$f":"IF(A492=\"\",\"\",IF(VLOOKUP(A492,eligibilité!$A$15:$AG$515,7,TRUE)=\"\",\"\",VLOOKUP(A492,eligibilité!$A$15:$AG$515,7,TRUE)))","v":""},{"$f":"IF(A492=\"\",\"\",IF(VLOOKUP(A492,eligibilité!$A$15:$AG$515,8,TRUE)=\"\",\"\",VLOOKUP(A492,eligibilité!$A$15:$AG$515,8,TRUE)))","v":""},{"$f":"IF(A492=\"\",\"\",IF(VLOOKUP(A492,eligibilité!$A$15:$AG$515,9,TRUE)=\"\",\"\",VLOOKUP(A492,eligibilité!$A$15:$AG$515,9,TRUE)))","v":""},{"$f":"IF(A492=\"\",\"\",IF(VLOOKUP(A492,eligibilité!$A$15:$AG$515,10,TRUE)=\"\",\"\",VLOOKUP(A492,eligibilité!$A$15:$AG$515,10,TRUE)))","v":""},{"$f":"IF(A492=\"\",\"\",IF(VLOOKUP(A492,eligibilité!$A$15:$AG$515,30,FALSE)=0,\"\",VLOOKUP(A492,eligibilité!$A$15:$AG$515,30,FALSE)))","v":""},"","","","","","","",1305,"","","","","","","Temps restant : ",""]
[{"$f":"IF(eligibilité!AG495=\"\",\"\",eligibilité!A495)","v":""},{"$f":"IF(A493=\"\",\"\",IF(VLOOKUP(A493,eligibilité!$A$15:$J$515,2,TRUE)=\"\",\"\",VLOOKUP(A493,eligibilité!$A$15:$J$515,2,TRUE)))","v":""},{"$f":"IF(A493=\"\",\"\",IF(VLOOKUP(A493,eligibilité!$A$15:$AG$515,3,TRUE)=\"\",\"\",VLOOKUP(A493,eligibilité!$A$15:$AG$515,3,TRUE)))","v":""},{"$f":"IF(A493=\"\",\"\",IF(VLOOKUP(A493,eligibilité!$A$15:$AG$515,4,TRUE)=\"\",\"\",VLOOKUP(A493,eligibilité!$A$15:$AG$515,4,TRUE)))","v":""},{"$f":"IF(A493=\"\",\"\",IF(VLOOKUP(A493,eligibilité!$A$15:$AG$515,5,TRUE)=\"\",\"\",VLOOKUP(A493,eligibilité!$A$15:$AG$515,5,TRUE)))","v":""},{"$f":"IF(A493=\"\",\"\",IF(VLOOKUP(A493,eligibilité!$A$15:$AG$515,6,TRUE)=\"\",\"\",VLOOKUP(A493,eligibilité!$A$15:$AG$515,6,TRUE)))","v":""},{"$f":"IF(A493=\"\",\"\",IF(VLOOKUP(A493,eligibilité!$A$15:$AG$515,7,TRUE)=\"\",\"\",VLOOKUP(A493,eligibilité!$A$15:$AG$515,7,TRUE)))","v":""},{"$f":"IF(A493=\"\",\"\",IF(VLOOKUP(A493,eligibilité!$A$15:$AG$515,8,TRUE)=\"\",\"\",VLOOKUP(A493,eligibilité!$A$15:$AG$515,8,TRUE)))","v":""},{"$f":"IF(A493=\"\",\"\",IF(VLOOKUP(A493,eligibilité!$A$15:$AG$515,9,TRUE)=\"\",\"\",VLOOKUP(A493,eligibilité!$A$15:$AG$515,9,TRUE)))","v":""},{"$f":"IF(A493=\"\",\"\",IF(VLOOKUP(A493,eligibilité!$A$15:$AG$515,10,TRUE)=\"\",\"\",VLOOKUP(A493,eligibilité!$A$15:$AG$515,10,TRUE)))","v":""},{"$f":"IF(A493=\"\",\"\",IF(VLOOKUP(A493,eligibilité!$A$15:$AG$515,30,FALSE)=0,\"\",VLOOKUP(A493,eligibilité!$A$15:$AG$515,30,FALSE)))","v":""},"","","","","","","",1305,"","","","","","","Temps restant : ",""]
[{"$f":"IF(eligibilité!AG496=\"\",\"\",eligibilité!A496)","v":""},{"$f":"IF(A494=\"\",\"\",IF(VLOOKUP(A494,eligibilité!$A$15:$J$515,2,TRUE)=\"\",\"\",VLOOKUP(A494,eligibilité!$A$15:$J$515,2,TRUE)))","v":""},{"$f":"IF(A494=\"\",\"\",IF(VLOOKUP(A494,eligibilité!$A$15:$AG$515,3,TRUE)=\"\",\"\",VLOOKUP(A494,eligibilité!$A$15:$AG$515,3,TRUE)))","v":""},{"$f":"IF(A494=\"\",\"\",IF(VLOOKUP(A494,eligibilité!$A$15:$AG$515,4,TRUE)=\"\",\"\",VLOOKUP(A494,eligibilité!$A$15:$AG$515,4,TRUE)))","v":""},{"$f":"IF(A494=\"\",\"\",IF(VLOOKUP(A494,eligibilité!$A$15:$AG$515,5,TRUE)=\"\",\"\",VLOOKUP(A494,eligibilité!$A$15:$AG$515,5,TRUE)))","v":""},{"$f":"IF(A494=\"\",\"\",IF(VLOOKUP(A494,eligibilité!$A$15:$AG$515,6,TRUE)=\"\",\"\",VLOOKUP(A494,eligibilité!$A$15:$AG$515,6,TRUE)))","v":""},{"$f":"IF(A494=\"\",\"\",IF(VLOOKUP(A494,eligibilité!$A$15:$AG$515,7,TRUE)=\"\",\"\",VLOOKUP(A494,eligibilité!$A$15:$AG$515,7,TRUE)))","v":""},{"$f":"IF(A494=\"\",\"\",IF(VLOOKUP(A494,eligibilité!$A$15:$AG$515,8,TRUE)=\"\",\"\",VLOOKUP(A494,eligibilité!$A$15:$AG$515,8,TRUE)))","v":""},{"$f":"IF(A494=\"\",\"\",IF(VLOOKUP(A494,eligibilité!$A$15:$AG$515,9,TRUE)=\"\",\"\",VLOOKUP(A494,eligibilité!$A$15:$AG$515,9,TRUE)))","v":""},{"$f":"IF(A494=\"\",\"\",IF(VLOOKUP(A494,eligibilité!$A$15:$AG$515,10,TRUE)=\"\",\"\",VLOOKUP(A494,eligibilité!$A$15:$AG$515,10,TRUE)))","v":""},{"$f":"IF(A494=\"\",\"\",IF(VLOOKUP(A494,eligibilité!$A$15:$AG$515,30,FALSE)=0,\"\",VLOOKUP(A494,eligibilité!$A$15:$AG$515,30,FALSE)))","v":""},"","","","","","","",1305,"","","","","","","Temps restant : ",""]
[{"$f":"IF(eligibilité!AG497=\"\",\"\",eligibilité!A497)","v":""},{"$f":"IF(A495=\"\",\"\",IF(VLOOKUP(A495,eligibilité!$A$15:$J$515,2,TRUE)=\"\",\"\",VLOOKUP(A495,eligibilité!$A$15:$J$515,2,TRUE)))","v":""},{"$f":"IF(A495=\"\",\"\",IF(VLOOKUP(A495,eligibilité!$A$15:$AG$515,3,TRUE)=\"\",\"\",VLOOKUP(A495,eligibilité!$A$15:$AG$515,3,TRUE)))","v":""},{"$f":"IF(A495=\"\",\"\",IF(VLOOKUP(A495,eligibilité!$A$15:$AG$515,4,TRUE)=\"\",\"\",VLOOKUP(A495,eligibilité!$A$15:$AG$515,4,TRUE)))","v":""},{"$f":"IF(A495=\"\",\"\",IF(VLOOKUP(A495,eligibilité!$A$15:$AG$515,5,TRUE)=\"\",\"\",VLOOKUP(A495,eligibilité!$A$15:$AG$515,5,TRUE)))","v":""},{"$f":"IF(A495=\"\",\"\",IF(VLOOKUP(A495,eligibilité!$A$15:$AG$515,6,TRUE)=\"\",\"\",VLOOKUP(A495,eligibilité!$A$15:$AG$515,6,TRUE)))","v":""},{"$f":"IF(A495=\"\",\"\",IF(VLOOKUP(A495,eligibilité!$A$15:$AG$515,7,TRUE)=\"\",\"\",VLOOKUP(A495,eligibilité!$A$15:$AG$515,7,TRUE)))","v":""},{"$f":"IF(A495=\"\",\"\",IF(VLOOKUP(A495,eligibilité!$A$15:$AG$515,8,TRUE)=\"\",\"\",VLOOKUP(A495,eligibilité!$A$15:$AG$515,8,TRUE)))","v":""},{"$f":"IF(A495=\"\",\"\",IF(VLOOKUP(A495,eligibilité!$A$15:$AG$515,9,TRUE)=\"\",\"\",VLOOKUP(A495,eligibilité!$A$15:$AG$515,9,TRUE)))","v":""},{"$f":"IF(A495=\"\",\"\",IF(VLOOKUP(A495,eligibilité!$A$15:$AG$515,10,TRUE)=\"\",\"\",VLOOKUP(A495,eligibilité!$A$15:$AG$515,10,TRUE)))","v":""},{"$f":"IF(A495=\"\",\"\",IF(VLOOKUP(A495,eligibilité!$A$15:$AG$515,30,FALSE)=0,\"\",VLOOKUP(A495,eligibilité!$A$15:$AG$515,30,FALSE)))","v":""},"","","","","","","",1305,"","","","","","","Temps restant : ",""]
[{"$f":"IF(eligibilité!AG498=\"\",\"\",eligibilité!A498)","v":""},{"$f":"IF(A496=\"\",\"\",IF(VLOOKUP(A496,eligibilité!$A$15:$J$515,2,TRUE)=\"\",\"\",VLOOKUP(A496,eligibilité!$A$15:$J$515,2,TRUE)))","v":""},{"$f":"IF(A496=\"\",\"\",IF(VLOOKUP(A496,eligibilité!$A$15:$AG$515,3,TRUE)=\"\",\"\",VLOOKUP(A496,eligibilité!$A$15:$AG$515,3,TRUE)))","v":""},{"$f":"IF(A496=\"\",\"\",IF(VLOOKUP(A496,eligibilité!$A$15:$AG$515,4,TRUE)=\"\",\"\",VLOOKUP(A496,eligibilité!$A$15:$AG$515,4,TRUE)))","v":""},{"$f":"IF(A496=\"\",\"\",IF(VLOOKUP(A496,eligibilité!$A$15:$AG$515,5,TRUE)=\"\",\"\",VLOOKUP(A496,eligibilité!$A$15:$AG$515,5,TRUE)))","v":""},{"$f":"IF(A496=\"\",\"\",IF(VLOOKUP(A496,eligibilité!$A$15:$AG$515,6,TRUE)=\"\",\"\",VLOOKUP(A496,eligibilité!$A$15:$AG$515,6,TRUE)))","v":""},{"$f":"IF(A496=\"\",\"\",IF(VLOOKUP(A496,eligibilité!$A$15:$AG$515,7,TRUE)=\"\",\"\",VLOOKUP(A496,eligibilité!$A$15:$AG$515,7,TRUE)))","v":""},{"$f":"IF(A496=\"\",\"\",IF(VLOOKUP(A496,eligibilité!$A$15:$AG$515,8,TRUE)=\"\",\"\",VLOOKUP(A496,eligibilité!$A$15:$AG$515,8,TRUE)))","v":""},{"$f":"IF(A496=\"\",\"\",IF(VLOOKUP(A496,eligibilité!$A$15:$AG$515,9,TRUE)=\"\",\"\",VLOOKUP(A496,eligibilité!$A$15:$AG$515,9,TRUE)))","v":""},{"$f":"IF(A496=\"\",\"\",IF(VLOOKUP(A496,eligibilité!$A$15:$AG$515,10,TRUE)=\"\",\"\",VLOOKUP(A496,eligibilité!$A$15:$AG$515,10,TRUE)))","v":""},{"$f":"IF(A496=\"\",\"\",IF(VLOOKUP(A496,eligibilité!$A$15:$AG$515,30,FALSE)=0,\"\",VLOOKUP(A496,eligibilité!$A$15:$AG$515,30,FALSE)))","v":""},"","","","","","","",1305,"","","","","","","Temps restant : ",""]
[{"$f":"IF(eligibilité!AG499=\"\",\"\",eligibilité!A499)","v":""},{"$f":"IF(A497=\"\",\"\",IF(VLOOKUP(A497,eligibilité!$A$15:$J$515,2,TRUE)=\"\",\"\",VLOOKUP(A497,eligibilité!$A$15:$J$515,2,TRUE)))","v":""},{"$f":"IF(A497=\"\",\"\",IF(VLOOKUP(A497,eligibilité!$A$15:$AG$515,3,TRUE)=\"\",\"\",VLOOKUP(A497,eligibilité!$A$15:$AG$515,3,TRUE)))","v":""},{"$f":"IF(A497=\"\",\"\",IF(VLOOKUP(A497,eligibilité!$A$15:$AG$515,4,TRUE)=\"\",\"\",VLOOKUP(A497,eligibilité!$A$15:$AG$515,4,TRUE)))","v":""},{"$f":"IF(A497=\"\",\"\",IF(VLOOKUP(A497,eligibilité!$A$15:$AG$515,5,TRUE)=\"\",\"\",VLOOKUP(A497,eligibilité!$A$15:$AG$515,5,TRUE)))","v":""},{"$f":"IF(A497=\"\",\"\",IF(VLOOKUP(A497,eligibilité!$A$15:$AG$515,6,TRUE)=\"\",\"\",VLOOKUP(A497,eligibilité!$A$15:$AG$515,6,TRUE)))","v":""},{"$f":"IF(A497=\"\",\"\",IF(VLOOKUP(A497,eligibilité!$A$15:$AG$515,7,TRUE)=\"\",\"\",VLOOKUP(A497,eligibilité!$A$15:$AG$515,7,TRUE)))","v":""},{"$f":"IF(A497=\"\",\"\",IF(VLOOKUP(A497,eligibilité!$A$15:$AG$515,8,TRUE)=\"\",\"\",VLOOKUP(A497,eligibilité!$A$15:$AG$515,8,TRUE)))","v":""},{"$f":"IF(A497=\"\",\"\",IF(VLOOKUP(A497,eligibilité!$A$15:$AG$515,9,TRUE)=\"\",\"\",VLOOKUP(A497,eligibilité!$A$15:$AG$515,9,TRUE)))","v":""},{"$f":"IF(A497=\"\",\"\",IF(VLOOKUP(A497,eligibilité!$A$15:$AG$515,10,TRUE)=\"\",\"\",VLOOKUP(A497,eligibilité!$A$15:$AG$515,10,TRUE)))","v":""},{"$f":"IF(A497=\"\",\"\",IF(VLOOKUP(A497,eligibilité!$A$15:$AG$515,30,FALSE)=0,\"\",VLOOKUP(A497,eligibilité!$A$15:$AG$515,30,FALSE)))","v":""},"","","","","","","",1305,"","","","","","","Temps restant : ",""]
[{"$f":"IF(eligibilité!AG500=\"\",\"\",eligibilité!A500)","v":""},{"$f":"IF(A498=\"\",\"\",IF(VLOOKUP(A498,eligibilité!$A$15:$J$515,2,TRUE)=\"\",\"\",VLOOKUP(A498,eligibilité!$A$15:$J$515,2,TRUE)))","v":""},{"$f":"IF(A498=\"\",\"\",IF(VLOOKUP(A498,eligibilité!$A$15:$AG$515,3,TRUE)=\"\",\"\",VLOOKUP(A498,eligibilité!$A$15:$AG$515,3,TRUE)))","v":""},{"$f":"IF(A498=\"\",\"\",IF(VLOOKUP(A498,eligibilité!$A$15:$AG$515,4,TRUE)=\"\",\"\",VLOOKUP(A498,eligibilité!$A$15:$AG$515,4,TRUE)))","v":""},{"$f":"IF(A498=\"\",\"\",IF(VLOOKUP(A498,eligibilité!$A$15:$AG$515,5,TRUE)=\"\",\"\",VLOOKUP(A498,eligibilité!$A$15:$AG$515,5,TRUE)))","v":""},{"$f":"IF(A498=\"\",\"\",IF(VLOOKUP(A498,eligibilité!$A$15:$AG$515,6,TRUE)=\"\",\"\",VLOOKUP(A498,eligibilité!$A$15:$AG$515,6,TRUE)))","v":""},{"$f":"IF(A498=\"\",\"\",IF(VLOOKUP(A498,eligibilité!$A$15:$AG$515,7,TRUE)=\"\",\"\",VLOOKUP(A498,eligibilité!$A$15:$AG$515,7,TRUE)))","v":""},{"$f":"IF(A498=\"\",\"\",IF(VLOOKUP(A498,eligibilité!$A$15:$AG$515,8,TRUE)=\"\",\"\",VLOOKUP(A498,eligibilité!$A$15:$AG$515,8,TRUE)))","v":""},{"$f":"IF(A498=\"\",\"\",IF(VLOOKUP(A498,eligibilité!$A$15:$AG$515,9,TRUE)=\"\",\"\",VLOOKUP(A498,eligibilité!$A$15:$AG$515,9,TRUE)))","v":""},{"$f":"IF(A498=\"\",\"\",IF(VLOOKUP(A498,eligibilité!$A$15:$AG$515,10,TRUE)=\"\",\"\",VLOOKUP(A498,eligibilité!$A$15:$AG$515,10,TRUE)))","v":""},{"$f":"IF(A498=\"\",\"\",IF(VLOOKUP(A498,eligibilité!$A$15:$AG$515,30,FALSE)=0,\"\",VLOOKUP(A498,eligibilité!$A$15:$AG$515,30,FALSE)))","v":""},"","","","","","","",1305,"","","","","","","Temps restant : ",""]
[{"$f":"IF(eligibilité!AG501=\"\",\"\",eligibilité!A501)","v":""},{"$f":"IF(A499=\"\",\"\",IF(VLOOKUP(A499,eligibilité!$A$15:$J$515,2,TRUE)=\"\",\"\",VLOOKUP(A499,eligibilité!$A$15:$J$515,2,TRUE)))","v":""},{"$f":"IF(A499=\"\",\"\",IF(VLOOKUP(A499,eligibilité!$A$15:$AG$515,3,TRUE)=\"\",\"\",VLOOKUP(A499,eligibilité!$A$15:$AG$515,3,TRUE)))","v":""},{"$f":"IF(A499=\"\",\"\",IF(VLOOKUP(A499,eligibilité!$A$15:$AG$515,4,TRUE)=\"\",\"\",VLOOKUP(A499,eligibilité!$A$15:$AG$515,4,TRUE)))","v":""},{"$f":"IF(A499=\"\",\"\",IF(VLOOKUP(A499,eligibilité!$A$15:$AG$515,5,TRUE)=\"\",\"\",VLOOKUP(A499,eligibilité!$A$15:$AG$515,5,TRUE)))","v":""},{"$f":"IF(A499=\"\",\"\",IF(VLOOKUP(A499,eligibilité!$A$15:$AG$515,6,TRUE)=\"\",\"\",VLOOKUP(A499,eligibilité!$A$15:$AG$515,6,TRUE)))","v":""},{"$f":"IF(A499=\"\",\"\",IF(VLOOKUP(A499,eligibilité!$A$15:$AG$515,7,TRUE)=\"\",\"\",VLOOKUP(A499,eligibilité!$A$15:$AG$515,7,TRUE)))","v":""},{"$f":"IF(A499=\"\",\"\",IF(VLOOKUP(A499,eligibilité!$A$15:$AG$515,8,TRUE)=\"\",\"\",VLOOKUP(A499,eligibilité!$A$15:$AG$515,8,TRUE)))","v":""},{"$f":"IF(A499=\"\",\"\",IF(VLOOKUP(A499,eligibilité!$A$15:$AG$515,9,TRUE)=\"\",\"\",VLOOKUP(A499,eligibilité!$A$15:$AG$515,9,TRUE)))","v":""},{"$f":"IF(A499=\"\",\"\",IF(VLOOKUP(A499,eligibilité!$A$15:$AG$515,10,TRUE)=\"\",\"\",VLOOKUP(A499,eligibilité!$A$15:$AG$515,10,TRUE)))","v":""},{"$f":"IF(A499=\"\",\"\",IF(VLOOKUP(A499,eligibilité!$A$15:$AG$515,30,FALSE)=0,\"\",VLOOKUP(A499,eligibilité!$A$15:$AG$515,30,FALSE)))","v":""},"","","","","","","",1305,"","","","","","","Temps restant : ",""]
[{"$f":"IF(eligibilité!AG502=\"\",\"\",eligibilité!A502)","v":""},{"$f":"IF(A500=\"\",\"\",IF(VLOOKUP(A500,eligibilité!$A$15:$J$515,2,TRUE)=\"\",\"\",VLOOKUP(A500,eligibilité!$A$15:$J$515,2,TRUE)))","v":""},{"$f":"IF(A500=\"\",\"\",IF(VLOOKUP(A500,eligibilité!$A$15:$AG$515,3,TRUE)=\"\",\"\",VLOOKUP(A500,eligibilité!$A$15:$AG$515,3,TRUE)))","v":""},{"$f":"IF(A500=\"\",\"\",IF(VLOOKUP(A500,eligibilité!$A$15:$AG$515,4,TRUE)=\"\",\"\",VLOOKUP(A500,eligibilité!$A$15:$AG$515,4,TRUE)))","v":""},{"$f":"IF(A500=\"\",\"\",IF(VLOOKUP(A500,eligibilité!$A$15:$AG$515,5,TRUE)=\"\",\"\",VLOOKUP(A500,eligibilité!$A$15:$AG$515,5,TRUE)))","v":""},{"$f":"IF(A500=\"\",\"\",IF(VLOOKUP(A500,eligibilité!$A$15:$AG$515,6,TRUE)=\"\",\"\",VLOOKUP(A500,eligibilité!$A$15:$AG$515,6,TRUE)))","v":""},{"$f":"IF(A500=\"\",\"\",IF(VLOOKUP(A500,eligibilité!$A$15:$AG$515,7,TRUE)=\"\",\"\",VLOOKUP(A500,eligibilité!$A$15:$AG$515,7,TRUE)))","v":""},{"$f":"IF(A500=\"\",\"\",IF(VLOOKUP(A500,eligibilité!$A$15:$AG$515,8,TRUE)=\"\",\"\",VLOOKUP(A500,eligibilité!$A$15:$AG$515,8,TRUE)))","v":""},{"$f":"IF(A500=\"\",\"\",IF(VLOOKUP(A500,eligibilité!$A$15:$AG$515,9,TRUE)=\"\",\"\",VLOOKUP(A500,eligibilité!$A$15:$AG$515,9,TRUE)))","v":""},{"$f":"IF(A500=\"\",\"\",IF(VLOOKUP(A500,eligibilité!$A$15:$AG$515,10,TRUE)=\"\",\"\",VLOOKUP(A500,eligibilité!$A$15:$AG$515,10,TRUE)))","v":""},{"$f":"IF(A500=\"\",\"\",IF(VLOOKUP(A500,eligibilité!$A$15:$AG$515,30,FALSE)=0,\"\",VLOOKUP(A500,eligibilité!$A$15:$AG$515,30,FALSE)))","v":""},"","","","","","","",1305,"","","","","","","Temps restant : ",""]
[{"$f":"IF(eligibilité!AG503=\"\",\"\",eligibilité!A503)","v":""},{"$f":"IF(A501=\"\",\"\",IF(VLOOKUP(A501,eligibilité!$A$15:$J$515,2,TRUE)=\"\",\"\",VLOOKUP(A501,eligibilité!$A$15:$J$515,2,TRUE)))","v":""},{"$f":"IF(A501=\"\",\"\",IF(VLOOKUP(A501,eligibilité!$A$15:$AG$515,3,TRUE)=\"\",\"\",VLOOKUP(A501,eligibilité!$A$15:$AG$515,3,TRUE)))","v":""},{"$f":"IF(A501=\"\",\"\",IF(VLOOKUP(A501,eligibilité!$A$15:$AG$515,4,TRUE)=\"\",\"\",VLOOKUP(A501,eligibilité!$A$15:$AG$515,4,TRUE)))","v":""},{"$f":"IF(A501=\"\",\"\",IF(VLOOKUP(A501,eligibilité!$A$15:$AG$515,5,TRUE)=\"\",\"\",VLOOKUP(A501,eligibilité!$A$15:$AG$515,5,TRUE)))","v":""},{"$f":"IF(A501=\"\",\"\",IF(VLOOKUP(A501,eligibilité!$A$15:$AG$515,6,TRUE)=\"\",\"\",VLOOKUP(A501,eligibilité!$A$15:$AG$515,6,TRUE)))","v":""},{"$f":"IF(A501=\"\",\"\",IF(VLOOKUP(A501,eligibilité!$A$15:$AG$515,7,TRUE)=\"\",\"\",VLOOKUP(A501,eligibilité!$A$15:$AG$515,7,TRUE)))","v":""},{"$f":"IF(A501=\"\",\"\",IF(VLOOKUP(A501,eligibilité!$A$15:$AG$515,8,TRUE)=\"\",\"\",VLOOKUP(A501,eligibilité!$A$15:$AG$515,8,TRUE)))","v":""},{"$f":"IF(A501=\"\",\"\",IF(VLOOKUP(A501,eligibilité!$A$15:$AG$515,9,TRUE)=\"\",\"\",VLOOKUP(A501,eligibilité!$A$15:$AG$515,9,TRUE)))","v":""},{"$f":"IF(A501=\"\",\"\",IF(VLOOKUP(A501,eligibilité!$A$15:$AG$515,10,TRUE)=\"\",\"\",VLOOKUP(A501,eligibilité!$A$15:$AG$515,10,TRUE)))","v":""},{"$f":"IF(A501=\"\",\"\",IF(VLOOKUP(A501,eligibilité!$A$15:$AG$515,30,FALSE)=0,\"\",VLOOKUP(A501,eligibilité!$A$15:$AG$515,30,FALSE)))","v":""},"","","","","","","",1305,"","","","","","","Temps restant : ",""]
[{"$f":"IF(eligibilité!AG504=\"\",\"\",eligibilité!A504)","v":""},{"$f":"IF(A502=\"\",\"\",IF(VLOOKUP(A502,eligibilité!$A$15:$J$515,2,TRUE)=\"\",\"\",VLOOKUP(A502,eligibilité!$A$15:$J$515,2,TRUE)))","v":""},{"$f":"IF(A502=\"\",\"\",IF(VLOOKUP(A502,eligibilité!$A$15:$AG$515,3,TRUE)=\"\",\"\",VLOOKUP(A502,eligibilité!$A$15:$AG$515,3,TRUE)))","v":""},{"$f":"IF(A502=\"\",\"\",IF(VLOOKUP(A502,eligibilité!$A$15:$AG$515,4,TRUE)=\"\",\"\",VLOOKUP(A502,eligibilité!$A$15:$AG$515,4,TRUE)))","v":""},{"$f":"IF(A502=\"\",\"\",IF(VLOOKUP(A502,eligibilité!$A$15:$AG$515,5,TRUE)=\"\",\"\",VLOOKUP(A502,eligibilité!$A$15:$AG$515,5,TRUE)))","v":""},{"$f":"IF(A502=\"\",\"\",IF(VLOOKUP(A502,eligibilité!$A$15:$AG$515,6,TRUE)=\"\",\"\",VLOOKUP(A502,eligibilité!$A$15:$AG$515,6,TRUE)))","v":""},{"$f":"IF(A502=\"\",\"\",IF(VLOOKUP(A502,eligibilité!$A$15:$AG$515,7,TRUE)=\"\",\"\",VLOOKUP(A502,eligibilité!$A$15:$AG$515,7,TRUE)))","v":""},{"$f":"IF(A502=\"\",\"\",IF(VLOOKUP(A502,eligibilité!$A$15:$AG$515,8,TRUE)=\"\",\"\",VLOOKUP(A502,eligibilité!$A$15:$AG$515,8,TRUE)))","v":""},{"$f":"IF(A502=\"\",\"\",IF(VLOOKUP(A502,eligibilité!$A$15:$AG$515,9,TRUE)=\"\",\"\",VLOOKUP(A502,eligibilité!$A$15:$AG$515,9,TRUE)))","v":""},{"$f":"IF(A502=\"\",\"\",IF(VLOOKUP(A502,eligibilité!$A$15:$AG$515,10,TRUE)=\"\",\"\",VLOOKUP(A502,eligibilité!$A$15:$AG$515,10,TRUE)))","v":""},{"$f":"IF(A502=\"\",\"\",IF(VLOOKUP(A502,eligibilité!$A$15:$AG$515,30,FALSE)=0,\"\",VLOOKUP(A502,eligibilité!$A$15:$AG$515,30,FALSE)))","v":""},"","","","","","","",1305,"","","","","","","Temps restant : ",""]
[{"$f":"IF(eligibilité!AG505=\"\",\"\",eligibilité!A505)","v":""},{"$f":"IF(A503=\"\",\"\",IF(VLOOKUP(A503,eligibilité!$A$15:$J$515,2,TRUE)=\"\",\"\",VLOOKUP(A503,eligibilité!$A$15:$J$515,2,TRUE)))","v":""},{"$f":"IF(A503=\"\",\"\",IF(VLOOKUP(A503,eligibilité!$A$15:$AG$515,3,TRUE)=\"\",\"\",VLOOKUP(A503,eligibilité!$A$15:$AG$515,3,TRUE)))","v":""},{"$f":"IF(A503=\"\",\"\",IF(VLOOKUP(A503,eligibilité!$A$15:$AG$515,4,TRUE)=\"\",\"\",VLOOKUP(A503,eligibilité!$A$15:$AG$515,4,TRUE)))","v":""},{"$f":"IF(A503=\"\",\"\",IF(VLOOKUP(A503,eligibilité!$A$15:$AG$515,5,TRUE)=\"\",\"\",VLOOKUP(A503,eligibilité!$A$15:$AG$515,5,TRUE)))","v":""},{"$f":"IF(A503=\"\",\"\",IF(VLOOKUP(A503,eligibilité!$A$15:$AG$515,6,TRUE)=\"\",\"\",VLOOKUP(A503,eligibilité!$A$15:$AG$515,6,TRUE)))","v":""},{"$f":"IF(A503=\"\",\"\",IF(VLOOKUP(A503,eligibilité!$A$15:$AG$515,7,TRUE)=\"\",\"\",VLOOKUP(A503,eligibilité!$A$15:$AG$515,7,TRUE)))","v":""},{"$f":"IF(A503=\"\",\"\",IF(VLOOKUP(A503,eligibilité!$A$15:$AG$515,8,TRUE)=\"\",\"\",VLOOKUP(A503,eligibilité!$A$15:$AG$515,8,TRUE)))","v":""},{"$f":"IF(A503=\"\",\"\",IF(VLOOKUP(A503,eligibilité!$A$15:$AG$515,9,TRUE)=\"\",\"\",VLOOKUP(A503,eligibilité!$A$15:$AG$515,9,TRUE)))","v":""},{"$f":"IF(A503=\"\",\"\",IF(VLOOKUP(A503,eligibilité!$A$15:$AG$515,10,TRUE)=\"\",\"\",VLOOKUP(A503,eligibilité!$A$15:$AG$515,10,TRUE)))","v":""},{"$f":"IF(A503=\"\",\"\",IF(VLOOKUP(A503,eligibilité!$A$15:$AG$515,30,FALSE)=0,\"\",VLOOKUP(A503,eligibilité!$A$15:$AG$515,30,FALSE)))","v":""},"","","","","","","",1305,"","","","","","","Temps restant : ",""]
[{"$f":"IF(eligibilité!AG506=\"\",\"\",eligibilité!A506)","v":""},{"$f":"IF(A504=\"\",\"\",IF(VLOOKUP(A504,eligibilité!$A$15:$J$515,2,TRUE)=\"\",\"\",VLOOKUP(A504,eligibilité!$A$15:$J$515,2,TRUE)))","v":""},{"$f":"IF(A504=\"\",\"\",IF(VLOOKUP(A504,eligibilité!$A$15:$AG$515,3,TRUE)=\"\",\"\",VLOOKUP(A504,eligibilité!$A$15:$AG$515,3,TRUE)))","v":""},{"$f":"IF(A504=\"\",\"\",IF(VLOOKUP(A504,eligibilité!$A$15:$AG$515,4,TRUE)=\"\",\"\",VLOOKUP(A504,eligibilité!$A$15:$AG$515,4,TRUE)))","v":""},{"$f":"IF(A504=\"\",\"\",IF(VLOOKUP(A504,eligibilité!$A$15:$AG$515,5,TRUE)=\"\",\"\",VLOOKUP(A504,eligibilité!$A$15:$AG$515,5,TRUE)))","v":""},{"$f":"IF(A504=\"\",\"\",IF(VLOOKUP(A504,eligibilité!$A$15:$AG$515,6,TRUE)=\"\",\"\",VLOOKUP(A504,eligibilité!$A$15:$AG$515,6,TRUE)))","v":""},{"$f":"IF(A504=\"\",\"\",IF(VLOOKUP(A504,eligibilité!$A$15:$AG$515,7,TRUE)=\"\",\"\",VLOOKUP(A504,eligibilité!$A$15:$AG$515,7,TRUE)))","v":""},{"$f":"IF(A504=\"\",\"\",IF(VLOOKUP(A504,eligibilité!$A$15:$AG$515,8,TRUE)=\"\",\"\",VLOOKUP(A504,eligibilité!$A$15:$AG$515,8,TRUE)))","v":""},{"$f":"IF(A504=\"\",\"\",IF(VLOOKUP(A504,eligibilité!$A$15:$AG$515,9,TRUE)=\"\",\"\",VLOOKUP(A504,eligibilité!$A$15:$AG$515,9,TRUE)))","v":""},{"$f":"IF(A504=\"\",\"\",IF(VLOOKUP(A504,eligibilité!$A$15:$AG$515,10,TRUE)=\"\",\"\",VLOOKUP(A504,eligibilité!$A$15:$AG$515,10,TRUE)))","v":""},{"$f":"IF(A504=\"\",\"\",IF(VLOOKUP(A504,eligibilité!$A$15:$AG$515,30,FALSE)=0,\"\",VLOOKUP(A504,eligibilité!$A$15:$AG$515,30,FALSE)))","v":""},"","","","","","","",1305,"","","","","","","Temps restant : ",""]
[{"$f":"IF(eligibilité!AG507=\"\",\"\",eligibilité!A507)","v":""},{"$f":"IF(A505=\"\",\"\",IF(VLOOKUP(A505,eligibilité!$A$15:$J$515,2,TRUE)=\"\",\"\",VLOOKUP(A505,eligibilité!$A$15:$J$515,2,TRUE)))","v":""},{"$f":"IF(A505=\"\",\"\",IF(VLOOKUP(A505,eligibilité!$A$15:$AG$515,3,TRUE)=\"\",\"\",VLOOKUP(A505,eligibilité!$A$15:$AG$515,3,TRUE)))","v":""},{"$f":"IF(A505=\"\",\"\",IF(VLOOKUP(A505,eligibilité!$A$15:$AG$515,4,TRUE)=\"\",\"\",VLOOKUP(A505,eligibilité!$A$15:$AG$515,4,TRUE)))","v":""},{"$f":"IF(A505=\"\",\"\",IF(VLOOKUP(A505,eligibilité!$A$15:$AG$515,5,TRUE)=\"\",\"\",VLOOKUP(A505,eligibilité!$A$15:$AG$515,5,TRUE)))","v":""},{"$f":"IF(A505=\"\",\"\",IF(VLOOKUP(A505,eligibilité!$A$15:$AG$515,6,TRUE)=\"\",\"\",VLOOKUP(A505,eligibilité!$A$15:$AG$515,6,TRUE)))","v":""},{"$f":"IF(A505=\"\",\"\",IF(VLOOKUP(A505,eligibilité!$A$15:$AG$515,7,TRUE)=\"\",\"\",VLOOKUP(A505,eligibilité!$A$15:$AG$515,7,TRUE)))","v":""},{"$f":"IF(A505=\"\",\"\",IF(VLOOKUP(A505,eligibilité!$A$15:$AG$515,8,TRUE)=\"\",\"\",VLOOKUP(A505,eligibilité!$A$15:$AG$515,8,TRUE)))","v":""},{"$f":"IF(A505=\"\",\"\",IF(VLOOKUP(A505,eligibilité!$A$15:$AG$515,9,TRUE)=\"\",\"\",VLOOKUP(A505,eligibilité!$A$15:$AG$515,9,TRUE)))","v":""},{"$f":"IF(A505=\"\",\"\",IF(VLOOKUP(A505,eligibilité!$A$15:$AG$515,10,TRUE)=\"\",\"\",VLOOKUP(A505,eligibilité!$A$15:$AG$515,10,TRUE)))","v":""},{"$f":"IF(A505=\"\",\"\",IF(VLOOKUP(A505,eligibilité!$A$15:$AG$515,30,FALSE)=0,\"\",VLOOKUP(A505,eligibilité!$A$15:$AG$515,30,FALSE)))","v":""},"","","","","","","",1305,"","","","","","","Temps restant : ",""]
[{"$f":"IF(eligibilité!AG508=\"\",\"\",eligibilité!A508)","v":""},{"$f":"IF(A506=\"\",\"\",IF(VLOOKUP(A506,eligibilité!$A$15:$J$515,2,TRUE)=\"\",\"\",VLOOKUP(A506,eligibilité!$A$15:$J$515,2,TRUE)))","v":""},{"$f":"IF(A506=\"\",\"\",IF(VLOOKUP(A506,eligibilité!$A$15:$AG$515,3,TRUE)=\"\",\"\",VLOOKUP(A506,eligibilité!$A$15:$AG$515,3,TRUE)))","v":""},{"$f":"IF(A506=\"\",\"\",IF(VLOOKUP(A506,eligibilité!$A$15:$AG$515,4,TRUE)=\"\",\"\",VLOOKUP(A506,eligibilité!$A$15:$AG$515,4,TRUE)))","v":""},{"$f":"IF(A506=\"\",\"\",IF(VLOOKUP(A506,eligibilité!$A$15:$AG$515,5,TRUE)=\"\",\"\",VLOOKUP(A506,eligibilité!$A$15:$AG$515,5,TRUE)))","v":""},{"$f":"IF(A506=\"\",\"\",IF(VLOOKUP(A506,eligibilité!$A$15:$AG$515,6,TRUE)=\"\",\"\",VLOOKUP(A506,eligibilité!$A$15:$AG$515,6,TRUE)))","v":""},{"$f":"IF(A506=\"\",\"\",IF(VLOOKUP(A506,eligibilité!$A$15:$AG$515,7,TRUE)=\"\",\"\",VLOOKUP(A506,eligibilité!$A$15:$AG$515,7,TRUE)))","v":""},{"$f":"IF(A506=\"\",\"\",IF(VLOOKUP(A506,eligibilité!$A$15:$AG$515,8,TRUE)=\"\",\"\",VLOOKUP(A506,eligibilité!$A$15:$AG$515,8,TRUE)))","v":""},{"$f":"IF(A506=\"\",\"\",IF(VLOOKUP(A506,eligibilité!$A$15:$AG$515,9,TRUE)=\"\",\"\",VLOOKUP(A506,eligibilité!$A$15:$AG$515,9,TRUE)))","v":""},{"$f":"IF(A506=\"\",\"\",IF(VLOOKUP(A506,eligibilité!$A$15:$AG$515,10,TRUE)=\"\",\"\",VLOOKUP(A506,eligibilité!$A$15:$AG$515,10,TRUE)))","v":""},{"$f":"IF(A506=\"\",\"\",IF(VLOOKUP(A506,eligibilité!$A$15:$AG$515,30,FALSE)=0,\"\",VLOOKUP(A506,eligibilité!$A$15:$AG$515,30,FALSE)))","v":""},"","","","","","","",1305,"","","","","","","Temps restant : ",""]
[{"$f":"IF(eligibilité!AG509=\"\",\"\",eligibilité!A509)","v":""},{"$f":"IF(A507=\"\",\"\",IF(VLOOKUP(A507,eligibilité!$A$15:$J$515,2,TRUE)=\"\",\"\",VLOOKUP(A507,eligibilité!$A$15:$J$515,2,TRUE)))","v":""},{"$f":"IF(A507=\"\",\"\",IF(VLOOKUP(A507,eligibilité!$A$15:$AG$515,3,TRUE)=\"\",\"\",VLOOKUP(A507,eligibilité!$A$15:$AG$515,3,TRUE)))","v":""},{"$f":"IF(A507=\"\",\"\",IF(VLOOKUP(A507,eligibilité!$A$15:$AG$515,4,TRUE)=\"\",\"\",VLOOKUP(A507,eligibilité!$A$15:$AG$515,4,TRUE)))","v":""},{"$f":"IF(A507=\"\",\"\",IF(VLOOKUP(A507,eligibilité!$A$15:$AG$515,5,TRUE)=\"\",\"\",VLOOKUP(A507,eligibilité!$A$15:$AG$515,5,TRUE)))","v":""},{"$f":"IF(A507=\"\",\"\",IF(VLOOKUP(A507,eligibilité!$A$15:$AG$515,6,TRUE)=\"\",\"\",VLOOKUP(A507,eligibilité!$A$15:$AG$515,6,TRUE)))","v":""},{"$f":"IF(A507=\"\",\"\",IF(VLOOKUP(A507,eligibilité!$A$15:$AG$515,7,TRUE)=\"\",\"\",VLOOKUP(A507,eligibilité!$A$15:$AG$515,7,TRUE)))","v":""},{"$f":"IF(A507=\"\",\"\",IF(VLOOKUP(A507,eligibilité!$A$15:$AG$515,8,TRUE)=\"\",\"\",VLOOKUP(A507,eligibilité!$A$15:$AG$515,8,TRUE)))","v":""},{"$f":"IF(A507=\"\",\"\",IF(VLOOKUP(A507,eligibilité!$A$15:$AG$515,9,TRUE)=\"\",\"\",VLOOKUP(A507,eligibilité!$A$15:$AG$515,9,TRUE)))","v":""},{"$f":"IF(A507=\"\",\"\",IF(VLOOKUP(A507,eligibilité!$A$15:$AG$515,10,TRUE)=\"\",\"\",VLOOKUP(A507,eligibilité!$A$15:$AG$515,10,TRUE)))","v":""},{"$f":"IF(A507=\"\",\"\",IF(VLOOKUP(A507,eligibilité!$A$15:$AG$515,30,FALSE)=0,\"\",VLOOKUP(A507,eligibilité!$A$15:$AG$515,30,FALSE)))","v":""},"","","","","","","",1305,"","","","","","","Temps restant : ",""]
[{"$f":"IF(eligibilité!AG510=\"\",\"\",eligibilité!A510)","v":""},{"$f":"IF(A508=\"\",\"\",IF(VLOOKUP(A508,eligibilité!$A$15:$J$515,2,TRUE)=\"\",\"\",VLOOKUP(A508,eligibilité!$A$15:$J$515,2,TRUE)))","v":""},{"$f":"IF(A508=\"\",\"\",IF(VLOOKUP(A508,eligibilité!$A$15:$AG$515,3,TRUE)=\"\",\"\",VLOOKUP(A508,eligibilité!$A$15:$AG$515,3,TRUE)))","v":""},{"$f":"IF(A508=\"\",\"\",IF(VLOOKUP(A508,eligibilité!$A$15:$AG$515,4,TRUE)=\"\",\"\",VLOOKUP(A508,eligibilité!$A$15:$AG$515,4,TRUE)))","v":""},{"$f":"IF(A508=\"\",\"\",IF(VLOOKUP(A508,eligibilité!$A$15:$AG$515,5,TRUE)=\"\",\"\",VLOOKUP(A508,eligibilité!$A$15:$AG$515,5,TRUE)))","v":""},{"$f":"IF(A508=\"\",\"\",IF(VLOOKUP(A508,eligibilité!$A$15:$AG$515,6,TRUE)=\"\",\"\",VLOOKUP(A508,eligibilité!$A$15:$AG$515,6,TRUE)))","v":""},{"$f":"IF(A508=\"\",\"\",IF(VLOOKUP(A508,eligibilité!$A$15:$AG$515,7,TRUE)=\"\",\"\",VLOOKUP(A508,eligibilité!$A$15:$AG$515,7,TRUE)))","v":""},{"$f":"IF(A508=\"\",\"\",IF(VLOOKUP(A508,eligibilité!$A$15:$AG$515,8,TRUE)=\"\",\"\",VLOOKUP(A508,eligibilité!$A$15:$AG$515,8,TRUE)))","v":""},{"$f":"IF(A508=\"\",\"\",IF(VLOOKUP(A508,eligibilité!$A$15:$AG$515,9,TRUE)=\"\",\"\",VLOOKUP(A508,eligibilité!$A$15:$AG$515,9,TRUE)))","v":""},{"$f":"IF(A508=\"\",\"\",IF(VLOOKUP(A508,eligibilité!$A$15:$AG$515,10,TRUE)=\"\",\"\",VLOOKUP(A508,eligibilité!$A$15:$AG$515,10,TRUE)))","v":""},{"$f":"IF(A508=\"\",\"\",IF(VLOOKUP(A508,eligibilité!$A$15:$AG$515,30,FALSE)=0,\"\",VLOOKUP(A508,eligibilité!$A$15:$AG$515,30,FALSE)))","v":""},"","","","","","","",1305,"","","","","","","Temps restant : ",""]
[{"$f":"IF(eligibilité!AG511=\"\",\"\",eligibilité!A511)","v":""},{"$f":"IF(A509=\"\",\"\",IF(VLOOKUP(A509,eligibilité!$A$15:$J$515,2,TRUE)=\"\",\"\",VLOOKUP(A509,eligibilité!$A$15:$J$515,2,TRUE)))","v":""},{"$f":"IF(A509=\"\",\"\",IF(VLOOKUP(A509,eligibilité!$A$15:$AG$515,3,TRUE)=\"\",\"\",VLOOKUP(A509,eligibilité!$A$15:$AG$515,3,TRUE)))","v":""},{"$f":"IF(A509=\"\",\"\",IF(VLOOKUP(A509,eligibilité!$A$15:$AG$515,4,TRUE)=\"\",\"\",VLOOKUP(A509,eligibilité!$A$15:$AG$515,4,TRUE)))","v":""},{"$f":"IF(A509=\"\",\"\",IF(VLOOKUP(A509,eligibilité!$A$15:$AG$515,5,TRUE)=\"\",\"\",VLOOKUP(A509,eligibilité!$A$15:$AG$515,5,TRUE)))","v":""},{"$f":"IF(A509=\"\",\"\",IF(VLOOKUP(A509,eligibilité!$A$15:$AG$515,6,TRUE)=\"\",\"\",VLOOKUP(A509,eligibilité!$A$15:$AG$515,6,TRUE)))","v":""},{"$f":"IF(A509=\"\",\"\",IF(VLOOKUP(A509,eligibilité!$A$15:$AG$515,7,TRUE)=\"\",\"\",VLOOKUP(A509,eligibilité!$A$15:$AG$515,7,TRUE)))","v":""},{"$f":"IF(A509=\"\",\"\",IF(VLOOKUP(A509,eligibilité!$A$15:$AG$515,8,TRUE)=\"\",\"\",VLOOKUP(A509,eligibilité!$A$15:$AG$515,8,TRUE)))","v":""},{"$f":"IF(A509=\"\",\"\",IF(VLOOKUP(A509,eligibilité!$A$15:$AG$515,9,TRUE)=\"\",\"\",VLOOKUP(A509,eligibilité!$A$15:$AG$515,9,TRUE)))","v":""},{"$f":"IF(A509=\"\",\"\",IF(VLOOKUP(A509,eligibilité!$A$15:$AG$515,10,TRUE)=\"\",\"\",VLOOKUP(A509,eligibilité!$A$15:$AG$515,10,TRUE)))","v":""},{"$f":"IF(A509=\"\",\"\",IF(VLOOKUP(A509,eligibilité!$A$15:$AG$515,30,FALSE)=0,\"\",VLOOKUP(A509,eligibilité!$A$15:$AG$515,30,FALSE)))","v":""},"","","","","","","",1305,"","","","","","","Temps restant : ",""]
[{"$f":"IF(eligibilité!AG512=\"\",\"\",eligibilité!A512)","v":""},{"$f":"IF(A510=\"\",\"\",IF(VLOOKUP(A510,eligibilité!$A$15:$J$515,2,TRUE)=\"\",\"\",VLOOKUP(A510,eligibilité!$A$15:$J$515,2,TRUE)))","v":""},{"$f":"IF(A510=\"\",\"\",IF(VLOOKUP(A510,eligibilité!$A$15:$AG$515,3,TRUE)=\"\",\"\",VLOOKUP(A510,eligibilité!$A$15:$AG$515,3,TRUE)))","v":""},{"$f":"IF(A510=\"\",\"\",IF(VLOOKUP(A510,eligibilité!$A$15:$AG$515,4,TRUE)=\"\",\"\",VLOOKUP(A510,eligibilité!$A$15:$AG$515,4,TRUE)))","v":""},{"$f":"IF(A510=\"\",\"\",IF(VLOOKUP(A510,eligibilité!$A$15:$AG$515,5,TRUE)=\"\",\"\",VLOOKUP(A510,eligibilité!$A$15:$AG$515,5,TRUE)))","v":""},{"$f":"IF(A510=\"\",\"\",IF(VLOOKUP(A510,eligibilité!$A$15:$AG$515,6,TRUE)=\"\",\"\",VLOOKUP(A510,eligibilité!$A$15:$AG$515,6,TRUE)))","v":""},{"$f":"IF(A510=\"\",\"\",IF(VLOOKUP(A510,eligibilité!$A$15:$AG$515,7,TRUE)=\"\",\"\",VLOOKUP(A510,eligibilité!$A$15:$AG$515,7,TRUE)))","v":""},{"$f":"IF(A510=\"\",\"\",IF(VLOOKUP(A510,eligibilité!$A$15:$AG$515,8,TRUE)=\"\",\"\",VLOOKUP(A510,eligibilité!$A$15:$AG$515,8,TRUE)))","v":""},{"$f":"IF(A510=\"\",\"\",IF(VLOOKUP(A510,eligibilité!$A$15:$AG$515,9,TRUE)=\"\",\"\",VLOOKUP(A510,eligibilité!$A$15:$AG$515,9,TRUE)))","v":""},{"$f":"IF(A510=\"\",\"\",IF(VLOOKUP(A510,eligibilité!$A$15:$AG$515,10,TRUE)=\"\",\"\",VLOOKUP(A510,eligibilité!$A$15:$AG$515,10,TRUE)))","v":""},{"$f":"IF(A510=\"\",\"\",IF(VLOOKUP(A510,eligibilité!$A$15:$AG$515,30,FALSE)=0,\"\",VLOOKUP(A510,eligibilité!$A$15:$AG$515,30,FALSE)))","v":""},"","","","","","","",1305,"","","","","","","Temps restant : ",""]
[{"$f":"IF(eligibilité!AG513=\"\",\"\",eligibilité!A513)","v":""},{"$f":"IF(A511=\"\",\"\",IF(VLOOKUP(A511,eligibilité!$A$15:$J$515,2,TRUE)=\"\",\"\",VLOOKUP(A511,eligibilité!$A$15:$J$515,2,TRUE)))","v":""},{"$f":"IF(A511=\"\",\"\",IF(VLOOKUP(A511,eligibilité!$A$15:$AG$515,3,TRUE)=\"\",\"\",VLOOKUP(A511,eligibilité!$A$15:$AG$515,3,TRUE)))","v":""},{"$f":"IF(A511=\"\",\"\",IF(VLOOKUP(A511,eligibilité!$A$15:$AG$515,4,TRUE)=\"\",\"\",VLOOKUP(A511,eligibilité!$A$15:$AG$515,4,TRUE)))","v":""},{"$f":"IF(A511=\"\",\"\",IF(VLOOKUP(A511,eligibilité!$A$15:$AG$515,5,TRUE)=\"\",\"\",VLOOKUP(A511,eligibilité!$A$15:$AG$515,5,TRUE)))","v":""},{"$f":"IF(A511=\"\",\"\",IF(VLOOKUP(A511,eligibilité!$A$15:$AG$515,6,TRUE)=\"\",\"\",VLOOKUP(A511,eligibilité!$A$15:$AG$515,6,TRUE)))","v":""},{"$f":"IF(A511=\"\",\"\",IF(VLOOKUP(A511,eligibilité!$A$15:$AG$515,7,TRUE)=\"\",\"\",VLOOKUP(A511,eligibilité!$A$15:$AG$515,7,TRUE)))","v":""},{"$f":"IF(A511=\"\",\"\",IF(VLOOKUP(A511,eligibilité!$A$15:$AG$515,8,TRUE)=\"\",\"\",VLOOKUP(A511,eligibilité!$A$15:$AG$515,8,TRUE)))","v":""},{"$f":"IF(A511=\"\",\"\",IF(VLOOKUP(A511,eligibilité!$A$15:$AG$515,9,TRUE)=\"\",\"\",VLOOKUP(A511,eligibilité!$A$15:$AG$515,9,TRUE)))","v":""},{"$f":"IF(A511=\"\",\"\",IF(VLOOKUP(A511,eligibilité!$A$15:$AG$515,10,TRUE)=\"\",\"\",VLOOKUP(A511,eligibilité!$A$15:$AG$515,10,TRUE)))","v":""},{"$f":"IF(A511=\"\",\"\",IF(VLOOKUP(A511,eligibilité!$A$15:$AG$515,30,FALSE)=0,\"\",VLOOKUP(A511,eligibilité!$A$15:$AG$515,30,FALSE)))","v":""},"","","","","","","",1305,"","","","","","","Temps restant : ",""]
[{"$f":"IF(eligibilité!AG514=\"\",\"\",eligibilité!A514)","v":""},{"$f":"IF(A512=\"\",\"\",IF(VLOOKUP(A512,eligibilité!$A$15:$J$515,2,TRUE)=\"\",\"\",VLOOKUP(A512,eligibilité!$A$15:$J$515,2,TRUE)))","v":""},{"$f":"IF(A512=\"\",\"\",IF(VLOOKUP(A512,eligibilité!$A$15:$AG$515,3,TRUE)=\"\",\"\",VLOOKUP(A512,eligibilité!$A$15:$AG$515,3,TRUE)))","v":""},{"$f":"IF(A512=\"\",\"\",IF(VLOOKUP(A512,eligibilité!$A$15:$AG$515,4,TRUE)=\"\",\"\",VLOOKUP(A512,eligibilité!$A$15:$AG$515,4,TRUE)))","v":""},{"$f":"IF(A512=\"\",\"\",IF(VLOOKUP(A512,eligibilité!$A$15:$AG$515,5,TRUE)=\"\",\"\",VLOOKUP(A512,eligibilité!$A$15:$AG$515,5,TRUE)))","v":""},{"$f":"IF(A512=\"\",\"\",IF(VLOOKUP(A512,eligibilité!$A$15:$AG$515,6,TRUE)=\"\",\"\",VLOOKUP(A512,eligibilité!$A$15:$AG$515,6,TRUE)))","v":""},{"$f":"IF(A512=\"\",\"\",IF(VLOOKUP(A512,eligibilité!$A$15:$AG$515,7,TRUE)=\"\",\"\",VLOOKUP(A512,eligibilité!$A$15:$AG$515,7,TRUE)))","v":""},{"$f":"IF(A512=\"\",\"\",IF(VLOOKUP(A512,eligibilité!$A$15:$AG$515,8,TRUE)=\"\",\"\",VLOOKUP(A512,eligibilité!$A$15:$AG$515,8,TRUE)))","v":""},{"$f":"IF(A512=\"\",\"\",IF(VLOOKUP(A512,eligibilité!$A$15:$AG$515,9,TRUE)=\"\",\"\",VLOOKUP(A512,eligibilité!$A$15:$AG$515,9,TRUE)))","v":""},{"$f":"IF(A512=\"\",\"\",IF(VLOOKUP(A512,eligibilité!$A$15:$AG$515,10,TRUE)=\"\",\"\",VLOOKUP(A512,eligibilité!$A$15:$AG$515,10,TRUE)))","v":""},{"$f":"IF(A512=\"\",\"\",IF(VLOOKUP(A512,eligibilité!$A$15:$AG$515,30,FALSE)=0,\"\",VLOOKUP(A512,eligibilité!$A$15:$AG$515,30,FALSE)))","v":""},"","",{"$f":"IF(L512=\"\",\"\",(L512-M512*12))","v":""},{"$f":"IF(L512=\"\",\"\",INT(N512))","v":""},{"$f":"IF(L512=\"\",\"\",ROUNDDOWN((N512-O512)*30.44,0))","v":""},{"$f":"IF(K512=\"\",\"\",CONCATENATE(M512,\" an(s) \",O512,\" mois \",P512,\" jour(s)\"))","v":""},{"$f":"IF(K512=\"\",\"\",M512*365.25+O512*30.44+P512)","v":""},1305,{"$f":"IF(R512=\"\",\"\",R512-S512)","v":""},{"$f":"IF(L512=\"\",\"\",IF(T512<=365.25,0,INT(T512/365.25)))","v":""},{"$f":"IF(T512=\"\",\"\",T512-U512)","v":""},{"$f":"IF(L512=\"\",\"\",IF(U512=0,(T512/30.44),(T512/30.44)-12))","v":""},{"$f":"IF(W512=\"\",\"\",ABS(ROUNDDOWN(W512,0)))","v":""},{"$f":"IF(T512=\"\",\"\",ROUNDDOWN(ABS(W512-ROUNDDOWN(W512,0))*30.44,0))","v":""},{"$f":"IF(T512<=0,\"Temps écoulé depuis : \",\"Temps restant : \")","v":"Temps restant : "},{"$f":"IF(L512=\"\",\"\",CONCATENATE(Z512,U512,\" an(s) \",X512,\" mois \",Y512,\" jour(s) \"))","v":""}]
[{"$f":"IF(eligibilité!AG515=\"\",\"\",eligibilité!A515)","v":""},{"$f":"IF(A513=\"\",\"\",IF(VLOOKUP(A513,eligibilité!$A$15:$J$515,2,TRUE)=\"\",\"\",VLOOKUP(A513,eligibilité!$A$15:$J$515,2,TRUE)))","v":""},{"$f":"IF(A513=\"\",\"\",IF(VLOOKUP(A513,eligibilité!$A$15:$AG$515,3,TRUE)=\"\",\"\",VLOOKUP(A513,eligibilité!$A$15:$AG$515,3,TRUE)))","v":""},{"$f":"IF(A513=\"\",\"\",IF(VLOOKUP(A513,eligibilité!$A$15:$AG$515,4,TRUE)=\"\",\"\",VLOOKUP(A513,eligibilité!$A$15:$AG$515,4,TRUE)))","v":""},{"$f":"IF(A513=\"\",\"\",IF(VLOOKUP(A513,eligibilité!$A$15:$AG$515,5,TRUE)=\"\",\"\",VLOOKUP(A513,eligibilité!$A$15:$AG$515,5,TRUE)))","v":""},{"$f":"IF(A513=\"\",\"\",IF(VLOOKUP(A513,eligibilité!$A$15:$AG$515,6,TRUE)=\"\",\"\",VLOOKUP(A513,eligibilité!$A$15:$AG$515,6,TRUE)))","v":""},{"$f":"IF(A513=\"\",\"\",IF(VLOOKUP(A513,eligibilité!$A$15:$AG$515,7,TRUE)=\"\",\"\",VLOOKUP(A513,eligibilité!$A$15:$AG$515,7,TRUE)))","v":""},{"$f":"IF(A513=\"\",\"\",IF(VLOOKUP(A513,eligibilité!$A$15:$AG$515,8,TRUE)=\"\",\"\",VLOOKUP(A513,eligibilité!$A$15:$AG$515,8,TRUE)))","v":""},{"$f":"IF(A513=\"\",\"\",IF(VLOOKUP(A513,eligibilité!$A$15:$AG$515,9,TRUE)=\"\",\"\",VLOOKUP(A513,eligibilité!$A$15:$AG$515,9,TRUE)))","v":""},{"$f":"IF(A513=\"\",\"\",IF(VLOOKUP(A513,eligibilité!$A$15:$AG$515,10,TRUE)=\"\",\"\",VLOOKUP(A513,eligibilité!$A$15:$AG$515,10,TRUE)))","v":""},{"$f":"IF(A513=\"\",\"\",IF(VLOOKUP(A513,eligibilité!$A$15:$AG$515,30,FALSE)=0,\"\",VLOOKUP(A513,eligibilité!$A$15:$AG$515,30,FALSE)))","v":""},"","",{"$f":"IF(L513=\"\",\"\",(L513-M513*12))","v":""},{"$f":"IF(L513=\"\",\"\",INT(N513))","v":""},{"$f":"IF(L513=\"\",\"\",ROUNDDOWN((N513-O513)*30.44,0))","v":""},{"$f":"IF(K513=\"\",\"\",CONCATENATE(M513,\" an(s) \",O513,\" mois \",P513,\" jour(s)\"))","v":""},{"$f":"IF(K513=\"\",\"\",M513*365.25+O513*30.44+P513)","v":""},1305,{"$f":"IF(R513=\"\",\"\",R513-S513)","v":""},{"$f":"IF(L513=\"\",\"\",IF(T513<=365.25,0,INT(T513/365.25)))","v":""},{"$f":"IF(T513=\"\",\"\",T513-U513)","v":""},{"$f":"IF(L513=\"\",\"\",IF(U513=0,(T513/30.44),(T513/30.44)-12))","v":""},{"$f":"IF(W513=\"\",\"\",ABS(ROUNDDOWN(W513,0)))","v":""},{"$f":"IF(T513=\"\",\"\",ROUNDDOWN(ABS(W513-ROUNDDOWN(W513,0))*30.44,0))","v":""},{"$f":"IF(T513<=0,\"Temps écoulé depuis : \",\"Temps restant : \")","v":"Temps restant : "},{"$f":"IF(L513=\"\",\"\",CONCATENATE(Z513,U513,\" an(s) \",X513,\" mois \",Y513,\" jour(s) \"))","v":""}]

{"sheet":"Edition","index":7,"n_rows":733,"n_cols":23,"rows_kept":733,"cut":false,"hidden":false,"merged":[[1,0,1,10],[12,4,12,9],[10,4,10,9],[4,5,4,10],[5,5,5,10],[16,0,16,2],[37,7,37,9],[77,4,77,6],[77,7,77,9],[43,8,43,10],[51,8,51,10],[50,8,50,10],[49,8,49,10],[48,8,48,10],[47,8,47,10],[49,2,49,3],[48,2,48,3],[47,2,47,3],[46,2,46,3],[52,8,52,10],[75,0,75,10],[52,2,52,3],[43,2,43,3],[46,8,46,10],[45,8,45,10],[44,8,44,10],[44,2,44,3],[53,2,53,3],[45,2,45,3],[26,4,26,9],[28,4,28,9],[18,4,18,9],[20,4,20,9],[22,4,22,9],[14,4,14,9],[8,0,8,10],[24,0,24,10],[3,1,3,9],[53,8,53,10],[86,2,86,3],[96,2,96,3],[87,2,87,3],[82,7,84,9],[89,2,89,3],[90,2,90,3],[91,2,91,3],[92,2,92,3],[93,2,93,3],[88,2,88,3],[26,0,26,1],[28,0,28,1],[35,0,35,10],[51,2,51,3],[50,2,50,3],[30,4,30,5],[34,7,34,9],[34,4,34,6],[32,0,32,10],[112,0,112,10],[203,0,203,3],[39,0,41,2],[79,0,81,2],[82,0,84,2],[136,0,136,10],[37,4,37,6],[110,2,110,3],[102,2,102,3],[108,2,108,3],[103,2,103,3],[111,0,111,10],[138,0,138,10],[30,0,30,1],[104,2,104,3],[105,2,105,3],[101,2,101,3],[109,2,109,3],[56,0,56,10],[98,0,98,10],[115,0,115,10],[106,2,106,3],[107,2,107,3],[94,2,94,3],[95,2,95,3],[100,2,100,3],[200,0,200,3],[166,0,166,3],[165,0,165,3],[182,0,182,3],[181,0,181,3],[180,0,180,3],[167,0,167,3],[179,0,179,3],[172,0,172,3],[169,0,169,3],[157,0,157,3],[151,0,151,3],[150,0,150,3],[156,0,156,3],[155,0,155,3],[154,0,154,3],[153,0,153,3],[161,0,161,3],[160,0,160,3],[148,7,148,9],[159,0,159,3],[158,0,158,3],[139,0,139,10],[204,0,204,10],[208,7,208,9],[210,0,210,3],[211,0,211,3],[225,1,225,4],[226,1,226,4],[214,0,214,3],[215,0,215,3],[221,0,221,10],[206,1,206,10],[143,0,143,10],[193,0,193,3],[192,0,192,3],[191,0,191,3],[190,0,190,3],[189,0,189,3],[187,0,187,3],[186,0,186,3],[185,0,185,3],[164,0,164,3],[188,0,188,3],[202,0,202,3],[201,0,201,3],[199,0,199,3],[198,0,198,3],[197,0,197,3],[196,0,196,3],[195,0,195,3],[194,0,194,3],[152,0,152,3],[163,0,163,3],[162,0,162,3],[245,1,245,4],[246,1,246,4],[247,1,247,4],[242,1,242,4],[243,1,243,4],[244,1,244,4],[239,1,239,4],[240,1,240,4],[241,1,241,4],[236,1,236,4],[237,1,237,4],[238,1,238,4],[233,1,233,4],[234,1,234,4],[235,1,235,4],[230,1,230,4],[231,1,231,4],[232,1,232,4],[263,1,263,4],[264,1,264,4],[265,1,265,4],[260,1,260,4],[261,1,261,4],[262,1,262,4],[257,1,257,4],[258,1,258,4],[259,1,259,4],[254,1,254,4],[255,1,255,4],[256,1,256,4],[251,1,251,4],[252,1,252,4],[253,1,253,4],[248,1,248,4],[249,1,249,4],[250,1,250,4],[281,1,281,4],[282,1,282,4],[283,1,283,4],[278,1,278,4],[279,1,279,4],[280,1,280,4],[275,1,275,4],[276,1,276,4],[277,1,277,4],[272,1,272,4],[273,1,273,4],[274,1,274,4],[269,1,269,4],[270,1,270,4],[271,1,271,4],[266,1,266,4],[267,1,267,4],[268,1,268,4],[299,1,299,4],[300,1,300,4],[301,1,301,4],[296,1,296,4],[297,1,297,4],[298,1,298,4],[293,1,293,4],[294,1,294,4],[295,1,295,4],[290,1,290,4],[291,1,291,4],[292,1,292,4],[287,1,287,4],[288,1,288,4],[289,1,289,4],[284,1,284,4],[285,1,285,4],[286,1,286,4],[317,1,317,4],[318,1,318,4],[319,1,319,4],[314,1,314,4],[315,1,315,4],[316,1,316,4],[311,1,311,4],[312,1,312,4],[313,1,313,4],[308,1,308,4],[309,1,309,4],[310,1,310,4],[305,1,305,4],[306,1,306,4],[307,1,307,4],[302,1,302,4],[303,1,303,4],[304,1,304,4],[335,1,335,4],[336,1,336,4],[337,1,337,4],[332,1,332,4],[333,1,333,4],[334,1,334,4],[329,1,329,4],[330,1,330,4],[331,1,331,4],[326,1,326,4],[327,1,327,4],[328,1,328,4],[323,1,323,4],[324,1,324,4],[325,1,325,4],[320,1,320,4],[321,1,321,4],[322,1,322,4],[353,1,353,4],[354,1,354,4],[355,1,355,4],[350,1,350,4],[351,1,351,4],[352,1,352,4],[347,1,347,4],[348,1,348,4],[349,1,349,4],[344,1,344,4],[345,1,345,4],[346,1,346,4],[341,1,341,4],[342,1,342,4],[343,1,343,4],[338,1,338,4],[339,1,339,4],[340,1,340,4],[371,1,371,4],[372,1,372,4],[373,1,373,4],[368,1,368,4],[369,1,369,4],[370,1,370,4],[365,1,365,4],[366,1,366,4],[367,1,367,4],[362,1,362,4],[363,1,363,4],[364,1,364,4],[359,1,359,4],[360,1,360,4],[361,1,361,4],[356,1,356,4],[357,1,357,4],[358,1,358,4],[389,1,389,4],[390,1,390,4],[391,1,391,4],[386,1,386,4],[387,1,387,4],[388,1,388,4],[383,1,383,4],[384,1,384,4],[385,1,385,4],[380,1,380,4],[381,1,381,4],[382,1,382,4],[377,1,377,4],[378,1,378,4],[379,1,379,4],[374,1,374,4],[375,1,375,4],[376,1,376,4],[395,1,395,4],[396,1,396,4],[397,1,397,4],[418,7,418,9],[419,7,419,9],[420,7,420,9],[396,7,396,9],[405,7,405,9],[406,7,406,9],[407,7,407,9],[408,7,408,9],[401,7,401,9],[402,7,402,9],[403,7,403,9],[404,7,404,9],[413,7,413,9],[392,1,392,4],[393,1,393,4],[394,1,394,4],[426,1,426,4],[397,7,397,9],[398,7,398,9],[399,7,399,9],[422,1,422,4],[423,1,423,4],[424,1,424,4],[425,7,425,9],[417,1,417,4],[418,1,418,4],[413,1,413,4],[414,1,414,4],[415,1,415,4],[410,1,410,4],[411,1,411,4],[412,1,412,4],[422,7,422,9],[423,7,423,9],[424,7,424,9],[417,7,417,9],[385,7,385,9],[386,7,386,9],[387,7,387,9],[388,7,388,9],[426,7,426,9],[421,7,421,9],[400,7,400,9],[393,7,393,9],[394,7,394,9],[395,7,395,9],[213,0,213,3],[170,0,170,3],[140,0,140,10],[225,13,225,16],[218,0,218,10],[425,1,425,4],[419,1,419,4],[420,1,420,4],[421,1,421,4],[416,1,416,4],[407,1,407,4],[408,1,408,4],[409,1,409,4],[404,1,404,4],[405,1,405,4],[406,1,406,4],[401,1,401,4],[402,1,402,4],[403,1,403,4],[398,1,398,4],[399,1,399,4],[400,1,400,4],[368,7,368,9],[361,7,361,9],[362,7,362,9],[363,7,363,9],[364,7,364,9],[373,7,373,9],[374,7,374,9],[375,7,375,9],[414,7,414,9],[415,7,415,9],[416,7,416,9],[409,7,409,9],[410,7,410,9],[411,7,411,9],[412,7,412,9],[376,7,376,9],[369,7,369,9],[370,7,370,9],[371,7,371,9],[372,7,372,9],[381,7,381,9],[382,7,382,9],[383,7,383,9],[384,7,384,9],[377,7,377,9],[378,7,378,9],[379,7,379,9],[380,7,380,9],[389,7,389,9],[390,7,390,9],[391,7,391,9],[392,7,392,9],[351,7,351,9],[352,7,352,9],[345,7,345,9],[346,7,346,9],[347,7,347,9],[348,7,348,9],[357,7,357,9],[358,7,358,9],[359,7,359,9],[360,7,360,9],[353,7,353,9],[354,7,354,9],[355,7,355,9],[356,7,356,9],[365,7,365,9],[366,7,366,9],[367,7,367,9],[334,7,334,9],[335,7,335,9],[336,7,336,9],[329,7,329,9],[330,7,330,9],[331,7,331,9],[332,7,332,9],[341,7,341,9],[342,7,342,9],[343,7,343,9],[344,7,344,9],[337,7,337,9],[338,7,338,9],[339,7,339,9],[340,7,340,9],[349,7,349,9],[350,7,350,9],[317,7,317,9],[318,7,318,9],[319,7,319,9],[320,7,320,9],[313,7,313,9],[314,7,314,9],[315,7,315,9],[316,7,316,9],[325,7,325,9],[326,7,326,9],[327,7,327,9],[328,7,328,9],[321,7,321,9],[322,7,322,9],[323,7,323,9],[324,7,324,9],[333,7,333,9],[296,7,296,9],[289,7,289,9],[290,7,290,9],[291,7,291,9],[292,7,292,9],[301,7,301,9],[302,7,302,9],[303,7,303,9],[304,7,304,9],[297,7,297,9],[298,7,298,9],[299,7,299,9],[300,7,300,9],[309,7,309,9],[310,7,310,9],[311,7,311,9],[312,7,312,9],[305,7,305,9],[306,7,306,9],[307,7,307,9],[308,7,308,9],[279,7,279,9],[280,7,280,9],[273,7,273,9],[274,7,274,9],[275,7,275,9],[276,7,276,9],[285,7,285,9],[286,7,286,9],[287,7,287,9],[288,7,288,9],[281,7,281,9],[282,7,282,9],[283,7,283,9],[284,7,284,9],[293,7,293,9],[294,7,294,9],[295,7,295,9],[262,7,262,9],[263,7,263,9],[264,7,264,9],[257,7,257,9],[258,7,258,9],[259,7,259,9],[260,7,260,9],[269,7,269,9],[270,7,270,9],[271,7,271,9],[272,7,272,9],[265,7,265,9],[266,7,266,9],[267,7,267,9],[268,7,268,9],[277,7,277,9],[278,7,278,9],[245,7,245,9],[246,7,246,9],[247,7,247,9],[248,7,248,9],[241,7,241,9],[242,7,242,9],[243,7,243,9],[244,7,244,9],[253,7,253,9],[254,7,254,9],[255,7,255,9],[256,7,256,9],[249,7,249,9],[250,7,250,9],[251,7,251,9],[252,7,252,9],[261,7,261,9],[230,7,230,9],[231,7,231,9],[232,7,232,9],[212,0,212,3],[229,1,229,4],[225,7,225,9],[226,7,226,9],[227,7,227,9],[228,7,228,9],[227,1,227,4],[228,1,228,4],[229,7,229,9],[237,7,237,9],[238,7,238,9],[239,7,239,9],[240,7,240,9],[233,7,233,9],[234,7,234,9],[235,7,235,9],[236,7,236,9],[434,1,434,4],[434,7,434,9],[435,1,435,4],[435,7,435,9],[432,1,432,4],[432,7,432,9],[433,1,433,4],[433,7,433,9],[430,1,430,4],[430,7,430,9],[431,1,431,4],[431,7,431,9],[428,1,428,4],[428,7,428,9],[429,1,429,4],[429,7,429,9],[427,1,427,4],[427,7,427,9],[444,1,444,4],[444,7,444,9],[445,1,445,4],[445,7,445,9],[442,1,442,4],[442,7,442,9],[443,1,443,4],[443,7,443,9],[440,1,440,4],[440,7,440,9],[441,1,441,4],[441,7,441,9],[438,1,438,4],[438,7,438,9],[439,1,439,4],[439,7,439,9],[436,1,436,4],[436,7,436,9],[437,1,437,4],[437,7,437,9],[454,1,454,4],[454,7,454,9],[455,1,455,4],[455,7,455,9],[452,1,452,4],[452,7,452,9],[453,1,453,4],[453,7,453,9],[450,1,450,4],[450,7,450,9],[451,1,451,4],[451,7,451,9],[448,1,448,4],[448,7,448,9],[449,1,449,4],[449,7,449,9],[446,1,446,4],[446,7,446,9],[447,1,447,4],[447,7,447,9],[464,1,464,4],[464,7,464,9],[465,1,465,4],[465,7,465,9],[462,1,462,4],[462,7,462,9],[463,1,463,4],[463,7,463,9],[460,1,460,4],[460,7,460,9],[461,1,461,4],[461,7,461,9],[458,1,458,4],[458,7,458,9],[459,1,459,4],[459,7,459,9],[456,1,456,4],[456,7,456,9],[457,1,457,4],[457,7,457,9],[474,1,474,4],[474,7,474,9],[475,1,475,4],[475,7,475,9],[472,1,472,4],[472,7,472,9],[473,1,473,4],[473,7,473,9],[470,1,470,4],[470,7,470,9],[471,1,471,4],[471,7,471,9],[468,1,468,4],[468,7,468,9],[469,1,469,4],[469,7,469,9],[466,1,466,4],[466,7,466,9],[467,1,467,4],[467,7,467,9],[484,1,484,4],[484,7,484,9],[485,1,485,4],[485,7,485,9],[482,1,482,4],[482,7,482,9],[483,1,483,4],[483,7,483,9],[480,1,480,4],[480,7,480,9],[481,1,481,4],[481,7,481,9],[478,1,478,4],[478,7,478,9],[479,1,479,4],[479,7,479,9],[476,1,476,4],[476,7,476,9],[477,1,477,4],[477,7,477,9],[494,1,494,4],[494,7,494,9],[495,1,495,4],[495,7,495,9],[492,1,492,4],[492,7,492,9],[493,1,493,4],[493,7,493,9],[490,1,490,4],[490,7,490,9],[491,1,491,4],[491,7,491,9],[488,1,488,4],[488,7,488,9],[489,1,489,4],[489,7,489,9],[486,1,486,4],[486,7,486,9],[487,1,487,4],[487,7,487,9],[504,1,504,4],[504,7,504,9],[505,1,505,4],[505,7,505,9],[502,1,502,4],[502,7,502,9],[503,1,503,4],[503,7,503,9],[500,1,500,4],[500,7,500,9],[501,1,501,4],[501,7,501,9],[498,1,498,4],[498,7,498,9],[499,1,499,4],[499,7,499,9],[496,1,496,4],[496,7,496,9],[497,1,497,4],[497,7,497,9],[514,1,514,4],[514,7,514,9],[515,1,515,4],[515,7,515,9],[512,1,512,4],[512,7,512,9],[513,1,513,4],[513,7,513,9],[510,1,510,4],[510,7,510,9],[511,1,511,4],[511,7,511,9],[508,1,508,4],[508,7,508,9],[509,1,509,4],[509,7,509,9],[506,1,506,4],[506,7,506,9],[507,1,507,4],[507,7,507,9],[524,1,524,4],[524,7,524,9],[525,1,525,4],[525,7,525,9],[522,1,522,4],[522,7,522,9],[523,1,523,4],[523,7,523,9],[520,1,520,4],[520,7,520,9],[521,1,521,4],[521,7,521,9],[518,1,518,4],[518,7,518,9],[519,1,519,4],[519,7,519,9],[516,1,516,4],[516,7,516,9],[517,1,517,4],[517,7,517,9],[534,1,534,4],[534,7,534,9],[535,1,535,4],[535,7,535,9],[532,1,532,4],[532,7,532,9],[533,1,533,4],[533,7,533,9],[530,1,530,4],[530,7,530,9],[531,1,531,4],[531,7,531,9],[528,1,528,4],[528,7,528,9],[529,1,529,4],[529,7,529,9],[526,1,526,4],[526,7,526,9],[527,1,527,4],[527,7,527,9],[544,1,544,4],[544,7,544,9],[545,1,545,4],[545,7,545,9],[542,1,542,4],[542,7,542,9],[543,1,543,4],[543,7,543,9],[540,1,540,4],[540,7,540,9],[541,1,541,4],[541,7,541,9],[538,1,538,4],[538,7,538,9],[539,1,539,4],[539,7,539,9],[536,1,536,4],[536,7,536,9],[537,1,537,4],[537,7,537,9],[554,1,554,4],[554,7,554,9],[555,1,555,4],[555,7,555,9],[552,1,552,4],[552,7,552,9],[553,1,553,4],[553,7,553,9],[550,1,550,4],[550,7,550,9],[551,1,551,4],[551,7,551,9],[548,1,548,4],[548,7,548,9],[549,1,549,4],[549,7,549,9],[546,1,546,4],[546,7,546,9],[547,1,547,4],[547,7,547,9],[564,1,564,4],[564,7,564,9],[565,1,565,4],[565,7,565,9],[562,1,562,4],[562,7,562,9],[563,1,563,4],[563,7,563,9],[560,1,560,4],[560,7,560,9],[561,1,561,4],[561,7,561,9],[558,1,558,4],[558,7,558,9],[559,1,559,4],[559,7,559,9],[556,1,556,4],[556,7,556,9],[557,1,557,4],[557,7,557,9],[574,1,574,4],[574,7,574,9],[575,1,575,4],[575,7,575,9],[572,1,572,4],[572,7,572,9],[573,1,573,4],[573,7,573,9],[570,1,570,4],[570,7,570,9],[571,1,571,4],[571,7,571,9],[568,1,568,4],[568,7,568,9],[569,1,569,4],[569,7,569,9],[566,1,566,4],[566,7,566,9],[567,1,567,4],[567,7,567,9],[584,1,584,4],[584,7,584,9],[585,1,585,4],[585,7,585,9],[582,1,582,4],[582,7,582,9],[583,1,583,4],[583,7,583,9],[580,1,580,4],[580,7,580,9],[581,1,581,4],[581,7,581,9],[578,1,578,4],[578,7,578,9],[579,1,579,4],[579,7,579,9],[576,1,576,4],[576,7,576,9],[577,1,577,4],[577,7,577,9],[594,1,594,4],[594,7,594,9],[595,1,595,4],[595,7,595,9],[592,1,592,4],[592,7,592,9],[593,1,593,4],[593,7,593,9],[590,1,590,4],[590,7,590,9],[591,1,591,4],[591,7,591,9],[588,1,588,4],[588,7,588,9],[589,1,589,4],[589,7,589,9],[586,1,586,4],[586,7,586,9],[587,1,587,4],[587,7,587,9],[604,1,604,4],[604,7,604,9],[605,1,605,4],[605,7,605,9],[602,1,602,4],[602,7,602,9],[603,1,603,4],[603,7,603,9],[600,1,600,4],[600,7,600,9],[601,1,601,4],[601,7,601,9],[598,1,598,4],[598,7,598,9],[599,1,599,4],[599,7,599,9],[596,1,596,4],[596,7,596,9],[597,1,597,4],[597,7,597,9],[614,1,614,4],[614,7,614,9],[615,1,615,4],[615,7,615,9],[612,1,612,4],[612,7,612,9],[613,1,613,4],[613,7,613,9],[610,1,610,4],[610,7,610,9],[611,1,611,4],[611,7,611,9],[608,1,608,4],[608,7,608,9],[609,1,609,4],[609,7,609,9],[606,1,606,4],[606,7,606,9],[607,1,607,4],[607,7,607,9],[624,1,624,4],[624,7,624,9],[625,1,625,4],[625,7,625,9],[622,1,622,4],[622,7,622,9],[623,1,623,4],[623,7,623,9],[620,1,620,4],[620,7,620,9],[621,1,621,4],[621,7,621,9],[618,1,618,4],[618,7,618,9],[619,1,619,4],[619,7,619,9],[616,1,616,4],[616,7,616,9],[617,1,617,4],[617,7,617,9],[634,1,634,4],[634,7,634,9],[635,1,635,4],[635,7,635,9],[632,1,632,4],[632,7,632,9],[633,1,633,4],[633,7,633,9],[630,1,630,4],[630,7,630,9],[631,1,631,4],[631,7,631,9],[628,1,628,4],[628,7,628,9],[629,1,629,4],[629,7,629,9],[626,1,626,4],[626,7,626,9],[627,1,627,4],[627,7,627,9],[644,1,644,4],[644,7,644,9],[645,1,645,4],[645,7,645,9],[642,1,642,4],[642,7,642,9],[643,1,643,4],[643,7,643,9],[640,1,640,4],[640,7,640,9],[641,1,641,4],[641,7,641,9],[638,1,638,4],[638,7,638,9],[639,1,639,4],[639,7,639,9],[636,1,636,4],[636,7,636,9],[637,1,637,4],[637,7,637,9],[654,1,654,4],[654,7,654,9],[655,1,655,4],[655,7,655,9],[652,1,652,4],[652,7,652,9],[653,1,653,4],[653,7,653,9],[650,1,650,4],[650,7,650,9],[651,1,651,4],[651,7,651,9],[648,1,648,4],[648,7,648,9],[649,1,649,4]],"merged_total":1164,"flags":["merged_cut"]}
[]
["Rapport portant sur la situation des agents \net\nprogramme pluriannuel d'accès à l'emploi titulaire\n(Loi n°2012-347 du 12 mars 2012 modifiée par la loi n°2016-483)"]
[null,"Article n°17 de la loi n° 2012-347 du 12 mars 2012 modifiée"]
[null,"\"Dans un délai de trois mois suivant la publication des décrets prévus à l'article 16, l'autorité territoriale présente au comité technique compétent un rapport sur la situation des agents remplissant les conditions définies aux articles 14 et 15 ainsi qu'un programme pluriannuel d'accès à l'emploi titulaire. Ce programme détermine notamme\"\"\"Dans un délai de trois mois à compter de la publication du décret pris pour l'application de la présente loi dans sa rédaction résultant de la loi n°2016-483 du 20 avril 2016 relative à la déontologie et aux droits et obligations des fonctionnaires, l'autorité territoriale présente au comité technique compétent un bilan sur la mise en oeuvre du programme pluriannuel d'accès à l'emploi titulaire prévu au présent article, dans sa rédaction antérieure à la loi n°2016-483 du 20 avril 2016 précitée, comportant, le cas échéant, le bilan de la transformation des contrats à durée déterminée en contrats à durée indéterminée, en application des articles 21 et 41 de la présente loi. L'autorité présente également un rapport sur la situation des agents remplissant les conditions définies aux articles 14 et 15 ainsi qu'un programme pluriannuel d'accès à l'emploi titulaire. Ce programme détermine notamment, en fonction des besoins de la collectivité territoriale ou de l'établissement public intéressé et des objectifs de la gestion prévisionnelle des effectifs, des emplois et des compétences, les cadres d'emplois ouverts aux recrutements réservés, le nombre d'emplois ouverts à chacun de ces recrutements et leur répartition entre les sessions successives de recrutement. \n Pour les établissements publics de coopération intercommunale à fisccalité propre mis en place au 1er janvier 2017, le rapport et le programme pluriannuel prévus aux deux dernières phrases du premier alinéa sont présentés par l'autorité territoriale au comité technique au plus tard le 30 juin 2017. \nLa présentation du rapport et du programme donne lieu à un avis du comité technique dans les conditions fixées à l'article 33 de la loi n° 84-53 du 26 janvier 1984 précitée.\nLe programme pluriannuel d'accès à l'emploi est soumis à l'approbation de l'organe délibérant de la collectivité ou de l'établissement public, puis mis en œuvre par  l'autorité territoriale.\"       "]
[null,null,null,null,null,"Le présent dossier est présenté, pour avis, au Comité Technique du …/…/……"]
[null,null,null,null,null,"Fait à …………………, le "]
[null,null,null,null,null,"Signature de l'Autorité territoriale"]
["I - DONNEES GENERALES DE LA COLLECTIVITE"]
["1. Informations générales"]
[]
["Nom de votre collectivité :",null,null,null,""]
[]
["Type de collectivité :",null,null,null,{"$f":"IF(ISNA(VLOOKUP(E11,Collectivités!A2:G367,4,TRUE)),\"\",VLOOKUP(E11,Collectivités!A2:G367,4,TRUE))","v":""}]
[]
["Type de CTP :",null,null,null,{"$f":"IF(ISNA(VLOOKUP(E11,Collectivités!A2:G367,5,TRUE)),\"\",VLOOKUP(E11,Collectivités!A2:G367,5,TRUE))","v":""}]
[]
["Date de la situation  exposée"]
[]
["Nombre d'agents titulaires et stagiaires"]
[]
["Nombre d'agents non-titulaires"]
[]
["Nombre d'agents sous contrats privés"]
[]
["2. Coordonnées de la personne en charge du dossier"]
[]
["Nom et prénom :"]
[]
["Courriel :"]
[]
["Téléphone :",null,null,null,null,null,null,"saisissez votre numéro au kilométre (sans espaces, sans points, sans tirets)"]
[null,null,null,null,null,null,null,"ex : 0492273434 ce qui affichera 04 92 27 34 34"]
["II. RAPPORT SUR LA SITUATION DES AGENTS\nREMPLISSANT LES CONDITIONS DEFINIES AUX ARTICLES 14 ET 15"]
[]
[]
["1. Rapport sur l'éligibilité des agents au dispositif de CDIsation"]
[]
[null,null,null,null,"Nombre de dossiers eligibles",null,null,"Nombre de dossiers non eligibles"]
[null,null,null,null,"Hommes","Femmes","Total","Hommes","Femmes","Total"]
["Transformation de plein droit du contrat à durée déterminée (CDD) en contrat à durée indéterminée (CDI)",null,null,"Cat. A",{"$f":"SUMPRODUCT((Cdisation!$O$16:$O$515=\"Eligible\")*(Cdisation!$J$16:$J$515=\"H\")*(Cdisation!$H$16:$H$515=\"Cat. A\"))","v":0},{"$f":"SUMPRODUCT((Cdisation!$O$16:$O$515=\"Eligible\")*(Cdisation!$J$16:$J$515=\"F\")*(Cdisation!$H$16:$H$515=\"Cat. A\"))","v":0},{"$f":"E40+F40","v":0},{"$f":"SUMPRODUCT((Cdisation!$O$16:$O$515=\"Non éligible\")*(Cdisation!$J$16:$J$515=\"H\")*(Cdisation!$H$16:$H$515=\"Cat. A\"))","v":0},{"$f":"SUMPRODUCT((Cdisation!$O$16:$O$515=\"Non éligible\")*(Cdisation!$J$16:$J$515=\"F\")*(Cdisation!$H$16:$H$515=\"Cat. A\"))","v":0},{"$f":"H40+I40","v":0}]
[null,null,null,"Cat. B",{"$f":"SUMPRODUCT((Cdisation!$O$16:$O$515=\"Eligible\")*(Cdisation!$J$16:$J$515=\"H\")*(Cdisation!$H$16:$H$515=\"Cat. B\"))","v":0},{"$f":"SUMPRODUCT((Cdisation!$O$16:$O$515=\"Eligible\")*(Cdisation!$J$16:$J$515=\"F\")*(Cdisation!$H$16:$H$515=\"Cat. B\"))","v":0},{"$f":"E41+F41","v":0},{"$f":"SUMPRODUCT((Cdisation!$O$16:$O$515=\"Non éligible\")*(Cdisation!$J$16:$J$515=\"H\")*(Cdisation!$H$16:$H$515=\"Cat. B\"))","v":0},{"$f":"SUMPRODUCT((Cdisation!$O$16:$O$515=\"Non éligible\")*(Cdisation!$J$16:$J$515=\"F\")*(Cdisation!$H$16:$H$515=\"Cat. B\"))","v":0},{"$f":"H41+I41","v":0}]
[null,null,null,"Cat. C",{"$f":"SUMPRODUCT((Cdisation!$O$16:$O$515=\"Eligible\")*(Cdisation!$J$16:$J$515=\"H\")*(Cdisation!$H$16:$H$515=\"Cat. C\"))","v":0},{"$f":"SUMPRODUCT((Cdisation!$O$16:$O$515=\"Eligible\")*(Cdisation!$J$16:$J$515=\"F\")*(Cdisation!$H$16:$H$515=\"Cat. C\"))","v":0},{"$f":"E42+F42","v":0},{"$f":"SUMPRODUCT((Cdisation!$O$16:$O$515=\"Non éligible\")*(Cdisation!$J$16:$J$515=\"H\")*(Cdisation!$H$16:$H$515=\"Cat. C\"))","v":0},{"$f":"SUMPRODUCT((Cdisation!$O$16:$O$515=\"Non éligible\")*(Cdisation!$J$16:$J$515=\"F\")*(Cdisation!$H$16:$H$515=\"Cat. C\"))","v":0},{"$f":"H42+I42","v":0}]
[]
["Répartition des dossiers éligibles à la CDIsation par filière et catégorie",null,"Filère",null,"Cat. A","Cat. B","Cat. C","Total","Description des fonctions des postes recensés"]
[null,null,"Administrative",null,{"$f":"SUMPRODUCT((Cdisation!$O$16:$O$515=\"Eligible\")*(Cdisation!$G$16:$G$515=\"Administrative\")*(Cdisation!$H$16:$H$515=\"Cat. A\"))","v":0},{"$f":"SUMPRODUCT((Cdisation!$O$16:$O$515=\"Eligible\")*(Cdisation!$G$16:$G$515=\"Administrative\")*(Cdisation!$H$16:$H$515=\"Cat. B\"))","v":0},{"$f":"SUMPRODUCT((Cdisation!$O$16:$O$515=\"Eligible\")*(Cdisation!$G$16:$G$515=\"Administrative\")*(Cdisation!$H$16:$H$515=\"Cat. C\"))","v":0},{"$f":"SUM(E45:G45)","v":0},{"$f":"IF(H45=0,\"\",\"Merci de désigner les postes ou les fonctions recensées\")","v":""}]
[null,null,"Technique",null,{"$f":"SUMPRODUCT((Cdisation!$O$16:$O$515=\"Eligible\")*(Cdisation!$G$16:$G$515=\"Technique\")*(Cdisation!$H$16:$H$515=\"Cat. A\"))","v":0},{"$f":"SUMPRODUCT((Cdisation!$O$16:$O$515=\"Eligible\")*(Cdisation!$G$16:$G$515=\"Technique\")*(Cdisation!$H$16:$H$515=\"Cat. B\"))","v":0},{"$f":"SUMPRODUCT((Cdisation!$O$16:$O$515=\"Eligible\")*(Cdisation!$G$16:$G$515=\"Technique\")*(Cdisation!$H$16:$H$515=\"Cat. C\"))","v":0},0,{"$f":"IF(H46=0,\"\",\"Merci de désigner les postes ou les fonctions recensées\")","v":""}]
[null,null,"Animation",null,{"$f":"SUMPRODUCT((Cdisation!$O$16:$O$515=\"Eligible\")*(Cdisation!$G$16:$G$515=\"Animation\")*(Cdisation!$H$16:$H$515=\"Cat. A\"))","v":0},{"$f":"SUMPRODUCT((Cdisation!$O$16:$O$515=\"Eligible\")*(Cdisation!$G$16:$G$515=\"Animation\")*(Cdisation!$H$16:$H$515=\"Cat. B\"))","v":0},{"$f":"SUMPRODUCT((Cdisation!$O$16:$O$515=\"Eligible\")*(Cdisation!$G$16:$G$515=\"Animation\")*(Cdisation!$H$16:$H$515=\"Cat. C\"))","v":0},0,""]
[null,null,"Culturelle",null,{"$f":"SUMPRODUCT((Cdisation!$O$16:$O$515=\"Eligible\")*(Cdisation!$G$16:$G$515=\"Culturelle\")*(Cdisation!$H$16:$H$515=\"Cat. A\"))","v":0},{"$f":"SUMPRODUCT((Cdisation!$O$16:$O$515=\"Eligible\")*(Cdisation!$G$16:$G$515=\"Culturelle\")*(Cdisation!$H$16:$H$515=\"Cat. B\"))","v":0},{"$f":"SUMPRODUCT((Cdisation!$O$16:$O$515=\"Eligible\")*(Cdisation!$G$16:$G$515=\"Culturelle\")*(Cdisation!$H$16:$H$515=\"Cat. C\"))","v":0},0,""]
[null,null,"Sportive",null,{"$f":"SUMPRODUCT((Cdisation!$O$16:$O$515=\"Eligible\")*(Cdisation!$G$16:$G$515=\"Sportive\")*(Cdisation!$H$16:$H$515=\"Cat. A\"))","v":0},{"$f":"SUMPRODUCT((Cdisation!$O$16:$O$515=\"Eligible\")*(Cdisation!$G$16:$G$515=\"Sportive\")*(Cdisation!$H$16:$H$515=\"Cat. B\"))","v":0},{"$f":"SUMPRODUCT((Cdisation!$O$16:$O$515=\"Eligible\")*(Cdisation!$G$16:$G$515=\"Sportive\")*(Cdisation!$H$16:$H$515=\"Cat. C\"))","v":0},0,""]
[null,null,"Sociale",null,{"$f":"SUMPRODUCT((Cdisation!$O$16:$O$515=\"Eligible\")*(Cdisation!$G$16:$G$515=\"Sociale\")*(Cdisation!$H$16:$H$515=\"Cat. A\"))","v":0},{"$f":"SUMPRODUCT((Cdisation!$O$16:$O$515=\"Eligible\")*(Cdisation!$G$16:$G$515=\"Sociale\")*(Cdisation!$H$16:$H$515=\"Cat. B\"))","v":0},{"$f":"SUMPRODUCT((Cdisation!$O$16:$O$515=\"Eligible\")*(Cdisation!$G$16:$G$515=\"Sociale\")*(Cdisation!$H$16:$H$515=\"Cat. C\"))","v":0},0,""]
[null,null,"Médico-sociale",null,{"$f":"SUMPRODUCT((Cdisation!$O$16:$O$515=\"Eligible\")*(Cdisation!$G$16:$G$515=\"Médico-sociale\")*(Cdisation!$H$16:$H$515=\"Cat. A\"))","v":0},{"$f":"SUMPRODUCT((Cdisation!$O$16:$O$515=\"Eligible\")*(Cdisation!$G$16:$G$515=\"Médico-sociale\")*(Cdisation!$H$16:$H$515=\"Cat. B\"))","v":0},{"$f":"SUMPRODUCT((Cdisation!$O$16:$O$515=\"Eligible\")*(Cdisation!$G$16:$G$515=\"Médico-sociale\")*(Cdisation!$H$16:$H$515=\"Cat. C\"))","v":0},0,""]
[null,null,"Médico-technique",null,{"$f":"SUMPRODUCT((Cdisation!$O$16:$O$515=\"Eligible\")*(Cdisation!$G$16:$G$515=\"Médico-technique\")*(Cdisation!$H$16:$H$515=\"Cat. A\"))","v":0},{"$f":"SUMPRODUCT((Cdisation!$O$16:$O$515=\"Eligible\")*(Cdisation!$G$16:$G$515=\"Médico-technique\")*(Cdisation!$H$16:$H$515=\"Cat. B\"))","v":0},{"$f":"SUMPRODUCT((Cdisation!$O$16:$O$515=\"Eligible\")*(Cdisation!$G$16:$G$515=\"Médico-technique\")*(Cdisation!$H$16:$H$515=\"Cat. C\"))","v":0},0,""]
[null,null,"Sapeurs-pompiers",null,{"$f":"SUMPRODUCT((Cdisation!$O$16:$O$515=\"Eligible\")*(Cdisation!$G$16:$G$515=\"Sapeurs-pompiers\")*(Cdisation!$H$16:$H$515=\"Cat. A\"))","v":0},{"$f":"SUMPRODUCT((Cdisation!$O$16:$O$515=\"Eligible\")*(Cdisation!$G$16:$G$515=\"Sapeurs-pompiers\")*(Cdisation!$H$16:$H$515=\"Cat. B\"))","v":0},{"$f":"SUMPRODUCT((Cdisation!$O$16:$O$515=\"Eligible\")*(Cdisation!$G$16:$G$515=\"Sapeurs-pompiers\")*(Cdisation!$H$16:$H$515=\"Cat. C\"))","v":0},0,""]
[]
[]
[]
["1. Rapport sur l'éligibilité des agents au dispositif de CDIsation (suite)"]
[]
[]
[]
[]
[]
[]
[]
[]
[]
[]
[]
[]
[]
[]
[]
[]
[]
[]
["1. Rapport sur l'éligibilité des agents au dispositif de titularisation au 31 mars 2013 et ultérieurement au 31 mars 2013"]
[]
[null,null,null,null,"Nombre de dossiers eligibles",null,null,"Nombre de dossiers non eligibles"]
[null,null,null,null,"Hommes","Femmes","Total","Hommes","Femmes","Total"]
["Eligibilité à la titularisation au 31 mars 2013",null,null,"Cat. A",{"$f":"SUMPRODUCT((eligibilité!$G$15:$G$515=\"H\")*(eligibilité!$AF$15:$AF$515=\"Eligible\")*(eligibilité!$J$15:$J$515=\"Cat. A\"))","v":0},{"$f":"SUMPRODUCT((eligibilité!$G$15:$G$515=\"F\")*(eligibilité!$AF$15:$AF$515=\"Eligible\")*(eligibilité!$J$15:$J$515=\"Cat. A\"))","v":0},{"$f":"E80+F80","v":0},{"$f":"SUMPRODUCT((eligibilité!$G$15:$G$515=\"H\")*(eligibilité!$AF$15:$AF$515=\"Non éligible\")*(eligibilité!$J$15:$J$515=\"Cat. A\"))","v":0},{"$f":"SUMPRODUCT((eligibilité!$G$15:$G$515=\"F\")*(eligibilité!$AF$15:$AF$515=\"Non éligible\")*(eligibilité!$J$15:$J$515=\"Cat. A\"))","v":0},{"$f":"H80+I80","v":0}]
[null,null,null,"Cat. B",{"$f":"SUMPRODUCT((eligibilité!$G$15:$G$515=\"H\")*(eligibilité!$AF$15:$AF$515=\"Eligible\")*(eligibilité!$J$15:$J$515=\"Cat. B\"))","v":0},{"$f":"SUMPRODUCT((eligibilité!$G$15:$G$515=\"F\")*(eligibilité!$AF$15:$AF$515=\"Eligible\")*(eligibilité!$J$15:$J$515=\"Cat. B\"))","v":0},0,{"$f":"SUMPRODUCT((eligibilité!$G$15:$G$515=\"H\")*(eligibilité!$AF$15:$AF$515=\"Non éligible\")*(eligibilité!$J$15:$J$515=\"Cat. B\"))","v":0},{"$f":"SUMPRODUCT((eligibilité!$G$15:$G$515=\"F\")*(eligibilité!$AF$15:$AF$515=\"Non éligible\")*(eligibilité!$J$15:$J$515=\"Cat. B\"))","v":0},{"$f":"H81+I81","v":0}]
[null,null,null,"Cat. C",{"$f":"SUMPRODUCT((eligibilité!$G$15:$G$515=\"H\")*(eligibilité!$AF$15:$AF$515=\"Eligible\")*(eligibilité!$J$15:$J$515=\"Cat. C\"))","v":0},{"$f":"SUMPRODUCT((eligibilité!$G$15:$G$515=\"F\")*(eligibilité!$AF$15:$AF$515=\"Eligible\")*(eligibilité!$J$15:$J$515=\"Cat. C\"))","v":0},0,{"$f":"SUMPRODUCT((eligibilité!$G$15:$G$515=\"H\")*(eligibilité!$AF$15:$AF$515=\"Non éligible\")*(eligibilité!$J$15:$J$515=\"Cat. C\"))","v":0},{"$f":"SUMPRODUCT((eligibilité!$G$15:$G$515=\"F\")*(eligibilité!$AF$15:$AF$515=\"Non éligible\")*(eligibilité!$J$15:$J$515=\"Cat. C\"))","v":0},{"$f":"H82+I82","v":0}]
["Eligibilité à la titularisation ultérieurement au 31 mars 2013",null,null,"Cat. A",{"$f":"SUMPRODUCT((eligibilité!$G$15:$G$515=\"H\")*(eligibilité!$AG$15:$AG$515=\"Eligibilité ultérieure\")*(eligibilité!$J$15:$J$515=\"Cat. A\"))","v":0},{"$f":"SUMPRODUCT((eligibilité!$G$15:$G$515=\"F\")*(eligibilité!$AG$15:$AG$515=\"Eligibilité ultérieure\")*(eligibilité!$J$15:$J$515=\"Cat. A\"))","v":0},0]
[null,null,null,"Cat. B",{"$f":"SUMPRODUCT((eligibilité!$G$15:$G$515=\"H\")*(eligibilité!$AG$15:$AG$515=\"Eligibilité ultérieure\")*(eligibilité!$J$15:$J$515=\"Cat. B\"))","v":0},{"$f":"SUMPRODUCT((eligibilité!$G$15:$G$515=\"F\")*(eligibilité!$AG$15:$AG$515=\"Eligibilité ultérieure\")*(eligibilité!$J$15:$J$515=\"Cat. B\"))","v":0},0]
[null,null,null,"Cat. C",{"$f":"SUMPRODUCT((eligibilité!$G$15:$G$515=\"H\")*(eligibilité!$AG$15:$AG$515=\"Eligibilité ultérieure\")*(eligibilité!$J$15:$J$515=\"Cat. C\"))","v":0},{"$f":"SUMPRODUCT((eligibilité!$G$15:$G$515=\"F\")*(eligibilité!$AG$15:$AG$515=\"Eligibilité ultérieure\")*(eligibilité!$J$15:$J$515=\"Cat. C\"))","v":0},0]
[]
["Répartition des dossiers éligibles au dispositif de titularisation par filière et catégorie",null,"Filère",null,"Cat. A","Cat. B","Cat. C","Total"]
[null,null,"Administrative",null,{"$f":"SUMPRODUCT((eligibilité!$H$15:$H$515=\"Administrative\")*(eligibilité!$AF$15:$AF$515=\"Eligible\")*(eligibilité!$J$15:$J$515=\"Cat. A\"))","v":0},{"$f":"SUMPRODUCT((eligibilité!$H$15:$H$515=\"Administrative\")*(eligibilité!$AF$15:$AF$515=\"Eligible\")*(eligibilité!$J$15:$J$515=\"Cat. B\"))","v":0},{"$f":"SUMPRODUCT((eligibilité!$H$15:$H$515=\"Administrative\")*(eligibilité!$AF$15:$AF$515=\"Eligible\")*(eligibilité!$J$15:$J$515=\"Cat. C\"))","v":0},{"$f":"SUM(E88:G88)","v":0}]
[null,null,"Technique",null,{"$f":"SUMPRODUCT((eligibilité!$H$15:$H$515=\"Technique\")*(eligibilité!$AF$15:$AF$515=\"Eligible\")*(eligibilité!$J$15:$J$515=\"Cat. A\"))","v":0},{"$f":"SUMPRODUCT((eligibilité!$H$15:$H$515=\"Technique\")*(eligibilité!$AF$15:$AF$515=\"Eligible\")*(eligibilité!$J$15:$J$515=\"Cat. B\"))","v":0},{"$f":"SUMPRODUCT((eligibilité!$H$15:$H$515=\"Technique\")*(eligibilité!$AF$15:$AF$515=\"Eligible\")*(eligibilité!$J$15:$J$515=\"Cat. C\"))","v":0},{"$f":"SUM(E89:G89)","v":0}]
[null,null,"Animation",null,{"$f":"SUMPRODUCT((eligibilité!$H$15:$H$515=\"Animation\")*(eligibilité!$AF$15:$AF$515=\"Eligible\")*(eligibilité!$J$15:$J$515=\"Cat. A\"))","v":0},{"$f":"SUMPRODUCT((eligibilité!$H$15:$H$515=\"Animation\")*(eligibilité!$AF$15:$AF$515=\"Eligible\")*(eligibilité!$J$15:$J$515=\"Cat. B\"))","v":0},{"$f":"SUMPRODUCT((eligibilité!$H$15:$H$515=\"Animation\")*(eligibilité!$AF$15:$AF$515=\"Eligible\")*(eligibilité!$J$15:$J$515=\"Cat. C\"))","v":0},0]
[null,null,"Culturelle",null,{"$f":"SUMPRODUCT((eligibilité!$H$15:$H$515=\"Culturelle\")*(eligibilité!$AF$15:$AF$515=\"Eligible\")*(eligibilité!$J$15:$J$515=\"Cat. A\"))","v":0},{"$f":"SUMPRODUCT((eligibilité!$H$15:$H$515=\"Culturelle\")*(eligibilité!$AF$15:$AF$515=\"Eligible\")*(eligibilité!$J$15:$J$515=\"Cat. B\"))","v":0},{"$f":"SUMPRODUCT((eligibilité!$H$15:$H$515=\"Culturelle\")*(eligibilité!$AF$15:$AF$515=\"Eligible\")*(eligibilité!$J$15:$J$515=\"Cat. C\"))","v":0},0]
[null,null,"Sportive",null,{"$f":"SUMPRODUCT((eligibilité!$H$15:$H$515=\"Sportive\")*(eligibilité!$AF$15:$AF$515=\"Eligible\")*(eligibilité!$J$15:$J$515=\"Cat. A\"))","v":0},{"$f":"SUMPRODUCT((eligibilité!$H$15:$H$515=\"Sportive\")*(eligibilité!$AF$15:$AF$515=\"Eligible\")*(eligibilité!$J$15:$J$515=\"Cat. B\"))","v":0},{"$f":"SUMPRODUCT((eligibilité!$H$15:$H$515=\"Sportive\")*(eligibilité!$AF$15:$AF$515=\"Eligible\")*(eligibilité!$J$15:$J$515=\"Cat. C\"))","v":0},0]
[null,null,"Sociale",null,{"$f":"SUMPRODUCT((eligibilité!$H$15:$H$515=\"Sociale\")*(eligibilité!$AF$15:$AF$515=\"Eligible\")*(eligibilité!$J$15:$J$515=\"Cat. A\"))","v":0},{"$f":"SUMPRODUCT((eligibilité!$H$15:$H$515=\"Sociale\")*(eligibilité!$AF$15:$AF$515=\"Eligible\")*(eligibilité!$J$15:$J$515=\"Cat. B\"))","v":0},{"$f":"SUMPRODUCT((eligibilité!$H$15:$H$515=\"Sociale\")*(eligibilité!$AF$15:$AF$515=\"Eligible\")*(eligibilité!$J$15:$J$515=\"Cat. C\"))","v":0},0]
[null,null,"Médico-sociale",null,{"$f":"SUMPRODUCT((eligibilité!$H$15:$H$515=\"Médico-sociale\")*(eligibilité!$AF$15:$AF$515=\"Eligible\")*(eligibilité!$J$15:$J$515=\"Cat. A\"))","v":0},{"$f":"SUMPRODUCT((eligibilité!$H$15:$H$515=\"Médico-sociale\")*(eligibilité!$AF$15:$AF$515=\"Eligible\")*(eligibilité!$J$15:$J$515=\"Cat. B\"))","v":0},{"$f":"SUMPRODUCT((eligibilité!$H$15:$H$515=\"Médico-sociale\")*(eligibilité!$AF$15:$AF$515=\"Eligible\")*(eligibilité!$J$15:$J$515=\"Cat. C\"))","v":0},0]
[null,null,"Médico-technique",null,{"$f":"SUMPRODUCT((eligibilité!$H$15:$H$515=\"Médico-technique\")*(eligibilité!$AF$15:$AF$515=\"Eligible\")*(eligibilité!$J$15:$J$515=\"Cat. A\"))","v":0},{"$f":"SUMPRODUCT((eligibilité!$H$15:$H$515=\"Médico-technique\")*(eligibilité!$AF$15:$AF$515=\"Eligible\")*(eligibilité!$J$15:$J$515=\"Cat. B\"))","v":0},{"$f":"SUMPRODUCT((eligibilité!$H$15:$H$515=\"Médico-technique\")*(eligibilité!$AF$15:$AF$515=\"Eligible\")*(eligibilité!$J$15:$J$515=\"Cat. C\"))","v":0},0]
[null,null,"Sapeurs-pompiers",null,{"$f":"SUMPRODUCT((eligibilité!$H$15:$H$515=\"Sapeurs-pompiers\")*(eligibilité!$AF$15:$AF$515=\"Eligible\")*(eligibilité!$J$15:$J$515=\"Cat. A\"))","v":0},{"$f":"SUMPRODUCT((eligibilité!$H$15:$H$515=\"Sapeurs-pompiers\")*(eligibilité!$AF$15:$AF$515=\"Eligible\")*(eligibilité!$J$15:$J$515=\"Cat. B\"))","v":0},{"$f":"SUMPRODUCT((eligibilité!$H$15:$H$515=\"Sapeurs-pompiers\")*(eligibilité!$AF$15:$AF$515=\"Eligible\")*(eligibilité!$J$15:$J$515=\"Cat. C\"))","v":0},0]
[]
[]
["2. Rapport sur l'éligibilité des agents au dispositif de titularisation au 31 mars 2013 et ultérieurement au 31 mars 2013 (suite)"]
[]
["Répartition des dossiers éligibles ultérieurement au 31 mars 2013 au dispositif de titularisation par filière et catégorie",null,"Filière",null,"Cat. A","Cat. B","Cat. C","Total"]
[null,null,"Administrative",null,{"$f":"SUMPRODUCT((eligibilité!$H$15:$H$515=\"Administrative\")*(eligibilité!$AG$15:$AG$515=\"Eligibilité ultérieure\")*(eligibilité!$J$15:$J$515=\"Cat. A\"))","v":0},{"$f":"SUMPRODUCT((eligibilité!$H$15:$H$515=\"Administrative\")*(eligibilité!$AG$15:$AG$515=\"Eligibilité ultérieure\")*(eligibilité!$J$15:$J$515=\"Cat. B\"))","v":0},{"$f":"SUMPRODUCT((eligibilité!$H$15:$H$515=\"Administrative\")*(eligibilité!$AG$15:$AG$515=\"Eligibilité ultérieure\")*(eligibilité!$J$15:$J$515=\"Cat. C\"))","v":0},{"$f":"SUM(E102:G102)","v":0}]
[null,null,"Technique",null,{"$f":"SUMPRODUCT((eligibilité!$H$15:$H$515=\"Technique\")*(eligibilité!$AG$15:$AG$515=\"Eligibilité ultérieure\")*(eligibilité!$J$15:$J$515=\"Cat. A\"))","v":0},{"$f":"SUMPRODUCT((eligibilité!$H$15:$H$515=\"Technique\")*(eligibilité!$AG$15:$AG$515=\"Eligibilité ultérieure\")*(eligibilité!$J$15:$J$515=\"Cat. B\"))","v":0},{"$f":"SUMPRODUCT((eligibilité!$H$15:$H$515=\"Technique\")*(eligibilité!$AG$15:$AG$515=\"Eligibilité ultérieure\")*(eligibilité!$J$15:$J$515=\"Cat. C\"))","v":0},{"$f":"SUM(E103:G103)","v":0}]
[null,null,"Animation",null,{"$f":"SUMPRODUCT((eligibilité!$H$15:$H$515=\"Animation\")*(eligibilité!$AG$15:$AG$515=\"Eligibilité ultérieure\")*(eligibilité!$J$15:$J$515=\"Cat. A\"))","v":0},{"$f":"SUMPRODUCT((eligibilité!$H$15:$H$515=\"Animation\")*(eligibilité!$AG$15:$AG$515=\"Eligibilité ultérieure\")*(eligibilité!$J$15:$J$515=\"Cat. B\"))","v":0},{"$f":"SUMPRODUCT((eligibilité!$H$15:$H$515=\"Animation\")*(eligibilité!$AG$15:$AG$515=\"Eligibilité ultérieure\")*(eligibilité!$J$15:$J$515=\"Cat. C\"))","v":0},0]
[null,null,"Culturelle",null,{"$f":"SUMPRODUCT((eligibilité!$H$15:$H$515=\"Culturelle\")*(eligibilité!$AG$15:$AG$515=\"Eligibilité ultérieure\")*(eligibilité!$J$15:$J$515=\"Cat. A\"))","v":0},{"$f":"SUMPRODUCT((eligibilité!$H$15:$H$515=\"Culturelle\")*(eligibilité!$AG$15:$AG$515=\"Eligibilité ultérieure\")*(eligibilité!$J$15:$J$515=\"Cat. B\"))","v":0},{"$f":"SUMPRODUCT((eligibilité!$H$15:$H$515=\"Culturelle\")*(eligibilité!$AG$15:$AG$515=\"Eligibilité ultérieure\")*(eligibilité!$J$15:$J$515=\"Cat. C\"))","v":0},0]
[null,null,"Sportive",null,{"$f":"SUMPRODUCT((eligibilité!$H$15:$H$515=\"Sportive\")*(eligibilité!$AG$15:$AG$515=\"Eligibilité ultérieure\")*(eligibilité!$J$15:$J$515=\"Cat. A\"))","v":0},{"$f":"SUMPRODUCT((eligibilité!$H$15:$H$515=\"Sportive\")*(eligibilité!$AG$15:$AG$515=\"Eligibilité ultérieure\")*(eligibilité!$J$15:$J$515=\"Cat. B\"))","v":0},{"$f":"SUMPRODUCT((eligibilité!$H$15:$H$515=\"Sportive\")*(eligibilité!$AG$15:$AG$515=\"Eligibilité ultérieure\")*(eligibilité!$J$15:$J$515=\"Cat. C\"))","v":0},0]
[null,null,"Sociale",null,{"$f":"SUMPRODUCT((eligibilité!$H$15:$H$515=\"Sociale\")*(eligibilité!$AG$15:$AG$515=\"Eligibilité ultérieure\")*(eligibilité!$J$15:$J$515=\"Cat. A\"))","v":0},{"$f":"SUMPRODUCT((eligibilité!$H$15:$H$515=\"Sociale\")*(eligibilité!$AG$15:$AG$515=\"Eligibilité ultérieure\")*(eligibilité!$J$15:$J$515=\"Cat. B\"))","v":0},{"$f":"SUMPRODUCT((eligibilité!$H$15:$H$515=\"Sociale\")*(eligibilité!$AG$15:$AG$515=\"Eligibilité ultérieure\")*(eligibilité!$J$15:$J$515=\"Cat. C\"))","v":0},0]
[null,null,"Médico-sociale",null,{"$f":"SUMPRODUCT((eligibilité!$H$15:$H$515=\"Médico-sociale\")*(eligibilité!$AG$15:$AG$515=\"Eligibilité ultérieure\")*(eligibilité!$J$15:$J$515=\"Cat. A\"))","v":0},{"$f":"SUMPRODUCT((eligibilité!$H$15:$H$515=\"Médico-sociale\")*(eligibilité!$AG$15:$AG$515=\"Eligibilité ultérieure\")*(eligibilité!$J$15:$J$515=\"Cat. B\"))","v":0},{"$f":"SUMPRODUCT((eligibilité!$H$15:$H$515=\"Médico-sociale\")*(eligibilité!$AG$15:$AG$515=\"Eligibilité ultérieure\")*(eligibilité!$J$15:$J$515=\"Cat. C\"))","v":0},0]
[null,null,"Médico-technique",null,{"$f":"SUMPRODUCT((eligibilité!$H$15:$H$515=\"Médico-technique\")*(eligibilité!$AG$15:$AG$515=\"Eligibilité ultérieure\")*(eligibilité!$J$15:$J$515=\"Cat. A\"))","v":0},{"$f":"SUMPRODUCT((eligibilité!$H$15:$H$515=\"Médico-technique\")*(eligibilité!$AG$15:$AG$515=\"Eligibilité ultérieure\")*(eligibilité!$J$15:$J$515=\"Cat. B\"))","v":0},{"$f":"SUMPRODUCT((eligibilité!$H$15:$H$515=\"Médico-technique\")*(eligibilité!$AG$15:$AG$515=\"Eligibilité ultérieure\")*(eligibilité!$J$15:$J$515=\"Cat. C\"))","v":0},0]
[null,null,"Sapeurs-pompiers",null,{"$f":"SUMPRODUCT((eligibilité!$H$15:$H$515=\"Sapeurs-pompiers\")*(eligibilité!$AG$15:$AG$515=\"Eligibilité ultérieure\")*(eligibilité!$J$15:$J$515=\"Cat. A\"))","v":0},{"$f":"SUMPRODUCT((eligibilité!$H$15:$H$515=\"Sapeurs-pompiers\")*(eligibilité!$AG$15:$AG$515=\"Eligibilité ultérieure\")*(eligibilité!$J$15:$J$515=\"Cat. B\"))","v":0},{"$f":"SUMPRODUCT((eligibilité!$H$15:$H$515=\"Sapeurs-pompiers\")*(eligibilité!$AG$15:$AG$515=\"Eligibilité ultérieure\")*(eligibilité!$J$15:$J$515=\"Cat. C\"))","v":0},0]
[]
[]
["Le présente partie, relative à la situation des agents remplissant les conditions définies aux articles 14 et 15 de la loi du 12 mars 2012 modifiée, est complétée par l'état de l'ancienneté acquise individuellement (dossier par dossier) et se trouve en annexe du présent rapport (à partir de la page 16). \nElle est à compléter partiellement et garantit l'anonymat de présentation de votre dossier."]
[]
[]
["2. Rapport sur l'éligibilité des agents au dispositif de titularisation et titularisation ultérieure (suite)"]
[]
[]
[]
[]
[]
[]
[]
[]
[]
[]
[]
[]
[]
[]
[]
[]
[]
[]
[]
[]
["III. PROGRAMME PLURIANNUEL D'ACCES A L'EMPLOI TITULAIRE"]
[]
["1 - Définition des besoins de la collectivité en fonction de ses objectifs de gestion prévisionnelle des effectifs, des emplois et des compétences"]
["a. En matière de recrutement direct\nA remplir obligatoirement."]
["b. En matière de sélections professionnelles\nA remplir obligatoirement."]
[]
[]
["2 - Données du programme pluriannuel d'accès à l'emploi titulaire (PPAET)"]
[]
[null,"a. Accès au dispositif de sélection professionnelle"]
[]
["Oui","Non"]
[null,null,null,null,null,null,null,"A renseigner en fonction des besoins de recrutement de votre structure et des objectifs de G.P.E.E.C."]
[null,null,null,null,"Effectif éligible (RSA)","Nb d'éligibles au RSA ultérieur","Effectif éligible d'un grade équivalent","Besoins \nde la collectivité en 2016","Besoins \nde la collectivité en 2017","Besoins \nde la collectivité en 2018","Convention CDG"]
["ATTACHE",null,null,null,{"$f":"SUMPRODUCT((eligibilité!$AF$15:$AF$515=\"Eligible\")*(eligibilité!$I$15:$I$515=\"ATTACHE\"))","v":0},{"$f":"SUMPRODUCT((eligibilité!$AG$15:$AG$515=\"Eligibilité ultérieure\")*(eligibilité!$I$15:$I$515=\"ATTACHE\"))","v":0}]
["REDACTEUR PPAL DE 2ème CL",null,null,null,{"$f":"SUMPRODUCT((eligibilité!$AF$15:$AF$515=\"Eligible\")*(eligibilité!$I$15:$I$515=\"REDACTEUR PPAL DE 2ème CL\"))","v":0},{"$f":"SUMPRODUCT((eligibilité!$AG$15:$AG$515=\"Eligibilité ultérieure\")*(eligibilité!$I$15:$I$515=\"REDACTEUR PPAL DE 2ème CL\"))","v":0}]
["REDACTEUR",null,null,null,{"$f":"SUMPRODUCT((eligibilité!$AF$15:$AF$515=\"Eligible\")*(eligibilité!$I$15:$I$515=\"REDACTEUR\"))","v":0},{"$f":"SUMPRODUCT((eligibilité!$AG$15:$AG$515=\"Eligibilité ultérieure\")*(eligibilité!$I$15:$I$515=\"REDACTEUR\"))","v":0}]
["ADJOINT ADMINISTRATIF DE 1ère CL",null,null,null,{"$f":"SUMPRODUCT((eligibilité!$AF$15:$AF$515=\"Eligible\")*(eligibilité!$I$15:$I$515=\"ADJOINT ADMINISTRATIF DE 1ère CL\"))","v":0},{"$f":"SUMPRODUCT((eligibilité!$AG$15:$AG$515=\"Eligibilité ultérieure\")*(eligibilité!$I$15:$I$515=\"ADJOINT ADMINISTRATIF DE 1ère CL\"))","v":0}]
["ANIMATEUR PPAL DE 2ème CL",null,null,null,{"$f":"SUMPRODUCT((eligibilité!$AF$15:$AF$515=\"Eligible\")*(eligibilité!$I$15:$I$515=\"ANIMATEUR PPAL DE 2ème CL\"))","v":0},{"$f":"SUMPRODUCT((eligibilité!$AG$15:$AG$515=\"Eligibilité ultérieure\")*(eligibilité!$I$15:$I$515=\"ANIMATEUR PPAL DE 2ème CL\"))","v":0}]
["ANIMATEUR",null,null,null,{"$f":"SUMPRODUCT((eligibilité!$AF$15:$AF$515=\"Eligible\")*(eligibilité!$I$15:$I$515=\"ANIMATEUR\"))","v":0},{"$f":"SUMPRODUCT((eligibilité!$AG$15:$AG$515=\"Eligibilité ultérieure\")*(eligibilité!$I$15:$I$515=\"ANIMATEUR\"))","v":0}]
["ADJOINT D'ANIMATION DE 1ère CL",null,null,null,{"$f":"SUMPRODUCT((eligibilité!$AF$15:$AF$515=\"Eligible\")*(eligibilité!$I$15:$I$515=\"ADJOINT D'ANIMATION DE 1ère CL\"))","v":0},{"$f":"SUMPRODUCT((eligibilité!$AG$15:$AG$515=\"Eligibilité ultérieure\")*(eligibilité!$I$15:$I$515=\"ADJOINT D'ANIMATION DE 1ère CL\"))","v":0}]
["ATTACHE DE CONSERVATION DU PATRIMOINE",null,null,null,{"$f":"SUMPRODUCT((eligibilité!$AF$15:$AF$515=\"Eligible\")*(eligibilité!$I$15:$I$515=\"ATTACHE DE CONSERVATION DU PATRIMOINE\"))","v":0},{"$f":"SUMPRODUCT((eligibilité!$AG$15:$AG$515=\"Eligibilité ultérieure\")*(eligibilité!$I$15:$I$515=\"ATTACHE DE CONSERVATION DU PATRIMOINE\"))","v":0}]
["BIBLIOTHECAIRE",null,null,null,{"$f":"SUMPRODUCT((eligibilité!$AF$15:$AF$515=\"Eligible\")*(eligibilité!$I$15:$I$515=\"BIBLIOTHECAIRE\"))","v":0},{"$f":"SUMPRODUCT((eligibilité!$AG$15:$AG$515=\"Eligibilité ultérieure\")*(eligibilité!$I$15:$I$515=\"BIBLIOTHECAIRE\"))","v":0}]
["PROFESSEUR D'ENSEIGNEMENT ARTISTIQUE DE CLASSE NORMALE",null,null,null,{"$f":"SUMPRODUCT((eligibilité!$AF$15:$AF$515=\"Eligible\")*(eligibilité!$I$15:$I$515=\"PROFESSEUR D'ENSEIGNEMENT ARTISTIQUE DE CLASSE NORMALE\"))","v":0},{"$f":"SUMPRODUCT((eligibilité!$AG$15:$AG$515=\"Eligibilité ultérieure\")*(eligibilité!$I$15:$I$515=\"PROFESSEUR D'ENSEIGNEMENT ARTISTIQUE DE CLASSE NORMALE\"))","v":0}]
["ASSISTANT DE CONSERV. DU PAT ET DES BIB.",null,null,null,{"$f":"SUMPRODUCT((eligibilité!$AF$15:$AF$515=\"Eligible\")*(eligibilité!$I$15:$I$515=\"ASSISTANT DE CONSERV. DU PAT ET DES BIB. \"))","v":0},{"$f":"SUMPRODUCT((eligibilité!$AG$15:$AG$515=\"Eligibilité ultérieure\")*(eligibilité!$I$15:$I$515=\"ASSISTANT DE CONSERV. DU PAT ET DES BIB. \"))","v":0}]
["ASSISTANT DE CONSERV. DU PAT ET DES BIB. PPAL DE 2ème CL",null,null,null,{"$f":"SUMPRODUCT((eligibilité!$AF$15:$AF$515=\"Eligible\")*(eligibilité!$I$15:$I$515=\"ASSISTANT DE CONSERV. DU PAT ET DES BIB. PPAL DE 2ème CL\"))","v":0},{"$f":"SUMPRODUCT((eligibilité!$AG$15:$AG$515=\"Eligibilité ultérieure\")*(eligibilité!$I$15:$I$515=\"ASSISTANT DE CONSERV. DU PAT ET DES BIB. PPAL DE 2ème CL\"))","v":0}]
["ASS. D'ENSEIGNEMENT ARTISTIQUE PPAL DE 2ème CL",null,null,null,{"$f":"SUMPRODUCT((eligibilité!$AF$15:$AF$515=\"Eligible\")*(eligibilité!$I$15:$I$515=\"ASS. D'ENSEIGNEMENT ARTISTIQUE PPAL DE 2ème CL\"))","v":0},{"$f":"SUMPRODUCT((eligibilité!$AG$15:$AG$515=\"Eligibilité ultérieure\")*(eligibilité!$I$15:$I$515=\"ASS. D'ENSEIGNEMENT ARTISTIQUE PPAL DE 2ème CL\"))","v":0}]
["ASSISTANT D'ENSEIGNEMENT ARTISTIQUE",null,null,null,{"$f":"SUMPRODUCT((eligibilité!$AF$15:$AF$515=\"Eligible\")*(eligibilité!$I$15:$I$515=\"ASSISTANT D'ENSEIGNEMENT ARTISTIQUE\"))","v":0},{"$f":"SUMPRODUCT((eligibilité!$AG$15:$AG$515=\"Eligibilité ultérieure\")*(eligibilité!$I$15:$I$515=\"ASSISTANT D'ENSEIGNEMENT ARTISTIQUE\"))","v":0}]
["ADJOINT DU PATRIMOINE DE 1ère CL",null,null,null,{"$f":"SUMPRODUCT((eligibilité!$AF$15:$AF$515=\"Eligible\")*(eligibilité!$I$15:$I$515=\"ADJOINT DU PATRIMOINE DE 1ère CL\"))","v":0},{"$f":"SUMPRODUCT((eligibilité!$AG$15:$AG$515=\"Eligibilité ultérieure\")*(eligibilité!$I$15:$I$515=\"ADJOINT DU PATRIMOINE DE 1ère CL\"))","v":0}]
["CADRE DE SANTE  DE 2ème CLASSE",null,null,null,{"$f":"SUMPRODUCT((eligibilité!$AF$15:$AF$515=\"Eligible\")*(eligibilité!$I$15:$I$515=\"CADRE DE SANTE  DE 2ème CLASSE\"))","v":0},{"$f":"SUMPRODUCT((eligibilité!$AG$15:$AG$515=\"Eligibilité ultérieure\")*(eligibilité!$I$15:$I$515=\"CADRE DE SANTE  DE 2ème CLASSE\"))","v":0}]
["CONSEILLER SOCIO-EDUCATIF",null,null,null,{"$f":"SUMPRODUCT((eligibilité!$AF$15:$AF$515=\"Eligible\")*(eligibilité!$I$15:$I$515=\"CONSEILLER SOCIO-EDUCATIF\"))","v":0},{"$f":"SUMPRODUCT((eligibilité!$AG$15:$AG$515=\"Eligibilité ultérieure\")*(eligibilité!$I$15:$I$515=\"CONSEILLER SOCIO-EDUCATIF\"))","v":0}]
["PSYCHOLOGUE DE CLASSE NORMALE",null,null,null,{"$f":"SUMPRODUCT((eligibilité!$AF$15:$AF$515=\"Eligible\")*(eligibilité!$I$15:$I$515=\"PSYCHOLOGUE DE CLASSE NORMALE\"))","v":0},{"$f":"SUMPRODUCT((eligibilité!$AG$15:$AG$515=\"Eligibilité ultérieure\")*(eligibilité!$I$15:$I$515=\"PSYCHOLOGUE DE CLASSE NORMALE\"))","v":0}]
["PUERICULTRICE DE CLASSE NORMALE",null,null,null,{"$f":"SUMPRODUCT((eligibilité!$AF$15:$AF$515=\"Eligible\")*(eligibilité!$I$15:$I$515=\"PUERICULTRICE DE CLASSE NORMALE\"))","v":0},{"$f":"SUMPRODUCT((eligibilité!$AG$15:$AG$515=\"Eligibilité ultérieure\")*(eligibilité!$I$15:$I$515=\"PUERICULTRICE DE CLASSE NORMALE\"))","v":0}]
["SAGE-FEMME DE CLASSE NORMALE",null,null,null,{"$f":"SUMPRODUCT((eligibilité!$AF$15:$AF$515=\"Eligible\")*(eligibilité!$I$15:$I$515=\"SAGE-FEMME DE CLASSE NORMALE\"))","v":0},{"$f":"SUMPRODUCT((eligibilité!$AG$15:$AG$515=\"Eligibilité ultérieure\")*(eligibilité!$I$15:$I$515=\"SAGE-FEMME DE CLASSE NORMALE\"))","v":0}]
["ASSISTANT SOCIO-EDUCATIF",null,null,null,{"$f":"SUMPRODUCT((eligibilité!$AF$15:$AF$515=\"Eligible\")*(eligibilité!$I$15:$I$515=\"ASSISTANT SOCIO-EDUCATIF\"))","v":0},{"$f":"SUMPRODUCT((eligibilité!$AG$15:$AG$515=\"Eligibilité ultérieure\")*(eligibilité!$I$15:$I$515=\"ASSISTANT SOCIO-EDUCATIF\"))","v":0}]
["EDUCATEUR DE JEUNES ENFANTS",null,null,null,{"$f":"SUMPRODUCT((eligibilité!$AF$15:$AF$515=\"Eligible\")*(eligibilité!$I$15:$I$515=\"EDUCATEUR DE JEUNES ENFANTS\"))","v":0},{"$f":"SUMPRODUCT((eligibilité!$AG$15:$AG$515=\"Eligibilité ultérieure\")*(eligibilité!$I$15:$I$515=\"EDUCATEUR DE JEUNES ENFANTS\"))","v":0}]
["INFIRMIER EN SOINS GENERAUX DE CLASSE NORMALE",null,null,null,{"$f":"SUMPRODUCT((eligibilité!$AF$15:$AF$515=\"Eligible\")*(eligibilité!$I$15:$I$515=\"INFIRMIER EN SOINS GENERAUX DE CLASSE NORMALE\"))","v":0},{"$f":"SUMPRODUCT((eligibilité!$AG$15:$AG$515=\"Eligibilité ultérieure\")*(eligibilité!$I$15:$I$515=\"INFIRMIER EN SOINS GENERAUX DE CLASSE NORMALE\"))","v":0}]
[]
["2 - Données du programme pluriannuel d'accès à l'emploi titulaire (PPAET)"]
[]
[null,"a. Accès au dispositif de sélection professionnelle (suite)"]
[]
[null,null,null,null,null,null,null,"A renseigner en fonction des besoins de votre structure et des objectifs de G.P.E.E.C."]
[null,null,null,null,"Effectif éligible (RSA)","Nb d'éligibles au RSA ultérieur","Effectif éligible d'un grade équivalent","Besoins de la collectivité en 2016","Besoins de la collectivité en 2017","Besoins de la collectivité en 2018","Convention CDG"]
["MONITEUR-EDUCATEUR ET INTERVENANT FAMILIAL",null,null,null,{"$f":"SUMPRODUCT((eligibilité!$AF$15:$AF$515=\"Eligible\")*(eligibilité!$I$15:$I$515=\"MONITEUR-EDUCATEUR ET INTERVENANT FAMILIAL\"))","v":0},{"$f":"SUMPRODUCT((eligibilité!$AG$15:$AG$515=\"Eligibilité ultérieure\")*(eligibilité!$I$15:$I$515=\"MONITEUR-EDUCATEUR ET INTERVENANT FAMILIAL\"))","v":0}]
["TECHNICIEN PARAMEDICAL DE CLASSE NORMALE",null,null,null,{"$f":"SUMPRODUCT((eligibilité!$AF$15:$AF$515=\"Eligible\")*(eligibilité!$I$15:$I$515=\"TECHNICIEN PARAMEDICAL DE CLASSE NORMALE\"))","v":0},{"$f":"SUMPRODUCT((eligibilité!$AG$15:$AG$515=\"Eligibilité ultérieure\")*(eligibilité!$I$15:$I$515=\"TECHNICIEN PARAMEDICAL DE CLASSE NORMALE\"))","v":0}]
["AGENT SOCIAL DE 1ère CL",null,null,null,{"$f":"SUMPRODUCT((eligibilité!$AF$15:$AF$515=\"Eligible\")*(eligibilité!$I$15:$I$515=\"AGENT SOCIAL DE 1ère CL\"))","v":0},{"$f":"SUMPRODUCT((eligibilité!$AG$15:$AG$515=\"Eligibilité ultérieure\")*(eligibilité!$I$15:$I$515=\"AGENT SOCIAL DE 1ère CL\"))","v":0}]
["ATSEM DE 1ère CL",null,null,null,{"$f":"SUMPRODUCT((eligibilité!$AF$15:$AF$515=\"Eligible\")*(eligibilité!$I$15:$I$515=\"ATSEM DE 1ère CL\"))","v":0},{"$f":"SUMPRODUCT((eligibilité!$AG$15:$AG$515=\"Eligibilité ultérieure\")*(eligibilité!$I$15:$I$515=\"ATSEM DE 1ère CL\"))","v":0}]
["AUXILIAIRE DE PUERICULTURE DE 1ère CLASSE ",null,null,null,{"$f":"SUMPRODUCT((eligibilité!$AF$15:$AF$515=\"Eligible\")*(eligibilité!$I$15:$I$515=\"AUXILIAIRE DE PUERICULTURE DE 1ère CLASSE\"))","v":0},{"$f":"SUMPRODUCT((eligibilité!$AG$15:$AG$515=\"Eligibilité ultérieure\")*(eligibilité!$I$15:$I$515=\"AUXILIAIRE DE PUERICULTURE DE 1ère CLASSE\"))","v":0}]
["AUXILIAIRE DE SOINS DE 1ère CL ",null,null,null,{"$f":"SUMPRODUCT((eligibilité!$AF$15:$AF$515=\"Eligible\")*(eligibilité!$I$15:$I$515=\"AUXILIAIRE DE SOINS DE 1ère CL \"))","v":0},{"$f":"SUMPRODUCT((eligibilité!$AG$15:$AG$515=\"Eligibilité ultérieure\")*(eligibilité!$I$15:$I$515=\"AUXILIAIRE DE SOINS DE 1ère CL \"))","v":0}]
["CONSEILLER APS",null,null,null,{"$f":"SUMPRODUCT((eligibilité!$AF$15:$AF$515=\"Eligible\")*(eligibilité!$I$15:$I$515=\"CONSEILLER APS\"))","v":0},{"$f":"SUMPRODUCT((eligibilité!$AG$15:$AG$515=\"Eligibilité ultérieure\")*(eligibilité!$I$15:$I$515=\"CONSEILLER APS\"))","v":0}]
["EDUCATEUR APS PPAL DE 2ème CL",null,null,null,{"$f":"SUMPRODUCT((eligibilité!$AF$15:$AF$515=\"Eligible\")*(eligibilité!$I$15:$I$515=\"EDUCATEUR APS PPAL DE 2ème CL\"))","v":0},{"$f":"SUMPRODUCT((eligibilité!$AG$15:$AG$515=\"Eligibilité ultérieure\")*(eligibilité!$I$15:$I$515=\"EDUCATEUR APS PPAL DE 2ème CL\"))","v":0}]
["EDUCATEUR APS",null,null,null,{"$f":"SUMPRODUCT((eligibilité!$AF$15:$AF$515=\"Eligible\")*(eligibilité!$I$15:$I$515=\"EDUCATEUR APS\"))","v":0},{"$f":"SUMPRODUCT((eligibilité!$AG$15:$AG$515=\"Eligibilité ultérieure\")*(eligibilité!$I$15:$I$515=\"EDUCATEUR APS\"))","v":0}]
["OPERATEUR DES APS",null,null,null,{"$f":"SUMPRODUCT((eligibilité!$AF$15:$AF$515=\"Eligible\")*(eligibilité!$I$15:$I$515=\"OPERATEUR DES APS\"))","v":0},{"$f":"SUMPRODUCT((eligibilité!$AG$15:$AG$515=\"Eligibilité ultérieure\")*(eligibilité!$I$15:$I$515=\"OPERATEUR DES APS\"))","v":0}]
["INGENIEUR",null,null,null,{"$f":"SUMPRODUCT((eligibilité!$AF$15:$AF$515=\"Eligible\")*(eligibilité!$I$15:$I$515=\"INGENIEUR\"))","v":0},{"$f":"SUMPRODUCT((eligibilité!$AG$15:$AG$515=\"Eligibilité ultérieure\")*(eligibilité!$I$15:$I$515=\"INGENIEUR\"))","v":0}]
["TECHNICIEN PRINCIPAL DE 2ème CL",null,null,null,{"$f":"SUMPRODUCT((eligibilité!$AF$15:$AF$515=\"Eligible\")*(eligibilité!$I$15:$I$515=\"TECHNICIEN PRINCIPAL DE 2ème CL\"))","v":0},{"$f":"SUMPRODUCT((eligibilité!$AG$15:$AG$515=\"Eligibilité ultérieure\")*(eligibilité!$I$15:$I$515=\"TECHNICIEN PRINCIPAL DE 2ème CL\"))","v":0}]
["TECHNICIEN",null,null,null,{"$f":"SUMPRODUCT((eligibilité!$AF$15:$AF$515=\"Eligible\")*(eligibilité!$I$15:$I$515=\"TECHNICIEN\"))","v":0},{"$f":"SUMPRODUCT((eligibilité!$AG$15:$AG$515=\"Eligibilité ultérieure\")*(eligibilité!$I$15:$I$515=\"TECHNICIEN\"))","v":0}]
["AGENT DE MAÎTRISE",null,null,null,{"$f":"SUMPRODUCT((eligibilité!$AF$15:$AF$515=\"Eligible\")*(eligibilité!$I$15:$I$515=\"AGENT DE MAÎTRISE\"))","v":0},{"$f":"SUMPRODUCT((eligibilité!$AG$15:$AG$515=\"Eligibilité ultérieure\")*(eligibilité!$I$15:$I$515=\"AGENT DE MAÎTRISE\"))","v":0}]
["ADJOINT TECHNIQUE DE 1ère CL",null,null,null,{"$f":"SUMPRODUCT((eligibilité!$AF$15:$AF$515=\"Eligible\")*(eligibilité!$I$15:$I$515=\"ADJOINT TECHNIQUE DE 1ère CL\"))","v":0},{"$f":"SUMPRODUCT((eligibilité!$AG$15:$AG$515=\"Eligibilité ultérieure\")*(eligibilité!$I$15:$I$515=\"ADJOINT TECHNIQUE DE 1ère CL\"))","v":0}]
["ADJOINT TECHNIQUE 1ère CL DES ETS D'ENSEIGNEMENT",null,null,null,{"$f":"SUMPRODUCT((eligibilité!$AF$15:$AF$515=\"Eligible\")*(eligibilité!$I$15:$I$515=\"ADJOINT TECHNIQUE 1ère CL DES ETS D'ENSEIGNEMENT\"))","v":0},{"$f":"SUMPRODUCT((eligibilité!$AG$15:$AG$515=\"Eligibilité ultérieure\")*(eligibilité!$I$15:$I$515=\"ADJOINT TECHNIQUE 1ère CL DES ETS D'ENSEIGNEMENT\"))","v":0}]
["SAPEUR DE 1ERE CLASSE",null,null,null,{"$f":"SUMPRODUCT((eligibilité!$AF$15:$AF$515=\"Eligible\")*(eligibilité!$I$15:$I$515=\"SAPEUR DE 1ERE CLASSE\"))","v":0},{"$f":"SUMPRODUCT((eligibilité!$AG$15:$AG$515=\"Eligibilité ultérieure\")*(eligibilité!$I$15:$I$515=\"SAPEUR DE 1ERE CLASSE\"))","v":0}]
["SERGENT",null,null,null,{"$f":"SUMPRODUCT((eligibilité!$AF$15:$AF$515=\"Eligible\")*(eligibilité!$I$15:$I$515=\"SERGENT\"))","v":0},{"$f":"SUMPRODUCT((eligibilité!$AG$15:$AG$515=\"Eligibilité ultérieure\")*(eligibilité!$I$15:$I$515=\"SERGENT\"))","v":0}]
["INFIRMIER SAPEUR POMPIER DE CLASSE NORMALE",null,null,null,{"$f":"SUMPRODUCT((eligibilité!$AF$15:$AF$515=\"Eligible\")*(eligibilité!$I$15:$I$515=\"INFIRMIER SAPEUR POMPIER DE CLASSE NORMALE\"))","v":0},{"$f":"SUMPRODUCT((eligibilité!$AG$15:$AG$515=\"Eligibilité ultérieure\")*(eligibilité!$I$15:$I$515=\"INFIRMIER SAPEUR POMPIER DE CLASSE NORMALE\"))","v":0}]
["LIEUTENANT DE 2ème CL",null,null,null,{"$f":"SUMPRODUCT((eligibilité!$AF$15:$AF$515=\"Eligible\")*(eligibilité!$I$15:$I$515=\"LIEUTENANT DE 2ème CL\"))","v":0},{"$f":"SUMPRODUCT((eligibilité!$AG$15:$AG$515=\"Eligibilité ultérieure\")*(eligibilité!$I$15:$I$515=\"LIEUTENANT DE 2ème CL\"))","v":0}]
["LIEUTENANT DE 1ère CL",null,null,null,{"$f":"SUMPRODUCT((eligibilité!$AF$15:$AF$515=\"Eligible\")*(eligibilité!$I$15:$I$515=\"LIEUTENANT DE 1ère CL\"))","v":0},{"$f":"SUMPRODUCT((eligibilité!$AG$15:$AG$515=\"Eligibilité ultérieure\")*(eligibilité!$I$15:$I$515=\"LIEUTENANT DE 1ère CL\"))","v":0}]
["CADRE DE SANTE DE SAPEUR POMPIER DE 2ème CL",null,null,null,{"$f":"SUMPRODUCT((eligibilité!$AF$15:$AF$515=\"Eligible\")*(eligibilité!$I$15:$I$515=\"CADRE DE SANTE DE SAPEUR POMPIER DE 2ème CL\"))","v":0},{"$f":"SUMPRODUCT((eligibilité!$AG$15:$AG$515=\"Eligibilité ultérieure\")*(eligibilité!$I$15:$I$515=\"CADRE DE SANTE DE SAPEUR POMPIER DE 2ème CL\"))","v":0}]
["CAPITAINE",null,null,null,{"$f":"SUMPRODUCT((eligibilité!$AF$15:$AF$515=\"Eligible\")*(eligibilité!$I$15:$I$515=\"CAPITAINE\"))","v":0},{"$f":"SUMPRODUCT((eligibilité!$AG$15:$AG$515=\"Eligibilité ultérieure\")*(eligibilité!$I$15:$I$515=\"CAPITAINE\"))","v":0}]
["AUTRE",null,null,null,{"$f":"SUMPRODUCT((eligibilité!$AF$15:$AF$515=\"Eligible\")*(eligibilité!$I$15:$I$515=\"AUTRE\"))","v":0},{"$f":"SUMPRODUCT((eligibilité!$AG$15:$AG$515=\"Eligibilité ultérieure\")*(eligibilité!$I$15:$I$515=\"AUTRE\"))","v":0},{"$f":"SUM(G181:G203,G151:G174)","v":0},"Le total des cellules \"AUTRE\" (RSA et RSA ultérieur) doit être égal au total                                                                       de la cellule \"Effectif éligible d'un grade équivalent\""]
["2- Données du programme pluriannuel d'accès à l'emploi titulaire (PPAET)"]
[]
[null,"b. Accès aux recrutements réservés des catégories C sans concours"]
[]
[null,null,null,null,null,null,null,"A renseigner en fonction des besoins de recrutement de votre structure et des objectifs de G.P.E.E.C."]
[null,null,null,null,"Effectif éligible (RSA)","Nb d'éligibles au RSA ultérieur","Effectif éligible d'un grade équivalent","Besoins \nde la collectivité en 2016","Besoins \nde la collectivité en 2017","Besoins \nde la collectivité en 2018"]
["ADJOINT ADMINISTRATIF DE 2ème CL",null,null,null,{"$f":"SUMPRODUCT((eligibilité!$AF$15:$AF$515=\"Eligible\")*(eligibilité!$I$15:$I$515=\"ADJOINT ADMINISTRATIF DE 2ème CL\"))","v":0},{"$f":"SUMPRODUCT((eligibilité!$AG$15:$AG$515=\"Eligibilité ultérieure\")*(eligibilité!$I$15:$I$515=\"ADJOINT ADMINISTRATIF DE 2ème CL\"))","v":0}]
["ADJOINT TECHNIQUE DE 2ème CL",null,null,null,{"$f":"SUMPRODUCT((eligibilité!$AF$15:$AF$515=\"Eligible\")*(eligibilité!$I$15:$I$515=\"ADJOINT TECHNIQUE DE 2ème CL\"))","v":0},{"$f":"SUMPRODUCT((eligibilité!$AG$15:$AG$515=\"Eligibilité ultérieure\")*(eligibilité!$I$15:$I$515=\"ADJOINT TECHNIQUE DE 2ème CL\"))","v":0}]
["ADJOINT D'ANIMATION DE 2ème CL",null,null,null,{"$f":"SUMPRODUCT((eligibilité!$AF$15:$AF$515=\"Eligible\")*(eligibilité!$I$15:$I$515=\"ADJOINT D'ANIMATION DE 2ème CL\"))","v":0},{"$f":"SUMPRODUCT((eligibilité!$AG$15:$AG$515=\"Eligibilité ultérieure\")*(eligibilité!$I$15:$I$515=\"ADJOINT D'ANIMATION DE 2ème CL\"))","v":0}]
["AGENT SOCIAL DE 2ème CL",null,null,null,{"$f":"SUMPRODUCT((eligibilité!$AF$15:$AF$515=\"Eligible\")*(eligibilité!$I$15:$I$515=\"AGENT SOCIAL DE 2ème CL\"))","v":0},{"$f":"SUMPRODUCT((eligibilité!$AG$15:$AG$515=\"Eligibilité ultérieure\")*(eligibilité!$I$15:$I$515=\"AGENT SOCIAL DE 2ème CL\"))","v":0}]
["ADJOINT TECHNIQUE DE 2ème CL DES ETS D'ENSEIGNEMENT",null,null,null,{"$f":"SUMPRODUCT((eligibilité!$AF$15:$AF$515=\"Eligible\")*(eligibilité!$I$15:$I$515=\"ADJOINT TECHNIQUE DE 2ème CL DES ETS D'ENSEIGNEMENT\"))","v":0},{"$f":"SUMPRODUCT((eligibilité!$AG$15:$AG$515=\"Eligibilité ultérieure\")*(eligibilité!$I$15:$I$515=\"ADJOINT TECHNIQUE DE 2ème CL DES ETS D'ENSEIGNEMENT\"))","v":0}]
["ADJOINT DU PATRIMOINE DE 2ème CL",null,null,null,{"$f":"SUMPRODUCT((eligibilité!$AF$15:$AF$515=\"Eligible\")*(eligibilité!$I$15:$I$515=\"ADJOINT DU PATRIMOINE DE 2ème CL\"))","v":0},{"$f":"SUMPRODUCT((eligibilité!$AG$15:$AG$515=\"Eligibilité ultérieure\")*(eligibilité!$I$15:$I$515=\"ADJOINT DU PATRIMOINE DE 2ème CL\"))","v":0}]
[]
[]
["ANNEXE"]
[]
[]
["Etat de l'ancienneté individuelle acquise des agents remplissant les conditions des articles 14 et 15"]
[]
["Pour actualiser le contenu du tableau, aller sur le filtre de la colonne \"N° réf. du dossier\" (cellule \"A234\") puis cliquer sur \"OK\" (ni décocher ni cocher d'autres cellules)"]
[null,null,null,null,null,null,null,null,null,null,null,null,null,null,null,null,null,null,null,"A l'édition du rapport"]
["N° réf. du dossier","Fonctions des agents référencés",null,null,null,"Admissibilité titularisation","Admissibilité titularisation ultérieure","Ancienneté acquise au 31/03/2013",null,null,"Ancienneté acquise à la date d'édition du rapport","Acquis","Manquant","Au 31/03/2013",null,null,null,{"$f":"TODAY()-DATE(2013,4,1)","v":1305},{"$f":"R226/30.44","v":42.871222076215503},"ans",null,"mois","jours"]
[{"$f":"IF(eligibilité!A15=\"\",\"\",eligibilité!A15)","v":""},null,null,null,null,{"$f":"IF(eligibilité!AF15=\"\",\"\",eligibilité!AF15)","v":""},{"$f":"IF(AND(eligibilité!AG15=\"\",F227=\"Non éligible\"),\"Non éligible\",eligibilité!AG15)","v":""},{"$f":"IF(AND(F227=\"Non éligible\",G227=\"Non éligible\"),\"Conditions non remplies\",IF(AND(F227=\"Eligible\",L227=\"\"),\"Remplir la case manuellement, votre agent est en CDI\",IF(F227=\"\",\"\",CONCATENATE(N227,\" an(s) \",P227,\" mois \",Q227,\" jour(s)\"))))","v":""},null,null,{"$f":"IF(AND($F227=\"Non éligible\",$G227=\"Non éligible\"),\"Conditions non remplies\",IF(AND($F227=\"Eligibilité ultérieure\",$L227=\"\"),\"Remplir la case manuellement, votre agent est en CDI\",IF($F227=\"\",\"\",CONCATENATE($T227,\" an(s) \",$V227,\" mois \",$W227,\" jour(s)\"))))","v":""},{"$f":"eligibilité!AD15","v":""},{"$f":"eligibilité!AH15","v":""},{"$f":"IF(L227=\"\",\"\",INT(L227/12))","v":""},{"$f":"IF(L227=\"\",\"\",(L227-N227*12))","v":""},{"$f":"IF(L227=\"\",\"\",INT(O227))","v":""},{"$f":"IF(L227=\"\",\"\",ROUNDDOWN((O227-P227)*30.44,0))","v":""},{"$f":"IF(L227=\"\",\"\",$S$226+L227)","v":""},{"$f":"IF(R227=\"\",\"\",R227/12)","v":""},{"$f":"IF(L227=\"\",\"\",INT(S227))","v":""},{"$f":"IF(L227=\"\",\"\",(S227-T227)*12)","v":""},{"$f":"IF(L227=\"\",\"\",INT(U227))","v":""},{"$f":"IF(L227=\"\",\"\",INT((U227-V227)*30.44))","v":""}]
[{"$f":"IF(eligibilité!A16=\"\",\"\",eligibilité!A16)","v":""},{"$f":"IF(A228=\"\",\"\",\"Définir les fonctions ou le poste du dossier\")","v":""},null,null,null,{"$f":"IF(eligibilité!AF16=\"\",\"\",eligibilité!AF16)","v":""},{"$f":"IF(AND(eligibilité!AG16=\"\",F228=\"Non éligible\"),\"Non éligible\",eligibilité!AG16)","v":""},"",null,null,{"$f":"IF(AND($F228=\"Non éligible\",$G228=\"Non éligible\"),\"Conditions non remplies\",IF(AND($F228=\"Eligibilité ultérieure\",$L228=\"\"),\"Remplir la case manuellement, votre agent est en CDI\",IF($F228=\"\",\"\",CONCATENATE($T228,\" an(s) \",$V228,\" mois \",$W228,\" jour(s)\"))))","v":""},{"$f":"eligibilité!AD16","v":""},{"$f":"eligibilité!AH16","v":""},{"$f":"IF(L228=\"\",\"\",INT(L228/12))","v":""},{"$f":"IF(L228=\"\",\"\",(L228-N228*12))","v":""},{"$f":"IF(L228=\"\",\"\",INT(O228))","v":""},{"$f":"IF(L228=\"\",\"\",ROUNDDOWN((O228-P228)*30.44,0))","v":""},{"$f":"IF(L228=\"\",\"\",$S$226+L228)","v":""},{"$f":"IF(R228=\"\",\"\",R228/12)","v":""},{"$f":"IF(L228=\"\",\"\",INT(S228))","v":""},{"$f":"IF(L228=\"\",\"\",(S228-T228)*12)","v":""},{"$f":"IF(L228=\"\",\"\",INT(U228))","v":""},{"$f":"IF(L228=\"\",\"\",INT((U228-V228)*30.44))","v":""}]
[{"$f":"IF(eligibilité!A17=\"\",\"\",eligibilité!A17)","v":""},"",null,null,null,{"$f":"IF(eligibilité!AF17=\"\",\"\",eligibilité!AF17)","v":""},{"$f":"IF(AND(eligibilité!AG17=\"\",F229=\"Non éligible\"),\"Non éligible\",eligibilité!AG17)","v":""},"",null,null,"",{"$f":"eligibilité!AD17","v":""},{"$f":"eligibilité!AH17","v":""},"","","","","","","","","",""]
[{"$f":"IF(eligibilité!A18=\"\",\"\",eligibilité!A18)","v":""},"",null,null,null,{"$f":"IF(eligibilité!AF18=\"\",\"\",eligibilité!AF18)","v":""},{"$f":"IF(AND(eligibilité!AG18=\"\",F230=\"Non éligible\"),\"Non éligible\",eligibilité!AG18)","v":""},"",null,null,"",{"$f":"eligibilité!AD18","v":""},{"$f":"eligibilité!AH18","v":""},"","","","","","","","","",""]
[{"$f":"IF(eligibilité!A19=\"\",\"\",eligibilité!A19)","v":""},"",null,null,null,{"$f":"IF(eligibilité!AF19=\"\",\"\",eligibilité!AF19)","v":""},{"$f":"IF(AND(eligibilité!AG19=\"\",F231=\"Non éligible\"),\"Non éligible\",eligibilité!AG19)","v":""},"",null,null,"",{"$f":"eligibilité!AD19","v":""},{"$f":"eligibilité!AH19","v":""},"","","","","","","","","",""]
[{"$f":"IF(eligibilité!A20=\"\",\"\",eligibilité!A20)","v":""},"",null,null,null,{"$f":"IF(eligibilité!AF20=\"\",\"\",eligibilité!AF20)","v":""},{"$f":"IF(AND(eligibilité!AG20=\"\",F232=\"Non éligible\"),\"Non éligible\",eligibilité!AG20)","v":""},"",null,null,"",{"$f":"eligibilité!AD20","v":""},{"$f":"eligibilité!AH20","v":""},"","","","","","","","","",""]
[{"$f":"IF(eligibilité!A21=\"\",\"\",eligibilité!A21)","v":""},"",null,null,null,{"$f":"IF(eligibilité!AF21=\"\",\"\",eligibilité!AF21)","v":""},{"$f":"IF(AND(eligibilité!AG21=\"\",F233=\"Non éligible\"),\"Non éligible\",eligibilité!AG21)","v":""},"",null,null,"",{"$f":"eligibilité!AD21","v":""},{"$f":"eligibilité!AH21","v":""},"","","","","","","","","",""]
[{"$f":"IF(eligibilité!A22=\"\",\"\",eligibilité!A22)","v":""},null,null,null,null,{"$f":"IF(eligibilité!AF22=\"\",\"\",eligibilité!AF22)","v":""},{"$f":"IF(AND(eligibilité!AG22=\"\",F234=\"Non éligible\"),\"Non éligible\",eligibilité!AG22)","v":""},"",null,null,"",{"$f":"eligibilité!AD22","v":""},{"$f":"eligibilité!AH22","v":""},"","","","","","","","","",""]
[{"$f":"IF(eligibilité!A23=\"\",\"\",eligibilité!A23)","v":""},"",null,null,null,{"$f":"IF(eligibilité!AF23=\"\",\"\",eligibilité!AF23)","v":""},{"$f":"IF(AND(eligibilité!AG23=\"\",F235=\"Non éligible\"),\"Non éligible\",eligibilité!AG23)","v":""},"",null,null,"",{"$f":"eligibilité!AD23","v":""},{"$f":"eligibilité!AH23","v":""},"","","","","","","","","",""]
[{"$f":"IF(eligibilité!A24=\"\",\"\",eligibilité!A24)","v":""},"",null,null,null,{"$f":"IF(eligibilité!AF24=\"\",\"\",eligibilité!AF24)","v":""},{"$f":"IF(AND(eligibilité!AG24=\"\",F236=\"Non éligible\"),\"Non éligible\",eligibilité!AG24)","v":""},"",null,null,"",{"$f":"eligibilité!AD24","v":""},{"$f":"eligibilité!AH24","v":""},"","","","","","","","","",""]
[{"$f":"IF(eligibilité!A25=\"\",\"\",eligibilité!A25)","v":""},"",null,null,null,{"$f":"IF(eligibilité!AF25=\"\",\"\",eligibilité!AF25)","v":""},{"$f":"IF(AND(eligibilité!AG25=\"\",F237=\"Non éligible\"),\"Non éligible\",eligibilité!AG25)","v":""},"",null,null,"",{"$f":"eligibilité!AD25","v":""},{"$f":"eligibilité!AH25","v":""},"","","","","","","","","",""]
[{"$f":"IF(eligibilité!A26=\"\",\"\",eligibilité!A26)","v":""},"",null,null,null,{"$f":"IF(eligibilité!AF26=\"\",\"\",eligibilité!AF26)","v":""},{"$f":"IF(AND(eligibilité!AG26=\"\",F238=\"Non éligible\"),\"Non éligible\",eligibilité!AG26)","v":""},"",null,null,"",{"$f":"eligibilité!AD26","v":""},{"$f":"eligibilité!AH26","v":""},"","","","","","","","","",""]
[{"$f":"IF(eligibilité!A27=\"\",\"\",eligibilité!A27)","v":""},"",null,null,null,{"$f":"IF(eligibilité!AF27=\"\",\"\",eligibilité!AF27)","v":""},{"$f":"IF(AND(eligibilité!AG27=\"\",F239=\"Non éligible\"),\"Non éligible\",eligibilité!AG27)","v":""},"",null,null,"",{"$f":"eligibilité!AD27","v":""},{"$f":"eligibilité!AH27","v":""},"","","","","","","","","",""]
[{"$f":"IF(eligibilité!A28=\"\",\"\",eligibilité!A28)","v":""},"",null,null,null,{"$f":"IF(eligibilité!AF28=\"\",\"\",eligibilité!AF28)","v":""},{"$f":"IF(AND(eligibilité!AG28=\"\",F240=\"Non éligible\"),\"Non éligible\",eligibilité!AG28)","v":""},"",null,null,"",{"$f":"eligibilité!AD28","v":""},{"$f":"eligibilité!AH28","v":""},"","","","","","","","","",""]
[{"$f":"IF(eligibilité!A29=\"\",\"\",eligibilité!A29)","v":""},"",null,null,null,{"$f":"IF(eligibilité!AF29=\"\",\"\",eligibilité!AF29)","v":""},{"$f":"IF(AND(eligibilité!AG29=\"\",F241=\"Non éligible\"),\"Non éligible\",eligibilité!AG29)","v":""},"",null,null,"",{"$f":"eligibilité!AD29","v":""},{"$f":"eligibilité!AH29","v":""},"","","","","","","","","",""]
[{"$f":"IF(eligibilité!A30=\"\",\"\",eligibilité!A30)","v":""},"",null,null,null,{"$f":"IF(eligibilité!AF30=\"\",\"\",eligibilité!AF30)","v":""},{"$f":"IF(AND(eligibilité!AG30=\"\",F242=\"Non éligible\"),\"Non éligible\",eligibilité!AG30)","v":""},"",null,null,"",{"$f":"eligibilité!AD30","v":""},{"$f":"eligibilité!AH30","v":""},"","","","","","","","","",""]
[{"$f":"IF(eligibilité!A31=\"\",\"\",eligibilité!A31)","v":""},"",null,null,null,{"$f":"IF(eligibilité!AF31=\"\",\"\",eligibilité!AF31)","v":""},{"$f":"IF(AND(eligibilité!AG31=\"\",F243=\"Non éligible\"),\"Non éligible\",eligibilité!AG31)","v":""},"",null,null,"",{"$f":"eligibilité!AD31","v":""},{"$f":"eligibilité!AH31","v":""},"","","","","","","","","",""]
[{"$f":"IF(eligibilité!A32=\"\",\"\",eligibilité!A32)","v":""},"",null,null,null,{"$f":"IF(eligibilité!AF32=\"\",\"\",eligibilité!AF32)","v":""},{"$f":"IF(AND(eligibilité!AG32=\"\",F244=\"Non éligible\"),\"Non éligible\",eligibilité!AG32)","v":""},"",null,null,"",{"$f":"eligibilité!AD32","v":""},{"$f":"eligibilité!AH32","v":""},"","","","","","","","","",""]
[{"$f":"IF(eligibilité!A33=\"\",\"\",eligibilité!A33)","v":""},"",null,null,null,{"$f":"IF(eligibilité!AF33=\"\",\"\",eligibilité!AF33)","v":""},{"$f":"IF(AND(eligibilité!AG33=\"\",F245=\"Non éligible\"),\"Non éligible\",eligibilité!AG33)","v":""},"",null,null,"",{"$f":"eligibilité!AD33","v":""},{"$f":"eligibilité!AH33","v":""},"","","","","","","","","",""]
[{"$f":"IF(eligibilité!A34=\"\",\"\",eligibilité!A34)","v":""},"",null,null,null,{"$f":"IF(eligibilité!AF34=\"\",\"\",eligibilité!AF34)","v":""},{"$f":"IF(AND(eligibilité!AG34=\"\",F246=\"Non éligible\"),\"Non éligible\",eligibilité!AG34)","v":""},"",null,null,"",{"$f":"eligibilité!AD34","v":""},{"$f":"eligibilité!AH34","v":""},"","","","","","","","","",""]
[{"$f":"IF(eligibilité!A35=\"\",\"\",eligibilité!A35)","v":""},"",null,null,null,{"$f":"IF(eligibilité!AF35=\"\",\"\",eligibilité!AF35)","v":""},{"$f":"IF(AND(eligibilité!AG35=\"\",F247=\"Non éligible\"),\"Non éligible\",eligibilité!AG35)","v":""},"",null,null,"",{"$f":"eligibilité!AD35","v":""},{"$f":"eligibilité!AH35","v":""},"","","","","","","","","",""]
[{"$f":"IF(eligibilité!A36=\"\",\"\",eligibilité!A36)","v":""},"",null,null,null,{"$f":"IF(eligibilité!AF36=\"\",\"\",eligibilité!AF36)","v":""},{"$f":"IF(AND(eligibilité!AG36=\"\",F248=\"Non éligible\"),\"Non éligible\",eligibilité!AG36)","v":""},"",null,null,"",{"$f":"eligibilité!AD36","v":""},{"$f":"eligibilité!AH36","v":""},"","","","","","","","","",""]
[{"$f":"IF(eligibilité!A37=\"\",\"\",eligibilité!A37)","v":""},"",null,null,null,{"$f":"IF(eligibilité!AF37=\"\",\"\",eligibilité!AF37)","v":""},{"$f":"IF(AND(eligibilité!AG37=\"\",F249=\"Non éligible\"),\"Non éligible\",eligibilité!AG37)","v":""},"",null,null,"",{"$f":"eligibilité!AD37","v":""},{"$f":"eligibilité!AH37","v":""},"","","","","","","","","",""]
[{"$f":"IF(eligibilité!A38=\"\",\"\",eligibilité!A38)","v":""},"",null,null,null,{"$f":"IF(eligibilité!AF38=\"\",\"\",eligibilité!AF38)","v":""},{"$f":"IF(AND(eligibilité!AG38=\"\",F250=\"Non éligible\"),\"Non éligible\",eligibilité!AG38)","v":""},"",null,null,"",{"$f":"eligibilité!AD38","v":""},{"$f":"eligibilité!AH38","v":""},"","","","","","","","","",""]
[{"$f":"IF(eligibilité!A39=\"\",\"\",eligibilité!A39)","v":""},"",null,null,null,{"$f":"IF(eligibilité!AF39=\"\",\"\",eligibilité!AF39)","v":""},{"$f":"IF(AND(eligibilité!AG39=\"\",F251=\"Non éligible\"),\"Non éligible\",eligibilité!AG39)","v":""},"",null,null,"",{"$f":"eligibilité!AD39","v":""},{"$f":"eligibilité!AH39","v":""},"","","","","","","","","",""]
[{"$f":"IF(eligibilité!A40=\"\",\"\",eligibilité!A40)","v":""},"",null,null,null,{"$f":"IF(eligibilité!AF40=\"\",\"\",eligibilité!AF40)","v":""},{"$f":"IF(AND(eligibilité!AG40=\"\",F252=\"Non éligible\"),\"Non éligible\",eligibilité!AG40)","v":""},"",null,null,"",{"$f":"eligibilité!AD40","v":""},{"$f":"eligibilité!AH40","v":""},"","","","","","","","","",""]
[{"$f":"IF(eligibilité!A41=\"\",\"\",eligibilité!A41)","v":""},"",null,null,null,{"$f":"IF(eligibilité!AF41=\"\",\"\",eligibilité!AF41)","v":""},{"$f":"IF(AND(eligibilité!AG41=\"\",F253=\"Non éligible\"),\"Non éligible\",eligibilité!AG41)","v":""},"",null,null,"",{"$f":"eligibilité!AD41","v":""},{"$f":"eligibilité!AH41","v":""},"","","","","","","","","",""]
[{"$f":"IF(eligibilité!A42=\"\",\"\",eligibilité!A42)","v":""},"",null,null,null,{"$f":"IF(eligibilité!AF42=\"\",\"\",eligibilité!AF42)","v":""},{"$f":"IF(AND(eligibilité!AG42=\"\",F254=\"Non éligible\"),\"Non éligible\",eligibilité!AG42)","v":""},"",null,null,"",{"$f":"eligibilité!AD42","v":""},{"$f":"eligibilité!AH42","v":""},"","","","","","","","","",""]
[{"$f":"IF(eligibilité!A43=\"\",\"\",eligibilité!A43)","v":""},"",null,null,null,{"$f":"IF(eligibilité!AF43=\"\",\"\",eligibilité!AF43)","v":""},{"$f":"IF(AND(eligibilité!AG43=\"\",F255=\"Non éligible\"),\"Non éligible\",eligibilité!AG43)","v":""},"",null,null,"",{"$f":"eligibilité!AD43","v":""},{"$f":"eligibilité!AH43","v":""},"","","","","","","","","",""]
[{"$f":"IF(eligibilité!A44=\"\",\"\",eligibilité!A44)","v":""},"",null,null,null,{"$f":"IF(eligibilité!AF44=\"\",\"\",eligibilité!AF44)","v":""},{"$f":"IF(AND(eligibilité!AG44=\"\",F256=\"Non éligible\"),\"Non éligible\",eligibilité!AG44)","v":""},"",null,null,"",{"$f":"eligibilité!AD44","v":""},{"$f":"eligibilité!AH44","v":""},"","","","","","","","","",""]
[{"$f":"IF(eligibilité!A45=\"\",\"\",eligibilité!A45)","v":""},"",null,null,null,{"$f":"IF(eligibilité!AF45=\"\",\"\",eligibilité!AF45)","v":""},{"$f":"IF(AND(eligibilité!AG45=\"\",F257=\"Non éligible\"),\"Non éligible\",eligibilité!AG45)","v":""},"",null,null,"",{"$f":"eligibilité!AD45","v":""},{"$f":"eligibilité!AH45","v":""},"","","","","","","","","",""]
[{"$f":"IF(eligibilité!A46=\"\",\"\",eligibilité!A46)","v":""},"",null,null,null,{"$f":"IF(eligibilité!AF46=\"\",\"\",eligibilité!AF46)","v":""},{"$f":"IF(AND(eligibilité!AG46=\"\",F258=\"Non éligible\"),\"Non éligible\",eligibilité!AG46)","v":""},"",null,null,"",{"$f":"eligibilité!AD46","v":""},{"$f":"eligibilité!AH46","v":""},"","","","","","","","","",""]
[{"$f":"IF(eligibilité!A47=\"\",\"\",eligibilité!A47)","v":""},"",null,null,null,{"$f":"IF(eligibilité!AF47=\"\",\"\",eligibilité!AF47)","v":""},{"$f":"IF(AND(eligibilité!AG47=\"\",F259=\"Non éligible\"),\"Non éligible\",eligibilité!AG47)","v":""},"",null,null,"",{"$f":"eligibilité!AD47","v":""},{"$f":"eligibilité!AH47","v":""},"","","","","","","","","",""]
[{"$f":"IF(eligibilité!A48=\"\",\"\",eligibilité!A48)","v":""},"",null,null,null,{"$f":"IF(eligibilité!AF48=\"\",\"\",eligibilité!AF48)","v":""},{"$f":"IF(AND(eligibilité!AG48=\"\",F260=\"Non éligible\"),\"Non éligible\",eligibilité!AG48)","v":""},"",null,null,"",{"$f":"eligibilité!AD48","v":""},{"$f":"eligibilité!AH48","v":""},"","","","","","","","","",""]
[{"$f":"IF(eligibilité!A49=\"\",\"\",eligibilité!A49)","v":""},"",null,null,null,{"$f":"IF(eligibilité!AF49=\"\",\"\",eligibilité!AF49)","v":""},{"$f":"IF(AND(eligibilité!AG49=\"\",F261=\"Non éligible\"),\"Non éligible\",eligibilité!AG49)","v":""},"",null,null,"",{"$f":"eligibilité!AD49","v":""},{"$f":"eligibilité!AH49","v":""},"","","","","","","","","",""]
[{"$f":"IF(eligibilité!A50=\"\",\"\",eligibilité!A50)","v":""},"",null,null,null,{"$f":"IF(eligibilité!AF50=\"\",\"\",eligibilité!AF50)","v":""},{"$f":"IF(AND(eligibilité!AG50=\"\",F262=\"Non éligible\"),\"Non éligible\",eligibilité!AG50)","v":""},"",null,null,"",{"$f":"eligibilité!AD50","v":""},{"$f":"eligibilité!AH50","v":""},"","","","","","","","","",""]
[{"$f":"IF(eligibilité!A51=\"\",\"\",eligibilité!A51)","v":""},"",null,null,null,{"$f":"IF(eligibilité!AF51=\"\",\"\",eligibilité!AF51)","v":""},{"$f":"IF(AND(eligibilité!AG51=\"\",F263=\"Non éligible\"),\"Non éligible\",eligibilité!AG51)","v":""},"",null,null,"",{"$f":"eligibilité!AD51","v":""},{"$f":"eligibilité!AH51","v":""},"","","","","","","","","",""]
[{"$f":"IF(eligibilité!A52=\"\",\"\",eligibilité!A52)","v":""},"",null,null,null,{"$f":"IF(eligibilité!AF52=\"\",\"\",eligibilité!AF52)","v":""},{"$f":"IF(AND(eligibilité!AG52=\"\",F264=\"Non éligible\"),\"Non éligible\",eligibilité!AG52)","v":""},"",null,null,"",{"$f":"eligibilité!AD52","v":""},{"$f":"eligibilité!AH52","v":""},"","","","","","","","","",""]
[{"$f":"IF(eligibilité!A53=\"\",\"\",eligibilité!A53)","v":""},"",null,null,null,{"$f":"IF(eligibilité!AF53=\"\",\"\",eligibilité!AF53)","v":""},{"$f":"IF(AND(eligibilité!AG53=\"\",F265=\"Non éligible\"),\"Non éligible\",eligibilité!AG53)","v":""},"",null,null,"",{"$f":"eligibilité!AD53","v":""},{"$f":"eligibilité!AH53","v":""},"","","","","","","","","",""]
[{"$f":"IF(eligibilité!A54=\"\",\"\",eligibilité!A54)","v":""},"",null,null,null,{"$f":"IF(eligibilité!AF54=\"\",\"\",eligibilité!AF54)","v":""},{"$f":"IF(AND(eligibilité!AG54=\"\",F266=\"Non éligible\"),\"Non éligible\",eligibilité!AG54)","v":""},"",null,null,"",{"$f":"eligibilité!AD54","v":""},{"$f":"eligibilité!AH54","v":""},"","","","","","","","","",""]
[{"$f":"IF(eligibilité!A55=\"\",\"\",eligibilité!A55)","v":""},"",null,null,null,{"$f":"IF(eligibilité!AF55=\"\",\"\",eligibilité!AF55)","v":""},{"$f":"IF(AND(eligibilité!AG55=\"\",F267=\"Non éligible\"),\"Non éligible\",eligibilité!AG55)","v":""},"",null,null,"",{"$f":"eligibilité!AD55","v":""},{"$f":"eligibilité!AH55","v":""},"","","","","","","","","",""]
[{"$f":"IF(eligibilité!A56=\"\",\"\",eligibilité!A56)","v":""},"",null,null,null,{"$f":"IF(eligibilité!AF56=\"\",\"\",eligibilité!AF56)","v":""},{"$f":"IF(AND(eligibilité!AG56=\"\",F268=\"Non éligible\"),\"Non éligible\",eligibilité!AG56)","v":""},"",null,null,"",{"$f":"eligibilité!AD56","v":""},{"$f":"eligibilité!AH56","v":""},"","","","","","","","","",""]
[{"$f":"IF(eligibilité!A57=\"\",\"\",eligibilité!A57)","v":""},"",null,null,null,{"$f":"IF(eligibilité!AF57=\"\",\"\",eligibilité!AF57)","v":""},{"$f":"IF(AND(eligibilité!AG57=\"\",F269=\"Non éligible\"),\"Non éligible\",eligibilité!AG57)","v":""},"",null,null,"",{"$f":"eligibilité!AD57","v":""},{"$f":"eligibilité!AH57","v":""},"","","","","","","","","",""]
[{"$f":"IF(eligibilité!A58=\"\",\"\",eligibilité!A58)","v":""},"",null,null,null,{"$f":"IF(eligibilité!AF58=\"\",\"\",eligibilité!AF58)","v":""},{"$f":"IF(AND(eligibilité!AG58=\"\",F270=\"Non éligible\"),\"Non éligible\",eligibilité!AG58)","v":""},"",null,null,"",{"$f":"eligibilité!AD58","v":""},{"$f":"eligibilité!AH58","v":""},"","","","","","","","","",""]
[{"$f":"IF(eligibilité!A59=\"\",\"\",eligibilité!A59)","v":""},"",null,null,null,{"$f":"IF(eligibilité!AF59=\"\",\"\",eligibilité!AF59)","v":""},{"$f":"IF(AND(eligibilité!AG59=\"\",F271=\"Non éligible\"),\"Non éligible\",eligibilité!AG59)","v":""},"",null,null,"",{"$f":"eligibilité!AD59","v":""},{"$f":"eligibilité!AH59","v":""},"","","","","","","","","",""]
[{"$f":"IF(eligibilité!A60=\"\",\"\",eligibilité!A60)","v":""},"",null,null,null,{"$f":"IF(eligibilité!AF60=\"\",\"\",eligibilité!AF60)","v":""},{"$f":"IF(AND(eligibilité!AG60=\"\",F272=\"Non éligible\"),\"Non éligible\",eligibilité!AG60)","v":""},"",null,null,"",{"$f":"eligibilité!AD60","v":""},{"$f":"eligibilité!AH60","v":""},"","","","","","","","","",""]
[{"$f":"IF(eligibilité!A61=\"\",\"\",eligibilité!A61)","v":""},"",null,null,null,{"$f":"IF(eligibilité!AF61=\"\",\"\",eligibilité!AF61)","v":""},{"$f":"IF(AND(eligibilité!AG61=\"\",F273=\"Non éligible\"),\"Non éligible\",eligibilité!AG61)","v":""},"",null,null,"",{"$f":"eligibilité!AD61","v":""},{"$f":"eligibilité!AH61","v":""},"","","","","","","","","",""]
[{"$f":"IF(eligibilité!A62=\"\",\"\",eligibilité!A62)","v":""},"",null,null,null,{"$f":"IF(eligibilité!AF62=\"\",\"\",eligibilité!AF62)","v":""},{"$f":"IF(AND(eligibilité!AG62=\"\",F274=\"Non éligible\"),\"Non éligible\",eligibilité!AG62)","v":""},"",null,null,"",{"$f":"eligibilité!AD62","v":""},{"$f":"eligibilité!AH62","v":""},"","","","","","","","","",""]
[{"$f":"IF(eligibilité!A63=\"\",\"\",eligibilité!A63)","v":""},"",null,null,null,{"$f":"IF(eligibilité!AF63=\"\",\"\",eligibilité!AF63)","v":""},{"$f":"IF(AND(eligibilité!AG63=\"\",F275=\"Non éligible\"),\"Non éligible\",eligibilité!AG63)","v":""},"",null,null,"",{"$f":"eligibilité!AD63","v":""},{"$f":"eligibilité!AH63","v":""},"","","","","","","","","",""]
[{"$f":"IF(eligibilité!A64=\"\",\"\",eligibilité!A64)","v":""},"",null,null,null,{"$f":"IF(eligibilité!AF64=\"\",\"\",eligibilité!AF64)","v":""},{"$f":"IF(AND(eligibilité!AG64=\"\",F276=\"Non éligible\"),\"Non éligible\",eligibilité!AG64)","v":""},"",null,null,"",{"$f":"eligibilité!AD64","v":""},{"$f":"eligibilité!AH64","v":""},"","","","","","","","","",""]
[{"$f":"IF(eligibilité!A65=\"\",\"\",eligibilité!A65)","v":""},"",null,null,null,{"$f":"IF(eligibilité!AF65=\"\",\"\",eligibilité!AF65)","v":""},{"$f":"IF(AND(eligibilité!AG65=\"\",F277=\"Non éligible\"),\"Non éligible\",eligibilité!AG65)","v":""},"",null,null,"",{"$f":"eligibilité!AD65","v":""},{"$f":"eligibilité!AH65","v":""},"","","","","","","","","",""]
[{"$f":"IF(eligibilité!A66=\"\",\"\",eligibilité!A66)","v":""},"",null,null,null,{"$f":"IF(eligibilité!AF66=\"\",\"\",eligibilité!AF66)","v":""},{"$f":"IF(AND(eligibilité!AG66=\"\",F278=\"Non éligible\"),\"Non éligible\",eligibilité!AG66)","v":""},"",null,null,"",{"$f":"eligibilité!AD66","v":""},{"$f":"eligibilité!AH66","v":""},"","","","","","","","","",""]
[{"$f":"IF(eligibilité!A67=\"\",\"\",eligibilité!A67)","v":""},"",null,null,null,{"$f":"IF(eligibilité!AF67=\"\",\"\",eligibilité!AF67)","v":""},{"$f":"IF(AND(eligibilité!AG67=\"\",F279=\"Non éligible\"),\"Non éligible\",eligibilité!AG67)","v":""},"",null,null,"",{"$f":"eligibilité!AD67","v":""},{"$f":"eligibilité!AH67","v":""},"","","","","","","","","",""]
[{"$f":"IF(eligibilité!A68=\"\",\"\",eligibilité!A68)","v":""},"",null,null,null,{"$f":"IF(eligibilité!AF68=\"\",\"\",eligibilité!AF68)","v":""},{"$f":"IF(AND(eligibilité!AG68=\"\",F280=\"Non éligible\"),\"Non éligible\",eligibilité!AG68)","v":""},"",null,null,"",{"$f":"eligibilité!AD68","v":""},{"$f":"eligibilité!AH68","v":""},"","","","","","","","","",""]
[{"$f":"IF(eligibilité!A69=\"\",\"\",eligibilité!A69)","v":""},"",null,null,null,{"$f":"IF(eligibilité!AF69=\"\",\"\",eligibilité!AF69)","v":""},{"$f":"IF(AND(eligibilité!AG69=\"\",F281=\"Non éligible\"),\"Non éligible\",eligibilité!AG69)","v":""},"",null,null,"",{"$f":"eligibilité!AD69","v":""},{"$f":"eligibilité!AH69","v":""},"","","","","","","","","",""]
[{"$f":"IF(eligibilité!A70=\"\",\"\",eligibilité!A70)","v":""},"",null,null,null,{"$f":"IF(eligibilité!AF70=\"\",\"\",eligibilité!AF70)","v":""},{"$f":"IF(AND(eligibilité!AG70=\"\",F282=\"Non éligible\"),\"Non éligible\",eligibilité!AG70)","v":""},"",null,null,"",{"$f":"eligibilité!AD70","v":""},{"$f":"eligibilité!AH70","v":""},"","","","","","","","","",""]
[{"$f":"IF(eligibilité!A71=\"\",\"\",eligibilité!A71)","v":""},"",null,null,null,{"$f":"IF(eligibilité!AF71=\"\",\"\",eligibilité!AF71)","v":""},{"$f":"IF(AND(eligibilité!AG71=\"\",F283=\"Non éligible\"),\"Non éligible\",eligibilité!AG71)","v":""},"",null,null,"",{"$f":"eligibilité!AD71","v":""},{"$f":"eligibilité!AH71","v":""},"","","","","","","","","",""]
[{"$f":"IF(eligibilité!A72=\"\",\"\",eligibilité!A72)","v":""},"",null,null,null,{"$f":"IF(eligibilité!AF72=\"\",\"\",eligibilité!AF72)","v":""},{"$f":"IF(AND(eligibilité!AG72=\"\",F284=\"Non éligible\"),\"Non éligible\",eligibilité!AG72)","v":""},"",null,null,"",{"$f":"eligibilité!AD72","v":""},{"$f":"eligibilité!AH72","v":""},"","","","","","","","","",""]
[{"$f":"IF(eligibilité!A73=\"\",\"\",eligibilité!A73)","v":""},"",null,null,null,{"$f":"IF(eligibilité!AF73=\"\",\"\",eligibilité!AF73)","v":""},{"$f":"IF(AND(eligibilité!AG73=\"\",F285=\"Non éligible\"),\"Non éligible\",eligibilité!AG73)","v":""},"",null,null,"",{"$f":"eligibilité!AD73","v":""},{"$f":"eligibilité!AH73","v":""},"","","","","","","","","",""]
[{"$f":"IF(eligibilité!A74=\"\",\"\",eligibilité!A74)","v":""},"",null,null,null,{"$f":"IF(eligibilité!AF74=\"\",\"\",eligibilité!AF74)","v":""},{"$f":"IF(AND(eligibilité!AG74=\"\",F286=\"Non éligible\"),\"Non éligible\",eligibilité!AG74)","v":""},"",null,null,"",{"$f":"eligibilité!AD74","v":""},{"$f":"eligibilité!AH74","v":""},"","","","","","","","","",""]
[{"$f":"IF(eligibilité!A75=\"\",\"\",eligibilité!A75)","v":""},"",null,null,null,{"$f":"IF(eligibilité!AF75=\"\",\"\",eligibilité!AF75)","v":""},{"$f":"IF(AND(eligibilité!AG75=\"\",F287=\"Non éligible\"),\"Non éligible\",eligibilité!AG75)","v":""},"",null,null,"",{"$f":"eligibilité!AD75","v":""},{"$f":"eligibilité!AH75","v":""},"","","","","","","","","",""]
[{"$f":"IF(eligibilité!A76=\"\",\"\",eligibilité!A76)","v":""},"",null,null,null,{"$f":"IF(eligibilité!AF76=\"\",\"\",eligibilité!AF76)","v":""},{"$f":"IF(AND(eligibilité!AG76=\"\",F288=\"Non éligible\"),\"Non éligible\",eligibilité!AG76)","v":""},"",null,null,"",{"$f":"eligibilité!AD76","v":""},{"$f":"eligibilité!AH76","v":""},"","","","","","","","","",""]
[{"$f":"IF(eligibilité!A77=\"\",\"\",eligibilité!A77)","v":""},"",null,null,null,{"$f":"IF(eligibilité!AF77=\"\",\"\",eligibilité!AF77)","v":""},{"$f":"IF(AND(eligibilité!AG77=\"\",F289=\"Non éligible\"),\"Non éligible\",eligibilité!AG77)","v":""},"",null,null,"",{"$f":"eligibilité!AD77","v":""},{"$f":"eligibilité!AH77","v":""},"","","","","","","","","",""]
[{"$f":"IF(eligibilité!A78=\"\",\"\",eligibilité!A78)","v":""},"",null,null,null,{"$f":"IF(eligibilité!AF78=\"\",\"\",eligibilité!AF78)","v":""},{"$f":"IF(AND(eligibilité!AG78=\"\",F290=\"Non éligible\"),\"Non éligible\",eligibilité!AG78)","v":""},"",null,null,"",{"$f":"eligibilité!AD78","v":""},{"$f":"eligibilité!AH78","v":""},"","","","","","","","","",""]
[{"$f":"IF(eligibilité!A79=\"\",\"\",eligibilité!A79)","v":""},"",null,null,null,{"$f":"IF(eligibilité!AF79=\"\",\"\",eligibilité!AF79)","v":""},{"$f":"IF(AND(eligibilité!AG79=\"\",F291=\"Non éligible\"),\"Non éligible\",eligibilité!AG79)","v":""},{"$f":"IF(AND(F291=\"Non éligible\",G291=\"Non éligible\"),\"Conditions non remplies\",IF(AND(F291=\"Eligible\",L291=\"\"),\"Remplir la case manuellement, votre agent est en CDI\",IF(F291=\"\",\"\",CONCATENATE(N291,\" an(s) \",P291,\" mois \",Q291,\" jour(s)\"))))","v":""},null,null,"",{"$f":"eligibilité!AD79","v":""},{"$f":"eligibilité!AH79","v":""},"","","","","","","","","",""]
[{"$f":"IF(eligibilité!A80=\"\",\"\",eligibilité!A80)","v":""},{"$f":"IF(A292=\"\",\"\",\"Définir les fonctions ou le poste du dossier\")","v":""},null,null,null,{"$f":"IF(eligibilité!AF80=\"\",\"\",eligibilité!AF80)","v":""},{"$f":"IF(AND(eligibilité!AG80=\"\",F292=\"Non éligible\"),\"Non éligible\",eligibilité!AG80)","v":""},"",null,null,{"$f":"IF(AND($F292=\"Non éligible\",$G292=\"Non éligible\"),\"Conditions non remplies\",IF(AND($F292=\"Eligibilité ultérieure\",$L292=\"\"),\"Remplir la case manuellement, votre agent est en CDI\",IF($F292=\"\",\"\",CONCATENATE($T292,\" an(s) \",$V292,\" mois \",$W292,\" jour(s)\"))))","v":""},{"$f":"eligibilité!AD80","v":""},{"$f":"eligibilité!AH80","v":""},{"$f":"IF(L292=\"\",\"\",INT(L292/12))","v":""},{"$f":"IF(L292=\"\",\"\",(L292-N292*12))","v":""},{"$f":"IF(L292=\"\",\"\",INT(O292))","v":""},{"$f":"IF(L292=\"\",\"\",ROUNDDOWN((O292-P292)*30.44,0))","v":""},{"$f":"IF(L292=\"\",\"\",$S$226+L292)","v":""},{"$f":"IF(R292=\"\",\"\",R292/12)","v":""},{"$f":"IF(L292=\"\",\"\",INT(S292))","v":""},{"$f":"IF(L292=\"\",\"\",(S292-T292)*12)","v":""},{"$f":"IF(L292=\"\",\"\",INT(U292))","v":""},{"$f":"IF(L292=\"\",\"\",INT((U292-V292)*30.44))","v":""}]
[{"$f":"IF(eligibilité!A81=\"\",\"\",eligibilité!A81)","v":""},"",null,null,null,{"$f":"IF(eligibilité!AF81=\"\",\"\",eligibilité!AF81)","v":""},{"$f":"IF(AND(eligibilité!AG81=\"\",F293=\"Non éligible\"),\"Non éligible\",eligibilité!AG81)","v":""},"",null,null,"",{"$f":"eligibilité!AD81","v":""},{"$f":"eligibilité!AH81","v":""},"","","","","","","","","",""]
[{"$f":"IF(eligibilité!A82=\"\",\"\",eligibilité!A82)","v":""},"",null,null,null,{"$f":"IF(eligibilité!AF82=\"\",\"\",eligibilité!AF82)","v":""},{"$f":"IF(AND(eligibilité!AG82=\"\",F294=\"Non éligible\"),\"Non éligible\",eligibilité!AG82)","v":""},"",null,null,"",{"$f":"eligibilité!AD82","v":""},{"$f":"eligibilité!AH82","v":""},"","","","","","","","","",""]
[{"$f":"IF(eligibilité!A83=\"\",\"\",eligibilité!A83)","v":""},"",null,null,null,{"$f":"IF(eligibilité!AF83=\"\",\"\",eligibilité!AF83)","v":""},{"$f":"IF(AND(eligibilité!AG83=\"\",F295=\"Non éligible\"),\"Non éligible\",eligibilité!AG83)","v":""},"",null,null,"",{"$f":"eligibilité!AD83","v":""},{"$f":"eligibilité!AH83","v":""},"","","","","","","","","",""]
[{"$f":"IF(eligibilité!A84=\"\",\"\",eligibilité!A84)","v":""},"",null,null,null,{"$f":"IF(eligibilité!AF84=\"\",\"\",eligibilité!AF84)","v":""},{"$f":"IF(AND(eligibilité!AG84=\"\",F296=\"Non éligible\"),\"Non éligible\",eligibilité!AG84)","v":""},"",null,null,"",{"$f":"eligibilité!AD84","v":""},{"$f":"eligibilité!AH84","v":""},"","","","","","","","","",""]
[{"$f":"IF(eligibilité!A85=\"\",\"\",eligibilité!A85)","v":""},"",null,null,null,{"$f":"IF(eligibilité!AF85=\"\",\"\",eligibilité!AF85)","v":""},{"$f":"IF(AND(eligibilité!AG85=\"\",F297=\"Non éligible\"),\"Non éligible\",eligibilité!AG85)","v":""},"",null,null,"",{"$f":"eligibilité!AD85","v":""},{"$f":"eligibilité!AH85","v":""},"","","","","","","","","",""]
[{"$f":"IF(eligibilité!A86=\"\",\"\",eligibilité!A86)","v":""},"",null,null,null,{"$f":"IF(eligibilité!AF86=\"\",\"\",eligibilité!AF86)","v":""},{"$f":"IF(AND(eligibilité!AG86=\"\",F298=\"Non éligible\"),\"Non éligible\",eligibilité!AG86)","v":""},"",null,null,"",{"$f":"eligibilité!AD86","v":""},{"$f":"eligibilité!AH86","v":""},"","","","","","","","","",""]
[{"$f":"IF(eligibilité!A87=\"\",\"\",eligibilité!A87)","v":""},"",null,null,null,{"$f":"IF(eligibilité!AF87=\"\",\"\",eligibilité!AF87)","v":""},{"$f":"IF(AND(eligibilité!AG87=\"\",F299=\"Non éligible\"),\"Non éligible\",eligibilité!AG87)","v":""},"",null,null,"",{"$f":"eligibilité!AD87","v":""},{"$f":"eligibilité!AH87","v":""},"","","","","","","","","",""]
[{"$f":"IF(eligibilité!A88=\"\",\"\",eligibilité!A88)","v":""},"",null,null,null,{"$f":"IF(eligibilité!AF88=\"\",\"\",eligibilité!AF88)","v":""},{"$f":"IF(AND(eligibilité!AG88=\"\",F300=\"Non éligible\"),\"Non éligible\",eligibilité!AG88)","v":""},"",null,null,"",{"$f":"eligibilité!AD88","v":""},{"$f":"eligibilité!AH88","v":""},"","","","","","","","","",""]
[{"$f":"IF(eligibilité!A89=\"\",\"\",eligibilité!A89)","v":""},"",null,null,null,{"$f":"IF(eligibilité!AF89=\"\",\"\",eligibilité!AF89)","v":""},{"$f":"IF(AND(eligibilité!AG89=\"\",F301=\"Non éligible\"),\"Non éligible\",eligibilité!AG89)","v":""},"",null,null,"",{"$f":"eligibilité!AD89","v":""},{"$f":"eligibilité!AH89","v":""},"","","","","","","","","",""]
[{"$f":"IF(eligibilité!A90=\"\",\"\",eligibilité!A90)","v":""},"",null,null,null,{"$f":"IF(eligibilité!AF90=\"\",\"\",eligibilité!AF90)","v":""},{"$f":"IF(AND(eligibilité!AG90=\"\",F302=\"Non éligible\"),\"Non éligible\",eligibilité!AG90)","v":""},"",null,null,"",{"$f":"eligibilité!AD90","v":""},{"$f":"eligibilité!AH90","v":""},"","","","","","","","","",""]
[{"$f":"IF(eligibilité!A91=\"\",\"\",eligibilité!A91)","v":""},"",null,null,null,{"$f":"IF(eligibilité!AF91=\"\",\"\",eligibilité!AF91)","v":""},{"$f":"IF(AND(eligibilité!AG91=\"\",F303=\"Non éligible\"),\"Non éligible\",eligibilité!AG91)","v":""},"",null,null,"",{"$f":"eligibilité!AD91","v":""},{"$f":"eligibilité!AH91","v":""},"","","","","","","","","",""]
[{"$f":"IF(eligibilité!A92=\"\",\"\",eligibilité!A92)","v":""},"",null,null,null,{"$f":"IF(eligibilité!AF92=\"\",\"\",eligibilité!AF92)","v":""},{"$f":"IF(AND(eligibilité!AG92=\"\",F304=\"Non éligible\"),\"Non éligible\",eligibilité!AG92)","v":""},"",null,null,"",{"$f":"eligibilité!AD92","v":""},{"$f":"eligibilité!AH92","v":""},"","","","","","","","","",""]
[{"$f":"IF(eligibilité!A93=\"\",\"\",eligibilité!A93)","v":""},"",null,null,null,{"$f":"IF(eligibilité!AF93=\"\",\"\",eligibilité!AF93)","v":""},{"$f":"IF(AND(eligibilité!AG93=\"\",F305=\"Non éligible\"),\"Non éligible\",eligibilité!AG93)","v":""},"",null,null,"",{"$f":"eligibilité!AD93","v":""},{"$f":"eligibilité!AH93","v":""},"","","","","","","","","",""]
[{"$f":"IF(eligibilité!A94=\"\",\"\",eligibilité!A94)","v":""},"",null,null,null,{"$f":"IF(eligibilité!AF94=\"\",\"\",eligibilité!AF94)","v":""},{"$f":"IF(AND(eligibilité!AG94=\"\",F306=\"Non éligible\"),\"Non éligible\",eligibilité!AG94)","v":""},"",null,null,"",{"$f":"eligibilité!AD94","v":""},{"$f":"eligibilité!AH94","v":""},"","","","","","","","","",""]
[{"$f":"IF(eligibilité!A95=\"\",\"\",eligibilité!A95)","v":""},"",null,null,null,{"$f":"IF(eligibilité!AF95=\"\",\"\",eligibilité!AF95)","v":""},{"$f":"IF(AND(eligibilité!AG95=\"\",F307=\"Non éligible\"),\"Non éligible\",eligibilité!AG95)","v":""},"",null,null,"",{"$f":"eligibilité!AD95","v":""},{"$f":"eligibilité!AH95","v":""},"","","","","","","","","",""]
[{"$f":"IF(eligibilité!A96=\"\",\"\",eligibilité!A96)","v":""},"",null,null,null,{"$f":"IF(eligibilité!AF96=\"\",\"\",eligibilité!AF96)","v":""},{"$f":"IF(AND(eligibilité!AG96=\"\",F308=\"Non éligible\"),\"Non éligible\",eligibilité!AG96)","v":""},"",null,null,"",{"$f":"eligibilité!AD96","v":""},{"$f":"eligibilité!AH96","v":""},"","","","","","","","","",""]
[{"$f":"IF(eligibilité!A97=\"\",\"\",eligibilité!A97)","v":""},"",null,null,null,{"$f":"IF(eligibilité!AF97=\"\",\"\",eligibilité!AF97)","v":""},{"$f":"IF(AND(eligibilité!AG97=\"\",F309=\"Non éligible\"),\"Non éligible\",eligibilité!AG97)","v":""},"",null,null,"",{"$f":"eligibilité!AD97","v":""},{"$f":"eligibilité!AH97","v":""},"","","","","","","","","",""]
[{"$f":"IF(eligibilité!A98=\"\",\"\",eligibilité!A98)","v":""},"",null,null,null,{"$f":"IF(eligibilité!AF98=\"\",\"\",eligibilité!AF98)","v":""},{"$f":"IF(AND(eligibilité!AG98=\"\",F310=\"Non éligible\"),\"Non éligible\",eligibilité!AG98)","v":""},"",null,null,"",{"$f":"eligibilité!AD98","v":""},{"$f":"eligibilité!AH98","v":""},"","","","","","","","","",""]
[{"$f":"IF(eligibilité!A99=\"\",\"\",eligibilité!A99)","v":""},"",null,null,null,{"$f":"IF(eligibilité!AF99=\"\",\"\",eligibilité!AF99)","v":""},{"$f":"IF(AND(eligibilité!AG99=\"\",F311=\"Non éligible\"),\"Non éligible\",eligibilité!AG99)","v":""},"",null,null,"",{"$f":"eligibilité!AD99","v":""},{"$f":"eligibilité!AH99","v":""},"","","","","","","","","",""]
[{"$f":"IF(eligibilité!A100=\"\",\"\",eligibilité!A100)","v":""},"",null,null,null,{"$f":"IF(eligibilité!AF100=\"\",\"\",eligibilité!AF100)","v":""},{"$f":"IF(AND(eligibilité!AG100=\"\",F312=\"Non éligible\"),\"Non éligible\",eligibilité!AG100)","v":""},"",null,null,"",{"$f":"eligibilité!AD100","v":""},{"$f":"eligibilité!AH100","v":""},"","","","","","","","","",""]
[{"$f":"IF(eligibilité!A101=\"\",\"\",eligibilité!A101)","v":""},"",null,null,null,{"$f":"IF(eligibilité!AF101=\"\",\"\",eligibilité!AF101)","v":""},{"$f":"IF(AND(eligibilité!AG101=\"\",F313=\"Non éligible\"),\"Non éligible\",eligibilité!AG101)","v":""},"",null,null,"",{"$f":"eligibilité!AD101","v":""},{"$f":"eligibilité!AH101","v":""},"","","","","","","","","",""]
[{"$f":"IF(eligibilité!A102=\"\",\"\",eligibilité!A102)","v":""},"",null,null,null,{"$f":"IF(eligibilité!AF102=\"\",\"\",eligibilité!AF102)","v":""},{"$f":"IF(AND(eligibilité!AG102=\"\",F314=\"Non éligible\"),\"Non éligible\",eligibilité!AG102)","v":""},"",null,null,"",{"$f":"eligibilité!AD102","v":""},{"$f":"eligibilité!AH102","v":""},"","","","","","","","","",""]
[{"$f":"IF(eligibilité!A103=\"\",\"\",eligibilité!A103)","v":""},"",null,null,null,{"$f":"IF(eligibilité!AF103=\"\",\"\",eligibilité!AF103)","v":""},{"$f":"IF(AND(eligibilité!AG103=\"\",F315=\"Non éligible\"),\"Non éligible\",eligibilité!AG103)","v":""},"",null,null,"",{"$f":"eligibilité!AD103","v":""},{"$f":"eligibilité!AH103","v":""},"","","","","","","","","",""]
[{"$f":"IF(eligibilité!A104=\"\",\"\",eligibilité!A104)","v":""},"",null,null,null,{"$f":"IF(eligibilité!AF104=\"\",\"\",eligibilité!AF104)","v":""},{"$f":"IF(AND(eligibilité!AG104=\"\",F316=\"Non éligible\"),\"Non éligible\",eligibilité!AG104)","v":""},"",null,null,"",{"$f":"eligibilité!AD104","v":""},{"$f":"eligibilité!AH104","v":""},"","","","","","","","","",""]
[{"$f":"IF(eligibilité!A105=\"\",\"\",eligibilité!A105)","v":""},"",null,null,null,{"$f":"IF(eligibilité!AF105=\"\",\"\",eligibilité!AF105)","v":""},{"$f":"IF(AND(eligibilité!AG105=\"\",F317=\"Non éligible\"),\"Non éligible\",eligibilité!AG105)","v":""},"",null,null,"",{"$f":"eligibilité!AD105","v":""},{"$f":"eligibilité!AH105","v":""},"","","","","","","","","",""]
[{"$f":"IF(eligibilité!A106=\"\",\"\",eligibilité!A106)","v":""},"",null,null,null,{"$f":"IF(eligibilité!AF106=\"\",\"\",eligibilité!AF106)","v":""},{"$f":"IF(AND(eligibilité!AG106=\"\",F318=\"Non éligible\"),\"Non éligible\",eligibilité!AG106)","v":""},"",null,null,"",{"$f":"eligibilité!AD106","v":""},{"$f":"eligibilité!AH106","v":""},"","","","","","","","","",""]
[{"$f":"IF(eligibilité!A107=\"\",\"\",eligibilité!A107)","v":""},"",null,null,null,{"$f":"IF(eligibilité!AF107=\"\",\"\",eligibilité!AF107)","v":""},{"$f":"IF(AND(eligibilité!AG107=\"\",F319=\"Non éligible\"),\"Non éligible\",eligibilité!AG107)","v":""},"",null,null,"",{"$f":"eligibilité!AD107","v":""},{"$f":"eligibilité!AH107","v":""},"","","","","","","","","",""]
[{"$f":"IF(eligibilité!A108=\"\",\"\",eligibilité!A108)","v":""},"",null,null,null,{"$f":"IF(eligibilité!AF108=\"\",\"\",eligibilité!AF108)","v":""},{"$f":"IF(AND(eligibilité!AG108=\"\",F320=\"Non éligible\"),\"Non éligible\",eligibilité!AG108)","v":""},"",null,null,"",{"$f":"eligibilité!AD108","v":""},{"$f":"eligibilité!AH108","v":""},"","","","","","","","","",""]
[{"$f":"IF(eligibilité!A109=\"\",\"\",eligibilité!A109)","v":""},"",null,null,null,{"$f":"IF(eligibilité!AF109=\"\",\"\",eligibilité!AF109)","v":""},{"$f":"IF(AND(eligibilité!AG109=\"\",F321=\"Non éligible\"),\"Non éligible\",eligibilité!AG109)","v":""},"",null,null,"",{"$f":"eligibilité!AD109","v":""},{"$f":"eligibilité!AH109","v":""},"","","","","","","","","",""]
[{"$f":"IF(eligibilité!A110=\"\",\"\",eligibilité!A110)","v":""},"",null,null,null,{"$f":"IF(eligibilité!AF110=\"\",\"\",eligibilité!AF110)","v":""},{"$f":"IF(AND(eligibilité!AG110=\"\",F322=\"Non éligible\"),\"Non éligible\",eligibilité!AG110)","v":""},"",null,null,"",{"$f":"eligibilité!AD110","v":""},{"$f":"eligibilité!AH110","v":""},"","","","","","","","","",""]
[{"$f":"IF(eligibilité!A111=\"\",\"\",eligibilité!A111)","v":""},"",null,null,null,{"$f":"IF(eligibilité!AF111=\"\",\"\",eligibilité!AF111)","v":""},{"$f":"IF(AND(eligibilité!AG111=\"\",F323=\"Non éligible\"),\"Non éligible\",eligibilité!AG111)","v":""},"",null,null,"",{"$f":"eligibilité!AD111","v":""},{"$f":"eligibilité!AH111","v":""},"","","","","","","","","",""]
[{"$f":"IF(eligibilité!A112=\"\",\"\",eligibilité!A112)","v":""},"",null,null,null,{"$f":"IF(eligibilité!AF112=\"\",\"\",eligibilité!AF112)","v":""},{"$f":"IF(AND(eligibilité!AG112=\"\",F324=\"Non éligible\"),\"Non éligible\",eligibilité!AG112)","v":""},"",null,null,"",{"$f":"eligibilité!AD112","v":""},{"$f":"eligibilité!AH112","v":""},"","","","","","","","","",""]
[{"$f":"IF(eligibilité!A113=\"\",\"\",eligibilité!A113)","v":""},"",null,null,null,{"$f":"IF(eligibilité!AF113=\"\",\"\",eligibilité!AF113)","v":""},{"$f":"IF(AND(eligibilité!AG113=\"\",F325=\"Non éligible\"),\"Non éligible\",eligibilité!AG113)","v":""},"",null,null,"",{"$f":"eligibilité!AD113","v":""},{"$f":"eligibilité!AH113","v":""},"","","","","","","","","",""]
[{"$f":"IF(eligibilité!A114=\"\",\"\",eligibilité!A114)","v":""},"",null,null,null,{"$f":"IF(eligibilité!AF114=\"\",\"\",eligibilité!AF114)","v":""},{"$f":"IF(AND(eligibilité!AG114=\"\",F326=\"Non éligible\"),\"Non éligible\",eligibilité!AG114)","v":""},"",null,null,"",{"$f":"eligibilité!AD114","v":""},{"$f":"eligibilité!AH114","v":""},"","","","","","","","","",""]
[{"$f":"IF(eligibilité!A115=\"\",\"\",eligibilité!A115)","v":""},"",null,null,null,{"$f":"IF(eligibilité!AF115=\"\",\"\",eligibilité!AF115)","v":""},{"$f":"IF(AND(eligibilité!AG115=\"\",F327=\"Non éligible\"),\"Non éligible\",eligibilité!AG115)","v":""},"",null,null,"",{"$f":"eligibilité!AD115","v":""},{"$f":"eligibilité!AH115","v":""},"","","","","","","","","",""]
[{"$f":"IF(eligibilité!A116=\"\",\"\",eligibilité!A116)","v":""},"",null,null,null,{"$f":"IF(eligibilité!AF116=\"\",\"\",eligibilité!AF116)","v":""},{"$f":"IF(AND(eligibilité!AG116=\"\",F328=\"Non éligible\"),\"Non éligible\",eligibilité!AG116)","v":""},"",null,null,"",{"$f":"eligibilité!AD116","v":""},{"$f":"eligibilité!AH116","v":""},"","","","","","","","","",""]
[{"$f":"IF(eligibilité!A117=\"\",\"\",eligibilité!A117)","v":""},"",null,null,null,{"$f":"IF(eligibilité!AF117=\"\",\"\",eligibilité!AF117)","v":""},{"$f":"IF(AND(eligibilité!AG117=\"\",F329=\"Non éligible\"),\"Non éligible\",eligibilité!AG117)","v":""},"",null,null,"",{"$f":"eligibilité!AD117","v":""},{"$f":"eligibilité!AH117","v":""},"","","","","","","","","",""]
[{"$f":"IF(eligibilité!A118=\"\",\"\",eligibilité!A118)","v":""},"",null,null,null,{"$f":"IF(eligibilité!AF118=\"\",\"\",eligibilité!AF118)","v":""},{"$f":"IF(AND(eligibilité!AG118=\"\",F330=\"Non éligible\"),\"Non éligible\",eligibilité!AG118)","v":""},"",null,null,"",{"$f":"eligibilité!AD118","v":""},{"$f":"eligibilité!AH118","v":""},"","","","","","","","","",""]
[{"$f":"IF(eligibilité!A119=\"\",\"\",eligibilité!A119)","v":""},"",null,null,null,{"$f":"IF(eligibilité!AF119=\"\",\"\",eligibilité!AF119)","v":""},{"$f":"IF(AND(eligibilité!AG119=\"\",F331=\"Non éligible\"),\"Non éligible\",eligibilité!AG119)","v":""},"",null,null,"",{"$f":"eligibilité!AD119","v":""},{"$f":"eligibilité!AH119","v":""},"","","","","","","","","",""]
[{"$f":"IF(eligibilité!A120=\"\",\"\",eligibilité!A120)","v":""},"",null,null,null,{"$f":"IF(eligibilité!AF120=\"\",\"\",eligibilité!AF120)","v":""},{"$f":"IF(AND(eligibilité!AG120=\"\",F332=\"Non éligible\"),\"Non éligible\",eligibilité!AG120)","v":""},"",null,null,"",{"$f":"eligibilité!AD120","v":""},{"$f":"eligibilité!AH120","v":""},"","","","","","","","","",""]
[{"$f":"IF(eligibilité!A121=\"\",\"\",eligibilité!A121)","v":""},"",null,null,null,{"$f":"IF(eligibilité!AF121=\"\",\"\",eligibilité!AF121)","v":""},{"$f":"IF(AND(eligibilité!AG121=\"\",F333=\"Non éligible\"),\"Non éligible\",eligibilité!AG121)","v":""},"",null,null,"",{"$f":"eligibilité!AD121","v":""},{"$f":"eligibilité!AH121","v":""},"","","","","","","","","",""]
[{"$f":"IF(eligibilité!A122=\"\",\"\",eligibilité!A122)","v":""},"",null,null,null,{"$f":"IF(eligibilité!AF122=\"\",\"\",eligibilité!AF122)","v":""},{"$f":"IF(AND(eligibilité!AG122=\"\",F334=\"Non éligible\"),\"Non éligible\",eligibilité!AG122)","v":""},"",null,null,"",{"$f":"eligibilité!AD122","v":""},{"$f":"eligibilité!AH122","v":""},"","","","","","","","","",""]
[{"$f":"IF(eligibilité!A123=\"\",\"\",eligibilité!A123)","v":""},"",null,null,null,{"$f":"IF(eligibilité!AF123=\"\",\"\",eligibilité!AF123)","v":""},{"$f":"IF(AND(eligibilité!AG123=\"\",F335=\"Non éligible\"),\"Non éligible\",eligibilité!AG123)","v":""},"",null,null,"",{"$f":"eligibilité!AD123","v":""},{"$f":"eligibilité!AH123","v":""},"","","","","","","","","",""]
[{"$f":"IF(eligibilité!A124=\"\",\"\",eligibilité!A124)","v":""},"",null,null,null,{"$f":"IF(eligibilité!AF124=\"\",\"\",eligibilité!AF124)","v":""},{"$f":"IF(AND(eligibilité!AG124=\"\",F336=\"Non éligible\"),\"Non éligible\",eligibilité!AG124)","v":""},"",null,null,"",{"$f":"eligibilité!AD124","v":""},{"$f":"eligibilité!AH124","v":""},"","","","","","","","","",""]
[{"$f":"IF(eligibilité!A125=\"\",\"\",eligibilité!A125)","v":""},"",null,null,null,{"$f":"IF(eligibilité!AF125=\"\",\"\",eligibilité!AF125)","v":""},{"$f":"IF(AND(eligibilité!AG125=\"\",F337=\"Non éligible\"),\"Non éligible\",eligibilité!AG125)","v":""},"",null,null,"",{"$f":"eligibilité!AD125","v":""},{"$f":"eligibilité!AH125","v":""},"","","","","","","","","",""]
[{"$f":"IF(eligibilité!A126=\"\",\"\",eligibilité!A126)","v":""},"",null,null,null,{"$f":"IF(eligibilité!AF126=\"\",\"\",eligibilité!AF126)","v":""},{"$f":"IF(AND(eligibilité!AG126=\"\",F338=\"Non éligible\"),\"Non éligible\",eligibilité!AG126)","v":""},"",null,null,"",{"$f":"eligibilité!AD126","v":""},{"$f":"eligibilité!AH126","v":""},"","","","","","","","","",""]
[{"$f":"IF(eligibilité!A127=\"\",\"\",eligibilité!A127)","v":""},"",null,null,null,{"$f":"IF(eligibilité!AF127=\"\",\"\",eligibilité!AF127)","v":""},{"$f":"IF(AND(eligibilité!AG127=\"\",F339=\"Non éligible\"),\"Non éligible\",eligibilité!AG127)","v":""},"",null,null,"",{"$f":"eligibilité!AD127","v":""},{"$f":"eligibilité!AH127","v":""},"","","","","","","","","",""]
[{"$f":"IF(eligibilité!A128=\"\",\"\",eligibilité!A128)","v":""},"",null,null,null,{"$f":"IF(eligibilité!AF128=\"\",\"\",eligibilité!AF128)","v":""},{"$f":"IF(AND(eligibilité!AG128=\"\",F340=\"Non éligible\"),\"Non éligible\",eligibilité!AG128)","v":""},"",null,null,"",{"$f":"eligibilité!AD128","v":""},{"$f":"eligibilité!AH128","v":""},"","","","","","","","","",""]
[{"$f":"IF(eligibilité!A129=\"\",\"\",eligibilité!A129)","v":""},"",null,null,null,{"$f":"IF(eligibilité!AF129=\"\",\"\",eligibilité!AF129)","v":""},{"$f":"IF(AND(eligibilité!AG129=\"\",F341=\"Non éligible\"),\"Non éligible\",eligibilité!AG129)","v":""},"",null,null,"",{"$f":"eligibilité!AD129","v":""},{"$f":"eligibilité!AH129","v":""},"","","","","","","","","",""]
[{"$f":"IF(eligibilité!A130=\"\",\"\",eligibilité!A130)","v":""},"",null,null,null,{"$f":"IF(eligibilité!AF130=\"\",\"\",eligibilité!AF130)","v":""},{"$f":"IF(AND(eligibilité!AG130=\"\",F342=\"Non éligible\"),\"Non éligible\",eligibilité!AG130)","v":""},"",null,null,"",{"$f":"eligibilité!AD130","v":""},{"$f":"eligibilité!AH130","v":""},"","","","","","","","","",""]
[{"$f":"IF(eligibilité!A131=\"\",\"\",eligibilité!A131)","v":""},"",null,null,null,{"$f":"IF(eligibilité!AF131=\"\",\"\",eligibilité!AF131)","v":""},{"$f":"IF(AND(eligibilité!AG131=\"\",F343=\"Non éligible\"),\"Non éligible\",eligibilité!AG131)","v":""},"",null,null,"",{"$f":"eligibilité!AD131","v":""},{"$f":"eligibilité!AH131","v":""},"","","","","","","","","",""]
[{"$f":"IF(eligibilité!A132=\"\",\"\",eligibilité!A132)","v":""},"",null,null,null,{"$f":"IF(eligibilité!AF132=\"\",\"\",eligibilité!AF132)","v":""},{"$f":"IF(AND(eligibilité!AG132=\"\",F344=\"Non éligible\"),\"Non éligible\",eligibilité!AG132)","v":""},"",null,null,"",{"$f":"eligibilité!AD132","v":""},{"$f":"eligibilité!AH132","v":""},"","","","","","","","","",""]
[{"$f":"IF(eligibilité!A133=\"\",\"\",eligibilité!A133)","v":""},"",null,null,null,{"$f":"IF(eligibilité!AF133=\"\",\"\",eligibilité!AF133)","v":""},{"$f":"IF(AND(eligibilité!AG133=\"\",F345=\"Non éligible\"),\"Non éligible\",eligibilité!AG133)","v":""},"",null,null,"",{"$f":"eligibilité!AD133","v":""},{"$f":"eligibilité!AH133","v":""},"","","","","","","","","",""]
[{"$f":"IF(eligibilité!A134=\"\",\"\",eligibilité!A134)","v":""},"",null,null,null,{"$f":"IF(eligibilité!AF134=\"\",\"\",eligibilité!AF134)","v":""},{"$f":"IF(AND(eligibilité!AG134=\"\",F346=\"Non éligible\"),\"Non éligible\",eligibilité!AG134)","v":""},"",null,null,"",{"$f":"eligibilité!AD134","v":""},{"$f":"eligibilité!AH134","v":""},"","","","","","","","","",""]
[{"$f":"IF(eligibilité!A135=\"\",\"\",eligibilité!A135)","v":""},"",null,null,null,{"$f":"IF(eligibilité!AF135=\"\",\"\",eligibilité!AF135)","v":""},{"$f":"IF(AND(eligibilité!AG135=\"\",F347=\"Non éligible\"),\"Non éligible\",eligibilité!AG135)","v":""},"",null,null,"",{"$f":"eligibilité!AD135","v":""},{"$f":"eligibilité!AH135","v":""},"","","","","","","","","",""]
[{"$f":"IF(eligibilité!A136=\"\",\"\",eligibilité!A136)","v":""},"",null,null,null,{"$f":"IF(eligibilité!AF136=\"\",\"\",eligibilité!AF136)","v":""},{"$f":"IF(AND(eligibilité!AG136=\"\",F348=\"Non éligible\"),\"Non éligible\",eligibilité!AG136)","v":""},"",null,null,"",{"$f":"eligibilité!AD136","v":""},{"$f":"eligibilité!AH136","v":""},"","","","","","","","","",""]
[{"$f":"IF(eligibilité!A137=\"\",\"\",eligibilité!A137)","v":""},"",null,null,null,{"$f":"IF(eligibilité!AF137=\"\",\"\",eligibilité!AF137)","v":""},{"$f":"IF(AND(eligibilité!AG137=\"\",F349=\"Non éligible\"),\"Non éligible\",eligibilité!AG137)","v":""},"",null,null,"",{"$f":"eligibilité!AD137","v":""},{"$f":"eligibilité!AH137","v":""},"","","","","","","","","",""]
[{"$f":"IF(eligibilité!A138=\"\",\"\",eligibilité!A138)","v":""},"",null,null,null,{"$f":"IF(eligibilité!AF138=\"\",\"\",eligibilité!AF138)","v":""},{"$f":"IF(AND(eligibilité!AG138=\"\",F350=\"Non éligible\"),\"Non éligible\",eligibilité!AG138)","v":""},"",null,null,"",{"$f":"eligibilité!AD138","v":""},{"$f":"eligibilité!AH138","v":""},"","","","","","","","","",""]
[{"$f":"IF(eligibilité!A139=\"\",\"\",eligibilité!A139)","v":""},"",null,null,null,{"$f":"IF(eligibilité!AF139=\"\",\"\",eligibilité!AF139)","v":""},{"$f":"IF(AND(eligibilité!AG139=\"\",F351=\"Non éligible\"),\"Non éligible\",eligibilité!AG139)","v":""},"",null,null,"",{"$f":"eligibilité!AD139","v":""},{"$f":"eligibilité!AH139","v":""},"","","","","","","","","",""]
[{"$f":"IF(eligibilité!A140=\"\",\"\",eligibilité!A140)","v":""},"",null,null,null,{"$f":"IF(eligibilité!AF140=\"\",\"\",eligibilité!AF140)","v":""},{"$f":"IF(AND(eligibilité!AG140=\"\",F352=\"Non éligible\"),\"Non éligible\",eligibilité!AG140)","v":""},"",null,null,"",{"$f":"eligibilité!AD140","v":""},{"$f":"eligibilité!AH140","v":""},"","","","","","","","","",""]
[{"$f":"IF(eligibilité!A141=\"\",\"\",eligibilité!A141)","v":""},"",null,null,null,{"$f":"IF(eligibilité!AF141=\"\",\"\",eligibilité!AF141)","v":""},{"$f":"IF(AND(eligibilité!AG141=\"\",F353=\"Non éligible\"),\"Non éligible\",eligibilité!AG141)","v":""},"",null,null,"",{"$f":"eligibilité!AD141","v":""},{"$f":"eligibilité!AH141","v":""},"","","","","","","","","",""]
[{"$f":"IF(eligibilité!A142=\"\",\"\",eligibilité!A142)","v":""},"",null,null,null,{"$f":"IF(eligibilité!AF142=\"\",\"\",eligibilité!AF142)","v":""},{"$f":"IF(AND(eligibilité!AG142=\"\",F354=\"Non éligible\"),\"Non éligible\",eligibilité!AG142)","v":""},"",null,null,"",{"$f":"eligibilité!AD142","v":""},{"$f":"eligibilité!AH142","v":""},"","","","","","","","","",""]
[{"$f":"IF(eligibilité!A143=\"\",\"\",eligibilité!A143)","v":""},"",null,null,null,{"$f":"IF(eligibilité!AF143=\"\",\"\",eligibilité!AF143)","v":""},{"$f":"IF(AND(eligibilité!AG143=\"\",F355=\"Non éligible\"),\"Non éligible\",eligibilité!AG143)","v":""},{"$f":"IF(AND(F355=\"Non éligible\",G355=\"Non éligible\"),\"Conditions non remplies\",IF(AND(F355=\"Eligible\",L355=\"\"),\"Remplir la case manuellement, votre agent est en CDI\",IF(F355=\"\",\"\",CONCATENATE(N355,\" an(s) \",P355,\" mois \",Q355,\" jour(s)\"))))","v":""},null,null,"",{"$f":"eligibilité!AD143","v":""},{"$f":"eligibilité!AH143","v":""},"","","","","","","","","",""]
[{"$f":"IF(eligibilité!A144=\"\",\"\",eligibilité!A144)","v":""},{"$f":"IF(A356=\"\",\"\",\"Définir les fonctions ou le poste du dossier\")","v":""},null,null,null,{"$f":"IF(eligibilité!AF144=\"\",\"\",eligibilité!AF144)","v":""},{"$f":"IF(AND(eligibilité!AG144=\"\",F356=\"Non éligible\"),\"Non éligible\",eligibilité!AG144)","v":""},"",null,null,{"$f":"IF(AND($F356=\"Non éligible\",$G356=\"Non éligible\"),\"Conditions non remplies\",IF(AND($F356=\"Eligibilité ultérieure\",$L356=\"\"),\"Remplir la case manuellement, votre agent est en CDI\",IF($F356=\"\",\"\",CONCATENATE($T356,\" an(s) \",$V356,\" mois \",$W356,\" jour(s)\"))))","v":""},{"$f":"eligibilité!AD144","v":""},{"$f":"eligibilité!AH144","v":""},{"$f":"IF(L356=\"\",\"\",INT(L356/12))","v":""},{"$f":"IF(L356=\"\",\"\",(L356-N356*12))","v":""},{"$f":"IF(L356=\"\",\"\",INT(O356))","v":""},{"$f":"IF(L356=\"\",\"\",ROUNDDOWN((O356-P356)*30.44,0))","v":""},{"$f":"IF(L356=\"\",\"\",$S$226+L356)","v":""},{"$f":"IF(R356=\"\",\"\",R356/12)","v":""},{"$f":"IF(L356=\"\",\"\",INT(S356))","v":""},{"$f":"IF(L356=\"\",\"\",(S356-T356)*12)","v":""},{"$f":"IF(L356=\"\",\"\",INT(U356))","v":""},{"$f":"IF(L356=\"\",\"\",INT((U356-V356)*30.44))","v":""}]
[{"$f":"IF(eligibilité!A145=\"\",\"\",eligibilité!A145)","v":""},"",null,null,null,{"$f":"IF(eligibilité!AF145=\"\",\"\",eligibilité!AF145)","v":""},{"$f":"IF(AND(eligibilité!AG145=\"\",F357=\"Non éligible\"),\"Non éligible\",eligibilité!AG145)","v":""},"",null,null,"",{"$f":"eligibilité!AD145","v":""},{"$f":"eligibilité!AH145","v":""},"","","","","","","","","",""]
[{"$f":"IF(eligibilité!A146=\"\",\"\",eligibilité!A146)","v":""},"",null,null,null,{"$f":"IF(eligibilité!AF146=\"\",\"\",eligibilité!AF146)","v":""},{"$f":"IF(AND(eligibilité!AG146=\"\",F358=\"Non éligible\"),\"Non éligible\",eligibilité!AG146)","v":""},"",null,null,"",{"$f":"eligibilité!AD146","v":""},{"$f":"eligibilité!AH146","v":""},"","","","","","","","","",""]
[{"$f":"IF(eligibilité!A147=\"\",\"\",eligibilité!A147)","v":""},"",null,null,null,{"$f":"IF(eligibilité!AF147=\"\",\"\",eligibilité!AF147)","v":""},{"$f":"IF(AND(eligibilité!AG147=\"\",F359=\"Non éligible\"),\"Non éligible\",eligibilité!AG147)","v":""},"",null,null,"",{"$f":"eligibilité!AD147","v":""},{"$f":"eligibilité!AH147","v":""},"","","","","","","","","",""]
[{"$f":"IF(eligibilité!A148=\"\",\"\",eligibilité!A148)","v":""},"",null,null,null,{"$f":"IF(eligibilité!AF148=\"\",\"\",eligibilité!AF148)","v":""},{"$f":"IF(AND(eligibilité!AG148=\"\",F360=\"Non éligible\"),\"Non éligible\",eligibilité!AG148)","v":""},"",null,null,"",{"$f":"eligibilité!AD148","v":""},{"$f":"eligibilité!AH148","v":""},"","","","","","","","","",""]
[{"$f":"IF(eligibilité!A149=\"\",\"\",eligibilité!A149)","v":""},"",null,null,null,{"$f":"IF(eligibilité!AF149=\"\",\"\",eligibilité!AF149)","v":""},{"$f":"IF(AND(eligibilité!AG149=\"\",F361=\"Non éligible\"),\"Non éligible\",eligibilité!AG149)","v":""},"",null,null,"",{"$f":"eligibilité!AD149","v":""},{"$f":"eligibilité!AH149","v":""},"","","","","","","","","",""]
[{"$f":"IF(eligibilité!A150=\"\",\"\",eligibilité!A150)","v":""},"",null,null,null,{"$f":"IF(eligibilité!AF150=\"\",\"\",eligibilité!AF150)","v":""},{"$f":"IF(AND(eligibilité!AG150=\"\",F362=\"Non éligible\"),\"Non éligible\",eligibilité!AG150)","v":""},"",null,null,"",{"$f":"eligibilité!AD150","v":""},{"$f":"eligibilité!AH150","v":""},"","","","","","","","","",""]
[{"$f":"IF(eligibilité!A151=\"\",\"\",eligibilité!A151)","v":""},"",null,null,null,{"$f":"IF(eligibilité!AF151=\"\",\"\",eligibilité!AF151)","v":""},{"$f":"IF(AND(eligibilité!AG151=\"\",F363=\"Non éligible\"),\"Non éligible\",eligibilité!AG151)","v":""},"",null,null,"",{"$f":"eligibilité!AD151","v":""},{"$f":"eligibilité!AH151","v":""},"","","","","","","","","",""]
[{"$f":"IF(eligibilité!A152=\"\",\"\",eligibilité!A152)","v":""},"",null,null,null,{"$f":"IF(eligibilité!AF152=\"\",\"\",eligibilité!AF152)","v":""},{"$f":"IF(AND(eligibilité!AG152=\"\",F364=\"Non éligible\"),\"Non éligible\",eligibilité!AG152)","v":""},"",null,null,"",{"$f":"eligibilité!AD152","v":""},{"$f":"eligibilité!AH152","v":""},"","","","","","","","","",""]
[{"$f":"IF(eligibilité!A153=\"\",\"\",eligibilité!A153)","v":""},"",null,null,null,{"$f":"IF(eligibilité!AF153=\"\",\"\",eligibilité!AF153)","v":""},{"$f":"IF(AND(eligibilité!AG153=\"\",F365=\"Non éligible\"),\"Non éligible\",eligibilité!AG153)","v":""},"",null,null,"",{"$f":"eligibilité!AD153","v":""},{"$f":"eligibilité!AH153","v":""},"","","","","","","","","",""]
[{"$f":"IF(eligibilité!A154=\"\",\"\",eligibilité!A154)","v":""},"",null,null,null,{"$f":"IF(eligibilité!AF154=\"\",\"\",eligibilité!AF154)","v":""},{"$f":"IF(AND(eligibilité!AG154=\"\",F366=\"Non éligible\"),\"Non éligible\",eligibilité!AG154)","v":""},"",null,null,"",{"$f":"eligibilité!AD154","v":""},{"$f":"eligibilité!AH154","v":""},"","","","","","","","","",""]
[{"$f":"IF(eligibilité!A155=\"\",\"\",eligibilité!A155)","v":""},"",null,null,null,{"$f":"IF(eligibilité!AF155=\"\",\"\",eligibilité!AF155)","v":""},{"$f":"IF(AND(eligibilité!AG155=\"\",F367=\"Non éligible\"),\"Non éligible\",eligibilité!AG155)","v":""},"",null,null,"",{"$f":"eligibilité!AD155","v":""},{"$f":"eligibilité!AH155","v":""},"","","","","","","","","",""]
[{"$f":"IF(eligibilité!A156=\"\",\"\",eligibilité!A156)","v":""},"",null,null,null,{"$f":"IF(eligibilité!AF156=\"\",\"\",eligibilité!AF156)","v":""},{"$f":"IF(AND(eligibilité!AG156=\"\",F368=\"Non éligible\"),\"Non éligible\",eligibilité!AG156)","v":""},"",null,null,"",{"$f":"eligibilité!AD156","v":""},{"$f":"eligibilité!AH156","v":""},"","","","","","","","","",""]
[{"$f":"IF(eligibilité!A157=\"\",\"\",eligibilité!A157)","v":""},"",null,null,null,{"$f":"IF(eligibilité!AF157=\"\",\"\",eligibilité!AF157)","v":""},{"$f":"IF(AND(eligibilité!AG157=\"\",F369=\"Non éligible\"),\"Non éligible\",eligibilité!AG157)","v":""},"",null,null,"",{"$f":"eligibilité!AD157","v":""},{"$f":"eligibilité!AH157","v":""},"","","","","","","","","",""]
[{"$f":"IF(eligibilité!A158=\"\",\"\",eligibilité!A158)","v":""},"",null,null,null,{"$f":"IF(eligibilité!AF158=\"\",\"\",eligibilité!AF158)","v":""},{"$f":"IF(AND(eligibilité!AG158=\"\",F370=\"Non éligible\"),\"Non éligible\",eligibilité!AG158)","v":""},"",null,null,"",{"$f":"eligibilité!AD158","v":""},{"$f":"eligibilité!AH158","v":""},"","","","","","","","","",""]
[{"$f":"IF(eligibilité!A159=\"\",\"\",eligibilité!A159)","v":""},"",null,null,null,{"$f":"IF(eligibilité!AF159=\"\",\"\",eligibilité!AF159)","v":""},{"$f":"IF(AND(eligibilité!AG159=\"\",F371=\"Non éligible\"),\"Non éligible\",eligibilité!AG159)","v":""},"",null,null,"",{"$f":"eligibilité!AD159","v":""},{"$f":"eligibilité!AH159","v":""},"","","","","","","","","",""]
[{"$f":"IF(eligibilité!A160=\"\",\"\",eligibilité!A160)","v":""},"",null,null,null,{"$f":"IF(eligibilité!AF160=\"\",\"\",eligibilité!AF160)","v":""},{"$f":"IF(AND(eligibilité!AG160=\"\",F372=\"Non éligible\"),\"Non éligible\",eligibilité!AG160)","v":""},"",null,null,"",{"$f":"eligibilité!AD160","v":""},{"$f":"eligibilité!AH160","v":""},"","","","","","","","","",""]
[{"$f":"IF(eligibilité!A161=\"\",\"\",eligibilité!A161)","v":""},"",null,null,null,{"$f":"IF(eligibilité!AF161=\"\",\"\",eligibilité!AF161)","v":""},{"$f":"IF(AND(eligibilité!AG161=\"\",F373=\"Non éligible\"),\"Non éligible\",eligibilité!AG161)","v":""},"",null,null,"",{"$f":"eligibilité!AD161","v":""},{"$f":"eligibilité!AH161","v":""},"","","","","","","","","",""]
[{"$f":"IF(eligibilité!A162=\"\",\"\",eligibilité!A162)","v":""},"",null,null,null,{"$f":"IF(eligibilité!AF162=\"\",\"\",eligibilité!AF162)","v":""},{"$f":"IF(AND(eligibilité!AG162=\"\",F374=\"Non éligible\"),\"Non éligible\",eligibilité!AG162)","v":""},"",null,null,"",{"$f":"eligibilité!AD162","v":""},{"$f":"eligibilité!AH162","v":""},"","","","","","","","","",""]
[{"$f":"IF(eligibilité!A163=\"\",\"\",eligibilité!A163)","v":""},"",null,null,null,{"$f":"IF(eligibilité!AF163=\"\",\"\",eligibilité!AF163)","v":""},{"$f":"IF(AND(eligibilité!AG163=\"\",F375=\"Non éligible\"),\"Non éligible\",eligibilité!AG163)","v":""},"",null,null,"",{"$f":"eligibilité!AD163","v":""},{"$f":"eligibilité!AH163","v":""},"","","","","","","","","",""]
[{"$f":"IF(eligibilité!A164=\"\",\"\",eligibilité!A164)","v":""},"",null,null,null,{"$f":"IF(eligibilité!AF164=\"\",\"\",eligibilité!AF164)","v":""},{"$f":"IF(AND(eligibilité!AG164=\"\",F376=\"Non éligible\"),\"Non éligible\",eligibilité!AG164)","v":""},"",null,null,"",{"$f":"eligibilité!AD164","v":""},{"$f":"eligibilité!AH164","v":""},"","","","","","","","","",""]
[{"$f":"IF(eligibilité!A165=\"\",\"\",eligibilité!A165)","v":""},"",null,null,null,{"$f":"IF(eligibilité!AF165=\"\",\"\",eligibilité!AF165)","v":""},{"$f":"IF(AND(eligibilité!AG165=\"\",F377=\"Non éligible\"),\"Non éligible\",eligibilité!AG165)","v":""},"",null,null,"",{"$f":"eligibilité!AD165","v":""},{"$f":"eligibilité!AH165","v":""},"","","","","","","","","",""]
[{"$f":"IF(eligibilité!A166=\"\",\"\",eligibilité!A166)","v":""},"",null,null,null,{"$f":"IF(eligibilité!AF166=\"\",\"\",eligibilité!AF166)","v":""},{"$f":"IF(AND(eligibilité!AG166=\"\",F378=\"Non éligible\"),\"Non éligible\",eligibilité!AG166)","v":""},"",null,null,"",{"$f":"eligibilité!AD166","v":""},{"$f":"eligibilité!AH166","v":""},"","","","","","","","","",""]
[{"$f":"IF(eligibilité!A167=\"\",\"\",eligibilité!A167)","v":""},"",null,null,null,{"$f":"IF(eligibilité!AF167=\"\",\"\",eligibilité!AF167)","v":""},{"$f":"IF(AND(eligibilité!AG167=\"\",F379=\"Non éligible\"),\"Non éligible\",eligibilité!AG167)","v":""},"",null,null,"",{"$f":"eligibilité!AD167","v":""},{"$f":"eligibilité!AH167","v":""},"","","","","","","","","",""]
[{"$f":"IF(eligibilité!A168=\"\",\"\",eligibilité!A168)","v":""},"",null,null,null,{"$f":"IF(eligibilité!AF168=\"\",\"\",eligibilité!AF168)","v":""},{"$f":"IF(AND(eligibilité!AG168=\"\",F380=\"Non éligible\"),\"Non éligible\",eligibilité!AG168)","v":""},"",null,null,"",{"$f":"eligibilité!AD168","v":""},{"$f":"eligibilité!AH168","v":""},"","","","","","","","","",""]
[{"$f":"IF(eligibilité!A169=\"\",\"\",eligibilité!A169)","v":""},"",null,null,null,{"$f":"IF(eligibilité!AF169=\"\",\"\",eligibilité!AF169)","v":""},{"$f":"IF(AND(eligibilité!AG169=\"\",F381=\"Non éligible\"),\"Non éligible\",eligibilité!AG169)","v":""},"",null,null,"",{"$f":"eligibilité!AD169","v":""},{"$f":"eligibilité!AH169","v":""},"","","","","","","","","",""]
[{"$f":"IF(eligibilité!A170=\"\",\"\",eligibilité!A170)","v":""},"",null,null,null,{"$f":"IF(eligibilité!AF170=\"\",\"\",eligibilité!AF170)","v":""},{"$f":"IF(AND(eligibilité!AG170=\"\",F382=\"Non éligible\"),\"Non éligible\",eligibilité!AG170)","v":""},"",null,null,"",{"$f":"eligibilité!AD170","v":""},{"$f":"eligibilité!AH170","v":""},"","","","","","","","","",""]
[{"$f":"IF(eligibilité!A171=\"\",\"\",eligibilité!A171)","v":""},"",null,null,null,{"$f":"IF(eligibilité!AF171=\"\",\"\",eligibilité!AF171)","v":""},{"$f":"IF(AND(eligibilité!AG171=\"\",F383=\"Non éligible\"),\"Non éligible\",eligibilité!AG171)","v":""},"",null,null,"",{"$f":"eligibilité!AD171","v":""},{"$f":"eligibilité!AH171","v":""},"","","","","","","","","",""]
[{"$f":"IF(eligibilité!A172=\"\",\"\",eligibilité!A172)","v":""},"",null,null,null,{"$f":"IF(eligibilité!AF172=\"\",\"\",eligibilité!AF172)","v":""},{"$f":"IF(AND(eligibilité!AG172=\"\",F384=\"Non éligible\"),\"Non éligible\",eligibilité!AG172)","v":""},"",null,null,"",{"$f":"eligibilité!AD172","v":""},{"$f":"eligibilité!AH172","v":""},"","","","","","","","","",""]
[{"$f":"IF(eligibilité!A173=\"\",\"\",eligibilité!A173)","v":""},"",null,null,null,{"$f":"IF(eligibilité!AF173=\"\",\"\",eligibilité!AF173)","v":""},{"$f":"IF(AND(eligibilité!AG173=\"\",F385=\"Non éligible\"),\"Non éligible\",eligibilité!AG173)","v":""},"",null,null,"",{"$f":"eligibilité!AD173","v":""},{"$f":"eligibilité!AH173","v":""},"","","","","","","","","",""]
[{"$f":"IF(eligibilité!A174=\"\",\"\",eligibilité!A174)","v":""},"",null,null,null,{"$f":"IF(eligibilité!AF174=\"\",\"\",eligibilité!AF174)","v":""},{"$f":"IF(AND(eligibilité!AG174=\"\",F386=\"Non éligible\"),\"Non éligible\",eligibilité!AG174)","v":""},"",null,null,"",{"$f":"eligibilité!AD174","v":""},{"$f":"eligibilité!AH174","v":""},"","","","","","","","","",""]
[{"$f":"IF(eligibilité!A175=\"\",\"\",eligibilité!A175)","v":""},"",null,null,null,{"$f":"IF(eligibilité!AF175=\"\",\"\",eligibilité!AF175)","v":""},{"$f":"IF(AND(eligibilité!AG175=\"\",F387=\"Non éligible\"),\"Non éligible\",eligibilité!AG175)","v":""},"",null,null,"",{"$f":"eligibilité!AD175","v":""},{"$f":"eligibilité!AH175","v":""},"","","","","","","","","",""]
[{"$f":"IF(eligibilité!A176=\"\",\"\",eligibilité!A176)","v":""},"",null,null,null,{"$f":"IF(eligibilité!AF176=\"\",\"\",eligibilité!AF176)","v":""},{"$f":"IF(AND(eligibilité!AG176=\"\",F388=\"Non éligible\"),\"Non éligible\",eligibilité!AG176)","v":""},"",null,null,"",{"$f":"eligibilité!AD176","v":""},{"$f":"eligibilité!AH176","v":""},"","","","","","","","","",""]
[{"$f":"IF(eligibilité!A177=\"\",\"\",eligibilité!A177)","v":""},"",null,null,null,{"$f":"IF(eligibilité!AF177=\"\",\"\",eligibilité!AF177)","v":""},{"$f":"IF(AND(eligibilité!AG177=\"\",F389=\"Non éligible\"),\"Non éligible\",eligibilité!AG177)","v":""},"",null,null,"",{"$f":"eligibilité!AD177","v":""},{"$f":"eligibilité!AH177","v":""},"","","","","","","","","",""]
[{"$f":"IF(eligibilité!A178=\"\",\"\",eligibilité!A178)","v":""},"",null,null,null,{"$f":"IF(eligibilité!AF178=\"\",\"\",eligibilité!AF178)","v":""},{"$f":"IF(AND(eligibilité!AG178=\"\",F390=\"Non éligible\"),\"Non éligible\",eligibilité!AG178)","v":""},"",null,null,"",{"$f":"eligibilité!AD178","v":""},{"$f":"eligibilité!AH178","v":""},"","","","","","","","","",""]
[{"$f":"IF(eligibilité!A179=\"\",\"\",eligibilité!A179)","v":""},"",null,null,null,{"$f":"IF(eligibilité!AF179=\"\",\"\",eligibilité!AF179)","v":""},{"$f":"IF(AND(eligibilité!AG179=\"\",F391=\"Non éligible\"),\"Non éligible\",eligibilité!AG179)","v":""},"",null,null,"",{"$f":"eligibilité!AD179","v":""},{"$f":"eligibilité!AH179","v":""},"","","","","","","","","",""]
[{"$f":"IF(eligibilité!A180=\"\",\"\",eligibilité!A180)","v":""},"",null,null,null,{"$f":"IF(eligibilité!AF180=\"\",\"\",eligibilité!AF180)","v":""},{"$f":"IF(AND(eligibilité!AG180=\"\",F392=\"Non éligible\"),\"Non éligible\",eligibilité!AG180)","v":""},"",null,null,"",{"$f":"eligibilité!AD180","v":""},{"$f":"eligibilité!AH180","v":""},"","","","","","","","","",""]
[{"$f":"IF(eligibilité!A181=\"\",\"\",eligibilité!A181)","v":""},"",null,null,null,{"$f":"IF(eligibilité!AF181=\"\",\"\",eligibilité!AF181)","v":""},{"$f":"IF(AND(eligibilité!AG181=\"\",F393=\"Non éligible\"),\"Non éligible\",eligibilité!AG181)","v":""},"",null,null,"",{"$f":"eligibilité!AD181","v":""},{"$f":"eligibilité!AH181","v":""},"","","","","","","","","",""]
[{"$f":"IF(eligibilité!A182=\"\",\"\",eligibilité!A182)","v":""},"",null,null,null,{"$f":"IF(eligibilité!AF182=\"\",\"\",eligibilité!AF182)","v":""},{"$f":"IF(AND(eligibilité!AG182=\"\",F394=\"Non éligible\"),\"Non éligible\",eligibilité!AG182)","v":""},"",null,null,"",{"$f":"eligibilité!AD182","v":""},{"$f":"eligibilité!AH182","v":""},"","","","","","","","","",""]
[{"$f":"IF(eligibilité!A183=\"\",\"\",eligibilité!A183)","v":""},"",null,null,null,{"$f":"IF(eligibilité!AF183=\"\",\"\",eligibilité!AF183)","v":""},{"$f":"IF(AND(eligibilité!AG183=\"\",F395=\"Non éligible\"),\"Non éligible\",eligibilité!AG183)","v":""},"",null,null,"",{"$f":"eligibilité!AD183","v":""},{"$f":"eligibilité!AH183","v":""},"","","","","","","","","",""]
[{"$f":"IF(eligibilité!A184=\"\",\"\",eligibilité!A184)","v":""},"",null,null,null,{"$f":"IF(eligibilité!AF184=\"\",\"\",eligibilité!AF184)","v":""},{"$f":"IF(AND(eligibilité!AG184=\"\",F396=\"Non éligible\"),\"Non éligible\",eligibilité!AG184)","v":""},"",null,null,"",{"$f":"eligibilité!AD184","v":""},{"$f":"eligibilité!AH184","v":""},"","","","","","","","","",""]
[{"$f":"IF(eligibilité!A185=\"\",\"\",eligibilité!A185)","v":""},"",null,null,null,{"$f":"IF(eligibilité!AF185=\"\",\"\",eligibilité!AF185)","v":""},{"$f":"IF(AND(eligibilité!AG185=\"\",F397=\"Non éligible\"),\"Non éligible\",eligibilité!AG185)","v":""},"",null,null,"",{"$f":"eligibilité!AD185","v":""},{"$f":"eligibilité!AH185","v":""},"","","","","","","","","",""]
[{"$f":"IF(eligibilité!A186=\"\",\"\",eligibilité!A186)","v":""},"",null,null,null,{"$f":"IF(eligibilité!AF186=\"\",\"\",eligibilité!AF186)","v":""},{"$f":"IF(AND(eligibilité!AG186=\"\",F398=\"Non éligible\"),\"Non éligible\",eligibilité!AG186)","v":""},"",null,null,"",{"$f":"eligibilité!AD186","v":""},{"$f":"eligibilité!AH186","v":""},"","","","","","","","","",""]
[{"$f":"IF(eligibilité!A187=\"\",\"\",eligibilité!A187)","v":""},"",null,null,null,{"$f":"IF(eligibilité!AF187=\"\",\"\",eligibilité!AF187)","v":""},{"$f":"IF(AND(eligibilité!AG187=\"\",F399=\"Non éligible\"),\"Non éligible\",eligibilité!AG187)","v":""},"",null,null,"",{"$f":"eligibilité!AD187","v":""},{"$f":"eligibilité!AH187","v":""},"","","","","","","","","",""]
[{"$f":"IF(eligibilité!A188=\"\",\"\",eligibilité!A188)","v":""},"",null,null,null,{"$f":"IF(eligibilité!AF188=\"\",\"\",eligibilité!AF188)","v":""},{"$f":"IF(AND(eligibilité!AG188=\"\",F400=\"Non éligible\"),\"Non éligible\",eligibilité!AG188)","v":""},"",null,null,"",{"$f":"eligibilité!AD188","v":""},{"$f":"eligibilité!AH188","v":""},"","","","","","","","","",""]
[{"$f":"IF(eligibilité!A189=\"\",\"\",eligibilité!A189)","v":""},"",null,null,null,{"$f":"IF(eligibilité!AF189=\"\",\"\",eligibilité!AF189)","v":""},{"$f":"IF(AND(eligibilité!AG189=\"\",F401=\"Non éligible\"),\"Non éligible\",eligibilité!AG189)","v":""},"",null,null,"",{"$f":"eligibilité!AD189","v":""},{"$f":"eligibilité!AH189","v":""},"","","","","","","","","",""]
[{"$f":"IF(eligibilité!A190=\"\",\"\",eligibilité!A190)","v":""},"",null,null,null,{"$f":"IF(eligibilité!AF190=\"\",\"\",eligibilité!AF190)","v":""},{"$f":"IF(AND(eligibilité!AG190=\"\",F402=\"Non éligible\"),\"Non éligible\",eligibilité!AG190)","v":""},"",null,null,"",{"$f":"eligibilité!AD190","v":""},{"$f":"eligibilité!AH190","v":""},"","","","","","","","","",""]
[{"$f":"IF(eligibilité!A191=\"\",\"\",eligibilité!A191)","v":""},"",null,null,null,{"$f":"IF(eligibilité!AF191=\"\",\"\",eligibilité!AF191)","v":""},{"$f":"IF(AND(eligibilité!AG191=\"\",F403=\"Non éligible\"),\"Non éligible\",eligibilité!AG191)","v":""},"",null,null,"",{"$f":"eligibilité!AD191","v":""},{"$f":"eligibilité!AH191","v":""},"","","","","","","","","",""]
[{"$f":"IF(eligibilité!A192=\"\",\"\",eligibilité!A192)","v":""},"",null,null,null,{"$f":"IF(eligibilité!AF192=\"\",\"\",eligibilité!AF192)","v":""},{"$f":"IF(AND(eligibilité!AG192=\"\",F404=\"Non éligible\"),\"Non éligible\",eligibilité!AG192)","v":""},"",null,null,"",{"$f":"eligibilité!AD192","v":""},{"$f":"eligibilité!AH192","v":""},"","","","","","","","","",""]
[{"$f":"IF(eligibilité!A193=\"\",\"\",eligibilité!A193)","v":""},"",null,null,null,{"$f":"IF(eligibilité!AF193=\"\",\"\",eligibilité!AF193)","v":""},{"$f":"IF(AND(eligibilité!AG193=\"\",F405=\"Non éligible\"),\"Non éligible\",eligibilité!AG193)","v":""},"",null,null,"",{"$f":"eligibilité!AD193","v":""},{"$f":"eligibilité!AH193","v":""},"","","","","","","","","",""]
[{"$f":"IF(eligibilité!A194=\"\",\"\",eligibilité!A194)","v":""},"",null,null,null,{"$f":"IF(eligibilité!AF194=\"\",\"\",eligibilité!AF194)","v":""},{"$f":"IF(AND(eligibilité!AG194=\"\",F406=\"Non éligible\"),\"Non éligible\",eligibilité!AG194)","v":""},"",null,null,"",{"$f":"eligibilité!AD194","v":""},{"$f":"eligibilité!AH194","v":""},"","","","","","","","","",""]
[{"$f":"IF(eligibilité!A195=\"\",\"\",eligibilité!A195)","v":""},"",null,null,null,{"$f":"IF(eligibilité!AF195=\"\",\"\",eligibilité!AF195)","v":""},{"$f":"IF(AND(eligibilité!AG195=\"\",F407=\"Non éligible\"),\"Non éligible\",eligibilité!AG195)","v":""},"",null,null,"",{"$f":"eligibilité!AD195","v":""},{"$f":"eligibilité!AH195","v":""},"","","","","","","","","",""]
[{"$f":"IF(eligibilité!A196=\"\",\"\",eligibilité!A196)","v":""},"",null,null,null,{"$f":"IF(eligibilité!AF196=\"\",\"\",eligibilité!AF196)","v":""},{"$f":"IF(AND(eligibilité!AG196=\"\",F408=\"Non éligible\"),\"Non éligible\",eligibilité!AG196)","v":""},"",null,null,"",{"$f":"eligibilité!AD196","v":""},{"$f":"eligibilité!AH196","v":""},"","","","","","","","","",""]
[{"$f":"IF(eligibilité!A197=\"\",\"\",eligibilité!A197)","v":""},"",null,null,null,{"$f":"IF(eligibilité!AF197=\"\",\"\",eligibilité!AF197)","v":""},{"$f":"IF(AND(eligibilité!AG197=\"\",F409=\"Non éligible\"),\"Non éligible\",eligibilité!AG197)","v":""},"",null,null,"",{"$f":"eligibilité!AD197","v":""},{"$f":"eligibilité!AH197","v":""},"","","","","","","","","",""]
[{"$f":"IF(eligibilité!A198=\"\",\"\",eligibilité!A198)","v":""},"",null,null,null,{"$f":"IF(eligibilité!AF198=\"\",\"\",eligibilité!AF198)","v":""},{"$f":"IF(AND(eligibilité!AG198=\"\",F410=\"Non éligible\"),\"Non éligible\",eligibilité!AG198)","v":""},"",null,null,"",{"$f":"eligibilité!AD198","v":""},{"$f":"eligibilité!AH198","v":""},"","","","","","","","","",""]
[{"$f":"IF(eligibilité!A199=\"\",\"\",eligibilité!A199)","v":""},"",null,null,null,{"$f":"IF(eligibilité!AF199=\"\",\"\",eligibilité!AF199)","v":""},{"$f":"IF(AND(eligibilité!AG199=\"\",F411=\"Non éligible\"),\"Non éligible\",eligibilité!AG199)","v":""},"",null,null,"",{"$f":"eligibilité!AD199","v":""},{"$f":"eligibilité!AH199","v":""},"","","","","","","","","",""]
[{"$f":"IF(eligibilité!A200=\"\",\"\",eligibilité!A200)","v":""},"",null,null,null,{"$f":"IF(eligibilité!AF200=\"\",\"\",eligibilité!AF200)","v":""},{"$f":"IF(AND(eligibilité!AG200=\"\",F412=\"Non éligible\"),\"Non éligible\",eligibilité!AG200)","v":""},"",null,null,"",{"$f":"eligibilité!AD200","v":""},{"$f":"eligibilité!AH200","v":""},"","","","","","","","","",""]
[{"$f":"IF(eligibilité!A201=\"\",\"\",eligibilité!A201)","v":""},"",null,null,null,{"$f":"IF(eligibilité!AF201=\"\",\"\",eligibilité!AF201)","v":""},{"$f":"IF(AND(eligibilité!AG201=\"\",F413=\"Non éligible\"),\"Non éligible\",eligibilité!AG201)","v":""},"",null,null,"",{"$f":"eligibilité!AD201","v":""},{"$f":"eligibilité!AH201","v":""},"","","","","","","","","",""]
[{"$f":"IF(eligibilité!A202=\"\",\"\",eligibilité!A202)","v":""},"",null,null,null,{"$f":"IF(eligibilité!AF202=\"\",\"\",eligibilité!AF202)","v":""},{"$f":"IF(AND(eligibilité!AG202=\"\",F414=\"Non éligible\"),\"Non éligible\",eligibilité!AG202)","v":""},"",null,null,"",{"$f":"eligibilité!AD202","v":""},{"$f":"eligibilité!AH202","v":""},"","","","","","","","","",""]
[{"$f":"IF(eligibilité!A203=\"\",\"\",eligibilité!A203)","v":""},"",null,null,null,{"$f":"IF(eligibilité!AF203=\"\",\"\",eligibilité!AF203)","v":""},{"$f":"IF(AND(eligibilité!AG203=\"\",F415=\"Non éligible\"),\"Non éligible\",eligibilité!AG203)","v":""},"",null,null,"",{"$f":"eligibilité!AD203","v":""},{"$f":"eligibilité!AH203","v":""},"","","","","","","","","",""]
[{"$f":"IF(eligibilité!A204=\"\",\"\",eligibilité!A204)","v":""},"",null,null,null,{"$f":"IF(eligibilité!AF204=\"\",\"\",eligibilité!AF204)","v":""},{"$f":"IF(AND(eligibilité!AG204=\"\",F416=\"Non éligible\"),\"Non éligible\",eligibilité!AG204)","v":""},"",null,null,"",{"$f":"eligibilité!AD204","v":""},{"$f":"eligibilité!AH204","v":""},"","","","","","","","","",""]
[{"$f":"IF(eligibilité!A205=\"\",\"\",eligibilité!A205)","v":""},"",null,null,null,{"$f":"IF(eligibilité!AF205=\"\",\"\",eligibilité!AF205)","v":""},{"$f":"IF(AND(eligibilité!AG205=\"\",F417=\"Non éligible\"),\"Non éligible\",eligibilité!AG205)","v":""},"",null,null,"",{"$f":"eligibilité!AD205","v":""},{"$f":"eligibilité!AH205","v":""},"","","","","","","","","",""]
[{"$f":"IF(eligibilité!A206=\"\",\"\",eligibilité!A206)","v":""},"",null,null,null,{"$f":"IF(eligibilité!AF206=\"\",\"\",eligibilité!AF206)","v":""},{"$f":"IF(AND(eligibilité!AG206=\"\",F418=\"Non éligible\"),\"Non éligible\",eligibilité!AG206)","v":""},"",null,null,"",{"$f":"eligibilité!AD206","v":""},{"$f":"eligibilité!AH206","v":""},"","","","","","","","","",""]
[{"$f":"IF(eligibilité!A207=\"\",\"\",eligibilité!A207)","v":""},"",null,null,null,{"$f":"IF(eligibilité!AF207=\"\",\"\",eligibilité!AF207)","v":""},{"$f":"IF(AND(eligibilité!AG207=\"\",F419=\"Non éligible\"),\"Non éligible\",eligibilité!AG207)","v":""},{"$f":"IF(AND(F419=\"Non éligible\",G419=\"Non éligible\"),\"Conditions non remplies\",IF(AND(F419=\"Eligible\",L419=\"\"),\"Remplir la case manuellement, votre agent est en CDI\",IF(F419=\"\",\"\",CONCATENATE(N419,\" an(s) \",P419,\" mois \",Q419,\" jour(s)\"))))","v":""},null,null,"",{"$f":"eligibilité!AD207","v":""},{"$f":"eligibilité!AH207","v":""},"","","","","","","","","",""]
[{"$f":"IF(eligibilité!A208=\"\",\"\",eligibilité!A208)","v":""},{"$f":"IF(A420=\"\",\"\",\"Définir les fonctions ou le poste du dossier\")","v":""},null,null,null,{"$f":"IF(eligibilité!AF208=\"\",\"\",eligibilité!AF208)","v":""},{"$f":"IF(AND(eligibilité!AG208=\"\",F420=\"Non éligible\"),\"Non éligible\",eligibilité!AG208)","v":""},"",null,null,{"$f":"IF(AND($F420=\"Non éligible\",$G420=\"Non éligible\"),\"Conditions non remplies\",IF(AND($F420=\"Eligibilité ultérieure\",$L420=\"\"),\"Remplir la case manuellement, votre agent est en CDI\",IF($F420=\"\",\"\",CONCATENATE($T420,\" an(s) \",$V420,\" mois \",$W420,\" jour(s)\"))))","v":""},{"$f":"eligibilité!AD208","v":""},{"$f":"eligibilité!AH208","v":""},{"$f":"IF(L420=\"\",\"\",INT(L420/12))","v":""},{"$f":"IF(L420=\"\",\"\",(L420-N420*12))","v":""},{"$f":"IF(L420=\"\",\"\",INT(O420))","v":""},{"$f":"IF(L420=\"\",\"\",ROUNDDOWN((O420-P420)*30.44,0))","v":""},{"$f":"IF(L420=\"\",\"\",$S$226+L420)","v":""},{"$f":"IF(R420=\"\",\"\",R420/12)","v":""},{"$f":"IF(L420=\"\",\"\",INT(S420))","v":""},{"$f":"IF(L420=\"\",\"\",(S420-T420)*12)","v":""},{"$f":"IF(L420=\"\",\"\",INT(U420))","v":""},{"$f":"IF(L420=\"\",\"\",INT((U420-V420)*30.44))","v":""}]
[{"$f":"IF(eligibilité!A209=\"\",\"\",eligibilité!A209)","v":""},"",null,null,null,{"$f":"IF(eligibilité!AF209=\"\",\"\",eligibilité!AF209)","v":""},{"$f":"IF(AND(eligibilité!AG209=\"\",F421=\"Non éligible\"),\"Non éligible\",eligibilité!AG209)","v":""},"",null,null,"",{"$f":"eligibilité!AD209","v":""},{"$f":"eligibilité!AH209","v":""},"","","","","","","","","",""]
[{"$f":"IF(eligibilité!A210=\"\",\"\",eligibilité!A210)","v":""},"",null,null,null,{"$f":"IF(eligibilité!AF210=\"\",\"\",eligibilité!AF210)","v":""},{"$f":"IF(AND(eligibilité!AG210=\"\",F422=\"Non éligible\"),\"Non éligible\",eligibilité!AG210)","v":""},"",null,null,"",{"$f":"eligibilité!AD210","v":""},{"$f":"eligibilité!AH210","v":""},"","","","","","","","","",""]
[{"$f":"IF(eligibilité!A211=\"\",\"\",eligibilité!A211)","v":""},"",null,null,null,{"$f":"IF(eligibilité!AF211=\"\",\"\",eligibilité!AF211)","v":""},{"$f":"IF(AND(eligibilité!AG211=\"\",F423=\"Non éligible\"),\"Non éligible\",eligibilité!AG211)","v":""},"",null,null,"",{"$f":"eligibilité!AD211","v":""},{"$f":"eligibilité!AH211","v":""},"","","","","","","","","",""]
[{"$f":"IF(eligibilité!A212=\"\",\"\",eligibilité!A212)","v":""},"",null,null,null,{"$f":"IF(eligibilité!AF212=\"\",\"\",eligibilité!AF212)","v":""},{"$f":"IF(AND(eligibilité!AG212=\"\",F424=\"Non éligible\"),\"Non éligible\",eligibilité!AG212)","v":""},"",null,null,"",{"$f":"eligibilité!AD212","v":""},{"$f":"eligibilité!AH212","v":""},"","","","","","","","","",""]
[{"$f":"IF(eligibilité!A213=\"\",\"\",eligibilité!A213)","v":""},"",null,null,null,{"$f":"IF(eligibilité!AF213=\"\",\"\",eligibilité!AF213)","v":""},{"$f":"IF(AND(eligibilité!AG213=\"\",F425=\"Non éligible\"),\"Non éligible\",eligibilité!AG213)","v":""},"",null,null,"",{"$f":"eligibilité!AD213","v":""},{"$f":"eligibilité!AH213","v":""},"","","","","","","","","",""]
[{"$f":"IF(eligibilité!A214=\"\",\"\",eligibilité!A214)","v":""},"",null,null,null,{"$f":"IF(eligibilité!AF214=\"\",\"\",eligibilité!AF214)","v":""},{"$f":"IF(AND(eligibilité!AG214=\"\",F426=\"Non éligible\"),\"Non éligible\",eligibilité!AG214)","v":""},"",null,null,"",{"$f":"eligibilité!AD214","v":""},{"$f":"eligibilité!AH214","v":""},"","","","","","","","","",""]
[{"$f":"IF(eligibilité!A215=\"\",\"\",eligibilité!A215)","v":""},"",null,null,null,{"$f":"IF(eligibilité!AF215=\"\",\"\",eligibilité!AF215)","v":""},{"$f":"IF(AND(eligibilité!AG215=\"\",F427=\"Non éligible\"),\"Non éligible\",eligibilité!AG215)","v":""},"",null,null,"",{"$f":"eligibilité!AD215","v":""},{"$f":"eligibilité!AH215","v":""},"","","","","","","","","",""]
[{"$f":"IF(eligibilité!A216=\"\",\"\",eligibilité!A216)","v":""},{"$f":"IF(A428=\"\",\"\",\"Définir les fonctions ou le poste du dossier\")","v":""},null,null,null,{"$f":"IF(eligibilité!AF216=\"\",\"\",eligibilité!AF216)","v":""},{"$f":"IF(AND(eligibilité!AG216=\"\",F428=\"Non éligible\"),\"Non éligible\",eligibilité!AG216)","v":""},"",null,null,"",{"$f":"eligibilité!AD216","v":""},{"$f":"eligibilité!AH216","v":""},{"$f":"IF(L428=\"\",\"\",INT(L428/12))","v":""},{"$f":"IF(L428=\"\",\"\",(L428-N428*12))","v":""},{"$f":"IF(L428=\"\",\"\",INT(O428))","v":""},{"$f":"IF(L428=\"\",\"\",ROUNDDOWN((O428-P428)*30.44,0))","v":""},{"$f":"IF(L428=\"\",\"\",$S$226+L428)","v":""},{"$f":"IF(R428=\"\",\"\",R428/12)","v":""},{"$f":"IF(L428=\"\",\"\",INT(S428))","v":""},{"$f":"IF(L428=\"\",\"\",(S428-T428)*12)","v":""},{"$f":"IF(L428=\"\",\"\",INT(U428))","v":""},{"$f":"IF(L428=\"\",\"\",INT((U428-V428)*30.44))","v":""}]
[{"$f":"IF(eligibilité!A217=\"\",\"\",eligibilité!A217)","v":""},"",null,null,null,{"$f":"IF(eligibilité!AF217=\"\",\"\",eligibilité!AF217)","v":""},{"$f":"IF(AND(eligibilité!AG217=\"\",F429=\"Non éligible\"),\"Non éligible\",eligibilité!AG217)","v":""},"",null,null,"",{"$f":"eligibilité!AD217","v":""},{"$f":"eligibilité!AH217","v":""},"","","","","","","","","",""]
[{"$f":"IF(eligibilité!A218=\"\",\"\",eligibilité!A218)","v":""},"",null,null,null,{"$f":"IF(eligibilité!AF218=\"\",\"\",eligibilité!AF218)","v":""},{"$f":"IF(AND(eligibilité!AG218=\"\",F430=\"Non éligible\"),\"Non éligible\",eligibilité!AG218)","v":""},"",null,null,"",{"$f":"eligibilité!AD218","v":""},{"$f":"eligibilité!AH218","v":""},"","","","","","","","","",""]
[{"$f":"IF(eligibilité!A219=\"\",\"\",eligibilité!A219)","v":""},"",null,null,null,{"$f":"IF(eligibilité!AF219=\"\",\"\",eligibilité!AF219)","v":""},{"$f":"IF(AND(eligibilité!AG219=\"\",F431=\"Non éligible\"),\"Non éligible\",eligibilité!AG219)","v":""},"",null,null,"",{"$f":"eligibilité!AD219","v":""},{"$f":"eligibilité!AH219","v":""},"","","","","","","","","",""]
[{"$f":"IF(eligibilité!A220=\"\",\"\",eligibilité!A220)","v":""},"",null,null,null,{"$f":"IF(eligibilité!AF220=\"\",\"\",eligibilité!AF220)","v":""},{"$f":"IF(AND(eligibilité!AG220=\"\",F432=\"Non éligible\"),\"Non éligible\",eligibilité!AG220)","v":""},"",null,null,"",{"$f":"eligibilité!AD220","v":""},{"$f":"eligibilité!AH220","v":""},"","","","","","","","","",""]
[{"$f":"IF(eligibilité!A221=\"\",\"\",eligibilité!A221)","v":""},"",null,null,null,{"$f":"IF(eligibilité!AF221=\"\",\"\",eligibilité!AF221)","v":""},{"$f":"IF(AND(eligibilité!AG221=\"\",F433=\"Non éligible\"),\"Non éligible\",eligibilité!AG221)","v":""},"",null,null,"",{"$f":"eligibilité!AD221","v":""},{"$f":"eligibilité!AH221","v":""},"","","","","","","","","",""]
[{"$f":"IF(eligibilité!A222=\"\",\"\",eligibilité!A222)","v":""},"",null,null,null,{"$f":"IF(eligibilité!AF222=\"\",\"\",eligibilité!AF222)","v":""},{"$f":"IF(AND(eligibilité!AG222=\"\",F434=\"Non éligible\"),\"Non éligible\",eligibilité!AG222)","v":""},"",null,null,"",{"$f":"eligibilité!AD222","v":""},{"$f":"eligibilité!AH222","v":""},"","","","","","","","","",""]
[{"$f":"IF(eligibilité!A223=\"\",\"\",eligibilité!A223)","v":""},"",null,null,null,{"$f":"IF(eligibilité!AF223=\"\",\"\",eligibilité!AF223)","v":""},{"$f":"IF(AND(eligibilité!AG223=\"\",F435=\"Non éligible\"),\"Non éligible\",eligibilité!AG223)","v":""},"",null,null,"",{"$f":"eligibilité!AD223","v":""},{"$f":"eligibilité!AH223","v":""},"","","","","","","","","",""]
[{"$f":"IF(eligibilité!A224=\"\",\"\",eligibilité!A224)","v":""},"",null,null,null,{"$f":"IF(eligibilité!AF224=\"\",\"\",eligibilité!AF224)","v":""},{"$f":"IF(AND(eligibilité!AG224=\"\",F436=\"Non éligible\"),\"Non éligible\",eligibilité!AG224)","v":""},"",null,null,"",{"$f":"eligibilité!AD224","v":""},{"$f":"eligibilité!AH224","v":""},"","","","","","","","","",""]
[{"$f":"IF(eligibilité!A225=\"\",\"\",eligibilité!A225)","v":""},"",null,null,null,{"$f":"IF(eligibilité!AF225=\"\",\"\",eligibilité!AF225)","v":""},{"$f":"IF(AND(eligibilité!AG225=\"\",F437=\"Non éligible\"),\"Non éligible\",eligibilité!AG225)","v":""},"",null,null,"",{"$f":"eligibilité!AD225","v":""},{"$f":"eligibilité!AH225","v":""},"","","","","","","","","",""]
[{"$f":"IF(eligibilité!A226=\"\",\"\",eligibilité!A226)","v":""},"",null,null,null,{"$f":"IF(eligibilité!AF226=\"\",\"\",eligibilité!AF226)","v":""},{"$f":"IF(AND(eligibilité!AG226=\"\",F438=\"Non éligible\"),\"Non éligible\",eligibilité!AG226)","v":""},"",null,null,"",{"$f":"eligibilité!AD226","v":""},{"$f":"eligibilité!AH226","v":""},"","","","","","","","","",""]
[{"$f":"IF(eligibilité!A227=\"\",\"\",eligibilité!A227)","v":""},"",null,null,null,{"$f":"IF(eligibilité!AF227=\"\",\"\",eligibilité!AF227)","v":""},{"$f":"IF(AND(eligibilité!AG227=\"\",F439=\"Non éligible\"),\"Non éligible\",eligibilité!AG227)","v":""},"",null,null,"",{"$f":"eligibilité!AD227","v":""},{"$f":"eligibilité!AH227","v":""},"","","","","","","","","",""]
[{"$f":"IF(eligibilité!A228=\"\",\"\",eligibilité!A228)","v":""},"",null,null,null,{"$f":"IF(eligibilité!AF228=\"\",\"\",eligibilité!AF228)","v":""},{"$f":"IF(AND(eligibilité!AG228=\"\",F440=\"Non éligible\"),\"Non éligible\",eligibilité!AG228)","v":""},"",null,null,"",{"$f":"eligibilité!AD228","v":""},{"$f":"eligibilité!AH228","v":""},"","","","","","","","","",""]
[{"$f":"IF(eligibilité!A229=\"\",\"\",eligibilité!A229)","v":""},"",null,null,null,{"$f":"IF(eligibilité!AF229=\"\",\"\",eligibilité!AF229)","v":""},{"$f":"IF(AND(eligibilité!AG229=\"\",F441=\"Non éligible\"),\"Non éligible\",eligibilité!AG229)","v":""},"",null,null,"",{"$f":"eligibilité!AD229","v":""},{"$f":"eligibilité!AH229","v":""},"","","","","","","","","",""]
[{"$f":"IF(eligibilité!A230=\"\",\"\",eligibilité!A230)","v":""},"",null,null,null,{"$f":"IF(eligibilité!AF230=\"\",\"\",eligibilité!AF230)","v":""},{"$f":"IF(AND(eligibilité!AG230=\"\",F442=\"Non éligible\"),\"Non éligible\",eligibilité!AG230)","v":""},"",null,null,"",{"$f":"eligibilité!AD230","v":""},{"$f":"eligibilité!AH230","v":""},"","","","","","","","","",""]
[{"$f":"IF(eligibilité!A231=\"\",\"\",eligibilité!A231)","v":""},"",null,null,null,{"$f":"IF(eligibilité!AF231=\"\",\"\",eligibilité!AF231)","v":""},{"$f":"IF(AND(eligibilité!AG231=\"\",F443=\"Non éligible\"),\"Non éligible\",eligibilité!AG231)","v":""},"",null,null,"",{"$f":"eligibilité!AD231","v":""},{"$f":"eligibilité!AH231","v":""},"","","","","","","","","",""]
[{"$f":"IF(eligibilité!A232=\"\",\"\",eligibilité!A232)","v":""},"",null,null,null,{"$f":"IF(eligibilité!AF232=\"\",\"\",eligibilité!AF232)","v":""},{"$f":"IF(AND(eligibilité!AG232=\"\",F444=\"Non éligible\"),\"Non éligible\",eligibilité!AG232)","v":""},"",null,null,"",{"$f":"eligibilité!AD232","v":""},{"$f":"eligibilité!AH232","v":""},"","","","","","","","","",""]
[{"$f":"IF(eligibilité!A233=\"\",\"\",eligibilité!A233)","v":""},"",null,null,null,{"$f":"IF(eligibilité!AF233=\"\",\"\",eligibilité!AF233)","v":""},{"$f":"IF(AND(eligibilité!AG233=\"\",F445=\"Non éligible\"),\"Non éligible\",eligibilité!AG233)","v":""},"",null,null,"",{"$f":"eligibilité!AD233","v":""},{"$f":"eligibilité!AH233","v":""},"","","","","","","","","",""]
[{"$f":"IF(eligibilité!A234=\"\",\"\",eligibilité!A234)","v":""},"",null,null,null,{"$f":"IF(eligibilité!AF234=\"\",\"\",eligibilité!AF234)","v":""},{"$f":"IF(AND(eligibilité!AG234=\"\",F446=\"Non éligible\"),\"Non éligible\",eligibilité!AG234)","v":""},"",null,null,"",{"$f":"eligibilité!AD234","v":""},{"$f":"eligibilité!AH234","v":""},"","","","","","","","","",""]
[{"$f":"IF(eligibilité!A235=\"\",\"\",eligibilité!A235)","v":""},"",null,null,null,{"$f":"IF(eligibilité!AF235=\"\",\"\",eligibilité!AF235)","v":""},{"$f":"IF(AND(eligibilité!AG235=\"\",F447=\"Non éligible\"),\"Non éligible\",eligibilité!AG235)","v":""},"",null,null,"",{"$f":"eligibilité!AD235","v":""},{"$f":"eligibilité!AH235","v":""},"","","","","","","","","",""]
[{"$f":"IF(eligibilité!A236=\"\",\"\",eligibilité!A236)","v":""},"",null,null,null,{"$f":"IF(eligibilité!AF236=\"\",\"\",eligibilité!AF236)","v":""},{"$f":"IF(AND(eligibilité!AG236=\"\",F448=\"Non éligible\"),\"Non éligible\",eligibilité!AG236)","v":""},"",null,null,"",{"$f":"eligibilité!AD236","v":""},{"$f":"eligibilité!AH236","v":""},"","","","","","","","","",""]
[{"$f":"IF(eligibilité!A237=\"\",\"\",eligibilité!A237)","v":""},"",null,null,null,{"$f":"IF(eligibilité!AF237=\"\",\"\",eligibilité!AF237)","v":""},{"$f":"IF(AND(eligibilité!AG237=\"\",F449=\"Non éligible\"),\"Non éligible\",eligibilité!AG237)","v":""},"",null,null,"",{"$f":"eligibilité!AD237","v":""},{"$f":"eligibilité!AH237","v":""},"","","","","","","","","",""]
[{"$f":"IF(eligibilité!A238=\"\",\"\",eligibilité!A238)","v":""},"",null,null,null,{"$f":"IF(eligibilité!AF238=\"\",\"\",eligibilité!AF238)","v":""},{"$f":"IF(AND(eligibilité!AG238=\"\",F450=\"Non éligible\"),\"Non éligible\",eligibilité!AG238)","v":""},"",null,null,"",{"$f":"eligibilité!AD238","v":""},{"$f":"eligibilité!AH238","v":""},"","","","","","","","","",""]
[{"$f":"IF(eligibilité!A239=\"\",\"\",eligibilité!A239)","v":""},"",null,null,null,{"$f":"IF(eligibilité!AF239=\"\",\"\",eligibilité!AF239)","v":""},{"$f":"IF(AND(eligibilité!AG239=\"\",F451=\"Non éligible\"),\"Non éligible\",eligibilité!AG239)","v":""},"",null,null,"",{"$f":"eligibilité!AD239","v":""},{"$f":"eligibilité!AH239","v":""},"","","","","","","","","",""]
[{"$f":"IF(eligibilité!A240=\"\",\"\",eligibilité!A240)","v":""},"",null,null,null,{"$f":"IF(eligibilité!AF240=\"\",\"\",eligibilité!AF240)","v":""},{"$f":"IF(AND(eligibilité!AG240=\"\",F452=\"Non éligible\"),\"Non éligible\",eligibilité!AG240)","v":""},"",null,null,"",{"$f":"eligibilité!AD240","v":""},{"$f":"eligibilité!AH240","v":""},"","","","","","","","","",""]
[{"$f":"IF(eligibilité!A241=\"\",\"\",eligibilité!A241)","v":""},"",null,null,null,{"$f":"IF(eligibilité!AF241=\"\",\"\",eligibilité!AF241)","v":""},{"$f":"IF(AND(eligibilité!AG241=\"\",F453=\"Non éligible\"),\"Non éligible\",eligibilité!AG241)","v":""},"",null,null,"",{"$f":"eligibilité!AD241","v":""},{"$f":"eligibilité!AH241","v":""},"","","","","","","","","",""]
[{"$f":"IF(eligibilité!A242=\"\",\"\",eligibilité!A242)","v":""},"",null,null,null,{"$f":"IF(eligibilité!AF242=\"\",\"\",eligibilité!AF242)","v":""},{"$f":"IF(AND(eligibilité!AG242=\"\",F454=\"Non éligible\"),\"Non éligible\",eligibilité!AG242)","v":""},"",null,null,"",{"$f":"eligibilité!AD242","v":""},{"$f":"eligibilité!AH242","v":""},"","","","","","","","","",""]
[{"$f":"IF(eligibilité!A243=\"\",\"\",eligibilité!A243)","v":""},"",null,null,null,{"$f":"IF(eligibilité!AF243=\"\",\"\",eligibilité!AF243)","v":""},{"$f":"IF(AND(eligibilité!AG243=\"\",F455=\"Non éligible\"),\"Non éligible\",eligibilité!AG243)","v":""},"",null,null,"",{"$f":"eligibilité!AD243","v":""},{"$f":"eligibilité!AH243","v":""},"","","","","","","","","",""]
[{"$f":"IF(eligibilité!A244=\"\",\"\",eligibilité!A244)","v":""},"",null,null,null,{"$f":"IF(eligibilité!AF244=\"\",\"\",eligibilité!AF244)","v":""},{"$f":"IF(AND(eligibilité!AG244=\"\",F456=\"Non éligible\"),\"Non éligible\",eligibilité!AG244)","v":""},"",null,null,"",{"$f":"eligibilité!AD244","v":""},{"$f":"eligibilité!AH244","v":""},"","","","","","","","","",""]
[{"$f":"IF(eligibilité!A245=\"\",\"\",eligibilité!A245)","v":""},"",null,null,null,{"$f":"IF(eligibilité!AF245=\"\",\"\",eligibilité!AF245)","v":""},{"$f":"IF(AND(eligibilité!AG245=\"\",F457=\"Non éligible\"),\"Non éligible\",eligibilité!AG245)","v":""},"",null,null,"",{"$f":"eligibilité!AD245","v":""},{"$f":"eligibilité!AH245","v":""},"","","","","","","","","",""]
[{"$f":"IF(eligibilité!A246=\"\",\"\",eligibilité!A246)","v":""},"",null,null,null,{"$f":"IF(eligibilité!AF246=\"\",\"\",eligibilité!AF246)","v":""},{"$f":"IF(AND(eligibilité!AG246=\"\",F458=\"Non éligible\"),\"Non éligible\",eligibilité!AG246)","v":""},"",null,null,"",{"$f":"eligibilité!AD246","v":""},{"$f":"eligibilité!AH246","v":""},"","","","","","","","","",""]
[{"$f":"IF(eligibilité!A247=\"\",\"\",eligibilité!A247)","v":""},"",null,null,null,{"$f":"IF(eligibilité!AF247=\"\",\"\",eligibilité!AF247)","v":""},{"$f":"IF(AND(eligibilité!AG247=\"\",F459=\"Non éligible\"),\"Non éligible\",eligibilité!AG247)","v":""},"",null,null,"",{"$f":"eligibilité!AD247","v":""},{"$f":"eligibilité!AH247","v":""},"","","","","","","","","",""]
[{"$f":"IF(eligibilité!A248=\"\",\"\",eligibilité!A248)","v":""},"",null,null,null,{"$f":"IF(eligibilité!AF248=\"\",\"\",eligibilité!AF248)","v":""},{"$f":"IF(AND(eligibilité!AG248=\"\",F460=\"Non éligible\"),\"Non éligible\",eligibilité!AG248)","v":""},"",null,null,"",{"$f":"eligibilité!AD248","v":""},{"$f":"eligibilité!AH248","v":""},"","","","","","","","","",""]
[{"$f":"IF(eligibilité!A249=\"\",\"\",eligibilité!A249)","v":""},"",null,null,null,{"$f":"IF(eligibilité!AF249=\"\",\"\",eligibilité!AF249)","v":""},{"$f":"IF(AND(eligibilité!AG249=\"\",F461=\"Non éligible\"),\"Non éligible\",eligibilité!AG249)","v":""},"",null,null,"",{"$f":"eligibilité!AD249","v":""},{"$f":"eligibilité!AH249","v":""},"","","","","","","","","",""]
[{"$f":"IF(eligibilité!A250=\"\",\"\",eligibilité!A250)","v":""},"",null,null,null,{"$f":"IF(eligibilité!AF250=\"\",\"\",eligibilité!AF250)","v":""},{"$f":"IF(AND(eligibilité!AG250=\"\",F462=\"Non éligible\"),\"Non éligible\",eligibilité!AG250)","v":""},"",null,null,"",{"$f":"eligibilité!AD250","v":""},{"$f":"eligibilité!AH250","v":""},"","","","","","","","","",""]
[{"$f":"IF(eligibilité!A251=\"\",\"\",eligibilité!A251)","v":""},"",null,null,null,{"$f":"IF(eligibilité!AF251=\"\",\"\",eligibilité!AF251)","v":""},{"$f":"IF(AND(eligibilité!AG251=\"\",F463=\"Non éligible\"),\"Non éligible\",eligibilité!AG251)","v":""},"",null,null,"",{"$f":"eligibilité!AD251","v":""},{"$f":"eligibilité!AH251","v":""},"","","","","","","","","",""]
[{"$f":"IF(eligibilité!A252=\"\",\"\",eligibilité!A252)","v":""},"",null,null,null,{"$f":"IF(eligibilité!AF252=\"\",\"\",eligibilité!AF252)","v":""},{"$f":"IF(AND(eligibilité!AG252=\"\",F464=\"Non éligible\"),\"Non éligible\",eligibilité!AG252)","v":""},"",null,null,"",{"$f":"eligibilité!AD252","v":""},{"$f":"eligibilité!AH252","v":""},"","","","","","","","","",""]
[{"$f":"IF(eligibilité!A253=\"\",\"\",eligibilité!A253)","v":""},"",null,null,null,{"$f":"IF(eligibilité!AF253=\"\",\"\",eligibilité!AF253)","v":""},{"$f":"IF(AND(eligibilité!AG253=\"\",F465=\"Non éligible\"),\"Non éligible\",eligibilité!AG253)","v":""},"",null,null,"",{"$f":"eligibilité!AD253","v":""},{"$f":"eligibilité!AH253","v":""},"","","","","","","","","",""]
[{"$f":"IF(eligibilité!A254=\"\",\"\",eligibilité!A254)","v":""},"",null,null,null,{"$f":"IF(eligibilité!AF254=\"\",\"\",eligibilité!AF254)","v":""},{"$f":"IF(AND(eligibilité!AG254=\"\",F466=\"Non éligible\"),\"Non éligible\",eligibilité!AG254)","v":""},"",null,null,"",{"$f":"eligibilité!AD254","v":""},{"$f":"eligibilité!AH254","v":""},"","","","","","","","","",""]
[{"$f":"IF(eligibilité!A255=\"\",\"\",eligibilité!A255)","v":""},"",null,null,null,{"$f":"IF(eligibilité!AF255=\"\",\"\",eligibilité!AF255)","v":""},{"$f":"IF(AND(eligibilité!AG255=\"\",F467=\"Non éligible\"),\"Non éligible\",eligibilité!AG255)","v":""},"",null,null,"",{"$f":"eligibilité!AD255","v":""},{"$f":"eligibilité!AH255","v":""},"","","","","","","","","",""]
[{"$f":"IF(eligibilité!A256=\"\",\"\",eligibilité!A256)","v":""},"",null,null,null,{"$f":"IF(eligibilité!AF256=\"\",\"\",eligibilité!AF256)","v":""},{"$f":"IF(AND(eligibilité!AG256=\"\",F468=\"Non éligible\"),\"Non éligible\",eligibilité!AG256)","v":""},"",null,null,"",{"$f":"eligibilité!AD256","v":""},{"$f":"eligibilité!AH256","v":""},"","","","","","","","","",""]
[{"$f":"IF(eligibilité!A257=\"\",\"\",eligibilité!A257)","v":""},"",null,null,null,{"$f":"IF(eligibilité!AF257=\"\",\"\",eligibilité!AF257)","v":""},{"$f":"IF(AND(eligibilité!AG257=\"\",F469=\"Non éligible\"),\"Non éligible\",eligibilité!AG257)","v":""},"",null,null,"",{"$f":"eligibilité!AD257","v":""},{"$f":"eligibilité!AH257","v":""},"","","","","","","","","",""]
[{"$f":"IF(eligibilité!A258=\"\",\"\",eligibilité!A258)","v":""},"",null,null,null,{"$f":"IF(eligibilité!AF258=\"\",\"\",eligibilité!AF258)","v":""},{"$f":"IF(AND(eligibilité!AG258=\"\",F470=\"Non éligible\"),\"Non éligible\",eligibilité!AG258)","v":""},"",null,null,"",{"$f":"eligibilité!AD258","v":""},{"$f":"eligibilité!AH258","v":""},"","","","","","","","","",""]
[{"$f":"IF(eligibilité!A259=\"\",\"\",eligibilité!A259)","v":""},"",null,null,null,{"$f":"IF(eligibilité!AF259=\"\",\"\",eligibilité!AF259)","v":""},{"$f":"IF(AND(eligibilité!AG259=\"\",F471=\"Non éligible\"),\"Non éligible\",eligibilité!AG259)","v":""},"",null,null,"",{"$f":"eligibilité!AD259","v":""},{"$f":"eligibilité!AH259","v":""},"","","","","","","","","",""]
[{"$f":"IF(eligibilité!A260=\"\",\"\",eligibilité!A260)","v":""},"",null,null,null,{"$f":"IF(eligibilité!AF260=\"\",\"\",eligibilité!AF260)","v":""},{"$f":"IF(AND(eligibilité!AG260=\"\",F472=\"Non éligible\"),\"Non éligible\",eligibilité!AG260)","v":""},"",null,null,"",{"$f":"eligibilité!AD260","v":""},{"$f":"eligibilité!AH260","v":""},"","","","","","","","","",""]
[{"$f":"IF(eligibilité!A261=\"\",\"\",eligibilité!A261)","v":""},"",null,null,null,{"$f":"IF(eligibilité!AF261=\"\",\"\",eligibilité!AF261)","v":""},{"$f":"IF(AND(eligibilité!AG261=\"\",F473=\"Non éligible\"),\"Non éligible\",eligibilité!AG261)","v":""},"",null,null,"",{"$f":"eligibilité!AD261","v":""},{"$f":"eligibilité!AH261","v":""},"","","","","","","","","",""]
[{"$f":"IF(eligibilité!A262=\"\",\"\",eligibilité!A262)","v":""},"",null,null,null,{"$f":"IF(eligibilité!AF262=\"\",\"\",eligibilité!AF262)","v":""},{"$f":"IF(AND(eligibilité!AG262=\"\",F474=\"Non éligible\"),\"Non éligible\",eligibilité!AG262)","v":""},"",null,null,"",{"$f":"eligibilité!AD262","v":""},{"$f":"eligibilité!AH262","v":""},"","","","","","","","","",""]
[{"$f":"IF(eligibilité!A263=\"\",\"\",eligibilité!A263)","v":""},"",null,null,null,{"$f":"IF(eligibilité!AF263=\"\",\"\",eligibilité!AF263)","v":""},{"$f":"IF(AND(eligibilité!AG263=\"\",F475=\"Non éligible\"),\"Non éligible\",eligibilité!AG263)","v":""},"",null,null,"",{"$f":"eligibilité!AD263","v":""},{"$f":"eligibilité!AH263","v":""},"","","","","","","","","",""]
[{"$f":"IF(eligibilité!A264=\"\",\"\",eligibilité!A264)","v":""},"",null,null,null,{"$f":"IF(eligibilité!AF264=\"\",\"\",eligibilité!AF264)","v":""},{"$f":"IF(AND(eligibilité!AG264=\"\",F476=\"Non éligible\"),\"Non éligible\",eligibilité!AG264)","v":""},"",null,null,"",{"$f":"eligibilité!AD264","v":""},{"$f":"eligibilité!AH264","v":""},"","","","","","","","","",""]
[{"$f":"IF(eligibilité!A265=\"\",\"\",eligibilité!A265)","v":""},"",null,null,null,{"$f":"IF(eligibilité!AF265=\"\",\"\",eligibilité!AF265)","v":""},{"$f":"IF(AND(eligibilité!AG265=\"\",F477=\"Non éligible\"),\"Non éligible\",eligibilité!AG265)","v":""},"",null,null,"",{"$f":"eligibilité!AD265","v":""},{"$f":"eligibilité!AH265","v":""},"","","","","","","","","",""]
[{"$f":"IF(eligibilité!A266=\"\",\"\",eligibilité!A266)","v":""},"",null,null,null,{"$f":"IF(eligibilité!AF266=\"\",\"\",eligibilité!AF266)","v":""},{"$f":"IF(AND(eligibilité!AG266=\"\",F478=\"Non éligible\"),\"Non éligible\",eligibilité!AG266)","v":""},"",null,null,"",{"$f":"eligibilité!AD266","v":""},{"$f":"eligibilité!AH266","v":""},"","","","","","","","","",""]
[{"$f":"IF(eligibilité!A267=\"\",\"\",eligibilité!A267)","v":""},"",null,null,null,{"$f":"IF(eligibilité!AF267=\"\",\"\",eligibilité!AF267)","v":""},{"$f":"IF(AND(eligibilité!AG267=\"\",F479=\"Non éligible\"),\"Non éligible\",eligibilité!AG267)","v":""},"",null,null,"",{"$f":"eligibilité!AD267","v":""},{"$f":"eligibilité!AH267","v":""},"","","","","","","","","",""]
[{"$f":"IF(eligibilité!A268=\"\",\"\",eligibilité!A268)","v":""},"",null,null,null,{"$f":"IF(eligibilité!AF268=\"\",\"\",eligibilité!AF268)","v":""},{"$f":"IF(AND(eligibilité!AG268=\"\",F480=\"Non éligible\"),\"Non éligible\",eligibilité!AG268)","v":""},"",null,null,"",{"$f":"eligibilité!AD268","v":""},{"$f":"eligibilité!AH268","v":""},"","","","","","","","","",""]
[{"$f":"IF(eligibilité!A269=\"\",\"\",eligibilité!A269)","v":""},"",null,null,null,{"$f":"IF(eligibilité!AF269=\"\",\"\",eligibilité!AF269)","v":""},{"$f":"IF(AND(eligibilité!AG269=\"\",F481=\"Non éligible\"),\"Non éligible\",eligibilité!AG269)","v":""},"",null,null,"",{"$f":"eligibilité!AD269","v":""},{"$f":"eligibilité!AH269","v":""},"","","","","","","","","",""]
[{"$f":"IF(eligibilité!A270=\"\",\"\",eligibilité!A270)","v":""},"",null,null,null,{"$f":"IF(eligibilité!AF270=\"\",\"\",eligibilité!AF270)","v":""},{"$f":"IF(AND(eligibilité!AG270=\"\",F482=\"Non éligible\"),\"Non éligible\",eligibilité!AG270)","v":""},"",null,null,"",{"$f":"eligibilité!AD270","v":""},{"$f":"eligibilité!AH270","v":""},"","","","","","","","","",""]
[{"$f":"IF(eligibilité!A271=\"\",\"\",eligibilité!A271)","v":""},"",null,null,null,{"$f":"IF(eligibilité!AF271=\"\",\"\",eligibilité!AF271)","v":""},{"$f":"IF(AND(eligibilité!AG271=\"\",F483=\"Non éligible\"),\"Non éligible\",eligibilité!AG271)","v":""},{"$f":"IF(AND(F483=\"Non éligible\",G483=\"Non éligible\"),\"Conditions non remplies\",IF(AND(F483=\"Eligible\",L483=\"\"),\"Remplir la case manuellement, votre agent est en CDI\",IF(F483=\"\",\"\",CONCATENATE(N483,\" an(s) \",P483,\" mois \",Q483,\" jour(s)\"))))","v":""},null,null,"",{"$f":"eligibilité!AD271","v":""},{"$f":"eligibilité!AH271","v":""},"","","","","","","","","",""]
[{"$f":"IF(eligibilité!A272=\"\",\"\",eligibilité!A272)","v":""},"",null,null,null,{"$f":"IF(eligibilité!AF272=\"\",\"\",eligibilité!AF272)","v":""},{"$f":"IF(AND(eligibilité!AG272=\"\",F484=\"Non éligible\"),\"Non éligible\",eligibilité!AG272)","v":""},"",null,null,{"$f":"IF(AND($F484=\"Non éligible\",$G484=\"Non éligible\"),\"Conditions non remplies\",IF(AND($F484=\"Eligibilité ultérieure\",$L484=\"\"),\"Remplir la case manuellement, votre agent est en CDI\",IF($F484=\"\",\"\",CONCATENATE($T484,\" an(s) \",$V484,\" mois \",$W484,\" jour(s)\"))))","v":""},{"$f":"eligibilité!AD272","v":""},{"$f":"eligibilité!AH272","v":""},"","","","","","","","","",""]
[{"$f":"IF(eligibilité!A273=\"\",\"\",eligibilité!A273)","v":""},"",null,null,null,{"$f":"IF(eligibilité!AF273=\"\",\"\",eligibilité!AF273)","v":""},{"$f":"IF(AND(eligibilité!AG273=\"\",F485=\"Non éligible\"),\"Non éligible\",eligibilité!AG273)","v":""},"",null,null,"",{"$f":"eligibilité!AD273","v":""},{"$f":"eligibilité!AH273","v":""},"","","","","","","","","",""]
[{"$f":"IF(eligibilité!A274=\"\",\"\",eligibilité!A274)","v":""},"",null,null,null,{"$f":"IF(eligibilité!AF274=\"\",\"\",eligibilité!AF274)","v":""},{"$f":"IF(AND(eligibilité!AG274=\"\",F486=\"Non éligible\"),\"Non éligible\",eligibilité!AG274)","v":""},"",null,null,"",{"$f":"eligibilité!AD274","v":""},{"$f":"eligibilité!AH274","v":""},"","","","","","","","","",""]
[{"$f":"IF(eligibilité!A275=\"\",\"\",eligibilité!A275)","v":""},"",null,null,null,{"$f":"IF(eligibilité!AF275=\"\",\"\",eligibilité!AF275)","v":""},{"$f":"IF(AND(eligibilité!AG275=\"\",F487=\"Non éligible\"),\"Non éligible\",eligibilité!AG275)","v":""},"",null,null,"",{"$f":"eligibilité!AD275","v":""},{"$f":"eligibilité!AH275","v":""},"","","","","","","","","",""]
[{"$f":"IF(eligibilité!A276=\"\",\"\",eligibilité!A276)","v":""},"",null,null,null,{"$f":"IF(eligibilité!AF276=\"\",\"\",eligibilité!AF276)","v":""},{"$f":"IF(AND(eligibilité!AG276=\"\",F488=\"Non éligible\"),\"Non éligible\",eligibilité!AG276)","v":""},"",null,null,"",{"$f":"eligibilité!AD276","v":""},{"$f":"eligibilité!AH276","v":""},"","","","","","","","","",""]
[{"$f":"IF(eligibilité!A277=\"\",\"\",eligibilité!A277)","v":""},"",null,null,null,{"$f":"IF(eligibilité!AF277=\"\",\"\",eligibilité!AF277)","v":""},{"$f":"IF(AND(eligibilité!AG277=\"\",F489=\"Non éligible\"),\"Non éligible\",eligibilité!AG277)","v":""},"",null,null,"",{"$f":"eligibilité!AD277","v":""},{"$f":"eligibilité!AH277","v":""},"","","","","","","","","",""]
[{"$f":"IF(eligibilité!A278=\"\",\"\",eligibilité!A278)","v":""},"",null,null,null,{"$f":"IF(eligibilité!AF278=\"\",\"\",eligibilité!AF278)","v":""},{"$f":"IF(AND(eligibilité!AG278=\"\",F490=\"Non éligible\"),\"Non éligible\",eligibilité!AG278)","v":""},"",null,null,"",{"$f":"eligibilité!AD278","v":""},{"$f":"eligibilité!AH278","v":""},"","","","","","","","","",""]
[{"$f":"IF(eligibilité!A279=\"\",\"\",eligibilité!A279)","v":""},"",null,null,null,{"$f":"IF(eligibilité!AF279=\"\",\"\",eligibilité!AF279)","v":""},{"$f":"IF(AND(eligibilité!AG279=\"\",F491=\"Non éligible\"),\"Non éligible\",eligibilité!AG279)","v":""},"",null,null,"",{"$f":"eligibilité!AD279","v":""},{"$f":"eligibilité!AH279","v":""},"","","","","","","","","",""]
[{"$f":"IF(eligibilité!A280=\"\",\"\",eligibilité!A280)","v":""},{"$f":"IF(A492=\"\",\"\",\"Définir les fonctions ou le poste du dossier\")","v":""},null,null,null,{"$f":"IF(eligibilité!AF280=\"\",\"\",eligibilité!AF280)","v":""},{"$f":"IF(AND(eligibilité!AG280=\"\",F492=\"Non éligible\"),\"Non éligible\",eligibilité!AG280)","v":""},"",null,null,"",{"$f":"eligibilité!AD280","v":""},{"$f":"eligibilité!AH280","v":""},{"$f":"IF(L492=\"\",\"\",INT(L492/12))","v":""},{"$f":"IF(L492=\"\",\"\",(L492-N492*12))","v":""},{"$f":"IF(L492=\"\",\"\",INT(O492))","v":""},{"$f":"IF(L492=\"\",\"\",ROUNDDOWN((O492-P492)*30.44,0))","v":""},{"$f":"IF(L492=\"\",\"\",$S$226+L492)","v":""},{"$f":"IF(R492=\"\",\"\",R492/12)","v":""},{"$f":"IF(L492=\"\",\"\",INT(S492))","v":""},{"$f":"IF(L492=\"\",\"\",(S492-T492)*12)","v":""},{"$f":"IF(L492=\"\",\"\",INT(U492))","v":""},{"$f":"IF(L492=\"\",\"\",INT((U492-V492)*30.44))","v":""}]
[{"$f":"IF(eligibilité!A281=\"\",\"\",eligibilité!A281)","v":""},"",null,null,null,{"$f":"IF(eligibilité!AF281=\"\",\"\",eligibilité!AF281)","v":""},{"$f":"IF(AND(eligibilité!AG281=\"\",F493=\"Non éligible\"),\"Non éligible\",eligibilité!AG281)","v":""},"",null,null,"",{"$f":"eligibilité!AD281","v":""},{"$f":"eligibilité!AH281","v":""},"","","","","","","","","",""]
[{"$f":"IF(eligibilité!A282=\"\",\"\",eligibilité!A282)","v":""},"",null,null,null,{"$f":"IF(eligibilité!AF282=\"\",\"\",eligibilité!AF282)","v":""},{"$f":"IF(AND(eligibilité!AG282=\"\",F494=\"Non éligible\"),\"Non éligible\",eligibilité!AG282)","v":""},"",null,null,"",{"$f":"eligibilité!AD282","v":""},{"$f":"eligibilité!AH282","v":""},"","","","","","","","","",""]
[{"$f":"IF(eligibilité!A283=\"\",\"\",eligibilité!A283)","v":""},"",null,null,null,{"$f":"IF(eligibilité!AF283=\"\",\"\",eligibilité!AF283)","v":""},{"$f":"IF(AND(eligibilité!AG283=\"\",F495=\"Non éligible\"),\"Non éligible\",eligibilité!AG283)","v":""},"",null,null,"",{"$f":"eligibilité!AD283","v":""},{"$f":"eligibilité!AH283","v":""},"","","","","","","","","",""]
[{"$f":"IF(eligibilité!A284=\"\",\"\",eligibilité!A284)","v":""},"",null,null,null,{"$f":"IF(eligibilité!AF284=\"\",\"\",eligibilité!AF284)","v":""},{"$f":"IF(AND(eligibilité!AG284=\"\",F496=\"Non éligible\"),\"Non éligible\",eligibilité!AG284)","v":""},"",null,null,"",{"$f":"eligibilité!AD284","v":""},{"$f":"eligibilité!AH284","v":""},"","","","","","","","","",""]
[{"$f":"IF(eligibilité!A285=\"\",\"\",eligibilité!A285)","v":""},"",null,null,null,{"$f":"IF(eligibilité!AF285=\"\",\"\",eligibilité!AF285)","v":""},{"$f":"IF(AND(eligibilité!AG285=\"\",F497=\"Non éligible\"),\"Non éligible\",eligibilité!AG285)","v":""},"",null,null,"",{"$f":"eligibilité!AD285","v":""},{"$f":"eligibilité!AH285","v":""},"","","","","","","","","",""]
[{"$f":"IF(eligibilité!A286=\"\",\"\",eligibilité!A286)","v":""},"",null,null,null,{"$f":"IF(eligibilité!AF286=\"\",\"\",eligibilité!AF286)","v":""},{"$f":"IF(AND(eligibilité!AG286=\"\",F498=\"Non éligible\"),\"Non éligible\",eligibilité!AG286)","v":""},"",null,null,"",{"$f":"eligibilité!AD286","v":""},{"$f":"eligibilité!AH286","v":""},"","","","","","","","","",""]
[{"$f":"IF(eligibilité!A287=\"\",\"\",eligibilité!A287)","v":""},"",null,null,null,{"$f":"IF(eligibilité!AF287=\"\",\"\",eligibilité!AF287)","v":""},{"$f":"IF(AND(eligibilité!AG287=\"\",F499=\"Non éligible\"),\"Non éligible\",eligibilité!AG287)","v":""},"",null,null,"",{"$f":"eligibilité!AD287","v":""},{"$f":"eligibilité!AH287","v":""},"","","","","","","","","",""]
[{"$f":"IF(eligibilité!A288=\"\",\"\",eligibilité!A288)","v":""},"",null,null,null,{"$f":"IF(eligibilité!AF288=\"\",\"\",eligibilité!AF288)","v":""},{"$f":"IF(AND(eligibilité!AG288=\"\",F500=\"Non éligible\"),\"Non éligible\",eligibilité!AG288)","v":""},"",null,null,"",{"$f":"eligibilité!AD288","v":""},{"$f":"eligibilité!AH288","v":""},"","","","","","","","","",""]
[{"$f":"IF(eligibilité!A289=\"\",\"\",eligibilité!A289)","v":""},"",null,null,null,{"$f":"IF(eligibilité!AF289=\"\",\"\",eligibilité!AF289)","v":""},{"$f":"IF(AND(eligibilité!AG289=\"\",F501=\"Non éligible\"),\"Non éligible\",eligibilité!AG289)","v":""},"",null,null,"",{"$f":"eligibilité!AD289","v":""},{"$f":"eligibilité!AH289","v":""},"","","","","","","","","",""]
[{"$f":"IF(eligibilité!A290=\"\",\"\",eligibilité!A290)","v":""},"",null,null,null,{"$f":"IF(eligibilité!AF290=\"\",\"\",eligibilité!AF290)","v":""},{"$f":"IF(AND(eligibilité!AG290=\"\",F502=\"Non éligible\"),\"Non éligible\",eligibilité!AG290)","v":""},"",null,null,"",{"$f":"eligibilité!AD290","v":""},{"$f":"eligibilité!AH290","v":""},"","","","","","","","","",""]
[{"$f":"IF(eligibilité!A291=\"\",\"\",eligibilité!A291)","v":""},"",null,null,null,{"$f":"IF(eligibilité!AF291=\"\",\"\",eligibilité!AF291)","v":""},{"$f":"IF(AND(eligibilité!AG291=\"\",F503=\"Non éligible\"),\"Non éligible\",eligibilité!AG291)","v":""},"",null,null,"",{"$f":"eligibilité!AD291","v":""},{"$f":"eligibilité!AH291","v":""},"","","","","","","","","",""]
[{"$f":"IF(eligibilité!A292=\"\",\"\",eligibilité!A292)","v":""},"",null,null,null,{"$f":"IF(eligibilité!AF292=\"\",\"\",eligibilité!AF292)","v":""},{"$f":"IF(AND(eligibilité!AG292=\"\",F504=\"Non éligible\"),\"Non éligible\",eligibilité!AG292)","v":""},"",null,null,"",{"$f":"eligibilité!AD292","v":""},{"$f":"eligibilité!AH292","v":""},"","","","","","","","","",""]
[{"$f":"IF(eligibilité!A293=\"\",\"\",eligibilité!A293)","v":""},"",null,null,null,{"$f":"IF(eligibilité!AF293=\"\",\"\",eligibilité!AF293)","v":""},{"$f":"IF(AND(eligibilité!AG293=\"\",F505=\"Non éligible\"),\"Non éligible\",eligibilité!AG293)","v":""},"",null,null,"",{"$f":"eligibilité!AD293","v":""},{"$f":"eligibilité!AH293","v":""},"","","","","","","","","",""]
[{"$f":"IF(eligibilité!A294=\"\",\"\",eligibilité!A294)","v":""},"",null,null,null,{"$f":"IF(eligibilité!AF294=\"\",\"\",eligibilité!AF294)","v":""},{"$f":"IF(AND(eligibilité!AG294=\"\",F506=\"Non éligible\"),\"Non éligible\",eligibilité!AG294)","v":""},"",null,null,"",{"$f":"eligibilité!AD294","v":""},{"$f":"eligibilité!AH294","v":""},"","","","","","","","","",""]
[{"$f":"IF(eligibilité!A295=\"\",\"\",eligibilité!A295)","v":""},"",null,null,null,{"$f":"IF(eligibilité!AF295=\"\",\"\",eligibilité!AF295)","v":""},{"$f":"IF(AND(eligibilité!AG295=\"\",F507=\"Non éligible\"),\"Non éligible\",eligibilité!AG295)","v":""},"",null,null,"",{"$f":"eligibilité!AD295","v":""},{"$f":"eligibilité!AH295","v":""},"","","","","","","","","",""]
[{"$f":"IF(eligibilité!A296=\"\",\"\",eligibilité!A296)","v":""},"",null,null,null,{"$f":"IF(eligibilité!AF296=\"\",\"\",eligibilité!AF296)","v":""},{"$f":"IF(AND(eligibilité!AG296=\"\",F508=\"Non éligible\"),\"Non éligible\",eligibilité!AG296)","v":""},"",null,null,"",{"$f":"eligibilité!AD296","v":""},{"$f":"eligibilité!AH296","v":""},"","","","","","","","","",""]
[{"$f":"IF(eligibilité!A297=\"\",\"\",eligibilité!A297)","v":""},"",null,null,null,{"$f":"IF(eligibilité!AF297=\"\",\"\",eligibilité!AF297)","v":""},{"$f":"IF(AND(eligibilité!AG297=\"\",F509=\"Non éligible\"),\"Non éligible\",eligibilité!AG297)","v":""},"",null,null,"",{"$f":"eligibilité!AD297","v":""},{"$f":"eligibilité!AH297","v":""},"","","","","","","","","",""]
[{"$f":"IF(eligibilité!A298=\"\",\"\",eligibilité!A298)","v":""},"",null,null,null,{"$f":"IF(eligibilité!AF298=\"\",\"\",eligibilité!AF298)","v":""},{"$f":"IF(AND(eligibilité!AG298=\"\",F510=\"Non éligible\"),\"Non éligible\",eligibilité!AG298)","v":""},"",null,null,"",{"$f":"eligibilité!AD298","v":""},{"$f":"eligibilité!AH298","v":""},"","","","","","","","","",""]
[{"$f":"IF(eligibilité!A299=\"\",\"\",eligibilité!A299)","v":""},"",null,null,null,{"$f":"IF(eligibilité!AF299=\"\",\"\",eligibilité!AF299)","v":""},{"$f":"IF(AND(eligibilité!AG299=\"\",F511=\"Non éligible\"),\"Non éligible\",eligibilité!AG299)","v":""},"",null,null,"",{"$f":"eligibilité!AD299","v":""},{"$f":"eligibilité!AH299","v":""},"","","","","","","","","",""]
[{"$f":"IF(eligibilité!A300=\"\",\"\",eligibilité!A300)","v":""},"",null,null,null,{"$f":"IF(eligibilité!AF300=\"\",\"\",eligibilité!AF300)","v":""},{"$f":"IF(AND(eligibilité!AG300=\"\",F512=\"Non éligible\"),\"Non éligible\",eligibilité!AG300)","v":""},"",null,null,"",{"$f":"eligibilité!AD300","v":""},{"$f":"eligibilité!AH300","v":""},"","","","","","","","","",""]
[{"$f":"IF(eligibilité!A301=\"\",\"\",eligibilité!A301)","v":""},"",null,null,null,{"$f":"IF(eligibilité!AF301=\"\",\"\",eligibilité!AF301)","v":""},{"$f":"IF(AND(eligibilité!AG301=\"\",F513=\"Non éligible\"),\"Non éligible\",eligibilité!AG301)","v":""},"",null,null,"",{"$f":"eligibilité!AD301","v":""},{"$f":"eligibilité!AH301","v":""},"","","","","","","","","",""]
[{"$f":"IF(eligibilité!A302=\"\",\"\",eligibilité!A302)","v":""},"",null,null,null,{"$f":"IF(eligibilité!AF302=\"\",\"\",eligibilité!AF302)","v":""},{"$f":"IF(AND(eligibilité!AG302=\"\",F514=\"Non éligible\"),\"Non éligible\",eligibilité!AG302)","v":""},"",null,null,"",{"$f":"eligibilité!AD302","v":""},{"$f":"eligibilité!AH302","v":""},"","","","","","","","","",""]
[{"$f":"IF(eligibilité!A303=\"\",\"\",eligibilité!A303)","v":""},"",null,null,null,{"$f":"IF(eligibilité!AF303=\"\",\"\",eligibilité!AF303)","v":""},{"$f":"IF(AND(eligibilité!AG303=\"\",F515=\"Non éligible\"),\"Non éligible\",eligibilité!AG303)","v":""},"",null,null,"",{"$f":"eligibilité!AD303","v":""},{"$f":"eligibilité!AH303","v":""},"","","","","","","","","",""]
[{"$f":"IF(eligibilité!A304=\"\",\"\",eligibilité!A304)","v":""},"",null,null,null,{"$f":"IF(eligibilité!AF304=\"\",\"\",eligibilité!AF304)","v":""},{"$f":"IF(AND(eligibilité!AG304=\"\",F516=\"Non éligible\"),\"Non éligible\",eligibilité!AG304)","v":""},"",null,null,"",{"$f":"eligibilité!AD304","v":""},{"$f":"eligibilité!AH304","v":""},"","","","","","","","","",""]
[{"$f":"IF(eligibilité!A305=\"\",\"\",eligibilité!A305)","v":""},"",null,null,null,{"$f":"IF(eligibilité!AF305=\"\",\"\",eligibilité!AF305)","v":""},{"$f":"IF(AND(eligibilité!AG305=\"\",F517=\"Non éligible\"),\"Non éligible\",eligibilité!AG305)","v":""},"",null,null,"",{"$f":"eligibilité!AD305","v":""},{"$f":"eligibilité!AH305","v":""},"","","","","","","","","",""]
[{"$f":"IF(eligibilité!A306=\"\",\"\",eligibilité!A306)","v":""},"",null,null,null,{"$f":"IF(eligibilité!AF306=\"\",\"\",eligibilité!AF306)","v":""},{"$f":"IF(AND(eligibilité!AG306=\"\",F518=\"Non éligible\"),\"Non éligible\",eligibilité!AG306)","v":""},"",null,null,"",{"$f":"eligibilité!AD306","v":""},{"$f":"eligibilité!AH306","v":""},"","","","","","","","","",""]
[{"$f":"IF(eligibilité!A307=\"\",\"\",eligibilité!A307)","v":""},"",null,null,null,{"$f":"IF(eligibilité!AF307=\"\",\"\",eligibilité!AF307)","v":""},{"$f":"IF(AND(eligibilité!AG307=\"\",F519=\"Non éligible\"),\"Non éligible\",eligibilité!AG307)","v":""},"",null,null,"",{"$f":"eligibilité!AD307","v":""},{"$f":"eligibilité!AH307","v":""},"","","","","","","","","",""]
[{"$f":"IF(eligibilité!A308=\"\",\"\",eligibilité!A308)","v":""},"",null,null,null,{"$f":"IF(eligibilité!AF308=\"\",\"\",eligibilité!AF308)","v":""},{"$f":"IF(AND(eligibilité!AG308=\"\",F520=\"Non éligible\"),\"Non éligible\",eligibilité!AG308)","v":""},"",null,null,"",{"$f":"eligibilité!AD308","v":""},{"$f":"eligibilité!AH308","v":""},"","","","","","","","","",""]
[{"$f":"IF(eligibilité!A309=\"\",\"\",eligibilité!A309)","v":""},"",null,null,null,{"$f":"IF(eligibilité!AF309=\"\",\"\",eligibilité!AF309)","v":""},{"$f":"IF(AND(eligibilité!AG309=\"\",F521=\"Non éligible\"),\"Non éligible\",eligibilité!AG309)","v":""},"",null,null,"",{"$f":"eligibilité!AD309","v":""},{"$f":"eligibilité!AH309","v":""},"","","","","","","","","",""]
[{"$f":"IF(eligibilité!A310=\"\",\"\",eligibilité!A310)","v":""},"",null,null,null,{"$f":"IF(eligibilité!AF310=\"\",\"\",eligibilité!AF310)","v":""},{"$f":"IF(AND(eligibilité!AG310=\"\",F522=\"Non éligible\"),\"Non éligible\",eligibilité!AG310)","v":""},"",null,null,"",{"$f":"eligibilité!AD310","v":""},{"$f":"eligibilité!AH310","v":""},"","","","","","","","","",""]
[{"$f":"IF(eligibilité!A311=\"\",\"\",eligibilité!A311)","v":""},"",null,null,null,{"$f":"IF(eligibilité!AF311=\"\",\"\",eligibilité!AF311)","v":""},{"$f":"IF(AND(eligibilité!AG311=\"\",F523=\"Non éligible\"),\"Non éligible\",eligibilité!AG311)","v":""},"",null,null,"",{"$f":"eligibilité!AD311","v":""},{"$f":"eligibilité!AH311","v":""},"","","","","","","","","",""]
[{"$f":"IF(eligibilité!A312=\"\",\"\",eligibilité!A312)","v":""},"",null,null,null,{"$f":"IF(eligibilité!AF312=\"\",\"\",eligibilité!AF312)","v":""},{"$f":"IF(AND(eligibilité!AG312=\"\",F524=\"Non éligible\"),\"Non éligible\",eligibilité!AG312)","v":""},"",null,null,"",{"$f":"eligibilité!AD312","v":""},{"$f":"eligibilité!AH312","v":""},"","","","","","","","","",""]
[{"$f":"IF(eligibilité!A313=\"\",\"\",eligibilité!A313)","v":""},"",null,null,null,{"$f":"IF(eligibilité!AF313=\"\",\"\",eligibilité!AF313)","v":""},{"$f":"IF(AND(eligibilité!AG313=\"\",F525=\"Non éligible\"),\"Non éligible\",eligibilité!AG313)","v":""},"",null,null,"",{"$f":"eligibilité!AD313","v":""},{"$f":"eligibilité!AH313","v":""},"","","","","","","","","",""]
[{"$f":"IF(eligibilité!A314=\"\",\"\",eligibilité!A314)","v":""},"",null,null,null,{"$f":"IF(eligibilité!AF314=\"\",\"\",eligibilité!AF314)","v":""},{"$f":"IF(AND(eligibilité!AG314=\"\",F526=\"Non éligible\"),\"Non éligible\",eligibilité!AG314)","v":""},"",null,null,"",{"$f":"eligibilité!AD314","v":""},{"$f":"eligibilité!AH314","v":""},"","","","","","","","","",""]
[{"$f":"IF(eligibilité!A315=\"\",\"\",eligibilité!A315)","v":""},"",null,null,null,{"$f":"IF(eligibilité!AF315=\"\",\"\",eligibilité!AF315)","v":""},{"$f":"IF(AND(eligibilité!AG315=\"\",F527=\"Non éligible\"),\"Non éligible\",eligibilité!AG315)","v":""},"",null,null,"",{"$f":"eligibilité!AD315","v":""},{"$f":"eligibilité!AH315","v":""},"","","","","","","","","",""]
[{"$f":"IF(eligibilité!A316=\"\",\"\",eligibilité!A316)","v":""},"",null,null,null,{"$f":"IF(eligibilité!AF316=\"\",\"\",eligibilité!AF316)","v":""},{"$f":"IF(AND(eligibilité!AG316=\"\",F528=\"Non éligible\"),\"Non éligible\",eligibilité!AG316)","v":""},"",null,null,"",{"$f":"eligibilité!AD316","v":""},{"$f":"eligibilité!AH316","v":""},"","","","","","","","","",""]
[{"$f":"IF(eligibilité!A317=\"\",\"\",eligibilité!A317)","v":""},"",null,null,null,{"$f":"IF(eligibilité!AF317=\"\",\"\",eligibilité!AF317)","v":""},{"$f":"IF(AND(eligibilité!AG317=\"\",F529=\"Non éligible\"),\"Non éligible\",eligibilité!AG317)","v":""},"",null,null,"",{"$f":"eligibilité!AD317","v":""},{"$f":"eligibilité!AH317","v":""},"","","","","","","","","",""]
[{"$f":"IF(eligibilité!A318=\"\",\"\",eligibilité!A318)","v":""},"",null,null,null,{"$f":"IF(eligibilité!AF318=\"\",\"\",eligibilité!AF318)","v":""},{"$f":"IF(AND(eligibilité!AG318=\"\",F530=\"Non éligible\"),\"Non éligible\",eligibilité!AG318)","v":""},"",null,null,"",{"$f":"eligibilité!AD318","v":""},{"$f":"eligibilité!AH318","v":""},"","","","","","","","","",""]
[{"$f":"IF(eligibilité!A319=\"\",\"\",eligibilité!A319)","v":""},"",null,null,null,{"$f":"IF(eligibilité!AF319=\"\",\"\",eligibilité!AF319)","v":""},{"$f":"IF(AND(eligibilité!AG319=\"\",F531=\"Non éligible\"),\"Non éligible\",eligibilité!AG319)","v":""},"",null,null,"",{"$f":"eligibilité!AD319","v":""},{"$f":"eligibilité!AH319","v":""},"","","","","","","","","",""]
[{"$f":"IF(eligibilité!A320=\"\",\"\",eligibilité!A320)","v":""},"",null,null,null,{"$f":"IF(eligibilité!AF320=\"\",\"\",eligibilité!AF320)","v":""},{"$f":"IF(AND(eligibilité!AG320=\"\",F532=\"Non éligible\"),\"Non éligible\",eligibilité!AG320)","v":""},"",null,null,"",{"$f":"eligibilité!AD320","v":""},{"$f":"eligibilité!AH320","v":""},"","","","","","","","","",""]
[{"$f":"IF(eligibilité!A321=\"\",\"\",eligibilité!A321)","v":""},"",null,null,null,{"$f":"IF(eligibilité!AF321=\"\",\"\",eligibilité!AF321)","v":""},{"$f":"IF(AND(eligibilité!AG321=\"\",F533=\"Non éligible\"),\"Non éligible\",eligibilité!AG321)","v":""},"",null,null,"",{"$f":"eligibilité!AD321","v":""},{"$f":"eligibilité!AH321","v":""},"","","","","","","","","",""]
[{"$f":"IF(eligibilité!A322=\"\",\"\",eligibilité!A322)","v":""},"",null,null,null,{"$f":"IF(eligibilité!AF322=\"\",\"\",eligibilité!AF322)","v":""},{"$f":"IF(AND(eligibilité!AG322=\"\",F534=\"Non éligible\"),\"Non éligible\",eligibilité!AG322)","v":""},"",null,null,"",{"$f":"eligibilité!AD322","v":""},{"$f":"eligibilité!AH322","v":""},"","","","","","","","","",""]
[{"$f":"IF(eligibilité!A323=\"\",\"\",eligibilité!A323)","v":""},"",null,null,null,{"$f":"IF(eligibilité!AF323=\"\",\"\",eligibilité!AF323)","v":""},{"$f":"IF(AND(eligibilité!AG323=\"\",F535=\"Non éligible\"),\"Non éligible\",eligibilité!AG323)","v":""},"",null,null,"",{"$f":"eligibilité!AD323","v":""},{"$f":"eligibilité!AH323","v":""},"","","","","","","","","",""]
[{"$f":"IF(eligibilité!A324=\"\",\"\",eligibilité!A324)","v":""},"",null,null,null,{"$f":"IF(eligibilité!AF324=\"\",\"\",eligibilité!AF324)","v":""},{"$f":"IF(AND(eligibilité!AG324=\"\",F536=\"Non éligible\"),\"Non éligible\",eligibilité!AG324)","v":""},"",null,null,"",{"$f":"eligibilité!AD324","v":""},{"$f":"eligibilité!AH324","v":""},"","","","","","","","","",""]
[{"$f":"IF(eligibilité!A325=\"\",\"\",eligibilité!A325)","v":""},"",null,null,null,{"$f":"IF(eligibilité!AF325=\"\",\"\",eligibilité!AF325)","v":""},{"$f":"IF(AND(eligibilité!AG325=\"\",F537=\"Non éligible\"),\"Non éligible\",eligibilité!AG325)","v":""},"",null,null,"",{"$f":"eligibilité!AD325","v":""},{"$f":"eligibilité!AH325","v":""},"","","","","","","","","",""]
[{"$f":"IF(eligibilité!A326=\"\",\"\",eligibilité!A326)","v":""},"",null,null,null,{"$f":"IF(eligibilité!AF326=\"\",\"\",eligibilité!AF326)","v":""},{"$f":"IF(AND(eligibilité!AG326=\"\",F538=\"Non éligible\"),\"Non éligible\",eligibilité!AG326)","v":""},"",null,null,"",{"$f":"eligibilité!AD326","v":""},{"$f":"eligibilité!AH326","v":""},"","","","","","","","","",""]
[{"$f":"IF(eligibilité!A327=\"\",\"\",eligibilité!A327)","v":""},"",null,null,null,{"$f":"IF(eligibilité!AF327=\"\",\"\",eligibilité!AF327)","v":""},{"$f":"IF(AND(eligibilité!AG327=\"\",F539=\"Non éligible\"),\"Non éligible\",eligibilité!AG327)","v":""},"",null,null,"",{"$f":"eligibilité!AD327","v":""},{"$f":"eligibilité!AH327","v":""},"","","","","","","","","",""]
[{"$f":"IF(eligibilité!A328=\"\",\"\",eligibilité!A328)","v":""},"",null,null,null,{"$f":"IF(eligibilité!AF328=\"\",\"\",eligibilité!AF328)","v":""},{"$f":"IF(AND(eligibilité!AG328=\"\",F540=\"Non éligible\"),\"Non éligible\",eligibilité!AG328)","v":""},"",null,null,"",{"$f":"eligibilité!AD328","v":""},{"$f":"eligibilité!AH328","v":""},"","","","","","","","","",""]
[{"$f":"IF(eligibilité!A329=\"\",\"\",eligibilité!A329)","v":""},"",null,null,null,{"$f":"IF(eligibilité!AF329=\"\",\"\",eligibilité!AF329)","v":""},{"$f":"IF(AND(eligibilité!AG329=\"\",F541=\"Non éligible\"),\"Non éligible\",eligibilité!AG329)","v":""},"",null,null,"",{"$f":"eligibilité!AD329","v":""},{"$f":"eligibilité!AH329","v":""},"","","","","","","","","",""]
[{"$f":"IF(eligibilité!A330=\"\",\"\",eligibilité!A330)","v":""},"",null,null,null,{"$f":"IF(eligibilité!AF330=\"\",\"\",eligibilité!AF330)","v":""},{"$f":"IF(AND(eligibilité!AG330=\"\",F542=\"Non éligible\"),\"Non éligible\",eligibilité!AG330)","v":""},"",null,null,"",{"$f":"eligibilité!AD330","v":""},{"$f":"eligibilité!AH330","v":""},"","","","","","","","","",""]
[{"$f":"IF(eligibilité!A331=\"\",\"\",eligibilité!A331)","v":""},"",null,null,null,{"$f":"IF(eligibilité!AF331=\"\",\"\",eligibilité!AF331)","v":""},{"$f":"IF(AND(eligibilité!AG331=\"\",F543=\"Non éligible\"),\"Non éligible\",eligibilité!AG331)","v":""},"",null,null,"",{"$f":"eligibilité!AD331","v":""},{"$f":"eligibilité!AH331","v":""},"","","","","","","","","",""]
[{"$f":"IF(eligibilité!A332=\"\",\"\",eligibilité!A332)","v":""},"",null,null,null,{"$f":"IF(eligibilité!AF332=\"\",\"\",eligibilité!AF332)","v":""},{"$f":"IF(AND(eligibilité!AG332=\"\",F544=\"Non éligible\"),\"Non éligible\",eligibilité!AG332)","v":""},"",null,null,"",{"$f":"eligibilité!AD332","v":""},{"$f":"eligibilité!AH332","v":""},"","","","","","","","","",""]
[{"$f":"IF(eligibilité!A333=\"\",\"\",eligibilité!A333)","v":""},"",null,null,null,{"$f":"IF(eligibilité!AF333=\"\",\"\",eligibilité!AF333)","v":""},{"$f":"IF(AND(eligibilité!AG333=\"\",F545=\"Non éligible\"),\"Non éligible\",eligibilité!AG333)","v":""},"",null,null,"",{"$f":"eligibilité!AD333","v":""},{"$f":"eligibilité!AH333","v":""},"","","","","","","","","",""]
[{"$f":"IF(eligibilité!A334=\"\",\"\",eligibilité!A334)","v":""},"",null,null,null,{"$f":"IF(eligibilité!AF334=\"\",\"\",eligibilité!AF334)","v":""},{"$f":"IF(AND(eligibilité!AG334=\"\",F546=\"Non éligible\"),\"Non éligible\",eligibilité!AG334)","v":""},"",null,null,"",{"$f":"eligibilité!AD334","v":""},{"$f":"eligibilité!AH334","v":""},"","","","","","","","","",""]
[{"$f":"IF(eligibilité!A335=\"\",\"\",eligibilité!A335)","v":""},"",null,null,null,{"$f":"IF(eligibilité!AF335=\"\",\"\",eligibilité!AF335)","v":""},{"$f":"IF(AND(eligibilité!AG335=\"\",F547=\"Non éligible\"),\"Non éligible\",eligibilité!AG335)","v":""},{"$f":"IF(AND(F547=\"Non éligible\",G547=\"Non éligible\"),\"Conditions non remplies\",IF(AND(F547=\"Eligible\",L547=\"\"),\"Remplir la case manuellement, votre agent est en CDI\",IF(F547=\"\",\"\",CONCATENATE(N547,\" an(s) \",P547,\" mois \",Q547,\" jour(s)\"))))","v":""},null,null,"",{"$f":"eligibilité!AD335","v":""},{"$f":"eligibilité!AH335","v":""},"","","","","","","","","",""]
[{"$f":"IF(eligibilité!A336=\"\",\"\",eligibilité!A336)","v":""},"",null,null,null,{"$f":"IF(eligibilité!AF336=\"\",\"\",eligibilité!AF336)","v":""},{"$f":"IF(AND(eligibilité!AG336=\"\",F548=\"Non éligible\"),\"Non éligible\",eligibilité!AG336)","v":""},"",null,null,{"$f":"IF(AND($F548=\"Non éligible\",$G548=\"Non éligible\"),\"Conditions non remplies\",IF(AND($F548=\"Eligibilité ultérieure\",$L548=\"\"),\"Remplir la case manuellement, votre agent est en CDI\",IF($F548=\"\",\"\",CONCATENATE($T548,\" an(s) \",$V548,\" mois \",$W548,\" jour(s)\"))))","v":""},{"$f":"eligibilité!AD336","v":""},{"$f":"eligibilité!AH336","v":""},"","","","","","","","","",""]
[{"$f":"IF(eligibilité!A337=\"\",\"\",eligibilité!A337)","v":""},"",null,null,null,{"$f":"IF(eligibilité!AF337=\"\",\"\",eligibilité!AF337)","v":""},{"$f":"IF(AND(eligibilité!AG337=\"\",F549=\"Non éligible\"),\"Non éligible\",eligibilité!AG337)","v":""},"",null,null,"",{"$f":"eligibilité!AD337","v":""},{"$f":"eligibilité!AH337","v":""},"","","","","","","","","",""]
[{"$f":"IF(eligibilité!A338=\"\",\"\",eligibilité!A338)","v":""},"",null,null,null,{"$f":"IF(eligibilité!AF338=\"\",\"\",eligibilité!AF338)","v":""},{"$f":"IF(AND(eligibilité!AG338=\"\",F550=\"Non éligible\"),\"Non éligible\",eligibilité!AG338)","v":""},"",null,null,"",{"$f":"eligibilité!AD338","v":""},{"$f":"eligibilité!AH338","v":""},"","","","","","","","","",""]
[{"$f":"IF(eligibilité!A339=\"\",\"\",eligibilité!A339)","v":""},"",null,null,null,{"$f":"IF(eligibilité!AF339=\"\",\"\",eligibilité!AF339)","v":""},{"$f":"IF(AND(eligibilité!AG339=\"\",F551=\"Non éligible\"),\"Non éligible\",eligibilité!AG339)","v":""},"",null,null,"",{"$f":"eligibilité!AD339","v":""},{"$f":"eligibilité!AH339","v":""},"","","","","","","","","",""]
[{"$f":"IF(eligibilité!A340=\"\",\"\",eligibilité!A340)","v":""},"",null,null,null,{"$f":"IF(eligibilité!AF340=\"\",\"\",eligibilité!AF340)","v":""},{"$f":"IF(AND(eligibilité!AG340=\"\",F552=\"Non éligible\"),\"Non éligible\",eligibilité!AG340)","v":""},"",null,null,"",{"$f":"eligibilité!AD340","v":""},{"$f":"eligibilité!AH340","v":""},"","","","","","","","","",""]
[{"$f":"IF(eligibilité!A341=\"\",\"\",eligibilité!A341)","v":""},"",null,null,null,{"$f":"IF(eligibilité!AF341=\"\",\"\",eligibilité!AF341)","v":""},{"$f":"IF(AND(eligibilité!AG341=\"\",F553=\"Non éligible\"),\"Non éligible\",eligibilité!AG341)","v":""},"",null,null,"",{"$f":"eligibilité!AD341","v":""},{"$f":"eligibilité!AH341","v":""},"","","","","","","","","",""]
[{"$f":"IF(eligibilité!A342=\"\",\"\",eligibilité!A342)","v":""},"",null,null,null,{"$f":"IF(eligibilité!AF342=\"\",\"\",eligibilité!AF342)","v":""},{"$f":"IF(AND(eligibilité!AG342=\"\",F554=\"Non éligible\"),\"Non éligible\",eligibilité!AG342)","v":""},"",null,null,"",{"$f":"eligibilité!AD342","v":""},{"$f":"eligibilité!AH342","v":""},"","","","","","","","","",""]
[{"$f":"IF(eligibilité!A343=\"\",\"\",eligibilité!A343)","v":""},"",null,null,null,{"$f":"IF(eligibilité!AF343=\"\",\"\",eligibilité!AF343)","v":""},{"$f":"IF(AND(eligibilité!AG343=\"\",F555=\"Non éligible\"),\"Non éligible\",eligibilité!AG343)","v":""},"",null,null,"",{"$f":"eligibilité!AD343","v":""},{"$f":"eligibilité!AH343","v":""},"","","","","","","","","",""]
[{"$f":"IF(eligibilité!A344=\"\",\"\",eligibilité!A344)","v":""},{"$f":"IF(A556=\"\",\"\",\"Définir les fonctions ou le poste du dossier\")","v":""},null,null,null,{"$f":"IF(eligibilité!AF344=\"\",\"\",eligibilité!AF344)","v":""},{"$f":"IF(AND(eligibilité!AG344=\"\",F556=\"Non éligible\"),\"Non éligible\",eligibilité!AG344)","v":""},"",null,null,"",{"$f":"eligibilité!AD344","v":""},{"$f":"eligibilité!AH344","v":""},{"$f":"IF(L556=\"\",\"\",INT(L556/12))","v":""},{"$f":"IF(L556=\"\",\"\",(L556-N556*12))","v":""},{"$f":"IF(L556=\"\",\"\",INT(O556))","v":""},{"$f":"IF(L556=\"\",\"\",ROUNDDOWN((O556-P556)*30.44,0))","v":""},{"$f":"IF(L556=\"\",\"\",$S$226+L556)","v":""},{"$f":"IF(R556=\"\",\"\",R556/12)","v":""},{"$f":"IF(L556=\"\",\"\",INT(S556))","v":""},{"$f":"IF(L556=\"\",\"\",(S556-T556)*12)","v":""},{"$f":"IF(L556=\"\",\"\",INT(U556))","v":""},{"$f":"IF(L556=\"\",\"\",INT((U556-V556)*30.44))","v":""}]
[{"$f":"IF(eligibilité!A345=\"\",\"\",eligibilité!A345)","v":""},"",null,null,null,{"$f":"IF(eligibilité!AF345=\"\",\"\",eligibilité!AF345)","v":""},{"$f":"IF(AND(eligibilité!AG345=\"\",F557=\"Non éligible\"),\"Non éligible\",eligibilité!AG345)","v":""},"",null,null,"",{"$f":"eligibilité!AD345","v":""},{"$f":"eligibilité!AH345","v":""},"","","","","","","","","",""]
[{"$f":"IF(eligibilité!A346=\"\",\"\",eligibilité!A346)","v":""},"",null,null,null,{"$f":"IF(eligibilité!AF346=\"\",\"\",eligibilité!AF346)","v":""},{"$f":"IF(AND(eligibilité!AG346=\"\",F558=\"Non éligible\"),\"Non éligible\",eligibilité!AG346)","v":""},"",null,null,"",{"$f":"eligibilité!AD346","v":""},{"$f":"eligibilité!AH346","v":""},"","","","","","","","","",""]
[{"$f":"IF(eligibilité!A347=\"\",\"\",eligibilité!A347)","v":""},"",null,null,null,{"$f":"IF(eligibilité!AF347=\"\",\"\",eligibilité!AF347)","v":""},{"$f":"IF(AND(eligibilité!AG347=\"\",F559=\"Non éligible\"),\"Non éligible\",eligibilité!AG347)","v":""},"",null,null,"",{"$f":"eligibilité!AD347","v":""},{"$f":"eligibilité!AH347","v":""},"","","","","","","","","",""]
[{"$f":"IF(eligibilité!A348=\"\",\"\",eligibilité!A348)","v":""},"",null,null,null,{"$f":"IF(eligibilité!AF348=\"\",\"\",eligibilité!AF348)","v":""},{"$f":"IF(AND(eligibilité!AG348=\"\",F560=\"Non éligible\"),\"Non éligible\",eligibilité!AG348)","v":""},"",null,null,"",{"$f":"eligibilité!AD348","v":""},{"$f":"eligibilité!AH348","v":""},"","","","","","","","","",""]
[{"$f":"IF(eligibilité!A349=\"\",\"\",eligibilité!A349)","v":""},"",null,null,null,{"$f":"IF(eligibilité!AF349=\"\",\"\",eligibilité!AF349)","v":""},{"$f":"IF(AND(eligibilité!AG349=\"\",F561=\"Non éligible\"),\"Non éligible\",eligibilité!AG349)","v":""},"",null,null,"",{"$f":"eligibilité!AD349","v":""},{"$f":"eligibilité!AH349","v":""},"","","","","","","","","",""]
[{"$f":"IF(eligibilité!A350=\"\",\"\",eligibilité!A350)","v":""},"",null,null,null,{"$f":"IF(eligibilité!AF350=\"\",\"\",eligibilité!AF350)","v":""},{"$f":"IF(AND(eligibilité!AG350=\"\",F562=\"Non éligible\"),\"Non éligible\",eligibilité!AG350)","v":""},"",null,null,"",{"$f":"eligibilité!AD350","v":""},{"$f":"eligibilité!AH350","v":""},"","","","","","","","","",""]
[{"$f":"IF(eligibilité!A351=\"\",\"\",eligibilité!A351)","v":""},"",null,null,null,{"$f":"IF(eligibilité!AF351=\"\",\"\",eligibilité!AF351)","v":""},{"$f":"IF(AND(eligibilité!AG351=\"\",F563=\"Non éligible\"),\"Non éligible\",eligibilité!AG351)","v":""},"",null,null,"",{"$f":"eligibilité!AD351","v":""},{"$f":"eligibilité!AH351","v":""},"","","","","","","","","",""]
[{"$f":"IF(eligibilité!A352=\"\",\"\",eligibilité!A352)","v":""},"",null,null,null,{"$f":"IF(eligibilité!AF352=\"\",\"\",eligibilité!AF352)","v":""},{"$f":"IF(AND(eligibilité!AG352=\"\",F564=\"Non éligible\"),\"Non éligible\",eligibilité!AG352)","v":""},"",null,null,"",{"$f":"eligibilité!AD352","v":""},{"$f":"eligibilité!AH352","v":""},"","","","","","","","","",""]
[{"$f":"IF(eligibilité!A353=\"\",\"\",eligibilité!A353)","v":""},"",null,null,null,{"$f":"IF(eligibilité!AF353=\"\",\"\",eligibilité!AF353)","v":""},{"$f":"IF(AND(eligibilité!AG353=\"\",F565=\"Non éligible\"),\"Non éligible\",eligibilité!AG353)","v":""},"",null,null,"",{"$f":"eligibilité!AD353","v":""},{"$f":"eligibilité!AH353","v":""},"","","","","","","","","",""]
[{"$f":"IF(eligibilité!A354=\"\",\"\",eligibilité!A354)","v":""},"",null,null,null,{"$f":"IF(eligibilité!AF354=\"\",\"\",eligibilité!AF354)","v":""},{"$f":"IF(AND(eligibilité!AG354=\"\",F566=\"Non éligible\"),\"Non éligible\",eligibilité!AG354)","v":""},"",null,null,"",{"$f":"eligibilité!AD354","v":""},{"$f":"eligibilité!AH354","v":""},"","","","","","","","","",""]
[{"$f":"IF(eligibilité!A355=\"\",\"\",eligibilité!A355)","v":""},"",null,null,null,{"$f":"IF(eligibilité!AF355=\"\",\"\",eligibilité!AF355)","v":""},{"$f":"IF(AND(eligibilité!AG355=\"\",F567=\"Non éligible\"),\"Non éligible\",eligibilité!AG355)","v":""},"",null,null,"",{"$f":"eligibilité!AD355","v":""},{"$f":"eligibilité!AH355","v":""},"","","","","","","","","",""]
[{"$f":"IF(eligibilité!A356=\"\",\"\",eligibilité!A356)","v":""},"",null,null,null,{"$f":"IF(eligibilité!AF356=\"\",\"\",eligibilité!AF356)","v":""},{"$f":"IF(AND(eligibilité!AG356=\"\",F568=\"Non éligible\"),\"Non éligible\",eligibilité!AG356)","v":""},"",null,null,"",{"$f":"eligibilité!AD356","v":""},{"$f":"eligibilité!AH356","v":""},"","","","","","","","","",""]
[{"$f":"IF(eligibilité!A357=\"\",\"\",eligibilité!A357)","v":""},"",null,null,null,{"$f":"IF(eligibilité!AF357=\"\",\"\",eligibilité!AF357)","v":""},{"$f":"IF(AND(eligibilité!AG357=\"\",F569=\"Non éligible\"),\"Non éligible\",eligibilité!AG357)","v":""},"",null,null,"",{"$f":"eligibilité!AD357","v":""},{"$f":"eligibilité!AH357","v":""},"","","","","","","","","",""]
[{"$f":"IF(eligibilité!A358=\"\",\"\",eligibilité!A358)","v":""},"",null,null,null,{"$f":"IF(eligibilité!AF358=\"\",\"\",eligibilité!AF358)","v":""},{"$f":"IF(AND(eligibilité!AG358=\"\",F570=\"Non éligible\"),\"Non éligible\",eligibilité!AG358)","v":""},"",null,null,"",{"$f":"eligibilité!AD358","v":""},{"$f":"eligibilité!AH358","v":""},"","","","","","","","","",""]
[{"$f":"IF(eligibilité!A359=\"\",\"\",eligibilité!A359)","v":""},"",null,null,null,{"$f":"IF(eligibilité!AF359=\"\",\"\",eligibilité!AF359)","v":""},{"$f":"IF(AND(eligibilité!AG359=\"\",F571=\"Non éligible\"),\"Non éligible\",eligibilité!AG359)","v":""},"",null,null,"",{"$f":"eligibilité!AD359","v":""},{"$f":"eligibilité!AH359","v":""},"","","","","","","","","",""]
[{"$f":"IF(eligibilité!A360=\"\",\"\",eligibilité!A360)","v":""},"",null,null,null,{"$f":"IF(eligibilité!AF360=\"\",\"\",eligibilité!AF360)","v":""},{"$f":"IF(AND(eligibilité!AG360=\"\",F572=\"Non éligible\"),\"Non éligible\",eligibilité!AG360)","v":""},"",null,null,"",{"$f":"eligibilité!AD360","v":""},{"$f":"eligibilité!AH360","v":""},"","","","","","","","","",""]
[{"$f":"IF(eligibilité!A361=\"\",\"\",eligibilité!A361)","v":""},"",null,null,null,{"$f":"IF(eligibilité!AF361=\"\",\"\",eligibilité!AF361)","v":""},{"$f":"IF(AND(eligibilité!AG361=\"\",F573=\"Non éligible\"),\"Non éligible\",eligibilité!AG361)","v":""},"",null,null,"",{"$f":"eligibilité!AD361","v":""},{"$f":"eligibilité!AH361","v":""},"","","","","","","","","",""]
[{"$f":"IF(eligibilité!A362=\"\",\"\",eligibilité!A362)","v":""},"",null,null,null,{"$f":"IF(eligibilité!AF362=\"\",\"\",eligibilité!AF362)","v":""},{"$f":"IF(AND(eligibilité!AG362=\"\",F574=\"Non éligible\"),\"Non éligible\",eligibilité!AG362)","v":""},"",null,null,"",{"$f":"eligibilité!AD362","v":""},{"$f":"eligibilité!AH362","v":""},"","","","","","","","","",""]
[{"$f":"IF(eligibilité!A363=\"\",\"\",eligibilité!A363)","v":""},"",null,null,null,{"$f":"IF(eligibilité!AF363=\"\",\"\",eligibilité!AF363)","v":""},{"$f":"IF(AND(eligibilité!AG363=\"\",F575=\"Non éligible\"),\"Non éligible\",eligibilité!AG363)","v":""},"",null,null,"",{"$f":"eligibilité!AD363","v":""},{"$f":"eligibilité!AH363","v":""},"","","","","","","","","",""]
[{"$f":"IF(eligibilité!A364=\"\",\"\",eligibilité!A364)","v":""},"",null,null,null,{"$f":"IF(eligibilité!AF364=\"\",\"\",eligibilité!AF364)","v":""},{"$f":"IF(AND(eligibilité!AG364=\"\",F576=\"Non éligible\"),\"Non éligible\",eligibilité!AG364)","v":""},"",null,null,"",{"$f":"eligibilité!AD364","v":""},{"$f":"eligibilité!AH364","v":""},"","","","","","","","","",""]
[{"$f":"IF(eligibilité!A365=\"\",\"\",eligibilité!A365)","v":""},"",null,null,null,{"$f":"IF(eligibilité!AF365=\"\",\"\",eligibilité!AF365)","v":""},{"$f":"IF(AND(eligibilité!AG365=\"\",F577=\"Non éligible\"),\"Non éligible\",eligibilité!AG365)","v":""},"",null,null,"",{"$f":"eligibilité!AD365","v":""},{"$f":"eligibilité!AH365","v":""},"","","","","","","","","",""]
[{"$f":"IF(eligibilité!A366=\"\",\"\",eligibilité!A366)","v":""},"",null,null,null,{"$f":"IF(eligibilité!AF366=\"\",\"\",eligibilité!AF366)","v":""},{"$f":"IF(AND(eligibilité!AG366=\"\",F578=\"Non éligible\"),\"Non éligible\",eligibilité!AG366)","v":""},"",null,null,"",{"$f":"eligibilité!AD366","v":""},{"$f":"eligibilité!AH366","v":""},"","","","","","","","","",""]
[{"$f":"IF(eligibilité!A367=\"\",\"\",eligibilité!A367)","v":""},"",null,null,null,{"$f":"IF(eligibilité!AF367=\"\",\"\",eligibilité!AF367)","v":""},{"$f":"IF(AND(eligibilité!AG367=\"\",F579=\"Non éligible\"),\"Non éligible\",eligibilité!AG367)","v":""},"",null,null,"",{"$f":"eligibilité!AD367","v":""},{"$f":"eligibilité!AH367","v":""},"","","","","","","","","",""]
[{"$f":"IF(eligibilité!A368=\"\",\"\",eligibilité!A368)","v":""},"",null,null,null,{"$f":"IF(eligibilité!AF368=\"\",\"\",eligibilité!AF368)","v":""},{"$f":"IF(AND(eligibilité!AG368=\"\",F580=\"Non éligible\"),\"Non éligible\",eligibilité!AG368)","v":""},"",null,null,"",{"$f":"eligibilité!AD368","v":""},{"$f":"eligibilité!AH368","v":""},"","","","","","","","","",""]
[{"$f":"IF(eligibilité!A369=\"\",\"\",eligibilité!A369)","v":""},"",null,null,null,{"$f":"IF(eligibilité!AF369=\"\",\"\",eligibilité!AF369)","v":""},{"$f":"IF(AND(eligibilité!AG369=\"\",F581=\"Non éligible\"),\"Non éligible\",eligibilité!AG369)","v":""},"",null,null,"",{"$f":"eligibilité!AD369","v":""},{"$f":"eligibilité!AH369","v":""},"","","","","","","","","",""]
[{"$f":"IF(eligibilité!A370=\"\",\"\",eligibilité!A370)","v":""},"",null,null,null,{"$f":"IF(eligibilité!AF370=\"\",\"\",eligibilité!AF370)","v":""},{"$f":"IF(AND(eligibilité!AG370=\"\",F582=\"Non éligible\"),\"Non éligible\",eligibilité!AG370)","v":""},"",null,null,"",{"$f":"eligibilité!AD370","v":""},{"$f":"eligibilité!AH370","v":""},"","","","","","","","","",""]
[{"$f":"IF(eligibilité!A371=\"\",\"\",eligibilité!A371)","v":""},"",null,null,null,{"$f":"IF(eligibilité!AF371=\"\",\"\",eligibilité!AF371)","v":""},{"$f":"IF(AND(eligibilité!AG371=\"\",F583=\"Non éligible\"),\"Non éligible\",eligibilité!AG371)","v":""},"",null,null,"",{"$f":"eligibilité!AD371","v":""},{"$f":"eligibilité!AH371","v":""},"","","","","","","","","",""]
[{"$f":"IF(eligibilité!A372=\"\",\"\",eligibilité!A372)","v":""},"",null,null,null,{"$f":"IF(eligibilité!AF372=\"\",\"\",eligibilité!AF372)","v":""},{"$f":"IF(AND(eligibilité!AG372=\"\",F584=\"Non éligible\"),\"Non éligible\",eligibilité!AG372)","v":""},"",null,null,"",{"$f":"eligibilité!AD372","v":""},{"$f":"eligibilité!AH372","v":""},"","","","","","","","","",""]
[{"$f":"IF(eligibilité!A373=\"\",\"\",eligibilité!A373)","v":""},"",null,null,null,{"$f":"IF(eligibilité!AF373=\"\",\"\",eligibilité!AF373)","v":""},{"$f":"IF(AND(eligibilité!AG373=\"\",F585=\"Non éligible\"),\"Non éligible\",eligibilité!AG373)","v":""},"",null,null,"",{"$f":"eligibilité!AD373","v":""},{"$f":"eligibilité!AH373","v":""},"","","","","","","","","",""]
[{"$f":"IF(eligibilité!A374=\"\",\"\",eligibilité!A374)","v":""},"",null,null,null,{"$f":"IF(eligibilité!AF374=\"\",\"\",eligibilité!AF374)","v":""},{"$f":"IF(AND(eligibilité!AG374=\"\",F586=\"Non éligible\"),\"Non éligible\",eligibilité!AG374)","v":""},"",null,null,"",{"$f":"eligibilité!AD374","v":""},{"$f":"eligibilité!AH374","v":""},"","","","","","","","","",""]
[{"$f":"IF(eligibilité!A375=\"\",\"\",eligibilité!A375)","v":""},"",null,null,null,{"$f":"IF(eligibilité!AF375=\"\",\"\",eligibilité!AF375)","v":""},{"$f":"IF(AND(eligibilité!AG375=\"\",F587=\"Non éligible\"),\"Non éligible\",eligibilité!AG375)","v":""},"",null,null,"",{"$f":"eligibilité!AD375","v":""},{"$f":"eligibilité!AH375","v":""},"","","","","","","","","",""]
[{"$f":"IF(eligibilité!A376=\"\",\"\",eligibilité!A376)","v":""},"",null,null,null,{"$f":"IF(eligibilité!AF376=\"\",\"\",eligibilité!AF376)","v":""},{"$f":"IF(AND(eligibilité!AG376=\"\",F588=\"Non éligible\"),\"Non éligible\",eligibilité!AG376)","v":""},"",null,null,"",{"$f":"eligibilité!AD376","v":""},{"$f":"eligibilité!AH376","v":""},"","","","","","","","","",""]
[{"$f":"IF(eligibilité!A377=\"\",\"\",eligibilité!A377)","v":""},"",null,null,null,{"$f":"IF(eligibilité!AF377=\"\",\"\",eligibilité!AF377)","v":""},{"$f":"IF(AND(eligibilité!AG377=\"\",F589=\"Non éligible\"),\"Non éligible\",eligibilité!AG377)","v":""},"",null,null,"",{"$f":"eligibilité!AD377","v":""},{"$f":"eligibilité!AH377","v":""},"","","","","","","","","",""]
[{"$f":"IF(eligibilité!A378=\"\",\"\",eligibilité!A378)","v":""},"",null,null,null,{"$f":"IF(eligibilité!AF378=\"\",\"\",eligibilité!AF378)","v":""},{"$f":"IF(AND(eligibilité!AG378=\"\",F590=\"Non éligible\"),\"Non éligible\",eligibilité!AG378)","v":""},"",null,null,"",{"$f":"eligibilité!AD378","v":""},{"$f":"eligibilité!AH378","v":""},"","","","","","","","","",""]
[{"$f":"IF(eligibilité!A379=\"\",\"\",eligibilité!A379)","v":""},"",null,null,null,{"$f":"IF(eligibilité!AF379=\"\",\"\",eligibilité!AF379)","v":""},{"$f":"IF(AND(eligibilité!AG379=\"\",F591=\"Non éligible\"),\"Non éligible\",eligibilité!AG379)","v":""},"",null,null,"",{"$f":"eligibilité!AD379","v":""},{"$f":"eligibilité!AH379","v":""},"","","","","","","","","",""]
[{"$f":"IF(eligibilité!A380=\"\",\"\",eligibilité!A380)","v":""},"",null,null,null,{"$f":"IF(eligibilité!AF380=\"\",\"\",eligibilité!AF380)","v":""},{"$f":"IF(AND(eligibilité!AG380=\"\",F592=\"Non éligible\"),\"Non éligible\",eligibilité!AG380)","v":""},"",null,null,"",{"$f":"eligibilité!AD380","v":""},{"$f":"eligibilité!AH380","v":""},"","","","","","","","","",""]
[{"$f":"IF(eligibilité!A381=\"\",\"\",eligibilité!A381)","v":""},"",null,null,null,{"$f":"IF(eligibilité!AF381=\"\",\"\",eligibilité!AF381)","v":""},{"$f":"IF(AND(eligibilité!AG381=\"\",F593=\"Non éligible\"),\"Non éligible\",eligibilité!AG381)","v":""},"",null,null,"",{"$f":"eligibilité!AD381","v":""},{"$f":"eligibilité!AH381","v":""},"","","","","","","","","",""]
[{"$f":"IF(eligibilité!A382=\"\",\"\",eligibilité!A382)","v":""},"",null,null,null,{"$f":"IF(eligibilité!AF382=\"\",\"\",eligibilité!AF382)","v":""},{"$f":"IF(AND(eligibilité!AG382=\"\",F594=\"Non éligible\"),\"Non éligible\",eligibilité!AG382)","v":""},"",null,null,"",{"$f":"eligibilité!AD382","v":""},{"$f":"eligibilité!AH382","v":""},"","","","","","","","","",""]
[{"$f":"IF(eligibilité!A383=\"\",\"\",eligibilité!A383)","v":""},"",null,null,null,{"$f":"IF(eligibilité!AF383=\"\",\"\",eligibilité!AF383)","v":""},{"$f":"IF(AND(eligibilité!AG383=\"\",F595=\"Non éligible\"),\"Non éligible\",eligibilité!AG383)","v":""},"",null,null,"",{"$f":"eligibilité!AD383","v":""},{"$f":"eligibilité!AH383","v":""},"","","","","","","","","",""]
[{"$f":"IF(eligibilité!A384=\"\",\"\",eligibilité!A384)","v":""},"",null,null,null,{"$f":"IF(eligibilité!AF384=\"\",\"\",eligibilité!AF384)","v":""},{"$f":"IF(AND(eligibilité!AG384=\"\",F596=\"Non éligible\"),\"Non éligible\",eligibilité!AG384)","v":""},"",null,null,"",{"$f":"eligibilité!AD384","v":""},{"$f":"eligibilité!AH384","v":""},"","","","","","","","","",""]
[{"$f":"IF(eligibilité!A385=\"\",\"\",eligibilité!A385)","v":""},"",null,null,null,{"$f":"IF(eligibilité!AF385=\"\",\"\",eligibilité!AF385)","v":""},{"$f":"IF(AND(eligibilité!AG385=\"\",F597=\"Non éligible\"),\"Non éligible\",eligibilité!AG385)","v":""},"",null,null,"",{"$f":"eligibilité!AD385","v":""},{"$f":"eligibilité!AH385","v":""},"","","","","","","","","",""]
[{"$f":"IF(eligibilité!A386=\"\",\"\",eligibilité!A386)","v":""},"",null,null,null,{"$f":"IF(eligibilité!AF386=\"\",\"\",eligibilité!AF386)","v":""},{"$f":"IF(AND(eligibilité!AG386=\"\",F598=\"Non éligible\"),\"Non éligible\",eligibilité!AG386)","v":""},"",null,null,"",{"$f":"eligibilité!AD386","v":""},{"$f":"eligibilité!AH386","v":""},"","","","","","","","","",""]
[{"$f":"IF(eligibilité!A387=\"\",\"\",eligibilité!A387)","v":""},"",null,null,null,{"$f":"IF(eligibilité!AF387=\"\",\"\",eligibilité!AF387)","v":""},{"$f":"IF(AND(eligibilité!AG387=\"\",F599=\"Non éligible\"),\"Non éligible\",eligibilité!AG387)","v":""},"",null,null,"",{"$f":"eligibilité!AD387","v":""},{"$f":"eligibilité!AH387","v":""},"","","","","","","","","",""]
[{"$f":"IF(eligibilité!A388=\"\",\"\",eligibilité!A388)","v":""},"",null,null,null,{"$f":"IF(eligibilité!AF388=\"\",\"\",eligibilité!AF388)","v":""},{"$f":"IF(AND(eligibilité!AG388=\"\",F600=\"Non éligible\"),\"Non éligible\",eligibilité!AG388)","v":""},"",null,null,"",{"$f":"eligibilité!AD388","v":""},{"$f":"eligibilité!AH388","v":""},"","","","","","","","","",""]
[{"$f":"IF(eligibilité!A389=\"\",\"\",eligibilité!A389)","v":""},"",null,null,null,{"$f":"IF(eligibilité!AF389=\"\",\"\",eligibilité!AF389)","v":""},{"$f":"IF(AND(eligibilité!AG389=\"\",F601=\"Non éligible\"),\"Non éligible\",eligibilité!AG389)","v":""},"",null,null,"",{"$f":"eligibilité!AD389","v":""},{"$f":"eligibilité!AH389","v":""},"","","","","","","","","",""]
[{"$f":"IF(eligibilité!A390=\"\",\"\",eligibilité!A390)","v":""},"",null,null,null,{"$f":"IF(eligibilité!AF390=\"\",\"\",eligibilité!AF390)","v":""},{"$f":"IF(AND(eligibilité!AG390=\"\",F602=\"Non éligible\"),\"Non éligible\",eligibilité!AG390)","v":""},"",null,null,"",{"$f":"eligibilité!AD390","v":""},{"$f":"eligibilité!AH390","v":""},"","","","","","","","","",""]
[{"$f":"IF(eligibilité!A391=\"\",\"\",eligibilité!A391)","v":""},"",null,null,null,{"$f":"IF(eligibilité!AF391=\"\",\"\",eligibilité!AF391)","v":""},{"$f":"IF(AND(eligibilité!AG391=\"\",F603=\"Non éligible\"),\"Non éligible\",eligibilité!AG391)","v":""},"",null,null,"",{"$f":"eligibilité!AD391","v":""},{"$f":"eligibilité!AH391","v":""},"","","","","","","","","",""]
[{"$f":"IF(eligibilité!A392=\"\",\"\",eligibilité!A392)","v":""},"",null,null,null,{"$f":"IF(eligibilité!AF392=\"\",\"\",eligibilité!AF392)","v":""},{"$f":"IF(AND(eligibilité!AG392=\"\",F604=\"Non éligible\"),\"Non éligible\",eligibilité!AG392)","v":""},"",null,null,"",{"$f":"eligibilité!AD392","v":""},{"$f":"eligibilité!AH392","v":""},"","","","","","","","","",""]
[{"$f":"IF(eligibilité!A393=\"\",\"\",eligibilité!A393)","v":""},"",null,null,null,{"$f":"IF(eligibilité!AF393=\"\",\"\",eligibilité!AF393)","v":""},{"$f":"IF(AND(eligibilité!AG393=\"\",F605=\"Non éligible\"),\"Non éligible\",eligibilité!AG393)","v":""},"",null,null,"",{"$f":"eligibilité!AD393","v":""},{"$f":"eligibilité!AH393","v":""},"","","","","","","","","",""]
[{"$f":"IF(eligibilité!A394=\"\",\"\",eligibilité!A394)","v":""},"",null,null,null,{"$f":"IF(eligibilité!AF394=\"\",\"\",eligibilité!AF394)","v":""},{"$f":"IF(AND(eligibilité!AG394=\"\",F606=\"Non éligible\"),\"Non éligible\",eligibilité!AG394)","v":""},"",null,null,"",{"$f":"eligibilité!AD394","v":""},{"$f":"eligibilité!AH394","v":""},"","","","","","","","","",""]
[{"$f":"IF(eligibilité!A395=\"\",\"\",eligibilité!A395)","v":""},"",null,null,null,{"$f":"IF(eligibilité!AF395=\"\",\"\",eligibilité!AF395)","v":""},{"$f":"IF(AND(eligibilité!AG395=\"\",F607=\"Non éligible\"),\"Non éligible\",eligibilité!AG395)","v":""},"",null,null,"",{"$f":"eligibilité!AD395","v":""},{"$f":"eligibilité!AH395","v":""},"","","","","","","","","",""]
[{"$f":"IF(eligibilité!A396=\"\",\"\",eligibilité!A396)","v":""},"",null,null,null,{"$f":"IF(eligibilité!AF396=\"\",\"\",eligibilité!AF396)","v":""},{"$f":"IF(AND(eligibilité!AG396=\"\",F608=\"Non éligible\"),\"Non éligible\",eligibilité!AG396)","v":""},"",null,null,"",{"$f":"eligibilité!AD396","v":""},{"$f":"eligibilité!AH396","v":""},"","","","","","","","","",""]
[{"$f":"IF(eligibilité!A397=\"\",\"\",eligibilité!A397)","v":""},"",null,null,null,{"$f":"IF(eligibilité!AF397=\"\",\"\",eligibilité!AF397)","v":""},{"$f":"IF(AND(eligibilité!AG397=\"\",F609=\"Non éligible\"),\"Non éligible\",eligibilité!AG397)","v":""},"",null,null,"",{"$f":"eligibilité!AD397","v":""},{"$f":"eligibilité!AH397","v":""},"","","","","","","","","",""]
[{"$f":"IF(eligibilité!A398=\"\",\"\",eligibilité!A398)","v":""},"",null,null,null,{"$f":"IF(eligibilité!AF398=\"\",\"\",eligibilité!AF398)","v":""},{"$f":"IF(AND(eligibilité!AG398=\"\",F610=\"Non éligible\"),\"Non éligible\",eligibilité!AG398)","v":""},"",null,null,"",{"$f":"eligibilité!AD398","v":""},{"$f":"eligibilité!AH398","v":""},"","","","","","","","","",""]
[{"$f":"IF(eligibilité!A399=\"\",\"\",eligibilité!A399)","v":""},"",null,null,null,{"$f":"IF(eligibilité!AF399=\"\",\"\",eligibilité!AF399)","v":""},{"$f":"IF(AND(eligibilité!AG399=\"\",F611=\"Non éligible\"),\"Non éligible\",eligibilité!AG399)","v":""},{"$f":"IF(AND(F611=\"Non éligible\",G611=\"Non éligible\"),\"Conditions non remplies\",IF(AND(F611=\"Eligible\",L611=\"\"),\"Remplir la case manuellement, votre agent est en CDI\",IF(F611=\"\",\"\",CONCATENATE(N611,\" an(s) \",P611,\" mois \",Q611,\" jour(s)\"))))","v":""},null,null,"",{"$f":"eligibilité!AD399","v":""},{"$f":"eligibilité!AH399","v":""},"","","","","","","","","",""]
[{"$f":"IF(eligibilité!A400=\"\",\"\",eligibilité!A400)","v":""},"",null,null,null,{"$f":"IF(eligibilité!AF400=\"\",\"\",eligibilité!AF400)","v":""},{"$f":"IF(AND(eligibilité!AG400=\"\",F612=\"Non éligible\"),\"Non éligible\",eligibilité!AG400)","v":""},"",null,null,{"$f":"IF(AND($F612=\"Non éligible\",$G612=\"Non éligible\"),\"Conditions non remplies\",IF(AND($F612=\"Eligibilité ultérieure\",$L612=\"\"),\"Remplir la case manuellement, votre agent est en CDI\",IF($F612=\"\",\"\",CONCATENATE($T612,\" an(s) \",$V612,\" mois \",$W612,\" jour(s)\"))))","v":""},{"$f":"eligibilité!AD400","v":""},{"$f":"eligibilité!AH400","v":""},"","","","","","","","","",""]
[{"$f":"IF(eligibilité!A401=\"\",\"\",eligibilité!A401)","v":""},"",null,null,null,{"$f":"IF(eligibilité!AF401=\"\",\"\",eligibilité!AF401)","v":""},{"$f":"IF(AND(eligibilité!AG401=\"\",F613=\"Non éligible\"),\"Non éligible\",eligibilité!AG401)","v":""},"",null,null,"",{"$f":"eligibilité!AD401","v":""},{"$f":"eligibilité!AH401","v":""},"","","","","","","","","",""]
[{"$f":"IF(eligibilité!A402=\"\",\"\",eligibilité!A402)","v":""},"",null,null,null,{"$f":"IF(eligibilité!AF402=\"\",\"\",eligibilité!AF402)","v":""},{"$f":"IF(AND(eligibilité!AG402=\"\",F614=\"Non éligible\"),\"Non éligible\",eligibilité!AG402)","v":""},"",null,null,"",{"$f":"eligibilité!AD402","v":""},{"$f":"eligibilité!AH402","v":""},"","","","","","","","","",""]
[{"$f":"IF(eligibilité!A403=\"\",\"\",eligibilité!A403)","v":""},"",null,null,null,{"$f":"IF(eligibilité!AF403=\"\",\"\",eligibilité!AF403)","v":""},{"$f":"IF(AND(eligibilité!AG403=\"\",F615=\"Non éligible\"),\"Non éligible\",eligibilité!AG403)","v":""},"",null,null,"",{"$f":"eligibilité!AD403","v":""},{"$f":"eligibilité!AH403","v":""},"","","","","","","","","",""]
[{"$f":"IF(eligibilité!A404=\"\",\"\",eligibilité!A404)","v":""},"",null,null,null,{"$f":"IF(eligibilité!AF404=\"\",\"\",eligibilité!AF404)","v":""},{"$f":"IF(AND(eligibilité!AG404=\"\",F616=\"Non éligible\"),\"Non éligible\",eligibilité!AG404)","v":""},"",null,null,"",{"$f":"eligibilité!AD404","v":""},{"$f":"eligibilité!AH404","v":""},"","","","","","","","","",""]
[{"$f":"IF(eligibilité!A405=\"\",\"\",eligibilité!A405)","v":""},"",null,null,null,{"$f":"IF(eligibilité!AF405=\"\",\"\",eligibilité!AF405)","v":""},{"$f":"IF(AND(eligibilité!AG405=\"\",F617=\"Non éligible\"),\"Non éligible\",eligibilité!AG405)","v":""},"",null,null,"",{"$f":"eligibilité!AD405","v":""},{"$f":"eligibilité!AH405","v":""},"","","","","","","","","",""]
[{"$f":"IF(eligibilité!A406=\"\",\"\",eligibilité!A406)","v":""},"",null,null,null,{"$f":"IF(eligibilité!AF406=\"\",\"\",eligibilité!AF406)","v":""},{"$f":"IF(AND(eligibilité!AG406=\"\",F618=\"Non éligible\"),\"Non éligible\",eligibilité!AG406)","v":""},"",null,null,"",{"$f":"eligibilité!AD406","v":""},{"$f":"eligibilité!AH406","v":""},"","","","","","","","","",""]
[{"$f":"IF(eligibilité!A407=\"\",\"\",eligibilité!A407)","v":""},"",null,null,null,{"$f":"IF(eligibilité!AF407=\"\",\"\",eligibilité!AF407)","v":""},{"$f":"IF(AND(eligibilité!AG407=\"\",F619=\"Non éligible\"),\"Non éligible\",eligibilité!AG407)","v":""},"",null,null,"",{"$f":"eligibilité!AD407","v":""},{"$f":"eligibilité!AH407","v":""},"","","","","","","","","",""]
[{"$f":"IF(eligibilité!A408=\"\",\"\",eligibilité!A408)","v":""},{"$f":"IF(A620=\"\",\"\",\"Définir les fonctions ou le poste du dossier\")","v":""},null,null,null,{"$f":"IF(eligibilité!AF408=\"\",\"\",eligibilité!AF408)","v":""},{"$f":"IF(AND(eligibilité!AG408=\"\",F620=\"Non éligible\"),\"Non éligible\",eligibilité!AG408)","v":""},"",null,null,"",{"$f":"eligibilité!AD408","v":""},{"$f":"eligibilité!AH408","v":""},{"$f":"IF(L620=\"\",\"\",INT(L620/12))","v":""},{"$f":"IF(L620=\"\",\"\",(L620-N620*12))","v":""},{"$f":"IF(L620=\"\",\"\",INT(O620))","v":""},{"$f":"IF(L620=\"\",\"\",ROUNDDOWN((O620-P620)*30.44,0))","v":""},{"$f":"IF(L620=\"\",\"\",$S$226+L620)","v":""},{"$f":"IF(R620=\"\",\"\",R620/12)","v":""},{"$f":"IF(L620=\"\",\"\",INT(S620))","v":""},{"$f":"IF(L620=\"\",\"\",(S620-T620)*12)","v":""},{"$f":"IF(L620=\"\",\"\",INT(U620))","v":""},{"$f":"IF(L620=\"\",\"\",INT((U620-V620)*30.44))","v":""}]
[{"$f":"IF(eligibilité!A409=\"\",\"\",eligibilité!A409)","v":""},"",null,null,null,{"$f":"IF(eligibilité!AF409=\"\",\"\",eligibilité!AF409)","v":""},{"$f":"IF(AND(eligibilité!AG409=\"\",F621=\"Non éligible\"),\"Non éligible\",eligibilité!AG409)","v":""},"",null,null,"",{"$f":"eligibilité!AD409","v":""},{"$f":"eligibilité!AH409","v":""},"","","","","","","","","",""]
[{"$f":"IF(eligibilité!A410=\"\",\"\",eligibilité!A410)","v":""},"",null,null,null,{"$f":"IF(eligibilité!AF410=\"\",\"\",eligibilité!AF410)","v":""},{"$f":"IF(AND(eligibilité!AG410=\"\",F622=\"Non éligible\"),\"Non éligible\",eligibilité!AG410)","v":""},"",null,null,"",{"$f":"eligibilité!AD410","v":""},{"$f":"eligibilité!AH410","v":""},"","","","","","","","","",""]
[{"$f":"IF(eligibilité!A411=\"\",\"\",eligibilité!A411)","v":""},"",null,null,null,{"$f":"IF(eligibilité!AF411=\"\",\"\",eligibilité!AF411)","v":""},{"$f":"IF(AND(eligibilité!AG411=\"\",F623=\"Non éligible\"),\"Non éligible\",eligibilité!AG411)","v":""},"",null,null,"",{"$f":"eligibilité!AD411","v":""},{"$f":"eligibilité!AH411","v":""},"","","","","","","","","",""]
[{"$f":"IF(eligibilité!A412=\"\",\"\",eligibilité!A412)","v":""},"",null,null,null,{"$f":"IF(eligibilité!AF412=\"\",\"\",eligibilité!AF412)","v":""},{"$f":"IF(AND(eligibilité!AG412=\"\",F624=\"Non éligible\"),\"Non éligible\",eligibilité!AG412)","v":""},"",null,null,"",{"$f":"eligibilité!AD412","v":""},{"$f":"eligibilité!AH412","v":""},"","","","","","","","","",""]
[{"$f":"IF(eligibilité!A413=\"\",\"\",eligibilité!A413)","v":""},"",null,null,null,{"$f":"IF(eligibilité!AF413=\"\",\"\",eligibilité!AF413)","v":""},{"$f":"IF(AND(eligibilité!AG413=\"\",F625=\"Non éligible\"),\"Non éligible\",eligibilité!AG413)","v":""},"",null,null,"",{"$f":"eligibilité!AD413","v":""},{"$f":"eligibilité!AH413","v":""},"","","","","","","","","",""]
[{"$f":"IF(eligibilité!A414=\"\",\"\",eligibilité!A414)","v":""},"",null,null,null,{"$f":"IF(eligibilité!AF414=\"\",\"\",eligibilité!AF414)","v":""},{"$f":"IF(AND(eligibilité!AG414=\"\",F626=\"Non éligible\"),\"Non éligible\",eligibilité!AG414)","v":""},"",null,null,"",{"$f":"eligibilité!AD414","v":""},{"$f":"eligibilité!AH414","v":""},"","","","","","","","","",""]
[{"$f":"IF(eligibilité!A415=\"\",\"\",eligibilité!A415)","v":""},"",null,null,null,{"$f":"IF(eligibilité!AF415=\"\",\"\",eligibilité!AF415)","v":""},{"$f":"IF(AND(eligibilité!AG415=\"\",F627=\"Non éligible\"),\"Non éligible\",eligibilité!AG415)","v":""},"",null,null,"",{"$f":"eligibilité!AD415","v":""},{"$f":"eligibilité!AH415","v":""},"","","","","","","","","",""]
[{"$f":"IF(eligibilité!A416=\"\",\"\",eligibilité!A416)","v":""},"",null,null,null,{"$f":"IF(eligibilité!AF416=\"\",\"\",eligibilité!AF416)","v":""},{"$f":"IF(AND(eligibilité!AG416=\"\",F628=\"Non éligible\"),\"Non éligible\",eligibilité!AG416)","v":""},"",null,null,"",{"$f":"eligibilité!AD416","v":""},{"$f":"eligibilité!AH416","v":""},"","","","","","","","","",""]
[{"$f":"IF(eligibilité!A417=\"\",\"\",eligibilité!A417)","v":""},"",null,null,null,{"$f":"IF(eligibilité!AF417=\"\",\"\",eligibilité!AF417)","v":""},{"$f":"IF(AND(eligibilité!AG417=\"\",F629=\"Non éligible\"),\"Non éligible\",eligibilité!AG417)","v":""},"",null,null,"",{"$f":"eligibilité!AD417","v":""},{"$f":"eligibilité!AH417","v":""},"","","","","","","","","",""]
[{"$f":"IF(eligibilité!A418=\"\",\"\",eligibilité!A418)","v":""},"",null,null,null,{"$f":"IF(eligibilité!AF418=\"\",\"\",eligibilité!AF418)","v":""},{"$f":"IF(AND(eligibilité!AG418=\"\",F630=\"Non éligible\"),\"Non éligible\",eligibilité!AG418)","v":""},"",null,null,"",{"$f":"eligibilité!AD418","v":""},{"$f":"eligibilité!AH418","v":""},"","","","","","","","","",""]
[{"$f":"IF(eligibilité!A419=\"\",\"\",eligibilité!A419)","v":""},"",null,null,null,{"$f":"IF(eligibilité!AF419=\"\",\"\",eligibilité!AF419)","v":""},{"$f":"IF(AND(eligibilité!AG419=\"\",F631=\"Non éligible\"),\"Non éligible\",eligibilité!AG419)","v":""},"",null,null,"",{"$f":"eligibilité!AD419","v":""},{"$f":"eligibilité!AH419","v":""},"","","","","","","","","",""]
[{"$f":"IF(eligibilité!A420=\"\",\"\",eligibilité!A420)","v":""},"",null,null,null,{"$f":"IF(eligibilité!AF420=\"\",\"\",eligibilité!AF420)","v":""},{"$f":"IF(AND(eligibilité!AG420=\"\",F632=\"Non éligible\"),\"Non éligible\",eligibilité!AG420)","v":""},"",null,null,"",{"$f":"eligibilité!AD420","v":""},{"$f":"eligibilité!AH420","v":""},"","","","","","","","","",""]
[{"$f":"IF(eligibilité!A421=\"\",\"\",eligibilité!A421)","v":""},"",null,null,null,{"$f":"IF(eligibilité!AF421=\"\",\"\",eligibilité!AF421)","v":""},{"$f":"IF(AND(eligibilité!AG421=\"\",F633=\"Non éligible\"),\"Non éligible\",eligibilité!AG421)","v":""},"",null,null,"",{"$f":"eligibilité!AD421","v":""},{"$f":"eligibilité!AH421","v":""},"","","","","","","","","",""]
[{"$f":"IF(eligibilité!A422=\"\",\"\",eligibilité!A422)","v":""},"",null,null,null,{"$f":"IF(eligibilité!AF422=\"\",\"\",eligibilité!AF422)","v":""},{"$f":"IF(AND(eligibilité!AG422=\"\",F634=\"Non éligible\"),\"Non éligible\",eligibilité!AG422)","v":""},"",null,null,"",{"$f":"eligibilité!AD422","v":""},{"$f":"eligibilité!AH422","v":""},"","","","","","","","","",""]
[{"$f":"IF(eligibilité!A423=\"\",\"\",eligibilité!A423)","v":""},"",null,null,null,{"$f":"IF(eligibilité!AF423=\"\",\"\",eligibilité!AF423)","v":""},{"$f":"IF(AND(eligibilité!AG423=\"\",F635=\"Non éligible\"),\"Non éligible\",eligibilité!AG423)","v":""},"",null,null,"",{"$f":"eligibilité!AD423","v":""},{"$f":"eligibilité!AH423","v":""},"","","","","","","","","",""]
[{"$f":"IF(eligibilité!A424=\"\",\"\",eligibilité!A424)","v":""},"",null,null,null,{"$f":"IF(eligibilité!AF424=\"\",\"\",eligibilité!AF424)","v":""},{"$f":"IF(AND(eligibilité!AG424=\"\",F636=\"Non éligible\"),\"Non éligible\",eligibilité!AG424)","v":""},"",null,null,"",{"$f":"eligibilité!AD424","v":""},{"$f":"eligibilité!AH424","v":""},"","","","","","","","","",""]
[{"$f":"IF(eligibilité!A425=\"\",\"\",eligibilité!A425)","v":""},"",null,null,null,{"$f":"IF(eligibilité!AF425=\"\",\"\",eligibilité!AF425)","v":""},{"$f":"IF(AND(eligibilité!AG425=\"\",F637=\"Non éligible\"),\"Non éligible\",eligibilité!AG425)","v":""},"",null,null,"",{"$f":"eligibilité!AD425","v":""},{"$f":"eligibilité!AH425","v":""},"","","","","","","","","",""]
[{"$f":"IF(eligibilité!A426=\"\",\"\",eligibilité!A426)","v":""},"",null,null,null,{"$f":"IF(eligibilité!AF426=\"\",\"\",eligibilité!AF426)","v":""},{"$f":"IF(AND(eligibilité!AG426=\"\",F638=\"Non éligible\"),\"Non éligible\",eligibilité!AG426)","v":""},"",null,null,"",{"$f":"eligibilité!AD426","v":""},{"$f":"eligibilité!AH426","v":""},"","","","","","","","","",""]
[{"$f":"IF(eligibilité!A427=\"\",\"\",eligibilité!A427)","v":""},"",null,null,null,{"$f":"IF(eligibilité!AF427=\"\",\"\",eligibilité!AF427)","v":""},{"$f":"IF(AND(eligibilité!AG427=\"\",F639=\"Non éligible\"),\"Non éligible\",eligibilité!AG427)","v":""},"",null,null,"",{"$f":"eligibilité!AD427","v":""},{"$f":"eligibilité!AH427","v":""},"","","","","","","","","",""]
[{"$f":"IF(eligibilité!A428=\"\",\"\",eligibilité!A428)","v":""},"",null,null,null,{"$f":"IF(eligibilité!AF428=\"\",\"\",eligibilité!AF428)","v":""},{"$f":"IF(AND(eligibilité!AG428=\"\",F640=\"Non éligible\"),\"Non éligible\",eligibilité!AG428)","v":""},"",null,null,"",{"$f":"eligibilité!AD428","v":""},{"$f":"eligibilité!AH428","v":""},"","","","","","","","","",""]
[{"$f":"IF(eligibilité!A429=\"\",\"\",eligibilité!A429)","v":""},"",null,null,null,{"$f":"IF(eligibilité!AF429=\"\",\"\",eligibilité!AF429)","v":""},{"$f":"IF(AND(eligibilité!AG429=\"\",F641=\"Non éligible\"),\"Non éligible\",eligibilité!AG429)","v":""},"",null,null,"",{"$f":"eligibilité!AD429","v":""},{"$f":"eligibilité!AH429","v":""},"","","","","","","","","",""]
[{"$f":"IF(eligibilité!A430=\"\",\"\",eligibilité!A430)","v":""},"",null,null,null,{"$f":"IF(eligibilité!AF430=\"\",\"\",eligibilité!AF430)","v":""},{"$f":"IF(AND(eligibilité!AG430=\"\",F642=\"Non éligible\"),\"Non éligible\",eligibilité!AG430)","v":""},"",null,null,"",{"$f":"eligibilité!AD430","v":""},{"$f":"eligibilité!AH430","v":""},"","","","","","","","","",""]
[{"$f":"IF(eligibilité!A431=\"\",\"\",eligibilité!A431)","v":""},"",null,null,null,{"$f":"IF(eligibilité!AF431=\"\",\"\",eligibilité!AF431)","v":""},{"$f":"IF(AND(eligibilité!AG431=\"\",F643=\"Non éligible\"),\"Non éligible\",eligibilité!AG431)","v":""},"",null,null,"",{"$f":"eligibilité!AD431","v":""},{"$f":"eligibilité!AH431","v":""},"","","","","","","","","",""]
[{"$f":"IF(eligibilité!A432=\"\",\"\",eligibilité!A432)","v":""},"",null,null,null,{"$f":"IF(eligibilité!AF432=\"\",\"\",eligibilité!AF432)","v":""},{"$f":"IF(AND(eligibilité!AG432=\"\",F644=\"Non éligible\"),\"Non éligible\",eligibilité!AG432)","v":""},"",null,null,"",{"$f":"eligibilité!AD432","v":""},{"$f":"eligibilité!AH432","v":""},"","","","","","","","","",""]
[{"$f":"IF(eligibilité!A433=\"\",\"\",eligibilité!A433)","v":""},"",null,null,null,{"$f":"IF(eligibilité!AF433=\"\",\"\",eligibilité!AF433)","v":""},{"$f":"IF(AND(eligibilité!AG433=\"\",F645=\"Non éligible\"),\"Non éligible\",eligibilité!AG433)","v":""},"",null,null,"",{"$f":"eligibilité!AD433","v":""},{"$f":"eligibilité!AH433","v":""},"","","","","","","","","",""]
[{"$f":"IF(eligibilité!A434=\"\",\"\",eligibilité!A434)","v":""},"",null,null,null,{"$f":"IF(eligibilité!AF434=\"\",\"\",eligibilité!AF434)","v":""},{"$f":"IF(AND(eligibilité!AG434=\"\",F646=\"Non éligible\"),\"Non éligible\",eligibilité!AG434)","v":""},"",null,null,"",{"$f":"eligibilité!AD434","v":""},{"$f":"eligibilité!AH434","v":""},"","","","","","","","","",""]
[{"$f":"IF(eligibilité!A435=\"\",\"\",eligibilité!A435)","v":""},"",null,null,null,{"$f":"IF(eligibilité!AF435=\"\",\"\",eligibilité!AF435)","v":""},{"$f":"IF(AND(eligibilité!AG435=\"\",F647=\"Non éligible\"),\"Non éligible\",eligibilité!AG435)","v":""},"",null,null,"",{"$f":"eligibilité!AD435","v":""},{"$f":"eligibilité!AH435","v":""},"","","","","","","","","",""]
[{"$f":"IF(eligibilité!A436=\"\",\"\",eligibilité!A436)","v":""},"",null,null,null,{"$f":"IF(eligibilité!AF436=\"\",\"\",eligibilité!AF436)","v":""},{"$f":"IF(AND(eligibilité!AG436=\"\",F648=\"Non éligible\"),\"Non éligible\",eligibilité!AG436)","v":""},"",null,null,"",{"$f":"eligibilité!AD436","v":""},{"$f":"eligibilité!AH436","v":""},"","","","","","","","","",""]
[{"$f":"IF(eligibilité!A437=\"\",\"\",eligibilité!A437)","v":""},"",null,null,null,{"$f":"IF(eligibilité!AF437=\"\",\"\",eligibilité!AF437)","v":""},{"$f":"IF(AND(eligibilité!AG437=\"\",F649=\"Non éligible\"),\"Non éligible\",eligibilité!AG437)","v":""},"",null,null,"",{"$f":"eligibilité!AD437","v":""},{"$f":"eligibilité!AH437","v":""},"","","","","","","","","",""]
[{"$f":"IF(eligibilité!A438=\"\",\"\",eligibilité!A438)","v":""},"",null,null,null,{"$f":"IF(eligibilité!AF438=\"\",\"\",eligibilité!AF438)","v":""},{"$f":"IF(AND(eligibilité!AG438=\"\",F650=\"Non éligible\"),\"Non éligible\",eligibilité!AG438)","v":""},"",null,null,"",{"$f":"eligibilité!AD438","v":""},{"$f":"eligibilité!AH438","v":""},"","","","","","","","","",""]
[{"$f":"IF(eligibilité!A439=\"\",\"\",eligibilité!A439)","v":""},"",null,null,null,{"$f":"IF(eligibilité!AF439=\"\",\"\",eligibilité!AF439)","v":""},{"$f":"IF(AND(eligibilité!AG439=\"\",F651=\"Non éligible\"),\"Non éligible\",eligibilité!AG439)","v":""},"",null,null,"",{"$f":"eligibilité!AD439","v":""},{"$f":"eligibilité!AH439","v":""},"","","","","","","","","",""]
[{"$f":"IF(eligibilité!A440=\"\",\"\",eligibilité!A440)","v":""},"",null,null,null,{"$f":"IF(eligibilité!AF440=\"\",\"\",eligibilité!AF440)","v":""},{"$f":"IF(AND(eligibilité!AG440=\"\",F652=\"Non éligible\"),\"Non éligible\",eligibilité!AG440)","v":""},"",null,null,"",{"$f":"eligibilité!AD440","v":""},{"$f":"eligibilité!AH440","v":""},"","","","","","","","","",""]
[{"$f":"IF(eligibilité!A441=\"\",\"\",eligibilité!A441)","v":""},"",null,null,null,{"$f":"IF(eligibilité!AF441=\"\",\"\",eligibilité!AF441)","v":""},{"$f":"IF(AND(eligibilité!AG441=\"\",F653=\"Non éligible\"),\"Non éligible\",eligibilité!AG441)","v":""},"",null,null,"",{"$f":"eligibilité!AD441","v":""},{"$f":"eligibilité!AH441","v":""},"","","","","","","","","",""]
[{"$f":"IF(eligibilité!A442=\"\",\"\",eligibilité!A442)","v":""},"",null,null,null,{"$f":"IF(eligibilité!AF442=\"\",\"\",eligibilité!AF442)","v":""},{"$f":"IF(AND(eligibilité!AG442=\"\",F654=\"Non éligible\"),\"Non éligible\",eligibilité!AG442)","v":""},"",null,null,"",{"$f":"eligibilité!AD442","v":""},{"$f":"eligibilité!AH442","v":""},"","","","","","","","","",""]
[{"$f":"IF(eligibilité!A443=\"\",\"\",eligibilité!A443)","v":""},"",null,null,null,{"$f":"IF(eligibilité!AF443=\"\",\"\",eligibilité!AF443)","v":""},{"$f":"IF(AND(eligibilité!AG443=\"\",F655=\"Non éligible\"),\"Non éligible\",eligibilité!AG443)","v":""},"",null,null,"",{"$f":"eligibilité!AD443","v":""},{"$f":"eligibilité!AH443","v":""},"","","","","","","","","",""]
[{"$f":"IF(eligibilité!A444=\"\",\"\",eligibilité!A444)","v":""},"",null,null,null,{"$f":"IF(eligibilité!AF444=\"\",\"\",eligibilité!AF444)","v":""},{"$f":"IF(AND(eligibilité!AG444=\"\",F656=\"Non éligible\"),\"Non éligible\",eligibilité!AG444)","v":""},"",null,null,"",{"$f":"eligibilité!AD444","v":""},{"$f":"eligibilité!AH444","v":""},"","","","","","","","","",""]
[{"$f":"IF(eligibilité!A445=\"\",\"\",eligibilité!A445)","v":""},"",null,null,null,{"$f":"IF(eligibilité!AF445=\"\",\"\",eligibilité!AF445)","v":""},{"$f":"IF(AND(eligibilité!AG445=\"\",F657=\"Non éligible\"),\"Non éligible\",eligibilité!AG445)","v":""},"",null,null,"",{"$f":"eligibilité!AD445","v":""},{"$f":"eligibilité!AH445","v":""},"","","","","","","","","",""]
[{"$f":"IF(eligibilité!A446=\"\",\"\",eligibilité!A446)","v":""},"",null,null,null,{"$f":"IF(eligibilité!AF446=\"\",\"\",eligibilité!AF446)","v":""},{"$f":"IF(AND(eligibilité!AG446=\"\",F658=\"Non éligible\"),\"Non éligible\",eligibilité!AG446)","v":""},"",null,null,"",{"$f":"eligibilité!AD446","v":""},{"$f":"eligibilité!AH446","v":""},"","","","","","","","","",""]
[{"$f":"IF(eligibilité!A447=\"\",\"\",eligibilité!A447)","v":""},"",null,null,null,{"$f":"IF(eligibilité!AF447=\"\",\"\",eligibilité!AF447)","v":""},{"$f":"IF(AND(eligibilité!AG447=\"\",F659=\"Non éligible\"),\"Non éligible\",eligibilité!AG447)","v":""},"",null,null,"",{"$f":"eligibilité!AD447","v":""},{"$f":"eligibilité!AH447","v":""},"","","","","","","","","",""]
[{"$f":"IF(eligibilité!A448=\"\",\"\",eligibilité!A448)","v":""},"",null,null,null,{"$f":"IF(eligibilité!AF448=\"\",\"\",eligibilité!AF448)","v":""},{"$f":"IF(AND(eligibilité!AG448=\"\",F660=\"Non éligible\"),\"Non éligible\",eligibilité!AG448)","v":""},"",null,null,"",{"$f":"eligibilité!AD448","v":""},{"$f":"eligibilité!AH448","v":""},"","","","","","","","","",""]
[{"$f":"IF(eligibilité!A449=\"\",\"\",eligibilité!A449)","v":""},"",null,null,null,{"$f":"IF(eligibilité!AF449=\"\",\"\",eligibilité!AF449)","v":""},{"$f":"IF(AND(eligibilité!AG449=\"\",F661=\"Non éligible\"),\"Non éligible\",eligibilité!AG449)","v":""},"",null,null,"",{"$f":"eligibilité!AD449","v":""},{"$f":"eligibilité!AH449","v":""},"","","","","","","","","",""]
[{"$f":"IF(eligibilité!A450=\"\",\"\",eligibilité!A450)","v":""},"",null,null,null,{"$f":"IF(eligibilité!AF450=\"\",\"\",eligibilité!AF450)","v":""},{"$f":"IF(AND(eligibilité!AG450=\"\",F662=\"Non éligible\"),\"Non éligible\",eligibilité!AG450)","v":""},"",null,null,"",{"$f":"eligibilité!AD450","v":""},{"$f":"eligibilité!AH450","v":""},"","","","","","","","","",""]
[{"$f":"IF(eligibilité!A451=\"\",\"\",eligibilité!A451)","v":""},"",null,null,null,{"$f":"IF(eligibilité!AF451=\"\",\"\",eligibilité!AF451)","v":""},{"$f":"IF(AND(eligibilité!AG451=\"\",F663=\"Non éligible\"),\"Non éligible\",eligibilité!AG451)","v":""},"",null,null,"",{"$f":"eligibilité!AD451","v":""},{"$f":"eligibilité!AH451","v":""},"","","","","","","","","",""]
[{"$f":"IF(eligibilité!A452=\"\",\"\",eligibilité!A452)","v":""},"",null,null,null,{"$f":"IF(eligibilité!AF452=\"\",\"\",eligibilité!AF452)","v":""},{"$f":"IF(AND(eligibilité!AG452=\"\",F664=\"Non éligible\"),\"Non éligible\",eligibilité!AG452)","v":""},"",null,null,"",{"$f":"eligibilité!AD452","v":""},{"$f":"eligibilité!AH452","v":""},"","","","","","","","","",""]
[{"$f":"IF(eligibilité!A453=\"\",\"\",eligibilité!A453)","v":""},"",null,null,null,{"$f":"IF(eligibilité!AF453=\"\",\"\",eligibilité!AF453)","v":""},{"$f":"IF(AND(eligibilité!AG453=\"\",F665=\"Non éligible\"),\"Non éligible\",eligibilité!AG453)","v":""},"",null,null,"",{"$f":"eligibilité!AD453","v":""},{"$f":"eligibilité!AH453","v":""},"","","","","","","","","",""]
[{"$f":"IF(eligibilité!A454=\"\",\"\",eligibilité!A454)","v":""},"",null,null,null,{"$f":"IF(eligibilité!AF454=\"\",\"\",eligibilité!AF454)","v":""},{"$f":"IF(AND(eligibilité!AG454=\"\",F666=\"Non éligible\"),\"Non éligible\",eligibilité!AG454)","v":""},"",null,null,"",{"$f":"eligibilité!AD454","v":""},{"$f":"eligibilité!AH454","v":""},"","","","","","","","","",""]
[{"$f":"IF(eligibilité!A455=\"\",\"\",eligibilité!A455)","v":""},"",null,null,null,{"$f":"IF(eligibilité!AF455=\"\",\"\",eligibilité!AF455)","v":""},{"$f":"IF(AND(eligibilité!AG455=\"\",F667=\"Non éligible\"),\"Non éligible\",eligibilité!AG455)","v":""},"",null,null,"",{"$f":"eligibilité!AD455","v":""},{"$f":"eligibilité!AH455","v":""},"","","","","","","","","",""]
[{"$f":"IF(eligibilité!A456=\"\",\"\",eligibilité!A456)","v":""},"",null,null,null,{"$f":"IF(eligibilité!AF456=\"\",\"\",eligibilité!AF456)","v":""},{"$f":"IF(AND(eligibilité!AG456=\"\",F668=\"Non éligible\"),\"Non éligible\",eligibilité!AG456)","v":""},"",null,null,"",{"$f":"eligibilité!AD456","v":""},{"$f":"eligibilité!AH456","v":""},"","","","","","","","","",""]
[{"$f":"IF(eligibilité!A457=\"\",\"\",eligibilité!A457)","v":""},"",null,null,null,{"$f":"IF(eligibilité!AF457=\"\",\"\",eligibilité!AF457)","v":""},{"$f":"IF(AND(eligibilité!AG457=\"\",F669=\"Non éligible\"),\"Non éligible\",eligibilité!AG457)","v":""},"",null,null,"",{"$f":"eligibilité!AD457","v":""},{"$f":"eligibilité!AH457","v":""},"","","","","","","","","",""]
[{"$f":"IF(eligibilité!A458=\"\",\"\",eligibilité!A458)","v":""},"",null,null,null,{"$f":"IF(eligibilité!AF458=\"\",\"\",eligibilité!AF458)","v":""},{"$f":"IF(AND(eligibilité!AG458=\"\",F670=\"Non éligible\"),\"Non éligible\",eligibilité!AG458)","v":""},"",null,null,"",{"$f":"eligibilité!AD458","v":""},{"$f":"eligibilité!AH458","v":""},"","","","","","","","","",""]
[{"$f":"IF(eligibilité!A459=\"\",\"\",eligibilité!A459)","v":""},"",null,null,null,{"$f":"IF(eligibilité!AF459=\"\",\"\",eligibilité!AF459)","v":""},{"$f":"IF(AND(eligibilité!AG459=\"\",F671=\"Non éligible\"),\"Non éligible\",eligibilité!AG459)","v":""},"",null,null,"",{"$f":"eligibilité!AD459","v":""},{"$f":"eligibilité!AH459","v":""},"","","","","","","","","",""]
[{"$f":"IF(eligibilité!A460=\"\",\"\",eligibilité!A460)","v":""},"",null,null,null,{"$f":"IF(eligibilité!AF460=\"\",\"\",eligibilité!AF460)","v":""},{"$f":"IF(AND(eligibilité!AG460=\"\",F672=\"Non éligible\"),\"Non éligible\",eligibilité!AG460)","v":""},"",null,null,"",{"$f":"eligibilité!AD460","v":""},{"$f":"eligibilité!AH460","v":""},"","","","","","","","","",""]
[{"$f":"IF(eligibilité!A461=\"\",\"\",eligibilité!A461)","v":""},"",null,null,null,{"$f":"IF(eligibilité!AF461=\"\",\"\",eligibilité!AF461)","v":""},{"$f":"IF(AND(eligibilité!AG461=\"\",F673=\"Non éligible\"),\"Non éligible\",eligibilité!AG461)","v":""},"",null,null,"",{"$f":"eligibilité!AD461","v":""},{"$f":"eligibilité!AH461","v":""},"","","","","","","","","",""]
[{"$f":"IF(eligibilité!A462=\"\",\"\",eligibilité!A462)","v":""},"",null,null,null,{"$f":"IF(eligibilité!AF462=\"\",\"\",eligibilité!AF462)","v":""},{"$f":"IF(AND(eligibilité!AG462=\"\",F674=\"Non éligible\"),\"Non éligible\",eligibilité!AG462)","v":""},"",null,null,"",{"$f":"eligibilité!AD462","v":""},{"$f":"eligibilité!AH462","v":""},"","","","","","","","","",""]
[{"$f":"IF(eligibilité!A463=\"\",\"\",eligibilité!A463)","v":""},"",null,null,null,{"$f":"IF(eligibilité!AF463=\"\",\"\",eligibilité!AF463)","v":""},{"$f":"IF(AND(eligibilité!AG463=\"\",F675=\"Non éligible\"),\"Non éligible\",eligibilité!AG463)","v":""},{"$f":"IF(AND(F675=\"Non éligible\",G675=\"Non éligible\"),\"Conditions non remplies\",IF(AND(F675=\"Eligible\",L675=\"\"),\"Remplir la case manuellement, votre agent est en CDI\",IF(F675=\"\",\"\",CONCATENATE(N675,\" an(s) \",P675,\" mois \",Q675,\" jour(s)\"))))","v":""},null,null,"",{"$f":"eligibilité!AD463","v":""},{"$f":"eligibilité!AH463","v":""},"","","","","","","","","",""]
[{"$f":"IF(eligibilité!A464=\"\",\"\",eligibilité!A464)","v":""},"",null,null,null,{"$f":"IF(eligibilité!AF464=\"\",\"\",eligibilité!AF464)","v":""},{"$f":"IF(AND(eligibilité!AG464=\"\",F676=\"Non éligible\"),\"Non éligible\",eligibilité!AG464)","v":""},"",null,null,{"$f":"IF(AND($F676=\"Non éligible\",$G676=\"Non éligible\"),\"Conditions non remplies\",IF(AND($F676=\"Eligibilité ultérieure\",$L676=\"\"),\"Remplir la case manuellement, votre agent est en CDI\",IF($F676=\"\",\"\",CONCATENATE($T676,\" an(s) \",$V676,\" mois \",$W676,\" jour(s)\"))))","v":""},{"$f":"eligibilité!AD464","v":""},{"$f":"eligibilité!AH464","v":""},"","","","","","","","","",""]
[{"$f":"IF(eligibilité!A465=\"\",\"\",eligibilité!A465)","v":""},"",null,null,null,{"$f":"IF(eligibilité!AF465=\"\",\"\",eligibilité!AF465)","v":""},{"$f":"IF(AND(eligibilité!AG465=\"\",F677=\"Non éligible\"),\"Non éligible\",eligibilité!AG465)","v":""},"",null,null,"",{"$f":"eligibilité!AD465","v":""},{"$f":"eligibilité!AH465","v":""},"","","","","","","","","",""]
[{"$f":"IF(eligibilité!A466=\"\",\"\",eligibilité!A466)","v":""},"",null,null,null,{"$f":"IF(eligibilité!AF466=\"\",\"\",eligibilité!AF466)","v":""},{"$f":"IF(AND(eligibilité!AG466=\"\",F678=\"Non éligible\"),\"Non éligible\",eligibilité!AG466)","v":""},"",null,null,"",{"$f":"eligibilité!AD466","v":""},{"$f":"eligibilité!AH466","v":""},"","","","","","","","","",""]
[{"$f":"IF(eligibilité!A467=\"\",\"\",eligibilité!A467)","v":""},"",null,null,null,{"$f":"IF(eligibilité!AF467=\"\",\"\",eligibilité!AF467)","v":""},{"$f":"IF(AND(eligibilité!AG467=\"\",F679=\"Non éligible\"),\"Non éligible\",eligibilité!AG467)","v":""},"",null,null,"",{"$f":"eligibilité!AD467","v":""},{"$f":"eligibilité!AH467","v":""},"","","","","","","","","",""]
[{"$f":"IF(eligibilité!A468=\"\",\"\",eligibilité!A468)","v":""},"",null,null,null,{"$f":"IF(eligibilité!AF468=\"\",\"\",eligibilité!AF468)","v":""},{"$f":"IF(AND(eligibilité!AG468=\"\",F680=\"Non éligible\"),\"Non éligible\",eligibilité!AG468)","v":""},"",null,null,"",{"$f":"eligibilité!AD468","v":""},{"$f":"eligibilité!AH468","v":""},"","","","","","","","","",""]
[{"$f":"IF(eligibilité!A469=\"\",\"\",eligibilité!A469)","v":""},"",null,null,null,{"$f":"IF(eligibilité!AF469=\"\",\"\",eligibilité!AF469)","v":""},{"$f":"IF(AND(eligibilité!AG469=\"\",F681=\"Non éligible\"),\"Non éligible\",eligibilité!AG469)","v":""},"",null,null,"",{"$f":"eligibilité!AD469","v":""},{"$f":"eligibilité!AH469","v":""},"","","","","","","","","",""]
[{"$f":"IF(eligibilité!A470=\"\",\"\",eligibilité!A470)","v":""},"",null,null,null,{"$f":"IF(eligibilité!AF470=\"\",\"\",eligibilité!AF470)","v":""},{"$f":"IF(AND(eligibilité!AG470=\"\",F682=\"Non éligible\"),\"Non éligible\",eligibilité!AG470)","v":""},"",null,null,"",{"$f":"eligibilité!AD470","v":""},{"$f":"eligibilité!AH470","v":""},"","","","","","","","","",""]
[{"$f":"IF(eligibilité!A471=\"\",\"\",eligibilité!A471)","v":""},"",null,null,null,{"$f":"IF(eligibilité!AF471=\"\",\"\",eligibilité!AF471)","v":""},{"$f":"IF(AND(eligibilité!AG471=\"\",F683=\"Non éligible\"),\"Non éligible\",eligibilité!AG471)","v":""},"",null,null,"",{"$f":"eligibilité!AD471","v":""},{"$f":"eligibilité!AH471","v":""},"","","","","","","","","",""]
[{"$f":"IF(eligibilité!A472=\"\",\"\",eligibilité!A472)","v":""},{"$f":"IF(A684=\"\",\"\",\"Définir les fonctions ou le poste du dossier\")","v":""},null,null,null,{"$f":"IF(eligibilité!AF472=\"\",\"\",eligibilité!AF472)","v":""},{"$f":"IF(AND(eligibilité!AG472=\"\",F684=\"Non éligible\"),\"Non éligible\",eligibilité!AG472)","v":""},"",null,null,{"$f":"IF(AND($F684=\"Non éligible\",$G684=\"Non éligible\"),\"Conditions non remplies\",IF(AND($F684=\"Eligibilité ultérieure\",$L684=\"\"),\"Remplir la case manuellement, votre agent est en CDI\",IF($F684=\"\",\"\",CONCATENATE($T684,\" an(s) \",$V684,\" mois \",$W684,\" jour(s)\"))))","v":""},{"$f":"eligibilité!AD472","v":""},{"$f":"eligibilité!AH472","v":""},{"$f":"IF(L684=\"\",\"\",INT(L684/12))","v":""},{"$f":"IF(L684=\"\",\"\",(L684-N684*12))","v":""},{"$f":"IF(L684=\"\",\"\",INT(O684))","v":""},{"$f":"IF(L684=\"\",\"\",ROUNDDOWN((O684-P684)*30.44,0))","v":""},{"$f":"IF(L684=\"\",\"\",$S$226+L684)","v":""},{"$f":"IF(R684=\"\",\"\",R684/12)","v":""},{"$f":"IF(L684=\"\",\"\",INT(S684))","v":""},{"$f":"IF(L684=\"\",\"\",(S684-T684)*12)","v":""},{"$f":"IF(L684=\"\",\"\",INT(U684))","v":""},{"$f":"IF(L684=\"\",\"\",INT((U684-V684)*30.44))","v":""}]
[{"$f":"IF(eligibilité!A473=\"\",\"\",eligibilité!A473)","v":""},"",null,null,null,{"$f":"IF(eligibilité!AF473=\"\",\"\",eligibilité!AF473)","v":""},{"$f":"IF(AND(eligibilité!AG473=\"\",F685=\"Non éligible\"),\"Non éligible\",eligibilité!AG473)","v":""},"",null,null,"",{"$f":"eligibilité!AD473","v":""},{"$f":"eligibilité!AH473","v":""},"","","","","","","","","",""]
[{"$f":"IF(eligibilité!A474=\"\",\"\",eligibilité!A474)","v":""},"",null,null,null,{"$f":"IF(eligibilité!AF474=\"\",\"\",eligibilité!AF474)","v":""},{"$f":"IF(AND(eligibilité!AG474=\"\",F686=\"Non éligible\"),\"Non éligible\",eligibilité!AG474)","v":""},"",null,null,"",{"$f":"eligibilité!AD474","v":""},{"$f":"eligibilité!AH474","v":""},"","","","","","","","","",""]
[{"$f":"IF(eligibilité!A475=\"\",\"\",eligibilité!A475)","v":""},"",null,null,null,{"$f":"IF(eligibilité!AF475=\"\",\"\",eligibilité!AF475)","v":""},{"$f":"IF(AND(eligibilité!AG475=\"\",F687=\"Non éligible\"),\"Non éligible\",eligibilité!AG475)","v":""},"",null,null,"",{"$f":"eligibilité!AD475","v":""},{"$f":"eligibilité!AH475","v":""},"","","","","","","","","",""]
[{"$f":"IF(eligibilité!A476=\"\",\"\",eligibilité!A476)","v":""},"",null,null,null,{"$f":"IF(eligibilité!AF476=\"\",\"\",eligibilité!AF476)","v":""},{"$f":"IF(AND(eligibilité!AG476=\"\",F688=\"Non éligible\"),\"Non éligible\",eligibilité!AG476)","v":""},"",null,null,"",{"$f":"eligibilité!AD476","v":""},{"$f":"eligibilité!AH476","v":""},"","","","","","","","","",""]
[{"$f":"IF(eligibilité!A477=\"\",\"\",eligibilité!A477)","v":""},"",null,null,null,{"$f":"IF(eligibilité!AF477=\"\",\"\",eligibilité!AF477)","v":""},{"$f":"IF(AND(eligibilité!AG477=\"\",F689=\"Non éligible\"),\"Non éligible\",eligibilité!AG477)","v":""},"",null,null,"",{"$f":"eligibilité!AD477","v":""},{"$f":"eligibilité!AH477","v":""},"","","","","","","","","",""]
[{"$f":"IF(eligibilité!A478=\"\",\"\",eligibilité!A478)","v":""},"",null,null,null,{"$f":"IF(eligibilité!AF478=\"\",\"\",eligibilité!AF478)","v":""},{"$f":"IF(AND(eligibilité!AG478=\"\",F690=\"Non éligible\"),\"Non éligible\",eligibilité!AG478)","v":""},"",null,null,"",{"$f":"eligibilité!AD478","v":""},{"$f":"eligibilité!AH478","v":""},"","","","","","","","","",""]
[{"$f":"IF(eligibilité!A479=\"\",\"\",eligibilité!A479)","v":""},"",null,null,null,{"$f":"IF(eligibilité!AF479=\"\",\"\",eligibilité!AF479)","v":""},{"$f":"IF(AND(eligibilité!AG479=\"\",F691=\"Non éligible\"),\"Non éligible\",eligibilité!AG479)","v":""},"",null,null,"",{"$f":"eligibilité!AD479","v":""},{"$f":"eligibilité!AH479","v":""},"","","","","","","","","",""]
[{"$f":"IF(eligibilité!A480=\"\",\"\",eligibilité!A480)","v":""},"",null,null,null,{"$f":"IF(eligibilité!AF480=\"\",\"\",eligibilité!AF480)","v":""},{"$f":"IF(AND(eligibilité!AG480=\"\",F692=\"Non éligible\"),\"Non éligible\",eligibilité!AG480)","v":""},"",null,null,"",{"$f":"eligibilité!AD480","v":""},{"$f":"eligibilité!AH480","v":""},"","","","","","","","","",""]
[{"$f":"IF(eligibilité!A481=\"\",\"\",eligibilité!A481)","v":""},"",null,null,null,{"$f":"IF(eligibilité!AF481=\"\",\"\",eligibilité!AF481)","v":""},{"$f":"IF(AND(eligibilité!AG481=\"\",F693=\"Non éligible\"),\"Non éligible\",eligibilité!AG481)","v":""},"",null,null,"",{"$f":"eligibilité!AD481","v":""},{"$f":"eligibilité!AH481","v":""},"","","","","","","","","",""]
[{"$f":"IF(eligibilité!A482=\"\",\"\",eligibilité!A482)","v":""},"",null,null,null,{"$f":"IF(eligibilité!AF482=\"\",\"\",eligibilité!AF482)","v":""},{"$f":"IF(AND(eligibilité!AG482=\"\",F694=\"Non éligible\"),\"Non éligible\",eligibilité!AG482)","v":""},"",null,null,"",{"$f":"eligibilité!AD482","v":""},{"$f":"eligibilité!AH482","v":""},"","","","","","","","","",""]
[{"$f":"IF(eligibilité!A483=\"\",\"\",eligibilité!A483)","v":""},"",null,null,null,{"$f":"IF(eligibilité!AF483=\"\",\"\",eligibilité!AF483)","v":""},{"$f":"IF(AND(eligibilité!AG483=\"\",F695=\"Non éligible\"),\"Non éligible\",eligibilité!AG483)","v":""},"",null,null,"",{"$f":"eligibilité!AD483","v":""},{"$f":"eligibilité!AH483","v":""},"","","","","","","","","",""]
[{"$f":"IF(eligibilité!A484=\"\",\"\",eligibilité!A484)","v":""},"",null,null,null,{"$f":"IF(eligibilité!AF484=\"\",\"\",eligibilité!AF484)","v":""},{"$f":"IF(AND(eligibilité!AG484=\"\",F696=\"Non éligible\"),\"Non éligible\",eligibilité!AG484)","v":""},"",null,null,"",{"$f":"eligibilité!AD484","v":""},{"$f":"eligibilité!AH484","v":""},"","","","","","","","","",""]
[{"$f":"IF(eligibilité!A485=\"\",\"\",eligibilité!A485)","v":""},"",null,null,null,{"$f":"IF(eligibilité!AF485=\"\",\"\",eligibilité!AF485)","v":""},{"$f":"IF(AND(eligibilité!AG485=\"\",F697=\"Non éligible\"),\"Non éligible\",eligibilité!AG485)","v":""},"",null,null,"",{"$f":"eligibilité!AD485","v":""},{"$f":"eligibilité!AH485","v":""},"","","","","","","","","",""]
[{"$f":"IF(eligibilité!A486=\"\",\"\",eligibilité!A486)","v":""},"",null,null,null,{"$f":"IF(eligibilité!AF486=\"\",\"\",eligibilité!AF486)","v":""},{"$f":"IF(AND(eligibilité!AG486=\"\",F698=\"Non éligible\"),\"Non éligible\",eligibilité!AG486)","v":""},"",null,null,"",{"$f":"eligibilité!AD486","v":""},{"$f":"eligibilité!AH486","v":""},"","","","","","","","","",""]
[{"$f":"IF(eligibilité!A487=\"\",\"\",eligibilité!A487)","v":""},"",null,null,null,{"$f":"IF(eligibilité!AF487=\"\",\"\",eligibilité!AF487)","v":""},{"$f":"IF(AND(eligibilité!AG487=\"\",F699=\"Non éligible\"),\"Non éligible\",eligibilité!AG487)","v":""},"",null,null,"",{"$f":"eligibilité!AD487","v":""},{"$f":"eligibilité!AH487","v":""},"","","","","","","","","",""]
[{"$f":"IF(eligibilité!A488=\"\",\"\",eligibilité!A488)","v":""},"",null,null,null,{"$f":"IF(eligibilité!AF488=\"\",\"\",eligibilité!AF488)","v":""},{"$f":"IF(AND(eligibilité!AG488=\"\",F700=\"Non éligible\"),\"Non éligible\",eligibilité!AG488)","v":""},"",null,null,"",{"$f":"eligibilité!AD488","v":""},{"$f":"eligibilité!AH488","v":""},"","","","","","","","","",""]
[{"$f":"IF(eligibilité!A489=\"\",\"\",eligibilité!A489)","v":""},"",null,null,null,{"$f":"IF(eligibilité!AF489=\"\",\"\",eligibilité!AF489)","v":""},{"$f":"IF(AND(eligibilité!AG489=\"\",F701=\"Non éligible\"),\"Non éligible\",eligibilité!AG489)","v":""},"",null,null,"",{"$f":"eligibilité!AD489","v":""},{"$f":"eligibilité!AH489","v":""},"","","","","","","","","",""]
[{"$f":"IF(eligibilité!A490=\"\",\"\",eligibilité!A490)","v":""},"",null,null,null,{"$f":"IF(eligibilité!AF490=\"\",\"\",eligibilité!AF490)","v":""},{"$f":"IF(AND(eligibilité!AG490=\"\",F702=\"Non éligible\"),\"Non éligible\",eligibilité!AG490)","v":""},"",null,null,"",{"$f":"eligibilité!AD490","v":""},{"$f":"eligibilité!AH490","v":""},"","","","","","","","","",""]
[{"$f":"IF(eligibilité!A491=\"\",\"\",eligibilité!A491)","v":""},"",null,null,null,{"$f":"IF(eligibilité!AF491=\"\",\"\",eligibilité!AF491)","v":""},{"$f":"IF(AND(eligibilité!AG491=\"\",F703=\"Non éligible\"),\"Non éligible\",eligibilité!AG491)","v":""},"",null,null,"",{"$f":"eligibilité!AD491","v":""},{"$f":"eligibilité!AH491","v":""},"","","","","","","","","",""]
[{"$f":"IF(eligibilité!A492=\"\",\"\",eligibilité!A492)","v":""},"",null,null,null,{"$f":"IF(eligibilité!AF492=\"\",\"\",eligibilité!AF492)","v":""},{"$f":"IF(AND(eligibilité!AG492=\"\",F704=\"Non éligible\"),\"Non éligible\",eligibilité!AG492)","v":""},"",null,null,"",{"$f":"eligibilité!AD492","v":""},{"$f":"eligibilité!AH492","v":""},"","","","","","","","","",""]
[{"$f":"IF(eligibilité!A493=\"\",\"\",eligibilité!A493)","v":""},"",null,null,null,{"$f":"IF(eligibilité!AF493=\"\",\"\",eligibilité!AF493)","v":""},{"$f":"IF(AND(eligibilité!AG493=\"\",F705=\"Non éligible\"),\"Non éligible\",eligibilité!AG493)","v":""},"",null,null,"",{"$f":"eligibilité!AD493","v":""},{"$f":"eligibilité!AH493","v":""},"","","","","","","","","",""]
[{"$f":"IF(eligibilité!A494=\"\",\"\",eligibilité!A494)","v":""},"",null,null,null,{"$f":"IF(eligibilité!AF494=\"\",\"\",eligibilité!AF494)","v":""},{"$f":"IF(AND(eligibilité!AG494=\"\",F706=\"Non éligible\"),\"Non éligible\",eligibilité!AG494)","v":""},"",null,null,"",{"$f":"eligibilité!AD494","v":""},{"$f":"eligibilité!AH494","v":""},"","","","","","","","","",""]
[{"$f":"IF(eligibilité!A495=\"\",\"\",eligibilité!A495)","v":""},"",null,null,null,{"$f":"IF(eligibilité!AF495=\"\",\"\",eligibilité!AF495)","v":""},{"$f":"IF(AND(eligibilité!AG495=\"\",F707=\"Non éligible\"),\"Non éligible\",eligibilité!AG495)","v":""},"",null,null,"",{"$f":"eligibilité!AD495","v":""},{"$f":"eligibilité!AH495","v":""},"","","","","","","","","",""]
[{"$f":"IF(eligibilité!A496=\"\",\"\",eligibilité!A496)","v":""},"",null,null,null,{"$f":"IF(eligibilité!AF496=\"\",\"\",eligibilité!AF496)","v":""},{"$f":"IF(AND(eligibilité!AG496=\"\",F708=\"Non éligible\"),\"Non éligible\",eligibilité!AG496)","v":""},"",null,null,"",{"$f":"eligibilité!AD496","v":""},{"$f":"eligibilité!AH496","v":""},"","","","","","","","","",""]
[{"$f":"IF(eligibilité!A497=\"\",\"\",eligibilité!A497)","v":""},"",null,null,null,{"$f":"IF(eligibilité!AF497=\"\",\"\",eligibilité!AF497)","v":""},{"$f":"IF(AND(eligibilité!AG497=\"\",F709=\"Non éligible\"),\"Non éligible\",eligibilité!AG497)","v":""},"",null,null,"",{"$f":"eligibilité!AD497","v":""},{"$f":"eligibilité!AH497","v":""},"","","","","","","","","",""]
[{"$f":"IF(eligibilité!A498=\"\",\"\",eligibilité!A498)","v":""},"",null,null,null,{"$f":"IF(eligibilité!AF498=\"\",\"\",eligibilité!AF498)","v":""},{"$f":"IF(AND(eligibilité!AG498=\"\",F710=\"Non éligible\"),\"Non éligible\",eligibilité!AG498)","v":""},"",null,null,"",{"$f":"eligibilité!AD498","v":""},{"$f":"eligibilité!AH498","v":""},"","","","","","","","","",""]
[{"$f":"IF(eligibilité!A499=\"\",\"\",eligibilité!A499)","v":""},"",null,null,null,{"$f":"IF(eligibilité!AF499=\"\",\"\",eligibilité!AF499)","v":""},{"$f":"IF(AND(eligibilité!AG499=\"\",F711=\"Non éligible\"),\"Non éligible\",eligibilité!AG499)","v":""},"",null,null,"",{"$f":"eligibilité!AD499","v":""},{"$f":"eligibilité!AH499","v":""},"","","","","","","","","",""]
[{"$f":"IF(eligibilité!A500=\"\",\"\",eligibilité!A500)","v":""},"",null,null,null,{"$f":"IF(eligibilité!AF500=\"\",\"\",eligibilité!AF500)","v":""},{"$f":"IF(AND(eligibilité!AG500=\"\",F712=\"Non éligible\"),\"Non éligible\",eligibilité!AG500)","v":""},"",null,null,"",{"$f":"eligibilité!AD500","v":""},{"$f":"eligibilité!AH500","v":""},"","","","","","","","","",""]
[{"$f":"IF(eligibilité!A501=\"\",\"\",eligibilité!A501)","v":""},"",null,null,null,{"$f":"IF(eligibilité!AF501=\"\",\"\",eligibilité!AF501)","v":""},{"$f":"IF(AND(eligibilité!AG501=\"\",F713=\"Non éligible\"),\"Non éligible\",eligibilité!AG501)","v":""},"",null,null,"",{"$f":"eligibilité!AD501","v":""},{"$f":"eligibilité!AH501","v":""},"","","","","","","","","",""]
[{"$f":"IF(eligibilité!A502=\"\",\"\",eligibilité!A502)","v":""},"",null,null,null,{"$f":"IF(eligibilité!AF502=\"\",\"\",eligibilité!AF502)","v":""},{"$f":"IF(AND(eligibilité!AG502=\"\",F714=\"Non éligible\"),\"Non éligible\",eligibilité!AG502)","v":""},"",null,null,"",{"$f":"eligibilité!AD502","v":""},{"$f":"eligibilité!AH502","v":""},"","","","","","","","","",""]
[{"$f":"IF(eligibilité!A503=\"\",\"\",eligibilité!A503)","v":""},"",null,null,null,{"$f":"IF(eligibilité!AF503=\"\",\"\",eligibilité!AF503)","v":""},{"$f":"IF(AND(eligibilité!AG503=\"\",F715=\"Non éligible\"),\"Non éligible\",eligibilité!AG503)","v":""},"",null,null,"",{"$f":"eligibilité!AD503","v":""},{"$f":"eligibilité!AH503","v":""},"","","","","","","","","",""]
[{"$f":"IF(eligibilité!A504=\"\",\"\",eligibilité!A504)","v":""},"",null,null,null,{"$f":"IF(eligibilité!AF504=\"\",\"\",eligibilité!AF504)","v":""},{"$f":"IF(AND(eligibilité!AG504=\"\",F716=\"Non éligible\"),\"Non éligible\",eligibilité!AG504)","v":""},"",null,null,"",{"$f":"eligibilité!AD504","v":""},{"$f":"eligibilité!AH504","v":""},"","","","","","","","","",""]
[{"$f":"IF(eligibilité!A505=\"\",\"\",eligibilité!A505)","v":""},"",null,null,null,{"$f":"IF(eligibilité!AF505=\"\",\"\",eligibilité!AF505)","v":""},{"$f":"IF(AND(eligibilité!AG505=\"\",F717=\"Non éligible\"),\"Non éligible\",eligibilité!AG505)","v":""},"",null,null,"",{"$f":"eligibilité!AD505","v":""},{"$f":"eligibilité!AH505","v":""},"","","","","","","","","",""]
[{"$f":"IF(eligibilité!A506=\"\",\"\",eligibilité!A506)","v":""},"",null,null,null,{"$f":"IF(eligibilité!AF506=\"\",\"\",eligibilité!AF506)","v":""},{"$f":"IF(AND(eligibilité!AG506=\"\",F718=\"Non éligible\"),\"Non éligible\",eligibilité!AG506)","v":""},"",null,null,"",{"$f":"eligibilité!AD506","v":""},{"$f":"eligibilité!AH506","v":""},"","","","","","","","","",""]
[{"$f":"IF(eligibilité!A507=\"\",\"\",eligibilité!A507)","v":""},"",null,null,null,{"$f":"IF(eligibilité!AF507=\"\",\"\",eligibilité!AF507)","v":""},{"$f":"IF(AND(eligibilité!AG507=\"\",F719=\"Non éligible\"),\"Non éligible\",eligibilité!AG507)","v":""},"",null,null,"",{"$f":"eligibilité!AD507","v":""},{"$f":"eligibilité!AH507","v":""},"","","","","","","","","",""]
[{"$f":"IF(eligibilité!A508=\"\",\"\",eligibilité!A508)","v":""},"",null,null,null,{"$f":"IF(eligibilité!AF508=\"\",\"\",eligibilité!AF508)","v":""},{"$f":"IF(AND(eligibilité!AG508=\"\",F720=\"Non éligible\"),\"Non éligible\",eligibilité!AG508)","v":""},"",null,null,"",{"$f":"eligibilité!AD508","v":""},{"$f":"eligibilité!AH508","v":""},"","","","","","","","","",""]
[{"$f":"IF(eligibilité!A509=\"\",\"\",eligibilité!A509)","v":""},"",null,null,null,{"$f":"IF(eligibilité!AF509=\"\",\"\",eligibilité!AF509)","v":""},{"$f":"IF(AND(eligibilité!AG509=\"\",F721=\"Non éligible\"),\"Non éligible\",eligibilité!AG509)","v":""},"",null,null,"",{"$f":"eligibilité!AD509","v":""},{"$f":"eligibilité!AH509","v":""},"","","","","","","","","",""]
[{"$f":"IF(eligibilité!A510=\"\",\"\",eligibilité!A510)","v":""},"",null,null,null,{"$f":"IF(eligibilité!AF510=\"\",\"\",eligibilité!AF510)","v":""},{"$f":"IF(AND(eligibilité!AG510=\"\",F722=\"Non éligible\"),\"Non éligible\",eligibilité!AG510)","v":""},"",null,null,"",{"$f":"eligibilité!AD510","v":""},{"$f":"eligibilité!AH510","v":""},"","","","","","","","","",""]
[{"$f":"IF(eligibilité!A511=\"\",\"\",eligibilité!A511)","v":""},"",null,null,null,{"$f":"IF(eligibilité!AF511=\"\",\"\",eligibilité!AF511)","v":""},{"$f":"IF(AND(eligibilité!AG511=\"\",F723=\"Non éligible\"),\"Non éligible\",eligibilité!AG511)","v":""},"",null,null,"",{"$f":"eligibilité!AD511","v":""},{"$f":"eligibilité!AH511","v":""},"","","","","","","","","",""]
[{"$f":"IF(eligibilité!A512=\"\",\"\",eligibilité!A512)","v":""},"",null,null,null,{"$f":"IF(eligibilité!AF512=\"\",\"\",eligibilité!AF512)","v":""},{"$f":"IF(AND(eligibilité!AG512=\"\",F724=\"Non éligible\"),\"Non éligible\",eligibilité!AG512)","v":""},"",null,null,"",{"$f":"eligibilité!AD512","v":""},{"$f":"eligibilité!AH512","v":""},"","","","","","","","","",""]
[{"$f":"IF(eligibilité!A513=\"\",\"\",eligibilité!A513)","v":""},"",null,null,null,{"$f":"IF(eligibilité!AF513=\"\",\"\",eligibilité!AF513)","v":""},{"$f":"IF(AND(eligibilité!AG513=\"\",F725=\"Non éligible\"),\"Non éligible\",eligibilité!AG513)","v":""},"",null,null,"",{"$f":"eligibilité!AD513","v":""},{"$f":"eligibilité!AH513","v":""},"","","","","","","","","",""]
[{"$f":"IF(eligibilité!A514=\"\",\"\",eligibilité!A514)","v":""},"",null,null,null,{"$f":"IF(eligibilité!AF514=\"\",\"\",eligibilité!AF514)","v":""},{"$f":"IF(AND(eligibilité!AG514=\"\",F726=\"Non éligible\"),\"Non éligible\",eligibilité!AG514)","v":""},"",null,null,"",{"$f":"eligibilité!AD514","v":""},{"$f":"eligibilité!AH514","v":""},"","","","","","","","","",""]
[{"$f":"IF(eligibilité!A515=\"\",\"\",eligibilité!A515)","v":""},"",null,null,null,{"$f":"IF(eligibilité!AF515=\"\",\"\",eligibilité!AF515)","v":""},{"$f":"IF(AND(eligibilité!AG515=\"\",F727=\"Non éligible\"),\"Non éligible\",eligibilité!AG515)","v":""},"",null,null,"",{"$f":"eligibilité!AD515","v":""},{"$f":"eligibilité!AH515","v":""},"","","","","","","","","",""]
[null,null,null,null,null,null,null,"",null,null,""]
[null,null,null,null,null,null,null,"",null,null,""]
[null,null,null,null,null,null,null,"",null,null,""]
[null,null,null,null,null,null,null,"",null,null,""]
[null,null,null,null,null,null,null,"",null,null,""]
[null,null,null,null,null,null,null,"",null,null,""]

{"sheet":"Paramètre","index":8,"n_rows":54,"n_cols":5,"rows_kept":54,"cut":false,"hidden":true,"merged":[]}
["GRADE"]
["ADJOINT ADMINISTRATIF DE 1ère CL",null,"Catégorie","Civilité","Filière"]
["ADJOINT ADMINISTRATIF DE 2ème CL",null,"Cat. A","Madame","Administrative"]
["ADJOINT D'ANIMATION DE 1ère CL",null,"Cat. B","Monsieur","Animation"]
["ADJOINT D'ANIMATION DE 2ème CL",null,"Cat. C",null,"Culturelle"]
["ADJOINT DU PATRIMOINE DE 1ère CL",null,null,null,"Médico-sociale"]
["ADJOINT DU PATRIMOINE DE 2ème CL",null,null,null,"Médico-technique"]
["ADJOINT TECHNIQUE 1ère CL DES ETS D'ENSEIGNEMENT",null,null,null,"Sapeurs-pompiers"]
["ADJOINT TECHNIQUE DE 1ère CL",null,null,null,"Sociale"]
["ADJOINT TECHNIQUE DE 2ème CL",null,null,null,"Sportive"]
["ADJOINT TECHNIQUE DE 2ème CL DES ETS D'ENSEIGNEMENT",null,null,null,"Technique"]
["AGENT DE MAÎTRISE"]
["AGENT SOCIAL DE 1ère CL"]
["AGENT SOCIAL DE 2ème CL"]
["ANIMATEUR"]
["ANIMATEUR PPAL DE 2ème CL"]
["ASS. D'ENSEIGNEMENT ARTISTIQUE PPAL DE 2ème CL"]
["ASSISTANT DE CONSERV. DU PAT ET DES BIB. "]
["ASSISTANT DE CONSERV. DU PAT ET DES BIB. PPAL DE 2ème CL"]
["ASSISTANT D'ENSEIGNEMENT ARTISTIQUE"]
["ASSISTANT SOCIO-EDUCATIF"]
["ATSEM DE 1ère CL"]
["ATTACHE"]
["ATTACHE DE CONSERVATION DU PATRIMOINE"]
["AUTRE"]
["AUXILIAIRE DE PUERICULTURE DE 1ère CLASSE"]
["AUXILIAIRE DE SOINS DE 1ère CL "]
["BIBLIOTHECAIRE"]
["CADRE DE SANTE  DE 2ème CLASSE"]
["CADRE DE SANTE DE SAPEUR POMPIER DE 2ème CL"]
["CAPITAINE"]
["CONSEILLER APS"]
["CONSEILLER SOCIO-EDUCATIF"]
["EDUCATEUR APS"]
["EDUCATEUR APS PPAL DE 2ème CL"]
["EDUCATEUR DE JEUNES ENFANTS"]
["INFIRMIER EN SOINS GENERAUX DE CLASSE NORMALE"]
["INFIRMIER SAPEUR POMPIER DE CLASSE NORMALE"]
["INGENIEUR"]
["LIEUTENANT DE 1ère CL"]
["LIEUTENANT DE 2ème CL"]
["MONITEUR-EDUCATEUR ET INTERVENANT FAMILIAL"]
["OPERATEUR DES APS"]
["PROFESSEUR D'ENSEIGNEMENT ARTISTIQUE DE CLASSE NORMALE"]
["PSYCHOLOGUE DE CLASSE NORMALE"]
["PUERICULTRICE DE CLASSE NORMALE"]
["REDACTEUR"]
["REDACTEUR PPAL DE 2ème CL"]
["SAGE-FEMME DE CLASSE NORMALE"]
["SAPEUR DE 1ERE CLASSE"]
["SERGENT"]
["TECHNICIEN"]
["TECHNICIEN PARAMEDICAL DE CLASSE NORMALE"]
["TECHNICIEN PRINCIPAL DE 2ème CL"]

{"sheet":"Rapport sur la compatibilité","index":9,"n_rows":16,"n_cols":5,"rows_kept":16,"cut":false,"hidden":true,"merged":[]}
[null,"Rapport sur la compatibilité concernant Copie de RSAPPAET_Version2-5.xls"]
[null,"Exécuté le 28/07/2016 11:04"]
[]
[null,"Les fonctionnalités suivantes de ce classeur ne sont pas prises en charge dans les versions antérieures d'Excel. Celles-ci risquent d'être perdues ou dégradées si vous enregistrez le classeur dans un format de fichier antérieur."]
[]
[null,"Perte significative de fonctionnalité",null,null,"Nb d'occurrences"]
[]
[null,"Ce classeur contient des données dans des cellules qui se trouvent en dehors de la limite des lignes et des colonnes du format de fichier sélectionné. Les données se trouvant au-delà de 256 (IV) colonnes ou de 65 536 lignes ne seront pas enregistrées. Les références de formule vers des données de cette zone renverront l'erreur #REF.",null,null,16]
[null,null,null,null,"'Titularisation'!Y15:AC515"]
[null,null,null,null,"'Titularisation'!X15:X515"]
[]
[null,"Certaines cellules ont plus de formats conditionnels que ce qui est pris en charge par le format de fichier sélectionné. Seules les trois premières conditions seront affichées dans les versions antérieures d'Excel.",null,null,1]
[null,null,null,null,"'Titularisation'!AF15:AF515"]
[]
[null,"Certaines cellules ont des plages de mise en forme conditionnelle qui se chevauchent. Les versions antérieures d'Excel n'évalueront pas toutes les règles de mise en forme conditionnelle sur les cellules qui se chevauchent. Ces cellules auront une mise en forme conditionnelle différente.",null,null,1]
[null,null,null,null,"'Edition'!G235:G735"]